{"text_format":"3","workbook":"xlsx","n_sheets":7,"sheets":["2023年实习计划--燕化","Sheet1","2023年实习计划--其他","2023年教培中心实训课程明细","2023年燕化实习装置分布情况","22-23春教学进程","基础数据"],"not_rendered":{"defined_names":11},"read":"whole","date_system":"1900"}

{"sheet":"2023年实习计划--燕化","index":0,"n_rows":1509,"n_cols":23,"rows_kept":1509,"merged":[[0,0,0,22],[1,0,1,22]]}
["北京石油化工学院2023年度实习计划表---燕化实习              "]
["1、请各位老师在绿色区域直接选择下拉菜单中的选项，无需手动输入\n2、请各位老师在填写“实习起始/终止时间”两列时，按2023/12/06格式输入日期"]
["序号","学期","院系","专业","班级","实践环节课程名称",null,"课程号","总周数","周次","学生男","学生女","学生人数","教师男","教师女","实习起始时间","实习终止时间","实习场所","实训课程/实习单位","实习内容与要求","带队教师姓名、联系方式、邮箱","经费预算","说明或备用方案"]
["示例","2023春","新材料与化工学院","化学工程与工艺","化18-123","生产实习",{"$f":"C4&F4","v":"新材料与化工学院生产实习"},{"$f":"VLOOKUP(G4,Sheet1!C:D,2,FALSE)","v":"CHE314"},3,"17-19周",43,28,71,1,1,"2023-06-13","2023-07-01","教培实训课程","炼油系统仿真操作"]
["示例","2023春","安全工程学院","安全工程","安181","专业实习",{"$f":"C5&F5","v":"安全工程学院专业实习"},{"$f":"VLOOKUP(G5,Sheet1!C:D,2,FALSE)","v":"SAE401"},1,"18周",13,14,27,1,1,"2023-06-20","2023-06-24","教培实训课程","热工（CFB炉）仿真操作"]
[{"$nulls":7},{"$f":"VLOOKUP(G6,Sheet1!C:D,2,FALSE)","v":{"$error":"#N/A"}}]
[{"$nulls":7},{"$f":"VLOOKUP(G7,Sheet1!C:D,2,FALSE)","v":{"$error":"#N/A"}}]
[{"$nulls":6},"",{"$f":"VLOOKUP(G8,Sheet1!C:D,2,FALSE)","v":{"$error":"#N/A"}}]
[{"$nulls":6},"",{"$f":"VLOOKUP(G9,Sheet1!C:D,2,FALSE)","v":{"$error":"#N/A"}}]
[{"$nulls":6},"",{"$f":"VLOOKUP(G10,Sheet1!C:D,2,FALSE)","v":{"$error":"#N/A"}}]
[{"$nulls":6},"",{"$f":"VLOOKUP(G11,Sheet1!C:D,2,FALSE)","v":{"$error":"#N/A"}}]
[{"$nulls":6},"",{"$f":"VLOOKUP(G12,Sheet1!C:D,2,FALSE)","v":{"$error":"#N/A"}}]
[{"$nulls":6},"",{"$f":"VLOOKUP(G13,Sheet1!C:D,2,FALSE)","v":{"$error":"#N/A"}}]
[{"$nulls":6},"",{"$f":"VLOOKUP(G14,Sheet1!C:D,2,FALSE)","v":{"$error":"#N/A"}}]
[{"$nulls":6},"",{"$f":"VLOOKUP(G15,Sheet1!C:D,2,FALSE)","v":{"$error":"#N/A"}}]
[{"$nulls":6},"",{"$f":"VLOOKUP(G16,Sheet1!C:D,2,FALSE)","v":{"$error":"#N/A"}}]
[{"$nulls":6},"",{"$f":"VLOOKUP(G17,Sheet1!C:D,2,FALSE)","v":{"$error":"#N/A"}}]
[{"$nulls":6},"",{"$f":"VLOOKUP(G18,Sheet1!C:D,2,FALSE)","v":{"$error":"#N/A"}}]
[{"$nulls":6},"",{"$f":"VLOOKUP(G19,Sheet1!C:D,2,FALSE)","v":{"$error":"#N/A"}}]
[{"$nulls":6},"",{"$f":"VLOOKUP(G20,Sheet1!C:D,2,FALSE)","v":{"$error":"#N/A"}}]
[{"$nulls":6},"",{"$f":"VLOOKUP(G21,Sheet1!C:D,2,FALSE)","v":{"$error":"#N/A"}}]
[{"$nulls":6},"",{"$f":"VLOOKUP(G22,Sheet1!C:D,2,FALSE)","v":{"$error":"#N/A"}}]
[{"$nulls":6},"",{"$f":"VLOOKUP(G23,Sheet1!C:D,2,FALSE)","v":{"$error":"#N/A"}}]
[{"$nulls":6},"",{"$f":"VLOOKUP(G24,Sheet1!C:D,2,FALSE)","v":{"$error":"#N/A"}}]
[{"$nulls":6},"",{"$f":"VLOOKUP(G25,Sheet1!C:D,2,FALSE)","v":{"$error":"#N/A"}}]
[{"$nulls":6},"",{"$f":"VLOOKUP(G26,Sheet1!C:D,2,FALSE)","v":{"$error":"#N/A"}}]
[null,null,"化学工程学院",{"$nulls":3},"化学工程学院",{"$f":"VLOOKUP(G27,Sheet1!C:D,2,FALSE)","v":{"$error":"#N/A"}}]
[{"$nulls":6},"",{"$f":"VLOOKUP(G28,Sheet1!C:D,2,FALSE)","v":{"$error":"#N/A"}}]
[{"$nulls":6},"",{"$f":"VLOOKUP(G29,Sheet1!C:D,2,FALSE)","v":{"$error":"#N/A"}}]
[{"$nulls":6},"",{"$f":"VLOOKUP(G30,Sheet1!C:D,2,FALSE)","v":{"$error":"#N/A"}}]
[{"$nulls":6},"",{"$f":"VLOOKUP(G31,Sheet1!C:D,2,FALSE)","v":{"$error":"#N/A"}}]
[{"$nulls":6},"",{"$f":"VLOOKUP(G32,Sheet1!C:D,2,FALSE)","v":{"$error":"#N/A"}}]
[{"$nulls":6},"",{"$f":"VLOOKUP(G33,Sheet1!C:D,2,FALSE)","v":{"$error":"#N/A"}}]
[{"$nulls":6},"",{"$f":"VLOOKUP(G34,Sheet1!C:D,2,FALSE)","v":{"$error":"#N/A"}}]
[{"$nulls":6},"",{"$f":"VLOOKUP(G35,Sheet1!C:D,2,FALSE)","v":{"$error":"#N/A"}}]
[{"$nulls":6},"",{"$f":"VLOOKUP(G36,Sheet1!C:D,2,FALSE)","v":{"$error":"#N/A"}}]
[{"$nulls":6},"",{"$f":"VLOOKUP(G37,Sheet1!C:D,2,FALSE)","v":{"$error":"#N/A"}}]
[{"$nulls":6},"",{"$f":"VLOOKUP(G38,Sheet1!C:D,2,FALSE)","v":{"$error":"#N/A"}}]
[{"$nulls":6},"",{"$f":"VLOOKUP(G39,Sheet1!C:D,2,FALSE)","v":{"$error":"#N/A"}}]
[{"$nulls":6},"",{"$f":"VLOOKUP(G40,Sheet1!C:D,2,FALSE)","v":{"$error":"#N/A"}}]
[{"$nulls":6},"",{"$f":"VLOOKUP(G41,Sheet1!C:D,2,FALSE)","v":{"$error":"#N/A"}}]
[{"$nulls":6},"",{"$f":"VLOOKUP(G42,Sheet1!C:D,2,FALSE)","v":{"$error":"#N/A"}}]
[{"$nulls":6},"",{"$f":"VLOOKUP(G43,Sheet1!C:D,2,FALSE)","v":{"$error":"#N/A"}}]
[{"$nulls":6},"",{"$f":"VLOOKUP(G44,Sheet1!C:D,2,FALSE)","v":{"$error":"#N/A"}}]
[{"$nulls":6},"",{"$f":"VLOOKUP(G45,Sheet1!C:D,2,FALSE)","v":{"$error":"#N/A"}}]
[{"$nulls":6},"",{"$f":"VLOOKUP(G46,Sheet1!C:D,2,FALSE)","v":{"$error":"#N/A"}}]
[{"$nulls":6},"",{"$f":"VLOOKUP(G47,Sheet1!C:D,2,FALSE)","v":{"$error":"#N/A"}}]
[{"$nulls":6},"",{"$f":"VLOOKUP(G48,Sheet1!C:D,2,FALSE)","v":{"$error":"#N/A"}}]
[{"$nulls":6},"",{"$f":"VLOOKUP(G49,Sheet1!C:D,2,FALSE)","v":{"$error":"#N/A"}}]
[{"$nulls":6},"",{"$f":"VLOOKUP(G50,Sheet1!C:D,2,FALSE)","v":{"$error":"#N/A"}}]
[{"$nulls":6},"",{"$f":"VLOOKUP(G51,Sheet1!C:D,2,FALSE)","v":{"$error":"#N/A"}}]
[{"$nulls":6},"",{"$f":"VLOOKUP(G52,Sheet1!C:D,2,FALSE)","v":{"$error":"#N/A"}}]
[{"$nulls":6},"",{"$f":"VLOOKUP(G53,Sheet1!C:D,2,FALSE)","v":{"$error":"#N/A"}}]
[{"$nulls":6},"",{"$f":"VLOOKUP(G54,Sheet1!C:D,2,FALSE)","v":{"$error":"#N/A"}}]
[{"$nulls":6},"",{"$f":"VLOOKUP(G55,Sheet1!C:D,2,FALSE)","v":{"$error":"#N/A"}}]
[{"$nulls":6},"",{"$f":"VLOOKUP(G56,Sheet1!C:D,2,FALSE)","v":{"$error":"#N/A"}}]
[{"$nulls":6},"",{"$f":"VLOOKUP(G57,Sheet1!C:D,2,FALSE)","v":{"$error":"#N/A"}}]
[{"$nulls":6},"",{"$f":"VLOOKUP(G58,Sheet1!C:D,2,FALSE)","v":{"$error":"#N/A"}}]
[{"$nulls":6},"",{"$f":"VLOOKUP(G59,Sheet1!C:D,2,FALSE)","v":{"$error":"#N/A"}}]
[{"$nulls":6},"",{"$f":"VLOOKUP(G60,Sheet1!C:D,2,FALSE)","v":{"$error":"#N/A"}}]
[{"$nulls":6},"",{"$f":"VLOOKUP(G61,Sheet1!C:D,2,FALSE)","v":{"$error":"#N/A"}}]
[{"$nulls":6},"",{"$f":"VLOOKUP(G62,Sheet1!C:D,2,FALSE)","v":{"$error":"#N/A"}}]
[{"$nulls":6},"",{"$f":"VLOOKUP(G63,Sheet1!C:D,2,FALSE)","v":{"$error":"#N/A"}}]
[{"$nulls":6},"",{"$f":"VLOOKUP(G64,Sheet1!C:D,2,FALSE)","v":{"$error":"#N/A"}}]
[{"$nulls":6},"",{"$f":"VLOOKUP(G65,Sheet1!C:D,2,FALSE)","v":{"$error":"#N/A"}}]
[{"$nulls":6},"",{"$f":"VLOOKUP(G66,Sheet1!C:D,2,FALSE)","v":{"$error":"#N/A"}}]
[{"$nulls":6},"",{"$f":"VLOOKUP(G67,Sheet1!C:D,2,FALSE)","v":{"$error":"#N/A"}}]
[{"$nulls":6},"",{"$f":"VLOOKUP(G68,Sheet1!C:D,2,FALSE)","v":{"$error":"#N/A"}}]
[{"$nulls":6},{"$f":"C69&F69","v":""},{"$f":"VLOOKUP(G69,Sheet1!C:D,2,FALSE)","v":{"$error":"#N/A"}}]
[{"$nulls":6},"",{"$f":"VLOOKUP(G70,Sheet1!C:D,2,FALSE)","v":{"$error":"#N/A"}}]
[{"$nulls":6},"",{"$f":"VLOOKUP(G71,Sheet1!C:D,2,FALSE)","v":{"$error":"#N/A"}}]
[{"$nulls":6},"",{"$f":"VLOOKUP(G72,Sheet1!C:D,2,FALSE)","v":{"$error":"#N/A"}}]
[{"$nulls":6},"",{"$f":"VLOOKUP(G73,Sheet1!C:D,2,FALSE)","v":{"$error":"#N/A"}}]
[{"$nulls":6},"",{"$f":"VLOOKUP(G74,Sheet1!C:D,2,FALSE)","v":{"$error":"#N/A"}}]
[{"$nulls":6},"",{"$f":"VLOOKUP(G75,Sheet1!C:D,2,FALSE)","v":{"$error":"#N/A"}}]
[{"$nulls":6},"",{"$f":"VLOOKUP(G76,Sheet1!C:D,2,FALSE)","v":{"$error":"#N/A"}}]
[{"$nulls":6},"",{"$f":"VLOOKUP(G77,Sheet1!C:D,2,FALSE)","v":{"$error":"#N/A"}}]
[{"$nulls":6},"",{"$f":"VLOOKUP(G78,Sheet1!C:D,2,FALSE)","v":{"$error":"#N/A"}}]
[{"$nulls":6},"",{"$f":"VLOOKUP(G79,Sheet1!C:D,2,FALSE)","v":{"$error":"#N/A"}}]
[{"$nulls":6},"",{"$f":"VLOOKUP(G80,Sheet1!C:D,2,FALSE)","v":{"$error":"#N/A"}}]
[{"$nulls":6},"",{"$f":"VLOOKUP(G81,Sheet1!C:D,2,FALSE)","v":{"$error":"#N/A"}}]
[{"$nulls":6},"",{"$f":"VLOOKUP(G82,Sheet1!C:D,2,FALSE)","v":{"$error":"#N/A"}}]
[{"$nulls":6},"",{"$f":"VLOOKUP(G83,Sheet1!C:D,2,FALSE)","v":{"$error":"#N/A"}}]
[{"$nulls":6},"",{"$f":"VLOOKUP(G84,Sheet1!C:D,2,FALSE)","v":{"$error":"#N/A"}}]
[{"$nulls":6},"",{"$f":"VLOOKUP(G85,Sheet1!C:D,2,FALSE)","v":{"$error":"#N/A"}}]
[{"$nulls":6},"",{"$f":"VLOOKUP(G86,Sheet1!C:D,2,FALSE)","v":{"$error":"#N/A"}}]
[{"$nulls":6},"",{"$f":"VLOOKUP(G87,Sheet1!C:D,2,FALSE)","v":{"$error":"#N/A"}}]
[{"$nulls":6},"",{"$f":"VLOOKUP(G88,Sheet1!C:D,2,FALSE)","v":{"$error":"#N/A"}}]
[{"$nulls":6},"",{"$f":"VLOOKUP(G89,Sheet1!C:D,2,FALSE)","v":{"$error":"#N/A"}}]
[{"$nulls":6},"",{"$f":"VLOOKUP(G90,Sheet1!C:D,2,FALSE)","v":{"$error":"#N/A"}}]
[{"$nulls":6},"",{"$f":"VLOOKUP(G91,Sheet1!C:D,2,FALSE)","v":{"$error":"#N/A"}}]
[{"$nulls":6},"",{"$f":"VLOOKUP(G92,Sheet1!C:D,2,FALSE)","v":{"$error":"#N/A"}}]
[{"$nulls":6},"",{"$f":"VLOOKUP(G93,Sheet1!C:D,2,FALSE)","v":{"$error":"#N/A"}}]
[{"$nulls":6},"",{"$f":"VLOOKUP(G94,Sheet1!C:D,2,FALSE)","v":{"$error":"#N/A"}}]
[{"$nulls":6},"",{"$f":"VLOOKUP(G95,Sheet1!C:D,2,FALSE)","v":{"$error":"#N/A"}}]
[{"$nulls":6},"",{"$f":"VLOOKUP(G96,Sheet1!C:D,2,FALSE)","v":{"$error":"#N/A"}}]
[{"$nulls":6},"",{"$f":"VLOOKUP(G97,Sheet1!C:D,2,FALSE)","v":{"$error":"#N/A"}}]
[{"$nulls":6},"",{"$f":"VLOOKUP(G98,Sheet1!C:D,2,FALSE)","v":{"$error":"#N/A"}}]
[{"$nulls":6},"",{"$f":"VLOOKUP(G99,Sheet1!C:D,2,FALSE)","v":{"$error":"#N/A"}}]
[{"$nulls":6},"",{"$f":"VLOOKUP(G100,Sheet1!C:D,2,FALSE)","v":{"$error":"#N/A"}}]
[{"$nulls":6},"",{"$f":"VLOOKUP(G101,Sheet1!C:D,2,FALSE)","v":{"$error":"#N/A"}}]
[{"$nulls":6},"",{"$f":"VLOOKUP(G102,Sheet1!C:D,2,FALSE)","v":{"$error":"#N/A"}}]
[{"$nulls":6},"",{"$f":"VLOOKUP(G103,Sheet1!C:D,2,FALSE)","v":{"$error":"#N/A"}}]
[{"$nulls":6},"",{"$f":"VLOOKUP(G104,Sheet1!C:D,2,FALSE)","v":{"$error":"#N/A"}}]
[{"$nulls":6},"",{"$f":"VLOOKUP(G105,Sheet1!C:D,2,FALSE)","v":{"$error":"#N/A"}}]
[{"$nulls":6},"",{"$f":"VLOOKUP(G106,Sheet1!C:D,2,FALSE)","v":{"$error":"#N/A"}}]
[{"$nulls":6},"",{"$f":"VLOOKUP(G107,Sheet1!C:D,2,FALSE)","v":{"$error":"#N/A"}}]
[{"$nulls":6},"",{"$f":"VLOOKUP(G108,Sheet1!C:D,2,FALSE)","v":{"$error":"#N/A"}}]
[{"$nulls":6},"",{"$f":"VLOOKUP(G109,Sheet1!C:D,2,FALSE)","v":{"$error":"#N/A"}}]
[{"$nulls":6},"",{"$f":"VLOOKUP(G110,Sheet1!C:D,2,FALSE)","v":{"$error":"#N/A"}}]
[{"$nulls":6},"",{"$f":"VLOOKUP(G111,Sheet1!C:D,2,FALSE)","v":{"$error":"#N/A"}}]
[{"$nulls":6},"",{"$f":"VLOOKUP(G112,Sheet1!C:D,2,FALSE)","v":{"$error":"#N/A"}}]
[{"$nulls":6},"",{"$f":"VLOOKUP(G113,Sheet1!C:D,2,FALSE)","v":{"$error":"#N/A"}}]
[{"$nulls":6},"",{"$f":"VLOOKUP(G114,Sheet1!C:D,2,FALSE)","v":{"$error":"#N/A"}}]
[{"$nulls":6},"",{"$f":"VLOOKUP(G115,Sheet1!C:D,2,FALSE)","v":{"$error":"#N/A"}}]
[{"$nulls":6},"",{"$f":"VLOOKUP(G116,Sheet1!C:D,2,FALSE)","v":{"$error":"#N/A"}}]
[{"$nulls":6},"",{"$f":"VLOOKUP(G117,Sheet1!C:D,2,FALSE)","v":{"$error":"#N/A"}}]
[{"$nulls":6},"",{"$f":"VLOOKUP(G118,Sheet1!C:D,2,FALSE)","v":{"$error":"#N/A"}}]
[{"$nulls":6},"",{"$f":"VLOOKUP(G119,Sheet1!C:D,2,FALSE)","v":{"$error":"#N/A"}}]
[{"$nulls":6},"",{"$f":"VLOOKUP(G120,Sheet1!C:D,2,FALSE)","v":{"$error":"#N/A"}}]
[{"$nulls":6},"",{"$f":"VLOOKUP(G121,Sheet1!C:D,2,FALSE)","v":{"$error":"#N/A"}}]
[{"$nulls":6},"",{"$f":"VLOOKUP(G122,Sheet1!C:D,2,FALSE)","v":{"$error":"#N/A"}}]
[{"$nulls":6},"",{"$f":"VLOOKUP(G123,Sheet1!C:D,2,FALSE)","v":{"$error":"#N/A"}}]
[{"$nulls":6},"",{"$f":"VLOOKUP(G124,Sheet1!C:D,2,FALSE)","v":{"$error":"#N/A"}}]
[{"$nulls":6},"",{"$f":"VLOOKUP(G125,Sheet1!C:D,2,FALSE)","v":{"$error":"#N/A"}}]
[{"$nulls":6},"",{"$f":"VLOOKUP(G126,Sheet1!C:D,2,FALSE)","v":{"$error":"#N/A"}}]
[{"$nulls":6},"",{"$f":"VLOOKUP(G127,Sheet1!C:D,2,FALSE)","v":{"$error":"#N/A"}}]
[{"$nulls":6},"",{"$f":"VLOOKUP(G128,Sheet1!C:D,2,FALSE)","v":{"$error":"#N/A"}}]
[{"$nulls":6},"",{"$f":"VLOOKUP(G129,Sheet1!C:D,2,FALSE)","v":{"$error":"#N/A"}}]
[{"$nulls":6},"",{"$f":"VLOOKUP(G130,Sheet1!C:D,2,FALSE)","v":{"$error":"#N/A"}}]
[{"$nulls":6},"",{"$f":"VLOOKUP(G131,Sheet1!C:D,2,FALSE)","v":{"$error":"#N/A"}}]
[{"$nulls":6},"",{"$f":"VLOOKUP(G132,Sheet1!C:D,2,FALSE)","v":{"$error":"#N/A"}}]
[{"$nulls":6},{"$f":"C133&F133","v":""},{"$f":"VLOOKUP(G133,Sheet1!C:D,2,FALSE)","v":{"$error":"#N/A"}}]
[{"$nulls":6},"",{"$f":"VLOOKUP(G134,Sheet1!C:D,2,FALSE)","v":{"$error":"#N/A"}}]
[{"$nulls":6},"",{"$f":"VLOOKUP(G135,Sheet1!C:D,2,FALSE)","v":{"$error":"#N/A"}}]
[{"$nulls":6},"",{"$f":"VLOOKUP(G136,Sheet1!C:D,2,FALSE)","v":{"$error":"#N/A"}}]
[{"$nulls":6},"",{"$f":"VLOOKUP(G137,Sheet1!C:D,2,FALSE)","v":{"$error":"#N/A"}}]
[{"$nulls":6},"",{"$f":"VLOOKUP(G138,Sheet1!C:D,2,FALSE)","v":{"$error":"#N/A"}}]
[{"$nulls":6},"",{"$f":"VLOOKUP(G139,Sheet1!C:D,2,FALSE)","v":{"$error":"#N/A"}}]
[{"$nulls":6},"",{"$f":"VLOOKUP(G140,Sheet1!C:D,2,FALSE)","v":{"$error":"#N/A"}}]
[{"$nulls":6},"",{"$f":"VLOOKUP(G141,Sheet1!C:D,2,FALSE)","v":{"$error":"#N/A"}}]
[{"$nulls":6},"",{"$f":"VLOOKUP(G142,Sheet1!C:D,2,FALSE)","v":{"$error":"#N/A"}}]
[{"$nulls":6},"",{"$f":"VLOOKUP(G143,Sheet1!C:D,2,FALSE)","v":{"$error":"#N/A"}}]
[{"$nulls":6},"",{"$f":"VLOOKUP(G144,Sheet1!C:D,2,FALSE)","v":{"$error":"#N/A"}}]
[{"$nulls":6},"",{"$f":"VLOOKUP(G145,Sheet1!C:D,2,FALSE)","v":{"$error":"#N/A"}}]
[{"$nulls":6},"",{"$f":"VLOOKUP(G146,Sheet1!C:D,2,FALSE)","v":{"$error":"#N/A"}}]
[{"$nulls":6},"",{"$f":"VLOOKUP(G147,Sheet1!C:D,2,FALSE)","v":{"$error":"#N/A"}}]
[{"$nulls":6},"",{"$f":"VLOOKUP(G148,Sheet1!C:D,2,FALSE)","v":{"$error":"#N/A"}}]
[{"$nulls":6},"",{"$f":"VLOOKUP(G149,Sheet1!C:D,2,FALSE)","v":{"$error":"#N/A"}}]
[{"$nulls":6},"",{"$f":"VLOOKUP(G150,Sheet1!C:D,2,FALSE)","v":{"$error":"#N/A"}}]
[{"$nulls":6},"",{"$f":"VLOOKUP(G151,Sheet1!C:D,2,FALSE)","v":{"$error":"#N/A"}}]
[{"$nulls":6},"",{"$f":"VLOOKUP(G152,Sheet1!C:D,2,FALSE)","v":{"$error":"#N/A"}}]
[{"$nulls":6},"",{"$f":"VLOOKUP(G153,Sheet1!C:D,2,FALSE)","v":{"$error":"#N/A"}}]
[{"$nulls":6},"",{"$f":"VLOOKUP(G154,Sheet1!C:D,2,FALSE)","v":{"$error":"#N/A"}}]
[{"$nulls":6},"",{"$f":"VLOOKUP(G155,Sheet1!C:D,2,FALSE)","v":{"$error":"#N/A"}}]
[{"$nulls":6},"",{"$f":"VLOOKUP(G156,Sheet1!C:D,2,FALSE)","v":{"$error":"#N/A"}}]
[{"$nulls":6},"",{"$f":"VLOOKUP(G157,Sheet1!C:D,2,FALSE)","v":{"$error":"#N/A"}}]
[{"$nulls":6},"",{"$f":"VLOOKUP(G158,Sheet1!C:D,2,FALSE)","v":{"$error":"#N/A"}}]
[{"$nulls":6},"",{"$f":"VLOOKUP(G159,Sheet1!C:D,2,FALSE)","v":{"$error":"#N/A"}}]
[{"$nulls":6},"",{"$f":"VLOOKUP(G160,Sheet1!C:D,2,FALSE)","v":{"$error":"#N/A"}}]
[{"$nulls":6},"",{"$f":"VLOOKUP(G161,Sheet1!C:D,2,FALSE)","v":{"$error":"#N/A"}}]
[{"$nulls":6},"",{"$f":"VLOOKUP(G162,Sheet1!C:D,2,FALSE)","v":{"$error":"#N/A"}}]
[{"$nulls":6},"",{"$f":"VLOOKUP(G163,Sheet1!C:D,2,FALSE)","v":{"$error":"#N/A"}}]
[{"$nulls":6},"",{"$f":"VLOOKUP(G164,Sheet1!C:D,2,FALSE)","v":{"$error":"#N/A"}}]
[{"$nulls":6},"",{"$f":"VLOOKUP(G165,Sheet1!C:D,2,FALSE)","v":{"$error":"#N/A"}}]
[{"$nulls":6},"",{"$f":"VLOOKUP(G166,Sheet1!C:D,2,FALSE)","v":{"$error":"#N/A"}}]
[{"$nulls":6},"",{"$f":"VLOOKUP(G167,Sheet1!C:D,2,FALSE)","v":{"$error":"#N/A"}}]
[{"$nulls":6},"",{"$f":"VLOOKUP(G168,Sheet1!C:D,2,FALSE)","v":{"$error":"#N/A"}}]
[{"$nulls":6},"",{"$f":"VLOOKUP(G169,Sheet1!C:D,2,FALSE)","v":{"$error":"#N/A"}}]
[{"$nulls":6},"",{"$f":"VLOOKUP(G170,Sheet1!C:D,2,FALSE)","v":{"$error":"#N/A"}}]
[{"$nulls":6},"",{"$f":"VLOOKUP(G171,Sheet1!C:D,2,FALSE)","v":{"$error":"#N/A"}}]
[{"$nulls":6},"",{"$f":"VLOOKUP(G172,Sheet1!C:D,2,FALSE)","v":{"$error":"#N/A"}}]
[{"$nulls":6},"",{"$f":"VLOOKUP(G173,Sheet1!C:D,2,FALSE)","v":{"$error":"#N/A"}}]
[{"$nulls":6},"",{"$f":"VLOOKUP(G174,Sheet1!C:D,2,FALSE)","v":{"$error":"#N/A"}}]
[{"$nulls":6},"",{"$f":"VLOOKUP(G175,Sheet1!C:D,2,FALSE)","v":{"$error":"#N/A"}}]
[{"$nulls":6},"",{"$f":"VLOOKUP(G176,Sheet1!C:D,2,FALSE)","v":{"$error":"#N/A"}}]
[{"$nulls":6},"",{"$f":"VLOOKUP(G177,Sheet1!C:D,2,FALSE)","v":{"$error":"#N/A"}}]
[{"$nulls":6},"",{"$f":"VLOOKUP(G178,Sheet1!C:D,2,FALSE)","v":{"$error":"#N/A"}}]
[{"$nulls":6},"",{"$f":"VLOOKUP(G179,Sheet1!C:D,2,FALSE)","v":{"$error":"#N/A"}}]
[{"$nulls":6},"",{"$f":"VLOOKUP(G180,Sheet1!C:D,2,FALSE)","v":{"$error":"#N/A"}}]
[{"$nulls":6},"",{"$f":"VLOOKUP(G181,Sheet1!C:D,2,FALSE)","v":{"$error":"#N/A"}}]
[{"$nulls":6},"",{"$f":"VLOOKUP(G182,Sheet1!C:D,2,FALSE)","v":{"$error":"#N/A"}}]
[{"$nulls":6},"",{"$f":"VLOOKUP(G183,Sheet1!C:D,2,FALSE)","v":{"$error":"#N/A"}}]
[{"$nulls":6},"",{"$f":"VLOOKUP(G184,Sheet1!C:D,2,FALSE)","v":{"$error":"#N/A"}}]
[{"$nulls":6},"",{"$f":"VLOOKUP(G185,Sheet1!C:D,2,FALSE)","v":{"$error":"#N/A"}}]
[{"$nulls":6},"",{"$f":"VLOOKUP(G186,Sheet1!C:D,2,FALSE)","v":{"$error":"#N/A"}}]
[{"$nulls":6},"",{"$f":"VLOOKUP(G187,Sheet1!C:D,2,FALSE)","v":{"$error":"#N/A"}}]
[{"$nulls":6},"",{"$f":"VLOOKUP(G188,Sheet1!C:D,2,FALSE)","v":{"$error":"#N/A"}}]
[{"$nulls":6},"",{"$f":"VLOOKUP(G189,Sheet1!C:D,2,FALSE)","v":{"$error":"#N/A"}}]
[{"$nulls":6},"",{"$f":"VLOOKUP(G190,Sheet1!C:D,2,FALSE)","v":{"$error":"#N/A"}}]
[{"$nulls":6},"",{"$f":"VLOOKUP(G191,Sheet1!C:D,2,FALSE)","v":{"$error":"#N/A"}}]
[{"$nulls":6},"",{"$f":"VLOOKUP(G192,Sheet1!C:D,2,FALSE)","v":{"$error":"#N/A"}}]
[{"$nulls":6},"",{"$f":"VLOOKUP(G193,Sheet1!C:D,2,FALSE)","v":{"$error":"#N/A"}}]
[{"$nulls":6},"",{"$f":"VLOOKUP(G194,Sheet1!C:D,2,FALSE)","v":{"$error":"#N/A"}}]
[{"$nulls":6},"",{"$f":"VLOOKUP(G195,Sheet1!C:D,2,FALSE)","v":{"$error":"#N/A"}}]
[{"$nulls":6},"",{"$f":"VLOOKUP(G196,Sheet1!C:D,2,FALSE)","v":{"$error":"#N/A"}}]
[{"$nulls":6},{"$f":"C197&F197","v":""},{"$f":"VLOOKUP(G197,Sheet1!C:D,2,FALSE)","v":{"$error":"#N/A"}}]
[{"$nulls":6},"",{"$f":"VLOOKUP(G198,Sheet1!C:D,2,FALSE)","v":{"$error":"#N/A"}}]
[{"$nulls":6},"",{"$f":"VLOOKUP(G199,Sheet1!C:D,2,FALSE)","v":{"$error":"#N/A"}}]
[{"$nulls":6},"",{"$f":"VLOOKUP(G200,Sheet1!C:D,2,FALSE)","v":{"$error":"#N/A"}}]
[{"$nulls":6},"",{"$f":"VLOOKUP(G201,Sheet1!C:D,2,FALSE)","v":{"$error":"#N/A"}}]
[{"$nulls":6},"",{"$f":"VLOOKUP(G202,Sheet1!C:D,2,FALSE)","v":{"$error":"#N/A"}}]
[{"$nulls":6},"",{"$f":"VLOOKUP(G203,Sheet1!C:D,2,FALSE)","v":{"$error":"#N/A"}}]
[{"$nulls":6},"",{"$f":"VLOOKUP(G204,Sheet1!C:D,2,FALSE)","v":{"$error":"#N/A"}}]
[{"$nulls":6},"",{"$f":"VLOOKUP(G205,Sheet1!C:D,2,FALSE)","v":{"$error":"#N/A"}}]
[{"$nulls":6},"",{"$f":"VLOOKUP(G206,Sheet1!C:D,2,FALSE)","v":{"$error":"#N/A"}}]
[{"$nulls":6},"",{"$f":"VLOOKUP(G207,Sheet1!C:D,2,FALSE)","v":{"$error":"#N/A"}}]
[{"$nulls":6},"",{"$f":"VLOOKUP(G208,Sheet1!C:D,2,FALSE)","v":{"$error":"#N/A"}}]
[{"$nulls":6},"",{"$f":"VLOOKUP(G209,Sheet1!C:D,2,FALSE)","v":{"$error":"#N/A"}}]
[{"$nulls":6},"",{"$f":"VLOOKUP(G210,Sheet1!C:D,2,FALSE)","v":{"$error":"#N/A"}}]
[{"$nulls":6},"",{"$f":"VLOOKUP(G211,Sheet1!C:D,2,FALSE)","v":{"$error":"#N/A"}}]
[{"$nulls":6},"",{"$f":"VLOOKUP(G212,Sheet1!C:D,2,FALSE)","v":{"$error":"#N/A"}}]
[{"$nulls":6},"",{"$f":"VLOOKUP(G213,Sheet1!C:D,2,FALSE)","v":{"$error":"#N/A"}}]
[{"$nulls":6},"",{"$f":"VLOOKUP(G214,Sheet1!C:D,2,FALSE)","v":{"$error":"#N/A"}}]
[{"$nulls":6},"",{"$f":"VLOOKUP(G215,Sheet1!C:D,2,FALSE)","v":{"$error":"#N/A"}}]
[{"$nulls":6},"",{"$f":"VLOOKUP(G216,Sheet1!C:D,2,FALSE)","v":{"$error":"#N/A"}}]
[{"$nulls":6},"",{"$f":"VLOOKUP(G217,Sheet1!C:D,2,FALSE)","v":{"$error":"#N/A"}}]
[{"$nulls":6},"",{"$f":"VLOOKUP(G218,Sheet1!C:D,2,FALSE)","v":{"$error":"#N/A"}}]
[{"$nulls":6},"",{"$f":"VLOOKUP(G219,Sheet1!C:D,2,FALSE)","v":{"$error":"#N/A"}}]
[{"$nulls":6},"",{"$f":"VLOOKUP(G220,Sheet1!C:D,2,FALSE)","v":{"$error":"#N/A"}}]
[{"$nulls":6},"",{"$f":"VLOOKUP(G221,Sheet1!C:D,2,FALSE)","v":{"$error":"#N/A"}}]
[{"$nulls":6},"",{"$f":"VLOOKUP(G222,Sheet1!C:D,2,FALSE)","v":{"$error":"#N/A"}}]
[{"$nulls":6},"",{"$f":"VLOOKUP(G223,Sheet1!C:D,2,FALSE)","v":{"$error":"#N/A"}}]
[{"$nulls":6},"",{"$f":"VLOOKUP(G224,Sheet1!C:D,2,FALSE)","v":{"$error":"#N/A"}}]
[{"$nulls":6},"",{"$f":"VLOOKUP(G225,Sheet1!C:D,2,FALSE)","v":{"$error":"#N/A"}}]
[{"$nulls":6},"",{"$f":"VLOOKUP(G226,Sheet1!C:D,2,FALSE)","v":{"$error":"#N/A"}}]
[{"$nulls":6},"",{"$f":"VLOOKUP(G227,Sheet1!C:D,2,FALSE)","v":{"$error":"#N/A"}}]
[{"$nulls":6},"",{"$f":"VLOOKUP(G228,Sheet1!C:D,2,FALSE)","v":{"$error":"#N/A"}}]
[{"$nulls":6},"",{"$f":"VLOOKUP(G229,Sheet1!C:D,2,FALSE)","v":{"$error":"#N/A"}}]
[{"$nulls":6},"",{"$f":"VLOOKUP(G230,Sheet1!C:D,2,FALSE)","v":{"$error":"#N/A"}}]
[{"$nulls":6},"",{"$f":"VLOOKUP(G231,Sheet1!C:D,2,FALSE)","v":{"$error":"#N/A"}}]
[{"$nulls":6},"",{"$f":"VLOOKUP(G232,Sheet1!C:D,2,FALSE)","v":{"$error":"#N/A"}}]
[{"$nulls":6},"",{"$f":"VLOOKUP(G233,Sheet1!C:D,2,FALSE)","v":{"$error":"#N/A"}}]
[{"$nulls":6},"",{"$f":"VLOOKUP(G234,Sheet1!C:D,2,FALSE)","v":{"$error":"#N/A"}}]
[{"$nulls":6},"",{"$f":"VLOOKUP(G235,Sheet1!C:D,2,FALSE)","v":{"$error":"#N/A"}}]
[{"$nulls":6},"",{"$f":"VLOOKUP(G236,Sheet1!C:D,2,FALSE)","v":{"$error":"#N/A"}}]
[{"$nulls":6},"",{"$f":"VLOOKUP(G237,Sheet1!C:D,2,FALSE)","v":{"$error":"#N/A"}}]
[{"$nulls":6},"",{"$f":"VLOOKUP(G238,Sheet1!C:D,2,FALSE)","v":{"$error":"#N/A"}}]
[{"$nulls":6},"",{"$f":"VLOOKUP(G239,Sheet1!C:D,2,FALSE)","v":{"$error":"#N/A"}}]
[{"$nulls":6},"",{"$f":"VLOOKUP(G240,Sheet1!C:D,2,FALSE)","v":{"$error":"#N/A"}}]
[{"$nulls":6},"",{"$f":"VLOOKUP(G241,Sheet1!C:D,2,FALSE)","v":{"$error":"#N/A"}}]
[{"$nulls":6},"",{"$f":"VLOOKUP(G242,Sheet1!C:D,2,FALSE)","v":{"$error":"#N/A"}}]
[{"$nulls":6},"",{"$f":"VLOOKUP(G243,Sheet1!C:D,2,FALSE)","v":{"$error":"#N/A"}}]
[{"$nulls":6},"",{"$f":"VLOOKUP(G244,Sheet1!C:D,2,FALSE)","v":{"$error":"#N/A"}}]
[{"$nulls":6},"",{"$f":"VLOOKUP(G245,Sheet1!C:D,2,FALSE)","v":{"$error":"#N/A"}}]
[{"$nulls":6},"",{"$f":"VLOOKUP(G246,Sheet1!C:D,2,FALSE)","v":{"$error":"#N/A"}}]
[{"$nulls":6},"",{"$f":"VLOOKUP(G247,Sheet1!C:D,2,FALSE)","v":{"$error":"#N/A"}}]
[{"$nulls":6},"",{"$f":"VLOOKUP(G248,Sheet1!C:D,2,FALSE)","v":{"$error":"#N/A"}}]
[{"$nulls":6},"",{"$f":"VLOOKUP(G249,Sheet1!C:D,2,FALSE)","v":{"$error":"#N/A"}}]
[{"$nulls":6},"",{"$f":"VLOOKUP(G250,Sheet1!C:D,2,FALSE)","v":{"$error":"#N/A"}}]
[{"$nulls":6},"",{"$f":"VLOOKUP(G251,Sheet1!C:D,2,FALSE)","v":{"$error":"#N/A"}}]
[{"$nulls":6},"",{"$f":"VLOOKUP(G252,Sheet1!C:D,2,FALSE)","v":{"$error":"#N/A"}}]
[{"$nulls":6},"",{"$f":"VLOOKUP(G253,Sheet1!C:D,2,FALSE)","v":{"$error":"#N/A"}}]
[{"$nulls":6},"",{"$f":"VLOOKUP(G254,Sheet1!C:D,2,FALSE)","v":{"$error":"#N/A"}}]
[{"$nulls":6},"",{"$f":"VLOOKUP(G255,Sheet1!C:D,2,FALSE)","v":{"$error":"#N/A"}}]
[{"$nulls":6},"",{"$f":"VLOOKUP(G256,Sheet1!C:D,2,FALSE)","v":{"$error":"#N/A"}}]
[{"$nulls":6},"",{"$f":"VLOOKUP(G257,Sheet1!C:D,2,FALSE)","v":{"$error":"#N/A"}}]
[{"$nulls":6},"",{"$f":"VLOOKUP(G258,Sheet1!C:D,2,FALSE)","v":{"$error":"#N/A"}}]
[{"$nulls":6},"",{"$f":"VLOOKUP(G259,Sheet1!C:D,2,FALSE)","v":{"$error":"#N/A"}}]
[{"$nulls":6},"",{"$f":"VLOOKUP(G260,Sheet1!C:D,2,FALSE)","v":{"$error":"#N/A"}}]
[{"$nulls":6},{"$f":"C261&F261","v":""},{"$f":"VLOOKUP(G261,Sheet1!C:D,2,FALSE)","v":{"$error":"#N/A"}}]
[{"$nulls":6},"",{"$f":"VLOOKUP(G262,Sheet1!C:D,2,FALSE)","v":{"$error":"#N/A"}}]
[{"$nulls":6},"",{"$f":"VLOOKUP(G263,Sheet1!C:D,2,FALSE)","v":{"$error":"#N/A"}}]
[{"$nulls":6},"",{"$f":"VLOOKUP(G264,Sheet1!C:D,2,FALSE)","v":{"$error":"#N/A"}}]
[{"$nulls":6},"",{"$f":"VLOOKUP(G265,Sheet1!C:D,2,FALSE)","v":{"$error":"#N/A"}}]
[{"$nulls":6},"",{"$f":"VLOOKUP(G266,Sheet1!C:D,2,FALSE)","v":{"$error":"#N/A"}}]
[{"$nulls":6},"",{"$f":"VLOOKUP(G267,Sheet1!C:D,2,FALSE)","v":{"$error":"#N/A"}}]
[{"$nulls":6},"",{"$f":"VLOOKUP(G268,Sheet1!C:D,2,FALSE)","v":{"$error":"#N/A"}}]
[{"$nulls":6},"",{"$f":"VLOOKUP(G269,Sheet1!C:D,2,FALSE)","v":{"$error":"#N/A"}}]
[{"$nulls":6},"",{"$f":"VLOOKUP(G270,Sheet1!C:D,2,FALSE)","v":{"$error":"#N/A"}}]
[{"$nulls":6},"",{"$f":"VLOOKUP(G271,Sheet1!C:D,2,FALSE)","v":{"$error":"#N/A"}}]
[{"$nulls":6},"",{"$f":"VLOOKUP(G272,Sheet1!C:D,2,FALSE)","v":{"$error":"#N/A"}}]
[{"$nulls":6},"",{"$f":"VLOOKUP(G273,Sheet1!C:D,2,FALSE)","v":{"$error":"#N/A"}}]
[{"$nulls":6},"",{"$f":"VLOOKUP(G274,Sheet1!C:D,2,FALSE)","v":{"$error":"#N/A"}}]
[{"$nulls":6},"",{"$f":"VLOOKUP(G275,Sheet1!C:D,2,FALSE)","v":{"$error":"#N/A"}}]
[{"$nulls":6},"",{"$f":"VLOOKUP(G276,Sheet1!C:D,2,FALSE)","v":{"$error":"#N/A"}}]
[{"$nulls":6},"",{"$f":"VLOOKUP(G277,Sheet1!C:D,2,FALSE)","v":{"$error":"#N/A"}}]
[{"$nulls":6},"",{"$f":"VLOOKUP(G278,Sheet1!C:D,2,FALSE)","v":{"$error":"#N/A"}}]
[{"$nulls":6},"",{"$f":"VLOOKUP(G279,Sheet1!C:D,2,FALSE)","v":{"$error":"#N/A"}}]
[{"$nulls":6},"",{"$f":"VLOOKUP(G280,Sheet1!C:D,2,FALSE)","v":{"$error":"#N/A"}}]
[{"$nulls":6},"",{"$f":"VLOOKUP(G281,Sheet1!C:D,2,FALSE)","v":{"$error":"#N/A"}}]
[{"$nulls":6},"",{"$f":"VLOOKUP(G282,Sheet1!C:D,2,FALSE)","v":{"$error":"#N/A"}}]
[{"$nulls":6},"",{"$f":"VLOOKUP(G283,Sheet1!C:D,2,FALSE)","v":{"$error":"#N/A"}}]
[{"$nulls":6},"",{"$f":"VLOOKUP(G284,Sheet1!C:D,2,FALSE)","v":{"$error":"#N/A"}}]
[{"$nulls":6},"",{"$f":"VLOOKUP(G285,Sheet1!C:D,2,FALSE)","v":{"$error":"#N/A"}}]
[{"$nulls":6},"",{"$f":"VLOOKUP(G286,Sheet1!C:D,2,FALSE)","v":{"$error":"#N/A"}}]
[{"$nulls":6},"",{"$f":"VLOOKUP(G287,Sheet1!C:D,2,FALSE)","v":{"$error":"#N/A"}}]
[{"$nulls":6},"",{"$f":"VLOOKUP(G288,Sheet1!C:D,2,FALSE)","v":{"$error":"#N/A"}}]
[{"$nulls":6},"",{"$f":"VLOOKUP(G289,Sheet1!C:D,2,FALSE)","v":{"$error":"#N/A"}}]
[{"$nulls":6},"",{"$f":"VLOOKUP(G290,Sheet1!C:D,2,FALSE)","v":{"$error":"#N/A"}}]
[{"$nulls":6},"",{"$f":"VLOOKUP(G291,Sheet1!C:D,2,FALSE)","v":{"$error":"#N/A"}}]
[{"$nulls":6},"",{"$f":"VLOOKUP(G292,Sheet1!C:D,2,FALSE)","v":{"$error":"#N/A"}}]
[{"$nulls":6},"",{"$f":"VLOOKUP(G293,Sheet1!C:D,2,FALSE)","v":{"$error":"#N/A"}}]
[{"$nulls":6},"",{"$f":"VLOOKUP(G294,Sheet1!C:D,2,FALSE)","v":{"$error":"#N/A"}}]
[{"$nulls":6},"",{"$f":"VLOOKUP(G295,Sheet1!C:D,2,FALSE)","v":{"$error":"#N/A"}}]
[{"$nulls":6},"",{"$f":"VLOOKUP(G296,Sheet1!C:D,2,FALSE)","v":{"$error":"#N/A"}}]
[{"$nulls":6},"",{"$f":"VLOOKUP(G297,Sheet1!C:D,2,FALSE)","v":{"$error":"#N/A"}}]
[{"$nulls":6},"",{"$f":"VLOOKUP(G298,Sheet1!C:D,2,FALSE)","v":{"$error":"#N/A"}}]
[{"$nulls":6},"",{"$f":"VLOOKUP(G299,Sheet1!C:D,2,FALSE)","v":{"$error":"#N/A"}}]
[{"$nulls":6},"",{"$f":"VLOOKUP(G300,Sheet1!C:D,2,FALSE)","v":{"$error":"#N/A"}}]
[{"$nulls":6},"",{"$f":"VLOOKUP(G301,Sheet1!C:D,2,FALSE)","v":{"$error":"#N/A"}}]
[{"$nulls":6},"",{"$f":"VLOOKUP(G302,Sheet1!C:D,2,FALSE)","v":{"$error":"#N/A"}}]
[{"$nulls":6},"",{"$f":"VLOOKUP(G303,Sheet1!C:D,2,FALSE)","v":{"$error":"#N/A"}}]
[{"$nulls":6},"",{"$f":"VLOOKUP(G304,Sheet1!C:D,2,FALSE)","v":{"$error":"#N/A"}}]
[{"$nulls":6},"",{"$f":"VLOOKUP(G305,Sheet1!C:D,2,FALSE)","v":{"$error":"#N/A"}}]
[{"$nulls":6},"",{"$f":"VLOOKUP(G306,Sheet1!C:D,2,FALSE)","v":{"$error":"#N/A"}}]
[{"$nulls":6},"",{"$f":"VLOOKUP(G307,Sheet1!C:D,2,FALSE)","v":{"$error":"#N/A"}}]
[{"$nulls":6},"",{"$f":"VLOOKUP(G308,Sheet1!C:D,2,FALSE)","v":{"$error":"#N/A"}}]
[{"$nulls":6},"",{"$f":"VLOOKUP(G309,Sheet1!C:D,2,FALSE)","v":{"$error":"#N/A"}}]
[{"$nulls":6},"",{"$f":"VLOOKUP(G310,Sheet1!C:D,2,FALSE)","v":{"$error":"#N/A"}}]
[{"$nulls":6},"",{"$f":"VLOOKUP(G311,Sheet1!C:D,2,FALSE)","v":{"$error":"#N/A"}}]
[{"$nulls":6},"",{"$f":"VLOOKUP(G312,Sheet1!C:D,2,FALSE)","v":{"$error":"#N/A"}}]
[{"$nulls":6},"",{"$f":"VLOOKUP(G313,Sheet1!C:D,2,FALSE)","v":{"$error":"#N/A"}}]
[{"$nulls":6},"",{"$f":"VLOOKUP(G314,Sheet1!C:D,2,FALSE)","v":{"$error":"#N/A"}}]
[{"$nulls":6},"",{"$f":"VLOOKUP(G315,Sheet1!C:D,2,FALSE)","v":{"$error":"#N/A"}}]
[{"$nulls":6},"",{"$f":"VLOOKUP(G316,Sheet1!C:D,2,FALSE)","v":{"$error":"#N/A"}}]
[{"$nulls":6},"",{"$f":"VLOOKUP(G317,Sheet1!C:D,2,FALSE)","v":{"$error":"#N/A"}}]
[{"$nulls":6},"",{"$f":"VLOOKUP(G318,Sheet1!C:D,2,FALSE)","v":{"$error":"#N/A"}}]
[{"$nulls":6},"",{"$f":"VLOOKUP(G319,Sheet1!C:D,2,FALSE)","v":{"$error":"#N/A"}}]
[{"$nulls":6},"",{"$f":"VLOOKUP(G320,Sheet1!C:D,2,FALSE)","v":{"$error":"#N/A"}}]
[{"$nulls":6},"",{"$f":"VLOOKUP(G321,Sheet1!C:D,2,FALSE)","v":{"$error":"#N/A"}}]
[{"$nulls":6},"",{"$f":"VLOOKUP(G322,Sheet1!C:D,2,FALSE)","v":{"$error":"#N/A"}}]
[{"$nulls":6},"",{"$f":"VLOOKUP(G323,Sheet1!C:D,2,FALSE)","v":{"$error":"#N/A"}}]
[{"$nulls":6},"",{"$f":"VLOOKUP(G324,Sheet1!C:D,2,FALSE)","v":{"$error":"#N/A"}}]
[{"$nulls":6},{"$f":"C325&F325","v":""},{"$f":"VLOOKUP(G325,Sheet1!C:D,2,FALSE)","v":{"$error":"#N/A"}}]
[{"$nulls":6},"",{"$f":"VLOOKUP(G326,Sheet1!C:D,2,FALSE)","v":{"$error":"#N/A"}}]
[{"$nulls":6},"",{"$f":"VLOOKUP(G327,Sheet1!C:D,2,FALSE)","v":{"$error":"#N/A"}}]
[{"$nulls":6},"",{"$f":"VLOOKUP(G328,Sheet1!C:D,2,FALSE)","v":{"$error":"#N/A"}}]
[{"$nulls":6},"",{"$f":"VLOOKUP(G329,Sheet1!C:D,2,FALSE)","v":{"$error":"#N/A"}}]
[{"$nulls":6},"",{"$f":"VLOOKUP(G330,Sheet1!C:D,2,FALSE)","v":{"$error":"#N/A"}}]
[{"$nulls":6},"",{"$f":"VLOOKUP(G331,Sheet1!C:D,2,FALSE)","v":{"$error":"#N/A"}}]
[{"$nulls":6},"",{"$f":"VLOOKUP(G332,Sheet1!C:D,2,FALSE)","v":{"$error":"#N/A"}}]
[{"$nulls":6},"",{"$f":"VLOOKUP(G333,Sheet1!C:D,2,FALSE)","v":{"$error":"#N/A"}}]
[{"$nulls":6},"",{"$f":"VLOOKUP(G334,Sheet1!C:D,2,FALSE)","v":{"$error":"#N/A"}}]
[{"$nulls":6},"",{"$f":"VLOOKUP(G335,Sheet1!C:D,2,FALSE)","v":{"$error":"#N/A"}}]
[{"$nulls":6},"",{"$f":"VLOOKUP(G336,Sheet1!C:D,2,FALSE)","v":{"$error":"#N/A"}}]
[{"$nulls":6},"",{"$f":"VLOOKUP(G337,Sheet1!C:D,2,FALSE)","v":{"$error":"#N/A"}}]
[{"$nulls":6},"",{"$f":"VLOOKUP(G338,Sheet1!C:D,2,FALSE)","v":{"$error":"#N/A"}}]
[{"$nulls":6},"",{"$f":"VLOOKUP(G339,Sheet1!C:D,2,FALSE)","v":{"$error":"#N/A"}}]
[{"$nulls":6},"",{"$f":"VLOOKUP(G340,Sheet1!C:D,2,FALSE)","v":{"$error":"#N/A"}}]
[{"$nulls":6},"",{"$f":"VLOOKUP(G341,Sheet1!C:D,2,FALSE)","v":{"$error":"#N/A"}}]
[{"$nulls":6},"",{"$f":"VLOOKUP(G342,Sheet1!C:D,2,FALSE)","v":{"$error":"#N/A"}}]
[{"$nulls":6},"",{"$f":"VLOOKUP(G343,Sheet1!C:D,2,FALSE)","v":{"$error":"#N/A"}}]
[{"$nulls":6},"",{"$f":"VLOOKUP(G344,Sheet1!C:D,2,FALSE)","v":{"$error":"#N/A"}}]
[{"$nulls":6},"",{"$f":"VLOOKUP(G345,Sheet1!C:D,2,FALSE)","v":{"$error":"#N/A"}}]
[{"$nulls":6},"",{"$f":"VLOOKUP(G346,Sheet1!C:D,2,FALSE)","v":{"$error":"#N/A"}}]
[{"$nulls":6},"",{"$f":"VLOOKUP(G347,Sheet1!C:D,2,FALSE)","v":{"$error":"#N/A"}}]
[{"$nulls":6},"",{"$f":"VLOOKUP(G348,Sheet1!C:D,2,FALSE)","v":{"$error":"#N/A"}}]
[{"$nulls":6},"",{"$f":"VLOOKUP(G349,Sheet1!C:D,2,FALSE)","v":{"$error":"#N/A"}}]
[{"$nulls":6},"",{"$f":"VLOOKUP(G350,Sheet1!C:D,2,FALSE)","v":{"$error":"#N/A"}}]
[{"$nulls":6},"",{"$f":"VLOOKUP(G351,Sheet1!C:D,2,FALSE)","v":{"$error":"#N/A"}}]
[{"$nulls":6},"",{"$f":"VLOOKUP(G352,Sheet1!C:D,2,FALSE)","v":{"$error":"#N/A"}}]
[{"$nulls":6},"",{"$f":"VLOOKUP(G353,Sheet1!C:D,2,FALSE)","v":{"$error":"#N/A"}}]
[{"$nulls":6},"",{"$f":"VLOOKUP(G354,Sheet1!C:D,2,FALSE)","v":{"$error":"#N/A"}}]
[{"$nulls":6},"",{"$f":"VLOOKUP(G355,Sheet1!C:D,2,FALSE)","v":{"$error":"#N/A"}}]
[{"$nulls":6},"",{"$f":"VLOOKUP(G356,Sheet1!C:D,2,FALSE)","v":{"$error":"#N/A"}}]
[{"$nulls":6},"",{"$f":"VLOOKUP(G357,Sheet1!C:D,2,FALSE)","v":{"$error":"#N/A"}}]
[{"$nulls":6},"",{"$f":"VLOOKUP(G358,Sheet1!C:D,2,FALSE)","v":{"$error":"#N/A"}}]
[{"$nulls":6},"",{"$f":"VLOOKUP(G359,Sheet1!C:D,2,FALSE)","v":{"$error":"#N/A"}}]
[{"$nulls":6},"",{"$f":"VLOOKUP(G360,Sheet1!C:D,2,FALSE)","v":{"$error":"#N/A"}}]
[{"$nulls":6},"",{"$f":"VLOOKUP(G361,Sheet1!C:D,2,FALSE)","v":{"$error":"#N/A"}}]
[{"$nulls":6},"",{"$f":"VLOOKUP(G362,Sheet1!C:D,2,FALSE)","v":{"$error":"#N/A"}}]
[{"$nulls":6},"",{"$f":"VLOOKUP(G363,Sheet1!C:D,2,FALSE)","v":{"$error":"#N/A"}}]
[{"$nulls":6},"",{"$f":"VLOOKUP(G364,Sheet1!C:D,2,FALSE)","v":{"$error":"#N/A"}}]
[{"$nulls":6},"",{"$f":"VLOOKUP(G365,Sheet1!C:D,2,FALSE)","v":{"$error":"#N/A"}}]
[{"$nulls":6},"",{"$f":"VLOOKUP(G366,Sheet1!C:D,2,FALSE)","v":{"$error":"#N/A"}}]
[{"$nulls":6},"",{"$f":"VLOOKUP(G367,Sheet1!C:D,2,FALSE)","v":{"$error":"#N/A"}}]
[{"$nulls":6},"",{"$f":"VLOOKUP(G368,Sheet1!C:D,2,FALSE)","v":{"$error":"#N/A"}}]
[{"$nulls":6},"",{"$f":"VLOOKUP(G369,Sheet1!C:D,2,FALSE)","v":{"$error":"#N/A"}}]
[{"$nulls":6},"",{"$f":"VLOOKUP(G370,Sheet1!C:D,2,FALSE)","v":{"$error":"#N/A"}}]
[{"$nulls":6},"",{"$f":"VLOOKUP(G371,Sheet1!C:D,2,FALSE)","v":{"$error":"#N/A"}}]
[{"$nulls":6},"",{"$f":"VLOOKUP(G372,Sheet1!C:D,2,FALSE)","v":{"$error":"#N/A"}}]
[{"$nulls":6},"",{"$f":"VLOOKUP(G373,Sheet1!C:D,2,FALSE)","v":{"$error":"#N/A"}}]
[{"$nulls":6},"",{"$f":"VLOOKUP(G374,Sheet1!C:D,2,FALSE)","v":{"$error":"#N/A"}}]
[{"$nulls":6},"",{"$f":"VLOOKUP(G375,Sheet1!C:D,2,FALSE)","v":{"$error":"#N/A"}}]
[{"$nulls":6},"",{"$f":"VLOOKUP(G376,Sheet1!C:D,2,FALSE)","v":{"$error":"#N/A"}}]
[{"$nulls":6},"",{"$f":"VLOOKUP(G377,Sheet1!C:D,2,FALSE)","v":{"$error":"#N/A"}}]
[{"$nulls":6},"",{"$f":"VLOOKUP(G378,Sheet1!C:D,2,FALSE)","v":{"$error":"#N/A"}}]
[{"$nulls":6},"",{"$f":"VLOOKUP(G379,Sheet1!C:D,2,FALSE)","v":{"$error":"#N/A"}}]
[{"$nulls":6},"",{"$f":"VLOOKUP(G380,Sheet1!C:D,2,FALSE)","v":{"$error":"#N/A"}}]
[{"$nulls":6},"",{"$f":"VLOOKUP(G381,Sheet1!C:D,2,FALSE)","v":{"$error":"#N/A"}}]
[{"$nulls":6},"",{"$f":"VLOOKUP(G382,Sheet1!C:D,2,FALSE)","v":{"$error":"#N/A"}}]
[{"$nulls":6},"",{"$f":"VLOOKUP(G383,Sheet1!C:D,2,FALSE)","v":{"$error":"#N/A"}}]
[{"$nulls":6},"",{"$f":"VLOOKUP(G384,Sheet1!C:D,2,FALSE)","v":{"$error":"#N/A"}}]
[{"$nulls":6},"",{"$f":"VLOOKUP(G385,Sheet1!C:D,2,FALSE)","v":{"$error":"#N/A"}}]
[{"$nulls":6},"",{"$f":"VLOOKUP(G386,Sheet1!C:D,2,FALSE)","v":{"$error":"#N/A"}}]
[{"$nulls":6},"",{"$f":"VLOOKUP(G387,Sheet1!C:D,2,FALSE)","v":{"$error":"#N/A"}}]
[{"$nulls":6},"",{"$f":"VLOOKUP(G388,Sheet1!C:D,2,FALSE)","v":{"$error":"#N/A"}}]
[{"$nulls":6},{"$f":"C389&F389","v":""},{"$f":"VLOOKUP(G389,Sheet1!C:D,2,FALSE)","v":{"$error":"#N/A"}}]
[{"$nulls":6},"",{"$f":"VLOOKUP(G390,Sheet1!C:D,2,FALSE)","v":{"$error":"#N/A"}}]
[{"$nulls":6},"",{"$f":"VLOOKUP(G391,Sheet1!C:D,2,FALSE)","v":{"$error":"#N/A"}}]
[{"$nulls":6},"",{"$f":"VLOOKUP(G392,Sheet1!C:D,2,FALSE)","v":{"$error":"#N/A"}}]
[{"$nulls":6},"",{"$f":"VLOOKUP(G393,Sheet1!C:D,2,FALSE)","v":{"$error":"#N/A"}}]
[{"$nulls":6},"",{"$f":"VLOOKUP(G394,Sheet1!C:D,2,FALSE)","v":{"$error":"#N/A"}}]
[{"$nulls":6},"",{"$f":"VLOOKUP(G395,Sheet1!C:D,2,FALSE)","v":{"$error":"#N/A"}}]
[{"$nulls":6},"",{"$f":"VLOOKUP(G396,Sheet1!C:D,2,FALSE)","v":{"$error":"#N/A"}}]
[{"$nulls":6},"",{"$f":"VLOOKUP(G397,Sheet1!C:D,2,FALSE)","v":{"$error":"#N/A"}}]
[{"$nulls":6},"",{"$f":"VLOOKUP(G398,Sheet1!C:D,2,FALSE)","v":{"$error":"#N/A"}}]
[{"$nulls":6},"",{"$f":"VLOOKUP(G399,Sheet1!C:D,2,FALSE)","v":{"$error":"#N/A"}}]
[{"$nulls":6},"",{"$f":"VLOOKUP(G400,Sheet1!C:D,2,FALSE)","v":{"$error":"#N/A"}}]
[{"$nulls":6},"",{"$f":"VLOOKUP(G401,Sheet1!C:D,2,FALSE)","v":{"$error":"#N/A"}}]
[{"$nulls":6},"",{"$f":"VLOOKUP(G402,Sheet1!C:D,2,FALSE)","v":{"$error":"#N/A"}}]
[{"$nulls":6},"",{"$f":"VLOOKUP(G403,Sheet1!C:D,2,FALSE)","v":{"$error":"#N/A"}}]
[{"$nulls":6},"",{"$f":"VLOOKUP(G404,Sheet1!C:D,2,FALSE)","v":{"$error":"#N/A"}}]
[{"$nulls":6},"",{"$f":"VLOOKUP(G405,Sheet1!C:D,2,FALSE)","v":{"$error":"#N/A"}}]
[{"$nulls":6},"",{"$f":"VLOOKUP(G406,Sheet1!C:D,2,FALSE)","v":{"$error":"#N/A"}}]
[{"$nulls":6},"",{"$f":"VLOOKUP(G407,Sheet1!C:D,2,FALSE)","v":{"$error":"#N/A"}}]
[{"$nulls":6},"",{"$f":"VLOOKUP(G408,Sheet1!C:D,2,FALSE)","v":{"$error":"#N/A"}}]
[{"$nulls":6},"",{"$f":"VLOOKUP(G409,Sheet1!C:D,2,FALSE)","v":{"$error":"#N/A"}}]
[{"$nulls":6},"",{"$f":"VLOOKUP(G410,Sheet1!C:D,2,FALSE)","v":{"$error":"#N/A"}}]
[{"$nulls":6},"",{"$f":"VLOOKUP(G411,Sheet1!C:D,2,FALSE)","v":{"$error":"#N/A"}}]
[{"$nulls":6},"",{"$f":"VLOOKUP(G412,Sheet1!C:D,2,FALSE)","v":{"$error":"#N/A"}}]
[{"$nulls":6},"",{"$f":"VLOOKUP(G413,Sheet1!C:D,2,FALSE)","v":{"$error":"#N/A"}}]
[{"$nulls":6},"",{"$f":"VLOOKUP(G414,Sheet1!C:D,2,FALSE)","v":{"$error":"#N/A"}}]
[{"$nulls":6},"",{"$f":"VLOOKUP(G415,Sheet1!C:D,2,FALSE)","v":{"$error":"#N/A"}}]
[{"$nulls":6},"",{"$f":"VLOOKUP(G416,Sheet1!C:D,2,FALSE)","v":{"$error":"#N/A"}}]
[{"$nulls":6},"",{"$f":"VLOOKUP(G417,Sheet1!C:D,2,FALSE)","v":{"$error":"#N/A"}}]
[{"$nulls":6},"",{"$f":"VLOOKUP(G418,Sheet1!C:D,2,FALSE)","v":{"$error":"#N/A"}}]
[{"$nulls":6},"",{"$f":"VLOOKUP(G419,Sheet1!C:D,2,FALSE)","v":{"$error":"#N/A"}}]
[{"$nulls":6},"",{"$f":"VLOOKUP(G420,Sheet1!C:D,2,FALSE)","v":{"$error":"#N/A"}}]
[{"$nulls":6},"",{"$f":"VLOOKUP(G421,Sheet1!C:D,2,FALSE)","v":{"$error":"#N/A"}}]
[{"$nulls":6},"",{"$f":"VLOOKUP(G422,Sheet1!C:D,2,FALSE)","v":{"$error":"#N/A"}}]
[{"$nulls":6},"",{"$f":"VLOOKUP(G423,Sheet1!C:D,2,FALSE)","v":{"$error":"#N/A"}}]
[{"$nulls":6},"",{"$f":"VLOOKUP(G424,Sheet1!C:D,2,FALSE)","v":{"$error":"#N/A"}}]
[{"$nulls":6},"",{"$f":"VLOOKUP(G425,Sheet1!C:D,2,FALSE)","v":{"$error":"#N/A"}}]
[{"$nulls":6},"",{"$f":"VLOOKUP(G426,Sheet1!C:D,2,FALSE)","v":{"$error":"#N/A"}}]
[{"$nulls":6},"",{"$f":"VLOOKUP(G427,Sheet1!C:D,2,FALSE)","v":{"$error":"#N/A"}}]
[{"$nulls":6},"",{"$f":"VLOOKUP(G428,Sheet1!C:D,2,FALSE)","v":{"$error":"#N/A"}}]
[{"$nulls":6},"",{"$f":"VLOOKUP(G429,Sheet1!C:D,2,FALSE)","v":{"$error":"#N/A"}}]
[{"$nulls":6},"",{"$f":"VLOOKUP(G430,Sheet1!C:D,2,FALSE)","v":{"$error":"#N/A"}}]
[{"$nulls":6},"",{"$f":"VLOOKUP(G431,Sheet1!C:D,2,FALSE)","v":{"$error":"#N/A"}}]
[{"$nulls":6},"",{"$f":"VLOOKUP(G432,Sheet1!C:D,2,FALSE)","v":{"$error":"#N/A"}}]
[{"$nulls":6},"",{"$f":"VLOOKUP(G433,Sheet1!C:D,2,FALSE)","v":{"$error":"#N/A"}}]
[{"$nulls":6},"",{"$f":"VLOOKUP(G434,Sheet1!C:D,2,FALSE)","v":{"$error":"#N/A"}}]
[{"$nulls":6},"",{"$f":"VLOOKUP(G435,Sheet1!C:D,2,FALSE)","v":{"$error":"#N/A"}}]
[{"$nulls":6},"",{"$f":"VLOOKUP(G436,Sheet1!C:D,2,FALSE)","v":{"$error":"#N/A"}}]
[{"$nulls":6},"",{"$f":"VLOOKUP(G437,Sheet1!C:D,2,FALSE)","v":{"$error":"#N/A"}}]
[{"$nulls":6},"",{"$f":"VLOOKUP(G438,Sheet1!C:D,2,FALSE)","v":{"$error":"#N/A"}}]
[{"$nulls":6},"",{"$f":"VLOOKUP(G439,Sheet1!C:D,2,FALSE)","v":{"$error":"#N/A"}}]
[{"$nulls":6},"",{"$f":"VLOOKUP(G440,Sheet1!C:D,2,FALSE)","v":{"$error":"#N/A"}}]
[{"$nulls":6},"",{"$f":"VLOOKUP(G441,Sheet1!C:D,2,FALSE)","v":{"$error":"#N/A"}}]
[{"$nulls":6},"",{"$f":"VLOOKUP(G442,Sheet1!C:D,2,FALSE)","v":{"$error":"#N/A"}}]
[{"$nulls":6},"",{"$f":"VLOOKUP(G443,Sheet1!C:D,2,FALSE)","v":{"$error":"#N/A"}}]
[{"$nulls":6},"",{"$f":"VLOOKUP(G444,Sheet1!C:D,2,FALSE)","v":{"$error":"#N/A"}}]
[{"$nulls":6},"",{"$f":"VLOOKUP(G445,Sheet1!C:D,2,FALSE)","v":{"$error":"#N/A"}}]
[{"$nulls":6},"",{"$f":"VLOOKUP(G446,Sheet1!C:D,2,FALSE)","v":{"$error":"#N/A"}}]
[{"$nulls":6},"",{"$f":"VLOOKUP(G447,Sheet1!C:D,2,FALSE)","v":{"$error":"#N/A"}}]
[{"$nulls":6},"",{"$f":"VLOOKUP(G448,Sheet1!C:D,2,FALSE)","v":{"$error":"#N/A"}}]
[{"$nulls":6},"",{"$f":"VLOOKUP(G449,Sheet1!C:D,2,FALSE)","v":{"$error":"#N/A"}}]
[{"$nulls":6},"",{"$f":"VLOOKUP(G450,Sheet1!C:D,2,FALSE)","v":{"$error":"#N/A"}}]
[{"$nulls":6},"",{"$f":"VLOOKUP(G451,Sheet1!C:D,2,FALSE)","v":{"$error":"#N/A"}}]
[{"$nulls":6},"",{"$f":"VLOOKUP(G452,Sheet1!C:D,2,FALSE)","v":{"$error":"#N/A"}}]
[{"$nulls":6},{"$f":"C453&F453","v":""},{"$f":"VLOOKUP(G453,Sheet1!C:D,2,FALSE)","v":{"$error":"#N/A"}}]
[{"$nulls":6},"",{"$f":"VLOOKUP(G454,Sheet1!C:D,2,FALSE)","v":{"$error":"#N/A"}}]
[{"$nulls":6},"",{"$f":"VLOOKUP(G455,Sheet1!C:D,2,FALSE)","v":{"$error":"#N/A"}}]
[{"$nulls":6},"",{"$f":"VLOOKUP(G456,Sheet1!C:D,2,FALSE)","v":{"$error":"#N/A"}}]
[{"$nulls":6},"",{"$f":"VLOOKUP(G457,Sheet1!C:D,2,FALSE)","v":{"$error":"#N/A"}}]
[{"$nulls":6},"",{"$f":"VLOOKUP(G458,Sheet1!C:D,2,FALSE)","v":{"$error":"#N/A"}}]
[{"$nulls":6},"",{"$f":"VLOOKUP(G459,Sheet1!C:D,2,FALSE)","v":{"$error":"#N/A"}}]
[{"$nulls":6},"",{"$f":"VLOOKUP(G460,Sheet1!C:D,2,FALSE)","v":{"$error":"#N/A"}}]
[{"$nulls":6},"",{"$f":"VLOOKUP(G461,Sheet1!C:D,2,FALSE)","v":{"$error":"#N/A"}}]
[{"$nulls":6},"",{"$f":"VLOOKUP(G462,Sheet1!C:D,2,FALSE)","v":{"$error":"#N/A"}}]
[{"$nulls":6},"",{"$f":"VLOOKUP(G463,Sheet1!C:D,2,FALSE)","v":{"$error":"#N/A"}}]
[{"$nulls":6},"",{"$f":"VLOOKUP(G464,Sheet1!C:D,2,FALSE)","v":{"$error":"#N/A"}}]
[{"$nulls":6},"",{"$f":"VLOOKUP(G465,Sheet1!C:D,2,FALSE)","v":{"$error":"#N/A"}}]
[{"$nulls":6},"",{"$f":"VLOOKUP(G466,Sheet1!C:D,2,FALSE)","v":{"$error":"#N/A"}}]
[{"$nulls":6},"",{"$f":"VLOOKUP(G467,Sheet1!C:D,2,FALSE)","v":{"$error":"#N/A"}}]
[{"$nulls":6},"",{"$f":"VLOOKUP(G468,Sheet1!C:D,2,FALSE)","v":{"$error":"#N/A"}}]
[{"$nulls":6},"",{"$f":"VLOOKUP(G469,Sheet1!C:D,2,FALSE)","v":{"$error":"#N/A"}}]
[{"$nulls":6},"",{"$f":"VLOOKUP(G470,Sheet1!C:D,2,FALSE)","v":{"$error":"#N/A"}}]
[{"$nulls":6},"",{"$f":"VLOOKUP(G471,Sheet1!C:D,2,FALSE)","v":{"$error":"#N/A"}}]
[{"$nulls":6},"",{"$f":"VLOOKUP(G472,Sheet1!C:D,2,FALSE)","v":{"$error":"#N/A"}}]
[{"$nulls":6},"",{"$f":"VLOOKUP(G473,Sheet1!C:D,2,FALSE)","v":{"$error":"#N/A"}}]
[{"$nulls":6},"",{"$f":"VLOOKUP(G474,Sheet1!C:D,2,FALSE)","v":{"$error":"#N/A"}}]
[{"$nulls":6},"",{"$f":"VLOOKUP(G475,Sheet1!C:D,2,FALSE)","v":{"$error":"#N/A"}}]
[{"$nulls":6},"",{"$f":"VLOOKUP(G476,Sheet1!C:D,2,FALSE)","v":{"$error":"#N/A"}}]
[{"$nulls":6},"",{"$f":"VLOOKUP(G477,Sheet1!C:D,2,FALSE)","v":{"$error":"#N/A"}}]
[{"$nulls":6},"",{"$f":"VLOOKUP(G478,Sheet1!C:D,2,FALSE)","v":{"$error":"#N/A"}}]
[{"$nulls":6},"",{"$f":"VLOOKUP(G479,Sheet1!C:D,2,FALSE)","v":{"$error":"#N/A"}}]
[{"$nulls":6},"",{"$f":"VLOOKUP(G480,Sheet1!C:D,2,FALSE)","v":{"$error":"#N/A"}}]
[{"$nulls":6},"",{"$f":"VLOOKUP(G481,Sheet1!C:D,2,FALSE)","v":{"$error":"#N/A"}}]
[{"$nulls":6},"",{"$f":"VLOOKUP(G482,Sheet1!C:D,2,FALSE)","v":{"$error":"#N/A"}}]
[{"$nulls":6},"",{"$f":"VLOOKUP(G483,Sheet1!C:D,2,FALSE)","v":{"$error":"#N/A"}}]
[{"$nulls":6},"",{"$f":"VLOOKUP(G484,Sheet1!C:D,2,FALSE)","v":{"$error":"#N/A"}}]
[{"$nulls":6},"",{"$f":"VLOOKUP(G485,Sheet1!C:D,2,FALSE)","v":{"$error":"#N/A"}}]
[{"$nulls":6},"",{"$f":"VLOOKUP(G486,Sheet1!C:D,2,FALSE)","v":{"$error":"#N/A"}}]
[{"$nulls":6},"",{"$f":"VLOOKUP(G487,Sheet1!C:D,2,FALSE)","v":{"$error":"#N/A"}}]
[{"$nulls":6},"",{"$f":"VLOOKUP(G488,Sheet1!C:D,2,FALSE)","v":{"$error":"#N/A"}}]
[{"$nulls":6},"",{"$f":"VLOOKUP(G489,Sheet1!C:D,2,FALSE)","v":{"$error":"#N/A"}}]
[{"$nulls":6},"",{"$f":"VLOOKUP(G490,Sheet1!C:D,2,FALSE)","v":{"$error":"#N/A"}}]
[{"$nulls":6},"",{"$f":"VLOOKUP(G491,Sheet1!C:D,2,FALSE)","v":{"$error":"#N/A"}}]
[{"$nulls":6},"",{"$f":"VLOOKUP(G492,Sheet1!C:D,2,FALSE)","v":{"$error":"#N/A"}}]
[{"$nulls":6},"",{"$f":"VLOOKUP(G493,Sheet1!C:D,2,FALSE)","v":{"$error":"#N/A"}}]
[{"$nulls":6},"",{"$f":"VLOOKUP(G494,Sheet1!C:D,2,FALSE)","v":{"$error":"#N/A"}}]
[{"$nulls":6},"",{"$f":"VLOOKUP(G495,Sheet1!C:D,2,FALSE)","v":{"$error":"#N/A"}}]
[{"$nulls":6},"",{"$f":"VLOOKUP(G496,Sheet1!C:D,2,FALSE)","v":{"$error":"#N/A"}}]
[{"$nulls":6},"",{"$f":"VLOOKUP(G497,Sheet1!C:D,2,FALSE)","v":{"$error":"#N/A"}}]
[{"$nulls":6},"",{"$f":"VLOOKUP(G498,Sheet1!C:D,2,FALSE)","v":{"$error":"#N/A"}}]
[{"$nulls":6},"",{"$f":"VLOOKUP(G499,Sheet1!C:D,2,FALSE)","v":{"$error":"#N/A"}}]
[{"$nulls":6},"",{"$f":"VLOOKUP(G500,Sheet1!C:D,2,FALSE)","v":{"$error":"#N/A"}}]
[{"$nulls":6},"",{"$f":"VLOOKUP(G501,Sheet1!C:D,2,FALSE)","v":{"$error":"#N/A"}}]
[{"$nulls":6},"",{"$f":"VLOOKUP(G502,Sheet1!C:D,2,FALSE)","v":{"$error":"#N/A"}}]
[{"$nulls":6},"",{"$f":"VLOOKUP(G503,Sheet1!C:D,2,FALSE)","v":{"$error":"#N/A"}}]
[{"$nulls":6},"",{"$f":"VLOOKUP(G504,Sheet1!C:D,2,FALSE)","v":{"$error":"#N/A"}}]
[{"$nulls":6},"",{"$f":"VLOOKUP(G505,Sheet1!C:D,2,FALSE)","v":{"$error":"#N/A"}}]
[{"$nulls":6},"",{"$f":"VLOOKUP(G506,Sheet1!C:D,2,FALSE)","v":{"$error":"#N/A"}}]
[{"$nulls":6},"",{"$f":"VLOOKUP(G507,Sheet1!C:D,2,FALSE)","v":{"$error":"#N/A"}}]
[{"$nulls":6},"",{"$f":"VLOOKUP(G508,Sheet1!C:D,2,FALSE)","v":{"$error":"#N/A"}}]
[{"$nulls":6},"",{"$f":"VLOOKUP(G509,Sheet1!C:D,2,FALSE)","v":{"$error":"#N/A"}}]
[{"$nulls":6},"",{"$f":"VLOOKUP(G510,Sheet1!C:D,2,FALSE)","v":{"$error":"#N/A"}}]
[{"$nulls":6},"",{"$f":"VLOOKUP(G511,Sheet1!C:D,2,FALSE)","v":{"$error":"#N/A"}}]
[{"$nulls":6},"",{"$f":"VLOOKUP(G512,Sheet1!C:D,2,FALSE)","v":{"$error":"#N/A"}}]
[{"$nulls":6},"",{"$f":"VLOOKUP(G513,Sheet1!C:D,2,FALSE)","v":{"$error":"#N/A"}}]
[{"$nulls":6},"",{"$f":"VLOOKUP(G514,Sheet1!C:D,2,FALSE)","v":{"$error":"#N/A"}}]
[{"$nulls":6},"",{"$f":"VLOOKUP(G515,Sheet1!C:D,2,FALSE)","v":{"$error":"#N/A"}}]
[{"$nulls":6},"",{"$f":"VLOOKUP(G516,Sheet1!C:D,2,FALSE)","v":{"$error":"#N/A"}}]
[{"$nulls":6},{"$f":"C517&F517","v":""},{"$f":"VLOOKUP(G517,Sheet1!C:D,2,FALSE)","v":{"$error":"#N/A"}}]
[{"$nulls":6},"",{"$f":"VLOOKUP(G518,Sheet1!C:D,2,FALSE)","v":{"$error":"#N/A"}}]
[{"$nulls":6},"",{"$f":"VLOOKUP(G519,Sheet1!C:D,2,FALSE)","v":{"$error":"#N/A"}}]
[{"$nulls":6},"",{"$f":"VLOOKUP(G520,Sheet1!C:D,2,FALSE)","v":{"$error":"#N/A"}}]
[{"$nulls":6},"",{"$f":"VLOOKUP(G521,Sheet1!C:D,2,FALSE)","v":{"$error":"#N/A"}}]
[{"$nulls":6},"",{"$f":"VLOOKUP(G522,Sheet1!C:D,2,FALSE)","v":{"$error":"#N/A"}}]
[{"$nulls":6},"",{"$f":"VLOOKUP(G523,Sheet1!C:D,2,FALSE)","v":{"$error":"#N/A"}}]
[{"$nulls":6},"",{"$f":"VLOOKUP(G524,Sheet1!C:D,2,FALSE)","v":{"$error":"#N/A"}}]
[{"$nulls":6},"",{"$f":"VLOOKUP(G525,Sheet1!C:D,2,FALSE)","v":{"$error":"#N/A"}}]
[{"$nulls":6},"",{"$f":"VLOOKUP(G526,Sheet1!C:D,2,FALSE)","v":{"$error":"#N/A"}}]
[{"$nulls":6},"",{"$f":"VLOOKUP(G527,Sheet1!C:D,2,FALSE)","v":{"$error":"#N/A"}}]
[{"$nulls":6},"",{"$f":"VLOOKUP(G528,Sheet1!C:D,2,FALSE)","v":{"$error":"#N/A"}}]
[{"$nulls":7},{"$f":"VLOOKUP(G529,Sheet1!C:D,2,FALSE)","v":{"$error":"#N/A"}}]
[{"$nulls":7},{"$f":"VLOOKUP(G530,Sheet1!C:D,2,FALSE)","v":{"$error":"#N/A"}}]
[{"$nulls":7},{"$f":"VLOOKUP(G531,Sheet1!C:D,2,FALSE)","v":{"$error":"#N/A"}}]
[{"$nulls":7},{"$f":"VLOOKUP(G532,Sheet1!C:D,2,FALSE)","v":{"$error":"#N/A"}}]
[{"$nulls":7},{"$f":"VLOOKUP(G533,Sheet1!C:D,2,FALSE)","v":{"$error":"#N/A"}}]
[{"$nulls":7},{"$f":"VLOOKUP(G534,Sheet1!C:D,2,FALSE)","v":{"$error":"#N/A"}}]
[{"$nulls":7},{"$f":"VLOOKUP(G535,Sheet1!C:D,2,FALSE)","v":{"$error":"#N/A"}}]
[{"$nulls":7},{"$f":"VLOOKUP(G536,Sheet1!C:D,2,FALSE)","v":{"$error":"#N/A"}}]
[{"$nulls":7},{"$f":"VLOOKUP(G537,Sheet1!C:D,2,FALSE)","v":{"$error":"#N/A"}}]
[{"$nulls":7},{"$f":"VLOOKUP(G538,Sheet1!C:D,2,FALSE)","v":{"$error":"#N/A"}}]
[{"$nulls":7},{"$f":"VLOOKUP(G539,Sheet1!C:D,2,FALSE)","v":{"$error":"#N/A"}}]
[{"$nulls":7},{"$f":"VLOOKUP(G540,Sheet1!C:D,2,FALSE)","v":{"$error":"#N/A"}}]
[{"$nulls":7},{"$f":"VLOOKUP(G541,Sheet1!C:D,2,FALSE)","v":{"$error":"#N/A"}}]
[{"$nulls":7},{"$f":"VLOOKUP(G542,Sheet1!C:D,2,FALSE)","v":{"$error":"#N/A"}}]
[{"$nulls":7},{"$f":"VLOOKUP(G543,Sheet1!C:D,2,FALSE)","v":{"$error":"#N/A"}}]
[{"$nulls":7},{"$f":"VLOOKUP(G544,Sheet1!C:D,2,FALSE)","v":{"$error":"#N/A"}}]
[{"$nulls":7},{"$f":"VLOOKUP(G545,Sheet1!C:D,2,FALSE)","v":{"$error":"#N/A"}}]
[{"$nulls":7},{"$f":"VLOOKUP(G546,Sheet1!C:D,2,FALSE)","v":{"$error":"#N/A"}}]
[{"$nulls":7},{"$f":"VLOOKUP(G547,Sheet1!C:D,2,FALSE)","v":{"$error":"#N/A"}}]
[{"$nulls":7},{"$f":"VLOOKUP(G548,Sheet1!C:D,2,FALSE)","v":{"$error":"#N/A"}}]
[{"$nulls":7},{"$f":"VLOOKUP(G549,Sheet1!C:D,2,FALSE)","v":{"$error":"#N/A"}}]
[{"$nulls":7},{"$f":"VLOOKUP(G550,Sheet1!C:D,2,FALSE)","v":{"$error":"#N/A"}}]
[{"$nulls":7},{"$f":"VLOOKUP(G551,Sheet1!C:D,2,FALSE)","v":{"$error":"#N/A"}}]
[{"$nulls":7},{"$f":"VLOOKUP(G552,Sheet1!C:D,2,FALSE)","v":{"$error":"#N/A"}}]
[{"$nulls":7},{"$f":"VLOOKUP(G553,Sheet1!C:D,2,FALSE)","v":{"$error":"#N/A"}}]
[{"$nulls":7},{"$f":"VLOOKUP(G554,Sheet1!C:D,2,FALSE)","v":{"$error":"#N/A"}}]
[{"$nulls":7},{"$f":"VLOOKUP(G555,Sheet1!C:D,2,FALSE)","v":{"$error":"#N/A"}}]
[{"$nulls":7},{"$f":"VLOOKUP(G556,Sheet1!C:D,2,FALSE)","v":{"$error":"#N/A"}}]
[{"$nulls":7},{"$f":"VLOOKUP(G557,Sheet1!C:D,2,FALSE)","v":{"$error":"#N/A"}}]
[{"$nulls":7},{"$f":"VLOOKUP(G558,Sheet1!C:D,2,FALSE)","v":{"$error":"#N/A"}}]
[{"$nulls":7},{"$f":"VLOOKUP(G559,Sheet1!C:D,2,FALSE)","v":{"$error":"#N/A"}}]
[{"$nulls":7},{"$f":"VLOOKUP(G560,Sheet1!C:D,2,FALSE)","v":{"$error":"#N/A"}}]
[{"$nulls":7},{"$f":"VLOOKUP(G561,Sheet1!C:D,2,FALSE)","v":{"$error":"#N/A"}}]
[{"$nulls":7},{"$f":"VLOOKUP(G562,Sheet1!C:D,2,FALSE)","v":{"$error":"#N/A"}}]
[{"$nulls":7},{"$f":"VLOOKUP(G563,Sheet1!C:D,2,FALSE)","v":{"$error":"#N/A"}}]
[{"$nulls":7},{"$f":"VLOOKUP(G564,Sheet1!C:D,2,FALSE)","v":{"$error":"#N/A"}}]
[{"$nulls":7},{"$f":"VLOOKUP(G565,Sheet1!C:D,2,FALSE)","v":{"$error":"#N/A"}}]
[{"$nulls":7},{"$f":"VLOOKUP(G566,Sheet1!C:D,2,FALSE)","v":{"$error":"#N/A"}}]
[{"$nulls":7},{"$f":"VLOOKUP(G567,Sheet1!C:D,2,FALSE)","v":{"$error":"#N/A"}}]
[{"$nulls":7},{"$f":"VLOOKUP(G568,Sheet1!C:D,2,FALSE)","v":{"$error":"#N/A"}}]
[{"$nulls":7},{"$f":"VLOOKUP(G569,Sheet1!C:D,2,FALSE)","v":{"$error":"#N/A"}}]
[{"$nulls":7},{"$f":"VLOOKUP(G570,Sheet1!C:D,2,FALSE)","v":{"$error":"#N/A"}}]
[{"$nulls":7},{"$f":"VLOOKUP(G571,Sheet1!C:D,2,FALSE)","v":{"$error":"#N/A"}}]
[{"$nulls":7},{"$f":"VLOOKUP(G572,Sheet1!C:D,2,FALSE)","v":{"$error":"#N/A"}}]
[{"$nulls":7},{"$f":"VLOOKUP(G573,Sheet1!C:D,2,FALSE)","v":{"$error":"#N/A"}}]
[{"$nulls":7},{"$f":"VLOOKUP(G574,Sheet1!C:D,2,FALSE)","v":{"$error":"#N/A"}}]
[{"$nulls":7},{"$f":"VLOOKUP(G575,Sheet1!C:D,2,FALSE)","v":{"$error":"#N/A"}}]
[{"$nulls":7},{"$f":"VLOOKUP(G576,Sheet1!C:D,2,FALSE)","v":{"$error":"#N/A"}}]
[{"$nulls":7},{"$f":"VLOOKUP(G577,Sheet1!C:D,2,FALSE)","v":{"$error":"#N/A"}}]
[{"$nulls":7},{"$f":"VLOOKUP(G578,Sheet1!C:D,2,FALSE)","v":{"$error":"#N/A"}}]
[{"$nulls":7},{"$f":"VLOOKUP(G579,Sheet1!C:D,2,FALSE)","v":{"$error":"#N/A"}}]
[{"$nulls":7},{"$f":"VLOOKUP(G580,Sheet1!C:D,2,FALSE)","v":{"$error":"#N/A"}}]
[{"$nulls":7},{"$f":"VLOOKUP(G581,Sheet1!C:D,2,FALSE)","v":{"$error":"#N/A"}}]
[{"$nulls":7},{"$f":"VLOOKUP(G582,Sheet1!C:D,2,FALSE)","v":{"$error":"#N/A"}}]
[{"$nulls":7},{"$f":"VLOOKUP(G583,Sheet1!C:D,2,FALSE)","v":{"$error":"#N/A"}}]
[{"$nulls":7},{"$f":"VLOOKUP(G584,Sheet1!C:D,2,FALSE)","v":{"$error":"#N/A"}}]
[{"$nulls":7},{"$f":"VLOOKUP(G585,Sheet1!C:D,2,FALSE)","v":{"$error":"#N/A"}}]
[{"$nulls":7},{"$f":"VLOOKUP(G586,Sheet1!C:D,2,FALSE)","v":{"$error":"#N/A"}}]
[{"$nulls":7},{"$f":"VLOOKUP(G587,Sheet1!C:D,2,FALSE)","v":{"$error":"#N/A"}}]
[{"$nulls":7},{"$f":"VLOOKUP(G588,Sheet1!C:D,2,FALSE)","v":{"$error":"#N/A"}}]
[{"$nulls":7},{"$f":"VLOOKUP(G589,Sheet1!C:D,2,FALSE)","v":{"$error":"#N/A"}}]
[{"$nulls":7},{"$f":"VLOOKUP(G590,Sheet1!C:D,2,FALSE)","v":{"$error":"#N/A"}}]
[{"$nulls":7},{"$f":"VLOOKUP(G591,Sheet1!C:D,2,FALSE)","v":{"$error":"#N/A"}}]
[{"$nulls":7},{"$f":"VLOOKUP(G592,Sheet1!C:D,2,FALSE)","v":{"$error":"#N/A"}}]
[{"$nulls":7},{"$f":"VLOOKUP(G593,Sheet1!C:D,2,FALSE)","v":{"$error":"#N/A"}}]
[{"$nulls":7},{"$f":"VLOOKUP(G594,Sheet1!C:D,2,FALSE)","v":{"$error":"#N/A"}}]
[{"$nulls":7},{"$f":"VLOOKUP(G595,Sheet1!C:D,2,FALSE)","v":{"$error":"#N/A"}}]
[{"$nulls":7},{"$f":"VLOOKUP(G596,Sheet1!C:D,2,FALSE)","v":{"$error":"#N/A"}}]
[{"$nulls":7},{"$f":"VLOOKUP(G597,Sheet1!C:D,2,FALSE)","v":{"$error":"#N/A"}}]
[{"$nulls":7},{"$f":"VLOOKUP(G598,Sheet1!C:D,2,FALSE)","v":{"$error":"#N/A"}}]
[{"$nulls":7},{"$f":"VLOOKUP(G599,Sheet1!C:D,2,FALSE)","v":{"$error":"#N/A"}}]
[{"$nulls":7},{"$f":"VLOOKUP(G600,Sheet1!C:D,2,FALSE)","v":{"$error":"#N/A"}}]
[{"$nulls":7},{"$f":"VLOOKUP(G601,Sheet1!C:D,2,FALSE)","v":{"$error":"#N/A"}}]
[{"$nulls":7},{"$f":"VLOOKUP(G602,Sheet1!C:D,2,FALSE)","v":{"$error":"#N/A"}}]
[{"$nulls":7},{"$f":"VLOOKUP(G603,Sheet1!C:D,2,FALSE)","v":{"$error":"#N/A"}}]
[{"$nulls":7},{"$f":"VLOOKUP(G604,Sheet1!C:D,2,FALSE)","v":{"$error":"#N/A"}}]
[{"$nulls":7},{"$f":"VLOOKUP(G605,Sheet1!C:D,2,FALSE)","v":{"$error":"#N/A"}}]
[{"$nulls":7},{"$f":"VLOOKUP(G606,Sheet1!C:D,2,FALSE)","v":{"$error":"#N/A"}}]
[{"$nulls":7},{"$f":"VLOOKUP(G607,Sheet1!C:D,2,FALSE)","v":{"$error":"#N/A"}}]
[{"$nulls":7},{"$f":"VLOOKUP(G608,Sheet1!C:D,2,FALSE)","v":{"$error":"#N/A"}}]
[{"$nulls":7},{"$f":"VLOOKUP(G609,Sheet1!C:D,2,FALSE)","v":{"$error":"#N/A"}}]
[{"$nulls":7},{"$f":"VLOOKUP(G610,Sheet1!C:D,2,FALSE)","v":{"$error":"#N/A"}}]
[{"$nulls":7},{"$f":"VLOOKUP(G611,Sheet1!C:D,2,FALSE)","v":{"$error":"#N/A"}}]
[{"$nulls":7},{"$f":"VLOOKUP(G612,Sheet1!C:D,2,FALSE)","v":{"$error":"#N/A"}}]
[{"$nulls":7},{"$f":"VLOOKUP(G613,Sheet1!C:D,2,FALSE)","v":{"$error":"#N/A"}}]
[{"$nulls":7},{"$f":"VLOOKUP(G614,Sheet1!C:D,2,FALSE)","v":{"$error":"#N/A"}}]
[{"$nulls":7},{"$f":"VLOOKUP(G615,Sheet1!C:D,2,FALSE)","v":{"$error":"#N/A"}}]
[{"$nulls":7},{"$f":"VLOOKUP(G616,Sheet1!C:D,2,FALSE)","v":{"$error":"#N/A"}}]
[{"$nulls":7},{"$f":"VLOOKUP(G617,Sheet1!C:D,2,FALSE)","v":{"$error":"#N/A"}}]
[{"$nulls":7},{"$f":"VLOOKUP(G618,Sheet1!C:D,2,FALSE)","v":{"$error":"#N/A"}}]
[{"$nulls":7},{"$f":"VLOOKUP(G619,Sheet1!C:D,2,FALSE)","v":{"$error":"#N/A"}}]
[{"$nulls":7},{"$f":"VLOOKUP(G620,Sheet1!C:D,2,FALSE)","v":{"$error":"#N/A"}}]
[{"$nulls":7},{"$f":"VLOOKUP(G621,Sheet1!C:D,2,FALSE)","v":{"$error":"#N/A"}}]
[{"$nulls":7},{"$f":"VLOOKUP(G622,Sheet1!C:D,2,FALSE)","v":{"$error":"#N/A"}}]
[{"$nulls":7},{"$f":"VLOOKUP(G623,Sheet1!C:D,2,FALSE)","v":{"$error":"#N/A"}}]
[{"$nulls":7},{"$f":"VLOOKUP(G624,Sheet1!C:D,2,FALSE)","v":{"$error":"#N/A"}}]
[{"$nulls":7},{"$f":"VLOOKUP(G625,Sheet1!C:D,2,FALSE)","v":{"$error":"#N/A"}}]
[{"$nulls":7},{"$f":"VLOOKUP(G626,Sheet1!C:D,2,FALSE)","v":{"$error":"#N/A"}}]
[{"$nulls":7},{"$f":"VLOOKUP(G627,Sheet1!C:D,2,FALSE)","v":{"$error":"#N/A"}}]
[{"$nulls":7},{"$f":"VLOOKUP(G628,Sheet1!C:D,2,FALSE)","v":{"$error":"#N/A"}}]
[{"$nulls":7},{"$f":"VLOOKUP(G629,Sheet1!C:D,2,FALSE)","v":{"$error":"#N/A"}}]
[{"$nulls":7},{"$f":"VLOOKUP(G630,Sheet1!C:D,2,FALSE)","v":{"$error":"#N/A"}}]
[{"$nulls":7},{"$f":"VLOOKUP(G631,Sheet1!C:D,2,FALSE)","v":{"$error":"#N/A"}}]
[{"$nulls":7},{"$f":"VLOOKUP(G632,Sheet1!C:D,2,FALSE)","v":{"$error":"#N/A"}}]
[{"$nulls":7},{"$f":"VLOOKUP(G633,Sheet1!C:D,2,FALSE)","v":{"$error":"#N/A"}}]
[{"$nulls":7},{"$f":"VLOOKUP(G634,Sheet1!C:D,2,FALSE)","v":{"$error":"#N/A"}}]
[{"$nulls":7},{"$f":"VLOOKUP(G635,Sheet1!C:D,2,FALSE)","v":{"$error":"#N/A"}}]
[{"$nulls":7},{"$f":"VLOOKUP(G636,Sheet1!C:D,2,FALSE)","v":{"$error":"#N/A"}}]
[{"$nulls":7},{"$f":"VLOOKUP(G637,Sheet1!C:D,2,FALSE)","v":{"$error":"#N/A"}}]
[{"$nulls":7},{"$f":"VLOOKUP(G638,Sheet1!C:D,2,FALSE)","v":{"$error":"#N/A"}}]
[{"$nulls":7},{"$f":"VLOOKUP(G639,Sheet1!C:D,2,FALSE)","v":{"$error":"#N/A"}}]
[{"$nulls":7},{"$f":"VLOOKUP(G640,Sheet1!C:D,2,FALSE)","v":{"$error":"#N/A"}}]
[{"$nulls":7},{"$f":"VLOOKUP(G641,Sheet1!C:D,2,FALSE)","v":{"$error":"#N/A"}}]
[{"$nulls":7},{"$f":"VLOOKUP(G642,Sheet1!C:D,2,FALSE)","v":{"$error":"#N/A"}}]
[{"$nulls":7},{"$f":"VLOOKUP(G643,Sheet1!C:D,2,FALSE)","v":{"$error":"#N/A"}}]
[{"$nulls":7},{"$f":"VLOOKUP(G644,Sheet1!C:D,2,FALSE)","v":{"$error":"#N/A"}}]
[{"$nulls":7},{"$f":"VLOOKUP(G645,Sheet1!C:D,2,FALSE)","v":{"$error":"#N/A"}}]
[{"$nulls":7},{"$f":"VLOOKUP(G646,Sheet1!C:D,2,FALSE)","v":{"$error":"#N/A"}}]
[{"$nulls":7},{"$f":"VLOOKUP(G647,Sheet1!C:D,2,FALSE)","v":{"$error":"#N/A"}}]
[{"$nulls":7},{"$f":"VLOOKUP(G648,Sheet1!C:D,2,FALSE)","v":{"$error":"#N/A"}}]
[{"$nulls":7},{"$f":"VLOOKUP(G649,Sheet1!C:D,2,FALSE)","v":{"$error":"#N/A"}}]
[{"$nulls":7},{"$f":"VLOOKUP(G650,Sheet1!C:D,2,FALSE)","v":{"$error":"#N/A"}}]
[{"$nulls":7},{"$f":"VLOOKUP(G651,Sheet1!C:D,2,FALSE)","v":{"$error":"#N/A"}}]
[{"$nulls":7},{"$f":"VLOOKUP(G652,Sheet1!C:D,2,FALSE)","v":{"$error":"#N/A"}}]
[{"$nulls":7},{"$f":"VLOOKUP(G653,Sheet1!C:D,2,FALSE)","v":{"$error":"#N/A"}}]
[{"$nulls":7},{"$f":"VLOOKUP(G654,Sheet1!C:D,2,FALSE)","v":{"$error":"#N/A"}}]
[{"$nulls":7},{"$f":"VLOOKUP(G655,Sheet1!C:D,2,FALSE)","v":{"$error":"#N/A"}}]
[{"$nulls":7},{"$f":"VLOOKUP(G656,Sheet1!C:D,2,FALSE)","v":{"$error":"#N/A"}}]
[{"$nulls":7},{"$f":"VLOOKUP(G657,Sheet1!C:D,2,FALSE)","v":{"$error":"#N/A"}}]
[{"$nulls":7},{"$f":"VLOOKUP(G658,Sheet1!C:D,2,FALSE)","v":{"$error":"#N/A"}}]
[{"$nulls":7},{"$f":"VLOOKUP(G659,Sheet1!C:D,2,FALSE)","v":{"$error":"#N/A"}}]
[{"$nulls":7},{"$f":"VLOOKUP(G660,Sheet1!C:D,2,FALSE)","v":{"$error":"#N/A"}}]
[{"$nulls":7},{"$f":"VLOOKUP(G661,Sheet1!C:D,2,FALSE)","v":{"$error":"#N/A"}}]
[{"$nulls":7},{"$f":"VLOOKUP(G662,Sheet1!C:D,2,FALSE)","v":{"$error":"#N/A"}}]
[{"$nulls":7},{"$f":"VLOOKUP(G663,Sheet1!C:D,2,FALSE)","v":{"$error":"#N/A"}}]
[{"$nulls":7},{"$f":"VLOOKUP(G664,Sheet1!C:D,2,FALSE)","v":{"$error":"#N/A"}}]
[{"$nulls":7},{"$f":"VLOOKUP(G665,Sheet1!C:D,2,FALSE)","v":{"$error":"#N/A"}}]
[{"$nulls":7},{"$f":"VLOOKUP(G666,Sheet1!C:D,2,FALSE)","v":{"$error":"#N/A"}}]
[{"$nulls":7},{"$f":"VLOOKUP(G667,Sheet1!C:D,2,FALSE)","v":{"$error":"#N/A"}}]
[{"$nulls":7},{"$f":"VLOOKUP(G668,Sheet1!C:D,2,FALSE)","v":{"$error":"#N/A"}}]
[{"$nulls":7},{"$f":"VLOOKUP(G669,Sheet1!C:D,2,FALSE)","v":{"$error":"#N/A"}}]
[{"$nulls":7},{"$f":"VLOOKUP(G670,Sheet1!C:D,2,FALSE)","v":{"$error":"#N/A"}}]
[{"$nulls":7},{"$f":"VLOOKUP(G671,Sheet1!C:D,2,FALSE)","v":{"$error":"#N/A"}}]
[{"$nulls":7},{"$f":"VLOOKUP(G672,Sheet1!C:D,2,FALSE)","v":{"$error":"#N/A"}}]
[{"$nulls":7},{"$f":"VLOOKUP(G673,Sheet1!C:D,2,FALSE)","v":{"$error":"#N/A"}}]
[{"$nulls":7},{"$f":"VLOOKUP(G674,Sheet1!C:D,2,FALSE)","v":{"$error":"#N/A"}}]
[{"$nulls":7},{"$f":"VLOOKUP(G675,Sheet1!C:D,2,FALSE)","v":{"$error":"#N/A"}}]
[{"$nulls":7},{"$f":"VLOOKUP(G676,Sheet1!C:D,2,FALSE)","v":{"$error":"#N/A"}}]
[{"$nulls":7},{"$f":"VLOOKUP(G677,Sheet1!C:D,2,FALSE)","v":{"$error":"#N/A"}}]
[{"$nulls":7},{"$f":"VLOOKUP(G678,Sheet1!C:D,2,FALSE)","v":{"$error":"#N/A"}}]
[{"$nulls":7},{"$f":"VLOOKUP(G679,Sheet1!C:D,2,FALSE)","v":{"$error":"#N/A"}}]
[{"$nulls":7},{"$f":"VLOOKUP(G680,Sheet1!C:D,2,FALSE)","v":{"$error":"#N/A"}}]
[{"$nulls":7},{"$f":"VLOOKUP(G681,Sheet1!C:D,2,FALSE)","v":{"$error":"#N/A"}}]
[{"$nulls":7},{"$f":"VLOOKUP(G682,Sheet1!C:D,2,FALSE)","v":{"$error":"#N/A"}}]
[{"$nulls":7},{"$f":"VLOOKUP(G683,Sheet1!C:D,2,FALSE)","v":{"$error":"#N/A"}}]
[{"$nulls":7},{"$f":"VLOOKUP(G684,Sheet1!C:D,2,FALSE)","v":{"$error":"#N/A"}}]
[{"$nulls":7},{"$f":"VLOOKUP(G685,Sheet1!C:D,2,FALSE)","v":{"$error":"#N/A"}}]
[{"$nulls":7},{"$f":"VLOOKUP(G686,Sheet1!C:D,2,FALSE)","v":{"$error":"#N/A"}}]
[{"$nulls":7},{"$f":"VLOOKUP(G687,Sheet1!C:D,2,FALSE)","v":{"$error":"#N/A"}}]
[{"$nulls":7},{"$f":"VLOOKUP(G688,Sheet1!C:D,2,FALSE)","v":{"$error":"#N/A"}}]
[{"$nulls":7},{"$f":"VLOOKUP(G689,Sheet1!C:D,2,FALSE)","v":{"$error":"#N/A"}}]
[{"$nulls":7},{"$f":"VLOOKUP(G690,Sheet1!C:D,2,FALSE)","v":{"$error":"#N/A"}}]
[{"$nulls":7},{"$f":"VLOOKUP(G691,Sheet1!C:D,2,FALSE)","v":{"$error":"#N/A"}}]
[{"$nulls":7},{"$f":"VLOOKUP(G692,Sheet1!C:D,2,FALSE)","v":{"$error":"#N/A"}}]
[{"$nulls":7},{"$f":"VLOOKUP(G693,Sheet1!C:D,2,FALSE)","v":{"$error":"#N/A"}}]
[{"$nulls":7},{"$f":"VLOOKUP(G694,Sheet1!C:D,2,FALSE)","v":{"$error":"#N/A"}}]
[{"$nulls":7},{"$f":"VLOOKUP(G695,Sheet1!C:D,2,FALSE)","v":{"$error":"#N/A"}}]
[{"$nulls":7},{"$f":"VLOOKUP(G696,Sheet1!C:D,2,FALSE)","v":{"$error":"#N/A"}}]
[{"$nulls":7},{"$f":"VLOOKUP(G697,Sheet1!C:D,2,FALSE)","v":{"$error":"#N/A"}}]
[{"$nulls":7},{"$f":"VLOOKUP(G698,Sheet1!C:D,2,FALSE)","v":{"$error":"#N/A"}}]
[{"$nulls":7},{"$f":"VLOOKUP(G699,Sheet1!C:D,2,FALSE)","v":{"$error":"#N/A"}}]
[{"$nulls":7},{"$f":"VLOOKUP(G700,Sheet1!C:D,2,FALSE)","v":{"$error":"#N/A"}}]
[{"$nulls":7},{"$f":"VLOOKUP(G701,Sheet1!C:D,2,FALSE)","v":{"$error":"#N/A"}}]
[{"$nulls":7},{"$f":"VLOOKUP(G702,Sheet1!C:D,2,FALSE)","v":{"$error":"#N/A"}}]
[{"$nulls":7},{"$f":"VLOOKUP(G703,Sheet1!C:D,2,FALSE)","v":{"$error":"#N/A"}}]
[{"$nulls":7},{"$f":"VLOOKUP(G704,Sheet1!C:D,2,FALSE)","v":{"$error":"#N/A"}}]
[{"$nulls":7},{"$f":"VLOOKUP(G705,Sheet1!C:D,2,FALSE)","v":{"$error":"#N/A"}}]
[{"$nulls":7},{"$f":"VLOOKUP(G706,Sheet1!C:D,2,FALSE)","v":{"$error":"#N/A"}}]
[{"$nulls":7},{"$f":"VLOOKUP(G707,Sheet1!C:D,2,FALSE)","v":{"$error":"#N/A"}}]
[{"$nulls":7},{"$f":"VLOOKUP(G708,Sheet1!C:D,2,FALSE)","v":{"$error":"#N/A"}}]
[{"$nulls":7},{"$f":"VLOOKUP(G709,Sheet1!C:D,2,FALSE)","v":{"$error":"#N/A"}}]
[{"$nulls":7},{"$f":"VLOOKUP(G710,Sheet1!C:D,2,FALSE)","v":{"$error":"#N/A"}}]
[{"$nulls":7},{"$f":"VLOOKUP(G711,Sheet1!C:D,2,FALSE)","v":{"$error":"#N/A"}}]
[{"$nulls":7},{"$f":"VLOOKUP(G712,Sheet1!C:D,2,FALSE)","v":{"$error":"#N/A"}}]
[{"$nulls":7},{"$f":"VLOOKUP(G713,Sheet1!C:D,2,FALSE)","v":{"$error":"#N/A"}}]
[{"$nulls":7},{"$f":"VLOOKUP(G714,Sheet1!C:D,2,FALSE)","v":{"$error":"#N/A"}}]
[{"$nulls":7},{"$f":"VLOOKUP(G715,Sheet1!C:D,2,FALSE)","v":{"$error":"#N/A"}}]
[{"$nulls":7},{"$f":"VLOOKUP(G716,Sheet1!C:D,2,FALSE)","v":{"$error":"#N/A"}}]
[{"$nulls":7},{"$f":"VLOOKUP(G717,Sheet1!C:D,2,FALSE)","v":{"$error":"#N/A"}}]
[{"$nulls":7},{"$f":"VLOOKUP(G718,Sheet1!C:D,2,FALSE)","v":{"$error":"#N/A"}}]
[{"$nulls":7},{"$f":"VLOOKUP(G719,Sheet1!C:D,2,FALSE)","v":{"$error":"#N/A"}}]
[{"$nulls":7},{"$f":"VLOOKUP(G720,Sheet1!C:D,2,FALSE)","v":{"$error":"#N/A"}}]
[{"$nulls":7},{"$f":"VLOOKUP(G721,Sheet1!C:D,2,FALSE)","v":{"$error":"#N/A"}}]
[{"$nulls":7},{"$f":"VLOOKUP(G722,Sheet1!C:D,2,FALSE)","v":{"$error":"#N/A"}}]
[{"$nulls":7},{"$f":"VLOOKUP(G723,Sheet1!C:D,2,FALSE)","v":{"$error":"#N/A"}}]
[{"$nulls":7},{"$f":"VLOOKUP(G724,Sheet1!C:D,2,FALSE)","v":{"$error":"#N/A"}}]
[{"$nulls":7},{"$f":"VLOOKUP(G725,Sheet1!C:D,2,FALSE)","v":{"$error":"#N/A"}}]
[{"$nulls":7},{"$f":"VLOOKUP(G726,Sheet1!C:D,2,FALSE)","v":{"$error":"#N/A"}}]
[{"$nulls":7},{"$f":"VLOOKUP(G727,Sheet1!C:D,2,FALSE)","v":{"$error":"#N/A"}}]
[{"$nulls":7},{"$f":"VLOOKUP(G728,Sheet1!C:D,2,FALSE)","v":{"$error":"#N/A"}}]
[{"$nulls":7},{"$f":"VLOOKUP(G729,Sheet1!C:D,2,FALSE)","v":{"$error":"#N/A"}}]
[{"$nulls":7},{"$f":"VLOOKUP(G730,Sheet1!C:D,2,FALSE)","v":{"$error":"#N/A"}}]
[{"$nulls":7},{"$f":"VLOOKUP(G731,Sheet1!C:D,2,FALSE)","v":{"$error":"#N/A"}}]
[{"$nulls":7},{"$f":"VLOOKUP(G732,Sheet1!C:D,2,FALSE)","v":{"$error":"#N/A"}}]
[{"$nulls":7},{"$f":"VLOOKUP(G733,Sheet1!C:D,2,FALSE)","v":{"$error":"#N/A"}}]
[{"$nulls":7},{"$f":"VLOOKUP(G734,Sheet1!C:D,2,FALSE)","v":{"$error":"#N/A"}}]
[{"$nulls":7},{"$f":"VLOOKUP(G735,Sheet1!C:D,2,FALSE)","v":{"$error":"#N/A"}}]
[{"$nulls":7},{"$f":"VLOOKUP(G736,Sheet1!C:D,2,FALSE)","v":{"$error":"#N/A"}}]
[{"$nulls":7},{"$f":"VLOOKUP(G737,Sheet1!C:D,2,FALSE)","v":{"$error":"#N/A"}}]
[{"$nulls":7},{"$f":"VLOOKUP(G738,Sheet1!C:D,2,FALSE)","v":{"$error":"#N/A"}}]
[{"$nulls":7},{"$f":"VLOOKUP(G739,Sheet1!C:D,2,FALSE)","v":{"$error":"#N/A"}}]
[{"$nulls":7},{"$f":"VLOOKUP(G740,Sheet1!C:D,2,FALSE)","v":{"$error":"#N/A"}}]
[{"$nulls":7},{"$f":"VLOOKUP(G741,Sheet1!C:D,2,FALSE)","v":{"$error":"#N/A"}}]
[{"$nulls":7},{"$f":"VLOOKUP(G742,Sheet1!C:D,2,FALSE)","v":{"$error":"#N/A"}}]
[{"$nulls":7},{"$f":"VLOOKUP(G743,Sheet1!C:D,2,FALSE)","v":{"$error":"#N/A"}}]
[{"$nulls":7},{"$f":"VLOOKUP(G744,Sheet1!C:D,2,FALSE)","v":{"$error":"#N/A"}}]
[{"$nulls":7},{"$f":"VLOOKUP(G745,Sheet1!C:D,2,FALSE)","v":{"$error":"#N/A"}}]
[{"$nulls":7},{"$f":"VLOOKUP(G746,Sheet1!C:D,2,FALSE)","v":{"$error":"#N/A"}}]
[{"$nulls":7},{"$f":"VLOOKUP(G747,Sheet1!C:D,2,FALSE)","v":{"$error":"#N/A"}}]
[{"$nulls":7},{"$f":"VLOOKUP(G748,Sheet1!C:D,2,FALSE)","v":{"$error":"#N/A"}}]
[{"$nulls":7},{"$f":"VLOOKUP(G749,Sheet1!C:D,2,FALSE)","v":{"$error":"#N/A"}}]
[{"$nulls":7},{"$f":"VLOOKUP(G750,Sheet1!C:D,2,FALSE)","v":{"$error":"#N/A"}}]
[{"$nulls":7},{"$f":"VLOOKUP(G751,Sheet1!C:D,2,FALSE)","v":{"$error":"#N/A"}}]
[{"$nulls":7},{"$f":"VLOOKUP(G752,Sheet1!C:D,2,FALSE)","v":{"$error":"#N/A"}}]
[{"$nulls":7},{"$f":"VLOOKUP(G753,Sheet1!C:D,2,FALSE)","v":{"$error":"#N/A"}}]
[{"$nulls":7},{"$f":"VLOOKUP(G754,Sheet1!C:D,2,FALSE)","v":{"$error":"#N/A"}}]
[{"$nulls":7},{"$f":"VLOOKUP(G755,Sheet1!C:D,2,FALSE)","v":{"$error":"#N/A"}}]
[{"$nulls":7},{"$f":"VLOOKUP(G756,Sheet1!C:D,2,FALSE)","v":{"$error":"#N/A"}}]
[{"$nulls":7},{"$f":"VLOOKUP(G757,Sheet1!C:D,2,FALSE)","v":{"$error":"#N/A"}}]
[{"$nulls":7},{"$f":"VLOOKUP(G758,Sheet1!C:D,2,FALSE)","v":{"$error":"#N/A"}}]
[{"$nulls":7},{"$f":"VLOOKUP(G759,Sheet1!C:D,2,FALSE)","v":{"$error":"#N/A"}}]
[{"$nulls":7},{"$f":"VLOOKUP(G760,Sheet1!C:D,2,FALSE)","v":{"$error":"#N/A"}}]
[{"$nulls":7},{"$f":"VLOOKUP(G761,Sheet1!C:D,2,FALSE)","v":{"$error":"#N/A"}}]
[{"$nulls":7},{"$f":"VLOOKUP(G762,Sheet1!C:D,2,FALSE)","v":{"$error":"#N/A"}}]
[{"$nulls":7},{"$f":"VLOOKUP(G763,Sheet1!C:D,2,FALSE)","v":{"$error":"#N/A"}}]
[{"$nulls":7},{"$f":"VLOOKUP(G764,Sheet1!C:D,2,FALSE)","v":{"$error":"#N/A"}}]
[{"$nulls":7},{"$f":"VLOOKUP(G765,Sheet1!C:D,2,FALSE)","v":{"$error":"#N/A"}}]
[{"$nulls":7},{"$f":"VLOOKUP(G766,Sheet1!C:D,2,FALSE)","v":{"$error":"#N/A"}}]
[{"$nulls":7},{"$f":"VLOOKUP(G767,Sheet1!C:D,2,FALSE)","v":{"$error":"#N/A"}}]
[{"$nulls":7},{"$f":"VLOOKUP(G768,Sheet1!C:D,2,FALSE)","v":{"$error":"#N/A"}}]
[{"$nulls":7},{"$f":"VLOOKUP(G769,Sheet1!C:D,2,FALSE)","v":{"$error":"#N/A"}}]
[{"$nulls":7},{"$f":"VLOOKUP(G770,Sheet1!C:D,2,FALSE)","v":{"$error":"#N/A"}}]
[{"$nulls":7},{"$f":"VLOOKUP(G771,Sheet1!C:D,2,FALSE)","v":{"$error":"#N/A"}}]
[{"$nulls":7},{"$f":"VLOOKUP(G772,Sheet1!C:D,2,FALSE)","v":{"$error":"#N/A"}}]
[{"$nulls":7},{"$f":"VLOOKUP(G773,Sheet1!C:D,2,FALSE)","v":{"$error":"#N/A"}}]
[{"$nulls":7},{"$f":"VLOOKUP(G774,Sheet1!C:D,2,FALSE)","v":{"$error":"#N/A"}}]
[{"$nulls":7},{"$f":"VLOOKUP(G775,Sheet1!C:D,2,FALSE)","v":{"$error":"#N/A"}}]
[{"$nulls":7},{"$f":"VLOOKUP(G776,Sheet1!C:D,2,FALSE)","v":{"$error":"#N/A"}}]
[{"$nulls":7},{"$f":"VLOOKUP(G777,Sheet1!C:D,2,FALSE)","v":{"$error":"#N/A"}}]
[{"$nulls":7},{"$f":"VLOOKUP(G778,Sheet1!C:D,2,FALSE)","v":{"$error":"#N/A"}}]
[{"$nulls":7},{"$f":"VLOOKUP(G779,Sheet1!C:D,2,FALSE)","v":{"$error":"#N/A"}}]
[{"$nulls":7},{"$f":"VLOOKUP(G780,Sheet1!C:D,2,FALSE)","v":{"$error":"#N/A"}}]
[{"$nulls":7},{"$f":"VLOOKUP(G781,Sheet1!C:D,2,FALSE)","v":{"$error":"#N/A"}}]
[{"$nulls":7},{"$f":"VLOOKUP(G782,Sheet1!C:D,2,FALSE)","v":{"$error":"#N/A"}}]
[{"$nulls":7},{"$f":"VLOOKUP(G783,Sheet1!C:D,2,FALSE)","v":{"$error":"#N/A"}}]
[{"$nulls":7},{"$f":"VLOOKUP(G784,Sheet1!C:D,2,FALSE)","v":{"$error":"#N/A"}}]
[{"$nulls":7},{"$f":"VLOOKUP(G785,Sheet1!C:D,2,FALSE)","v":{"$error":"#N/A"}}]
[{"$nulls":7},{"$f":"VLOOKUP(G786,Sheet1!C:D,2,FALSE)","v":{"$error":"#N/A"}}]
[{"$nulls":7},{"$f":"VLOOKUP(G787,Sheet1!C:D,2,FALSE)","v":{"$error":"#N/A"}}]
[{"$nulls":7},{"$f":"VLOOKUP(G788,Sheet1!C:D,2,FALSE)","v":{"$error":"#N/A"}}]
[{"$nulls":7},{"$f":"VLOOKUP(G789,Sheet1!C:D,2,FALSE)","v":{"$error":"#N/A"}}]
[{"$nulls":7},{"$f":"VLOOKUP(G790,Sheet1!C:D,2,FALSE)","v":{"$error":"#N/A"}}]
[{"$nulls":7},{"$f":"VLOOKUP(G791,Sheet1!C:D,2,FALSE)","v":{"$error":"#N/A"}}]
[{"$nulls":7},{"$f":"VLOOKUP(G792,Sheet1!C:D,2,FALSE)","v":{"$error":"#N/A"}}]
[{"$nulls":7},{"$f":"VLOOKUP(G793,Sheet1!C:D,2,FALSE)","v":{"$error":"#N/A"}}]
[{"$nulls":7},{"$f":"VLOOKUP(G794,Sheet1!C:D,2,FALSE)","v":{"$error":"#N/A"}}]
[{"$nulls":7},{"$f":"VLOOKUP(G795,Sheet1!C:D,2,FALSE)","v":{"$error":"#N/A"}}]
[{"$nulls":7},{"$f":"VLOOKUP(G796,Sheet1!C:D,2,FALSE)","v":{"$error":"#N/A"}}]
[{"$nulls":7},{"$f":"VLOOKUP(G797,Sheet1!C:D,2,FALSE)","v":{"$error":"#N/A"}}]
[{"$nulls":7},{"$f":"VLOOKUP(G798,Sheet1!C:D,2,FALSE)","v":{"$error":"#N/A"}}]
[{"$nulls":7},{"$f":"VLOOKUP(G799,Sheet1!C:D,2,FALSE)","v":{"$error":"#N/A"}}]
[{"$nulls":7},{"$f":"VLOOKUP(G800,Sheet1!C:D,2,FALSE)","v":{"$error":"#N/A"}}]
[{"$nulls":7},{"$f":"VLOOKUP(G801,Sheet1!C:D,2,FALSE)","v":{"$error":"#N/A"}}]
[{"$nulls":7},{"$f":"VLOOKUP(G802,Sheet1!C:D,2,FALSE)","v":{"$error":"#N/A"}}]
[{"$nulls":7},{"$f":"VLOOKUP(G803,Sheet1!C:D,2,FALSE)","v":{"$error":"#N/A"}}]
[{"$nulls":7},{"$f":"VLOOKUP(G804,Sheet1!C:D,2,FALSE)","v":{"$error":"#N/A"}}]
[{"$nulls":7},{"$f":"VLOOKUP(G805,Sheet1!C:D,2,FALSE)","v":{"$error":"#N/A"}}]
[{"$nulls":7},{"$f":"VLOOKUP(G806,Sheet1!C:D,2,FALSE)","v":{"$error":"#N/A"}}]
[{"$nulls":7},{"$f":"VLOOKUP(G807,Sheet1!C:D,2,FALSE)","v":{"$error":"#N/A"}}]
[{"$nulls":7},{"$f":"VLOOKUP(G808,Sheet1!C:D,2,FALSE)","v":{"$error":"#N/A"}}]
[{"$nulls":7},{"$f":"VLOOKUP(G809,Sheet1!C:D,2,FALSE)","v":{"$error":"#N/A"}}]
[{"$nulls":7},{"$f":"VLOOKUP(G810,Sheet1!C:D,2,FALSE)","v":{"$error":"#N/A"}}]
[{"$nulls":7},{"$f":"VLOOKUP(G811,Sheet1!C:D,2,FALSE)","v":{"$error":"#N/A"}}]
[{"$nulls":7},{"$f":"VLOOKUP(G812,Sheet1!C:D,2,FALSE)","v":{"$error":"#N/A"}}]
[{"$nulls":7},{"$f":"VLOOKUP(G813,Sheet1!C:D,2,FALSE)","v":{"$error":"#N/A"}}]
[{"$nulls":7},{"$f":"VLOOKUP(G814,Sheet1!C:D,2,FALSE)","v":{"$error":"#N/A"}}]
[{"$nulls":7},{"$f":"VLOOKUP(G815,Sheet1!C:D,2,FALSE)","v":{"$error":"#N/A"}}]
[{"$nulls":7},{"$f":"VLOOKUP(G816,Sheet1!C:D,2,FALSE)","v":{"$error":"#N/A"}}]
[{"$nulls":7},{"$f":"VLOOKUP(G817,Sheet1!C:D,2,FALSE)","v":{"$error":"#N/A"}}]
[{"$nulls":7},{"$f":"VLOOKUP(G818,Sheet1!C:D,2,FALSE)","v":{"$error":"#N/A"}}]
[{"$nulls":7},{"$f":"VLOOKUP(G819,Sheet1!C:D,2,FALSE)","v":{"$error":"#N/A"}}]
[{"$nulls":7},{"$f":"VLOOKUP(G820,Sheet1!C:D,2,FALSE)","v":{"$error":"#N/A"}}]
[{"$nulls":7},{"$f":"VLOOKUP(G821,Sheet1!C:D,2,FALSE)","v":{"$error":"#N/A"}}]
[{"$nulls":7},{"$f":"VLOOKUP(G822,Sheet1!C:D,2,FALSE)","v":{"$error":"#N/A"}}]
[{"$nulls":7},{"$f":"VLOOKUP(G823,Sheet1!C:D,2,FALSE)","v":{"$error":"#N/A"}}]
[{"$nulls":7},{"$f":"VLOOKUP(G824,Sheet1!C:D,2,FALSE)","v":{"$error":"#N/A"}}]
[{"$nulls":7},{"$f":"VLOOKUP(G825,Sheet1!C:D,2,FALSE)","v":{"$error":"#N/A"}}]
[{"$nulls":7},{"$f":"VLOOKUP(G826,Sheet1!C:D,2,FALSE)","v":{"$error":"#N/A"}}]
[{"$nulls":7},{"$f":"VLOOKUP(G827,Sheet1!C:D,2,FALSE)","v":{"$error":"#N/A"}}]
[{"$nulls":7},{"$f":"VLOOKUP(G828,Sheet1!C:D,2,FALSE)","v":{"$error":"#N/A"}}]
[{"$nulls":7},{"$f":"VLOOKUP(G829,Sheet1!C:D,2,FALSE)","v":{"$error":"#N/A"}}]
[{"$nulls":7},{"$f":"VLOOKUP(G830,Sheet1!C:D,2,FALSE)","v":{"$error":"#N/A"}}]
[{"$nulls":7},{"$f":"VLOOKUP(G831,Sheet1!C:D,2,FALSE)","v":{"$error":"#N/A"}}]
[{"$nulls":7},{"$f":"VLOOKUP(G832,Sheet1!C:D,2,FALSE)","v":{"$error":"#N/A"}}]
[{"$nulls":7},{"$f":"VLOOKUP(G833,Sheet1!C:D,2,FALSE)","v":{"$error":"#N/A"}}]
[{"$nulls":7},{"$f":"VLOOKUP(G834,Sheet1!C:D,2,FALSE)","v":{"$error":"#N/A"}}]
[{"$nulls":7},{"$f":"VLOOKUP(G835,Sheet1!C:D,2,FALSE)","v":{"$error":"#N/A"}}]
[{"$nulls":7},{"$f":"VLOOKUP(G836,Sheet1!C:D,2,FALSE)","v":{"$error":"#N/A"}}]
[{"$nulls":7},{"$f":"VLOOKUP(G837,Sheet1!C:D,2,FALSE)","v":{"$error":"#N/A"}}]
[{"$nulls":7},{"$f":"VLOOKUP(G838,Sheet1!C:D,2,FALSE)","v":{"$error":"#N/A"}}]
[{"$nulls":7},{"$f":"VLOOKUP(G839,Sheet1!C:D,2,FALSE)","v":{"$error":"#N/A"}}]
[{"$nulls":7},{"$f":"VLOOKUP(G840,Sheet1!C:D,2,FALSE)","v":{"$error":"#N/A"}}]
[{"$nulls":7},{"$f":"VLOOKUP(G841,Sheet1!C:D,2,FALSE)","v":{"$error":"#N/A"}}]
[{"$nulls":7},{"$f":"VLOOKUP(G842,Sheet1!C:D,2,FALSE)","v":{"$error":"#N/A"}}]
[{"$nulls":7},{"$f":"VLOOKUP(G843,Sheet1!C:D,2,FALSE)","v":{"$error":"#N/A"}}]
[{"$nulls":7},{"$f":"VLOOKUP(G844,Sheet1!C:D,2,FALSE)","v":{"$error":"#N/A"}}]
[{"$nulls":7},{"$f":"VLOOKUP(G845,Sheet1!C:D,2,FALSE)","v":{"$error":"#N/A"}}]
[{"$nulls":7},{"$f":"VLOOKUP(G846,Sheet1!C:D,2,FALSE)","v":{"$error":"#N/A"}}]
[{"$nulls":7},{"$f":"VLOOKUP(G847,Sheet1!C:D,2,FALSE)","v":{"$error":"#N/A"}}]
[{"$nulls":7},{"$f":"VLOOKUP(G848,Sheet1!C:D,2,FALSE)","v":{"$error":"#N/A"}}]
[{"$nulls":7},{"$f":"VLOOKUP(G849,Sheet1!C:D,2,FALSE)","v":{"$error":"#N/A"}}]
[{"$nulls":7},{"$f":"VLOOKUP(G850,Sheet1!C:D,2,FALSE)","v":{"$error":"#N/A"}}]
[{"$nulls":7},{"$f":"VLOOKUP(G851,Sheet1!C:D,2,FALSE)","v":{"$error":"#N/A"}}]
[{"$nulls":7},{"$f":"VLOOKUP(G852,Sheet1!C:D,2,FALSE)","v":{"$error":"#N/A"}}]
[{"$nulls":7},{"$f":"VLOOKUP(G853,Sheet1!C:D,2,FALSE)","v":{"$error":"#N/A"}}]
[{"$nulls":7},{"$f":"VLOOKUP(G854,Sheet1!C:D,2,FALSE)","v":{"$error":"#N/A"}}]
[{"$nulls":7},{"$f":"VLOOKUP(G855,Sheet1!C:D,2,FALSE)","v":{"$error":"#N/A"}}]
[{"$nulls":7},{"$f":"VLOOKUP(G856,Sheet1!C:D,2,FALSE)","v":{"$error":"#N/A"}}]
[{"$nulls":7},{"$f":"VLOOKUP(G857,Sheet1!C:D,2,FALSE)","v":{"$error":"#N/A"}}]
[{"$nulls":7},{"$f":"VLOOKUP(G858,Sheet1!C:D,2,FALSE)","v":{"$error":"#N/A"}}]
[{"$nulls":7},{"$f":"VLOOKUP(G859,Sheet1!C:D,2,FALSE)","v":{"$error":"#N/A"}}]
[{"$nulls":7},{"$f":"VLOOKUP(G860,Sheet1!C:D,2,FALSE)","v":{"$error":"#N/A"}}]
[{"$nulls":7},{"$f":"VLOOKUP(G861,Sheet1!C:D,2,FALSE)","v":{"$error":"#N/A"}}]
[{"$nulls":7},{"$f":"VLOOKUP(G862,Sheet1!C:D,2,FALSE)","v":{"$error":"#N/A"}}]
[{"$nulls":7},{"$f":"VLOOKUP(G863,Sheet1!C:D,2,FALSE)","v":{"$error":"#N/A"}}]
[{"$nulls":7},{"$f":"VLOOKUP(G864,Sheet1!C:D,2,FALSE)","v":{"$error":"#N/A"}}]
[{"$nulls":7},{"$f":"VLOOKUP(G865,Sheet1!C:D,2,FALSE)","v":{"$error":"#N/A"}}]
[{"$nulls":7},{"$f":"VLOOKUP(G866,Sheet1!C:D,2,FALSE)","v":{"$error":"#N/A"}}]
[{"$nulls":7},{"$f":"VLOOKUP(G867,Sheet1!C:D,2,FALSE)","v":{"$error":"#N/A"}}]
[{"$nulls":7},{"$f":"VLOOKUP(G868,Sheet1!C:D,2,FALSE)","v":{"$error":"#N/A"}}]
[{"$nulls":7},{"$f":"VLOOKUP(G869,Sheet1!C:D,2,FALSE)","v":{"$error":"#N/A"}}]
[{"$nulls":7},{"$f":"VLOOKUP(G870,Sheet1!C:D,2,FALSE)","v":{"$error":"#N/A"}}]
[{"$nulls":7},{"$f":"VLOOKUP(G871,Sheet1!C:D,2,FALSE)","v":{"$error":"#N/A"}}]
[{"$nulls":7},{"$f":"VLOOKUP(G872,Sheet1!C:D,2,FALSE)","v":{"$error":"#N/A"}}]
[{"$nulls":7},{"$f":"VLOOKUP(G873,Sheet1!C:D,2,FALSE)","v":{"$error":"#N/A"}}]
[{"$nulls":7},{"$f":"VLOOKUP(G874,Sheet1!C:D,2,FALSE)","v":{"$error":"#N/A"}}]
[{"$nulls":7},{"$f":"VLOOKUP(G875,Sheet1!C:D,2,FALSE)","v":{"$error":"#N/A"}}]
[{"$nulls":7},{"$f":"VLOOKUP(G876,Sheet1!C:D,2,FALSE)","v":{"$error":"#N/A"}}]
[{"$nulls":7},{"$f":"VLOOKUP(G877,Sheet1!C:D,2,FALSE)","v":{"$error":"#N/A"}}]
[{"$nulls":7},{"$f":"VLOOKUP(G878,Sheet1!C:D,2,FALSE)","v":{"$error":"#N/A"}}]
[{"$nulls":7},{"$f":"VLOOKUP(G879,Sheet1!C:D,2,FALSE)","v":{"$error":"#N/A"}}]
[{"$nulls":7},{"$f":"VLOOKUP(G880,Sheet1!C:D,2,FALSE)","v":{"$error":"#N/A"}}]
[{"$nulls":7},{"$f":"VLOOKUP(G881,Sheet1!C:D,2,FALSE)","v":{"$error":"#N/A"}}]
[{"$nulls":7},{"$f":"VLOOKUP(G882,Sheet1!C:D,2,FALSE)","v":{"$error":"#N/A"}}]
[{"$nulls":7},{"$f":"VLOOKUP(G883,Sheet1!C:D,2,FALSE)","v":{"$error":"#N/A"}}]
[{"$nulls":7},{"$f":"VLOOKUP(G884,Sheet1!C:D,2,FALSE)","v":{"$error":"#N/A"}}]
[{"$nulls":7},{"$f":"VLOOKUP(G885,Sheet1!C:D,2,FALSE)","v":{"$error":"#N/A"}}]
[{"$nulls":7},{"$f":"VLOOKUP(G886,Sheet1!C:D,2,FALSE)","v":{"$error":"#N/A"}}]
[{"$nulls":7},{"$f":"VLOOKUP(G887,Sheet1!C:D,2,FALSE)","v":{"$error":"#N/A"}}]
[{"$nulls":7},{"$f":"VLOOKUP(G888,Sheet1!C:D,2,FALSE)","v":{"$error":"#N/A"}}]
[{"$nulls":7},{"$f":"VLOOKUP(G889,Sheet1!C:D,2,FALSE)","v":{"$error":"#N/A"}}]
[{"$nulls":7},{"$f":"VLOOKUP(G890,Sheet1!C:D,2,FALSE)","v":{"$error":"#N/A"}}]
[{"$nulls":7},{"$f":"VLOOKUP(G891,Sheet1!C:D,2,FALSE)","v":{"$error":"#N/A"}}]
[{"$nulls":7},{"$f":"VLOOKUP(G892,Sheet1!C:D,2,FALSE)","v":{"$error":"#N/A"}}]
[{"$nulls":7},{"$f":"VLOOKUP(G893,Sheet1!C:D,2,FALSE)","v":{"$error":"#N/A"}}]
[{"$nulls":7},{"$f":"VLOOKUP(G894,Sheet1!C:D,2,FALSE)","v":{"$error":"#N/A"}}]
[{"$nulls":7},{"$f":"VLOOKUP(G895,Sheet1!C:D,2,FALSE)","v":{"$error":"#N/A"}}]
[{"$nulls":7},{"$f":"VLOOKUP(G896,Sheet1!C:D,2,FALSE)","v":{"$error":"#N/A"}}]
[{"$nulls":7},{"$f":"VLOOKUP(G897,Sheet1!C:D,2,FALSE)","v":{"$error":"#N/A"}}]
[{"$nulls":7},{"$f":"VLOOKUP(G898,Sheet1!C:D,2,FALSE)","v":{"$error":"#N/A"}}]
[{"$nulls":7},{"$f":"VLOOKUP(G899,Sheet1!C:D,2,FALSE)","v":{"$error":"#N/A"}}]
[{"$nulls":7},{"$f":"VLOOKUP(G900,Sheet1!C:D,2,FALSE)","v":{"$error":"#N/A"}}]
[{"$nulls":7},{"$f":"VLOOKUP(G901,Sheet1!C:D,2,FALSE)","v":{"$error":"#N/A"}}]
[{"$nulls":7},{"$f":"VLOOKUP(G902,Sheet1!C:D,2,FALSE)","v":{"$error":"#N/A"}}]
[{"$nulls":7},{"$f":"VLOOKUP(G903,Sheet1!C:D,2,FALSE)","v":{"$error":"#N/A"}}]
[{"$nulls":7},{"$f":"VLOOKUP(G904,Sheet1!C:D,2,FALSE)","v":{"$error":"#N/A"}}]
[{"$nulls":7},{"$f":"VLOOKUP(G905,Sheet1!C:D,2,FALSE)","v":{"$error":"#N/A"}}]
[{"$nulls":7},{"$f":"VLOOKUP(G906,Sheet1!C:D,2,FALSE)","v":{"$error":"#N/A"}}]
[{"$nulls":7},{"$f":"VLOOKUP(G907,Sheet1!C:D,2,FALSE)","v":{"$error":"#N/A"}}]
[{"$nulls":7},{"$f":"VLOOKUP(G908,Sheet1!C:D,2,FALSE)","v":{"$error":"#N/A"}}]
[{"$nulls":7},{"$f":"VLOOKUP(G909,Sheet1!C:D,2,FALSE)","v":{"$error":"#N/A"}}]
[{"$nulls":7},{"$f":"VLOOKUP(G910,Sheet1!C:D,2,FALSE)","v":{"$error":"#N/A"}}]
[{"$nulls":7},{"$f":"VLOOKUP(G911,Sheet1!C:D,2,FALSE)","v":{"$error":"#N/A"}}]
[{"$nulls":7},{"$f":"VLOOKUP(G912,Sheet1!C:D,2,FALSE)","v":{"$error":"#N/A"}}]
[{"$nulls":7},{"$f":"VLOOKUP(G913,Sheet1!C:D,2,FALSE)","v":{"$error":"#N/A"}}]
[{"$nulls":7},{"$f":"VLOOKUP(G914,Sheet1!C:D,2,FALSE)","v":{"$error":"#N/A"}}]
[{"$nulls":7},{"$f":"VLOOKUP(G915,Sheet1!C:D,2,FALSE)","v":{"$error":"#N/A"}}]
[{"$nulls":7},{"$f":"VLOOKUP(G916,Sheet1!C:D,2,FALSE)","v":{"$error":"#N/A"}}]
[{"$nulls":7},{"$f":"VLOOKUP(G917,Sheet1!C:D,2,FALSE)","v":{"$error":"#N/A"}}]
[{"$nulls":7},{"$f":"VLOOKUP(G918,Sheet1!C:D,2,FALSE)","v":{"$error":"#N/A"}}]
[{"$nulls":7},{"$f":"VLOOKUP(G919,Sheet1!C:D,2,FALSE)","v":{"$error":"#N/A"}}]
[{"$nulls":7},{"$f":"VLOOKUP(G920,Sheet1!C:D,2,FALSE)","v":{"$error":"#N/A"}}]
[{"$nulls":7},{"$f":"VLOOKUP(G921,Sheet1!C:D,2,FALSE)","v":{"$error":"#N/A"}}]
[{"$nulls":7},{"$f":"VLOOKUP(G922,Sheet1!C:D,2,FALSE)","v":{"$error":"#N/A"}}]
[{"$nulls":7},{"$f":"VLOOKUP(G923,Sheet1!C:D,2,FALSE)","v":{"$error":"#N/A"}}]
[{"$nulls":7},{"$f":"VLOOKUP(G924,Sheet1!C:D,2,FALSE)","v":{"$error":"#N/A"}}]
[{"$nulls":7},{"$f":"VLOOKUP(G925,Sheet1!C:D,2,FALSE)","v":{"$error":"#N/A"}}]
[{"$nulls":7},{"$f":"VLOOKUP(G926,Sheet1!C:D,2,FALSE)","v":{"$error":"#N/A"}}]
[{"$nulls":7},{"$f":"VLOOKUP(G927,Sheet1!C:D,2,FALSE)","v":{"$error":"#N/A"}}]
[{"$nulls":7},{"$f":"VLOOKUP(G928,Sheet1!C:D,2,FALSE)","v":{"$error":"#N/A"}}]
[{"$nulls":7},{"$f":"VLOOKUP(G929,Sheet1!C:D,2,FALSE)","v":{"$error":"#N/A"}}]
[{"$nulls":7},{"$f":"VLOOKUP(G930,Sheet1!C:D,2,FALSE)","v":{"$error":"#N/A"}}]
[{"$nulls":7},{"$f":"VLOOKUP(G931,Sheet1!C:D,2,FALSE)","v":{"$error":"#N/A"}}]
[{"$nulls":7},{"$f":"VLOOKUP(G932,Sheet1!C:D,2,FALSE)","v":{"$error":"#N/A"}}]
[{"$nulls":7},{"$f":"VLOOKUP(G933,Sheet1!C:D,2,FALSE)","v":{"$error":"#N/A"}}]
[{"$nulls":7},{"$f":"VLOOKUP(G934,Sheet1!C:D,2,FALSE)","v":{"$error":"#N/A"}}]
[{"$nulls":7},{"$f":"VLOOKUP(G935,Sheet1!C:D,2,FALSE)","v":{"$error":"#N/A"}}]
[{"$nulls":7},{"$f":"VLOOKUP(G936,Sheet1!C:D,2,FALSE)","v":{"$error":"#N/A"}}]
[{"$nulls":7},{"$f":"VLOOKUP(G937,Sheet1!C:D,2,FALSE)","v":{"$error":"#N/A"}}]
[{"$nulls":7},{"$f":"VLOOKUP(G938,Sheet1!C:D,2,FALSE)","v":{"$error":"#N/A"}}]
[{"$nulls":7},{"$f":"VLOOKUP(G939,Sheet1!C:D,2,FALSE)","v":{"$error":"#N/A"}}]
[{"$nulls":7},{"$f":"VLOOKUP(G940,Sheet1!C:D,2,FALSE)","v":{"$error":"#N/A"}}]
[{"$nulls":7},{"$f":"VLOOKUP(G941,Sheet1!C:D,2,FALSE)","v":{"$error":"#N/A"}}]
[{"$nulls":7},{"$f":"VLOOKUP(G942,Sheet1!C:D,2,FALSE)","v":{"$error":"#N/A"}}]
[{"$nulls":7},{"$f":"VLOOKUP(G943,Sheet1!C:D,2,FALSE)","v":{"$error":"#N/A"}}]
[{"$nulls":7},{"$f":"VLOOKUP(G944,Sheet1!C:D,2,FALSE)","v":{"$error":"#N/A"}}]
[{"$nulls":7},{"$f":"VLOOKUP(G945,Sheet1!C:D,2,FALSE)","v":{"$error":"#N/A"}}]
[{"$nulls":7},{"$f":"VLOOKUP(G946,Sheet1!C:D,2,FALSE)","v":{"$error":"#N/A"}}]
[{"$nulls":7},{"$f":"VLOOKUP(G947,Sheet1!C:D,2,FALSE)","v":{"$error":"#N/A"}}]
[{"$nulls":7},{"$f":"VLOOKUP(G948,Sheet1!C:D,2,FALSE)","v":{"$error":"#N/A"}}]
[{"$nulls":7},{"$f":"VLOOKUP(G949,Sheet1!C:D,2,FALSE)","v":{"$error":"#N/A"}}]
[{"$nulls":7},{"$f":"VLOOKUP(G950,Sheet1!C:D,2,FALSE)","v":{"$error":"#N/A"}}]
[{"$nulls":7},{"$f":"VLOOKUP(G951,Sheet1!C:D,2,FALSE)","v":{"$error":"#N/A"}}]
[{"$nulls":7},{"$f":"VLOOKUP(G952,Sheet1!C:D,2,FALSE)","v":{"$error":"#N/A"}}]
[{"$nulls":7},{"$f":"VLOOKUP(G953,Sheet1!C:D,2,FALSE)","v":{"$error":"#N/A"}}]
[{"$nulls":7},{"$f":"VLOOKUP(G954,Sheet1!C:D,2,FALSE)","v":{"$error":"#N/A"}}]
[{"$nulls":7},{"$f":"VLOOKUP(G955,Sheet1!C:D,2,FALSE)","v":{"$error":"#N/A"}}]
[{"$nulls":7},{"$f":"VLOOKUP(G956,Sheet1!C:D,2,FALSE)","v":{"$error":"#N/A"}}]
[{"$nulls":7},{"$f":"VLOOKUP(G957,Sheet1!C:D,2,FALSE)","v":{"$error":"#N/A"}}]
[{"$nulls":7},{"$f":"VLOOKUP(G958,Sheet1!C:D,2,FALSE)","v":{"$error":"#N/A"}}]
[{"$nulls":7},{"$f":"VLOOKUP(G959,Sheet1!C:D,2,FALSE)","v":{"$error":"#N/A"}}]
[{"$nulls":7},{"$f":"VLOOKUP(G960,Sheet1!C:D,2,FALSE)","v":{"$error":"#N/A"}}]
[{"$nulls":7},{"$f":"VLOOKUP(G961,Sheet1!C:D,2,FALSE)","v":{"$error":"#N/A"}}]
[{"$nulls":7},{"$f":"VLOOKUP(G962,Sheet1!C:D,2,FALSE)","v":{"$error":"#N/A"}}]
[{"$nulls":7},{"$f":"VLOOKUP(G963,Sheet1!C:D,2,FALSE)","v":{"$error":"#N/A"}}]
[{"$nulls":7},{"$f":"VLOOKUP(G964,Sheet1!C:D,2,FALSE)","v":{"$error":"#N/A"}}]
[{"$nulls":7},{"$f":"VLOOKUP(G965,Sheet1!C:D,2,FALSE)","v":{"$error":"#N/A"}}]
[{"$nulls":7},{"$f":"VLOOKUP(G966,Sheet1!C:D,2,FALSE)","v":{"$error":"#N/A"}}]
[{"$nulls":7},{"$f":"VLOOKUP(G967,Sheet1!C:D,2,FALSE)","v":{"$error":"#N/A"}}]
[{"$nulls":7},{"$f":"VLOOKUP(G968,Sheet1!C:D,2,FALSE)","v":{"$error":"#N/A"}}]
[{"$nulls":7},{"$f":"VLOOKUP(G969,Sheet1!C:D,2,FALSE)","v":{"$error":"#N/A"}}]
[{"$nulls":7},{"$f":"VLOOKUP(G970,Sheet1!C:D,2,FALSE)","v":{"$error":"#N/A"}}]
[{"$nulls":7},{"$f":"VLOOKUP(G971,Sheet1!C:D,2,FALSE)","v":{"$error":"#N/A"}}]
[{"$nulls":7},{"$f":"VLOOKUP(G972,Sheet1!C:D,2,FALSE)","v":{"$error":"#N/A"}}]
[{"$nulls":7},{"$f":"VLOOKUP(G973,Sheet1!C:D,2,FALSE)","v":{"$error":"#N/A"}}]
[{"$nulls":7},{"$f":"VLOOKUP(G974,Sheet1!C:D,2,FALSE)","v":{"$error":"#N/A"}}]
[{"$nulls":7},{"$f":"VLOOKUP(G975,Sheet1!C:D,2,FALSE)","v":{"$error":"#N/A"}}]
[{"$nulls":7},{"$f":"VLOOKUP(G976,Sheet1!C:D,2,FALSE)","v":{"$error":"#N/A"}}]
[{"$nulls":7},{"$f":"VLOOKUP(G977,Sheet1!C:D,2,FALSE)","v":{"$error":"#N/A"}}]
[{"$nulls":7},{"$f":"VLOOKUP(G978,Sheet1!C:D,2,FALSE)","v":{"$error":"#N/A"}}]
[{"$nulls":7},{"$f":"VLOOKUP(G979,Sheet1!C:D,2,FALSE)","v":{"$error":"#N/A"}}]
[{"$nulls":7},{"$f":"VLOOKUP(G980,Sheet1!C:D,2,FALSE)","v":{"$error":"#N/A"}}]
[{"$nulls":7},{"$f":"VLOOKUP(G981,Sheet1!C:D,2,FALSE)","v":{"$error":"#N/A"}}]
[{"$nulls":7},{"$f":"VLOOKUP(G982,Sheet1!C:D,2,FALSE)","v":{"$error":"#N/A"}}]
[{"$nulls":7},{"$f":"VLOOKUP(G983,Sheet1!C:D,2,FALSE)","v":{"$error":"#N/A"}}]
[{"$nulls":7},{"$f":"VLOOKUP(G984,Sheet1!C:D,2,FALSE)","v":{"$error":"#N/A"}}]
[{"$nulls":7},{"$f":"VLOOKUP(G985,Sheet1!C:D,2,FALSE)","v":{"$error":"#N/A"}}]
[{"$nulls":7},{"$f":"VLOOKUP(G986,Sheet1!C:D,2,FALSE)","v":{"$error":"#N/A"}}]
[{"$nulls":7},{"$f":"VLOOKUP(G987,Sheet1!C:D,2,FALSE)","v":{"$error":"#N/A"}}]
[{"$nulls":7},{"$f":"VLOOKUP(G988,Sheet1!C:D,2,FALSE)","v":{"$error":"#N/A"}}]
[{"$nulls":7},{"$f":"VLOOKUP(G989,Sheet1!C:D,2,FALSE)","v":{"$error":"#N/A"}}]
[{"$nulls":7},{"$f":"VLOOKUP(G990,Sheet1!C:D,2,FALSE)","v":{"$error":"#N/A"}}]
[{"$nulls":7},{"$f":"VLOOKUP(G991,Sheet1!C:D,2,FALSE)","v":{"$error":"#N/A"}}]
[{"$nulls":7},{"$f":"VLOOKUP(G992,Sheet1!C:D,2,FALSE)","v":{"$error":"#N/A"}}]
[{"$nulls":7},{"$f":"VLOOKUP(G993,Sheet1!C:D,2,FALSE)","v":{"$error":"#N/A"}}]
[{"$nulls":7},{"$f":"VLOOKUP(G994,Sheet1!C:D,2,FALSE)","v":{"$error":"#N/A"}}]
[{"$nulls":7},{"$f":"VLOOKUP(G995,Sheet1!C:D,2,FALSE)","v":{"$error":"#N/A"}}]
[{"$nulls":7},{"$f":"VLOOKUP(G996,Sheet1!C:D,2,FALSE)","v":{"$error":"#N/A"}}]
[{"$nulls":7},{"$f":"VLOOKUP(G997,Sheet1!C:D,2,FALSE)","v":{"$error":"#N/A"}}]
[{"$nulls":7},{"$f":"VLOOKUP(G998,Sheet1!C:D,2,FALSE)","v":{"$error":"#N/A"}}]
[{"$nulls":7},{"$f":"VLOOKUP(G999,Sheet1!C:D,2,FALSE)","v":{"$error":"#N/A"}}]
[{"$nulls":7},{"$f":"VLOOKUP(G1000,Sheet1!C:D,2,FALSE)","v":{"$error":"#N/A"}}]
[{"$nulls":7},{"$f":"VLOOKUP(G1001,Sheet1!C:D,2,FALSE)","v":{"$error":"#N/A"}}]
[{"$nulls":7},{"$f":"VLOOKUP(G1002,Sheet1!C:D,2,FALSE)","v":{"$error":"#N/A"}}]
[{"$nulls":7},{"$f":"VLOOKUP(G1003,Sheet1!C:D,2,FALSE)","v":{"$error":"#N/A"}}]
[{"$nulls":7},{"$f":"VLOOKUP(G1004,Sheet1!C:D,2,FALSE)","v":{"$error":"#N/A"}}]
[{"$nulls":7},{"$f":"VLOOKUP(G1005,Sheet1!C:D,2,FALSE)","v":{"$error":"#N/A"}}]
[{"$nulls":7},{"$f":"VLOOKUP(G1006,Sheet1!C:D,2,FALSE)","v":{"$error":"#N/A"}}]
[{"$nulls":7},{"$f":"VLOOKUP(G1007,Sheet1!C:D,2,FALSE)","v":{"$error":"#N/A"}}]
[{"$nulls":7},{"$f":"VLOOKUP(G1008,Sheet1!C:D,2,FALSE)","v":{"$error":"#N/A"}}]
[{"$nulls":7},{"$f":"VLOOKUP(G1009,Sheet1!C:D,2,FALSE)","v":{"$error":"#N/A"}}]
[{"$nulls":7},{"$f":"VLOOKUP(G1010,Sheet1!C:D,2,FALSE)","v":{"$error":"#N/A"}}]
[{"$nulls":7},{"$f":"VLOOKUP(G1011,Sheet1!C:D,2,FALSE)","v":{"$error":"#N/A"}}]
[{"$nulls":7},{"$f":"VLOOKUP(G1012,Sheet1!C:D,2,FALSE)","v":{"$error":"#N/A"}}]
[{"$nulls":7},{"$f":"VLOOKUP(G1013,Sheet1!C:D,2,FALSE)","v":{"$error":"#N/A"}}]
[{"$nulls":7},{"$f":"VLOOKUP(G1014,Sheet1!C:D,2,FALSE)","v":{"$error":"#N/A"}}]
[{"$nulls":7},{"$f":"VLOOKUP(G1015,Sheet1!C:D,2,FALSE)","v":{"$error":"#N/A"}}]
[{"$nulls":7},{"$f":"VLOOKUP(G1016,Sheet1!C:D,2,FALSE)","v":{"$error":"#N/A"}}]
[{"$nulls":7},{"$f":"VLOOKUP(G1017,Sheet1!C:D,2,FALSE)","v":{"$error":"#N/A"}}]
[{"$nulls":7},{"$f":"VLOOKUP(G1018,Sheet1!C:D,2,FALSE)","v":{"$error":"#N/A"}}]
[{"$nulls":7},{"$f":"VLOOKUP(G1019,Sheet1!C:D,2,FALSE)","v":{"$error":"#N/A"}}]
[{"$nulls":7},{"$f":"VLOOKUP(G1020,Sheet1!C:D,2,FALSE)","v":{"$error":"#N/A"}}]
[{"$nulls":7},{"$f":"VLOOKUP(G1021,Sheet1!C:D,2,FALSE)","v":{"$error":"#N/A"}}]
[{"$nulls":7},{"$f":"VLOOKUP(G1022,Sheet1!C:D,2,FALSE)","v":{"$error":"#N/A"}}]
[{"$nulls":7},{"$f":"VLOOKUP(G1023,Sheet1!C:D,2,FALSE)","v":{"$error":"#N/A"}}]
[{"$nulls":7},{"$f":"VLOOKUP(G1024,Sheet1!C:D,2,FALSE)","v":{"$error":"#N/A"}}]
[{"$nulls":7},{"$f":"VLOOKUP(G1025,Sheet1!C:D,2,FALSE)","v":{"$error":"#N/A"}}]
[{"$nulls":7},{"$f":"VLOOKUP(G1026,Sheet1!C:D,2,FALSE)","v":{"$error":"#N/A"}}]
[{"$nulls":7},{"$f":"VLOOKUP(G1027,Sheet1!C:D,2,FALSE)","v":{"$error":"#N/A"}}]
[{"$nulls":7},{"$f":"VLOOKUP(G1028,Sheet1!C:D,2,FALSE)","v":{"$error":"#N/A"}}]
[{"$nulls":7},{"$f":"VLOOKUP(G1029,Sheet1!C:D,2,FALSE)","v":{"$error":"#N/A"}}]
[{"$nulls":7},{"$f":"VLOOKUP(G1030,Sheet1!C:D,2,FALSE)","v":{"$error":"#N/A"}}]
[{"$nulls":7},{"$f":"VLOOKUP(G1031,Sheet1!C:D,2,FALSE)","v":{"$error":"#N/A"}}]
[{"$nulls":7},{"$f":"VLOOKUP(G1032,Sheet1!C:D,2,FALSE)","v":{"$error":"#N/A"}}]
[{"$nulls":7},{"$f":"VLOOKUP(G1033,Sheet1!C:D,2,FALSE)","v":{"$error":"#N/A"}}]
[{"$nulls":7},{"$f":"VLOOKUP(G1034,Sheet1!C:D,2,FALSE)","v":{"$error":"#N/A"}}]
[{"$nulls":7},{"$f":"VLOOKUP(G1035,Sheet1!C:D,2,FALSE)","v":{"$error":"#N/A"}}]
[{"$nulls":7},{"$f":"VLOOKUP(G1036,Sheet1!C:D,2,FALSE)","v":{"$error":"#N/A"}}]
[{"$nulls":7},{"$f":"VLOOKUP(G1037,Sheet1!C:D,2,FALSE)","v":{"$error":"#N/A"}}]
[{"$nulls":7},{"$f":"VLOOKUP(G1038,Sheet1!C:D,2,FALSE)","v":{"$error":"#N/A"}}]
[{"$nulls":7},{"$f":"VLOOKUP(G1039,Sheet1!C:D,2,FALSE)","v":{"$error":"#N/A"}}]
[{"$nulls":7},{"$f":"VLOOKUP(G1040,Sheet1!C:D,2,FALSE)","v":{"$error":"#N/A"}}]
[{"$nulls":7},{"$f":"VLOOKUP(G1041,Sheet1!C:D,2,FALSE)","v":{"$error":"#N/A"}}]
[{"$nulls":7},{"$f":"VLOOKUP(G1042,Sheet1!C:D,2,FALSE)","v":{"$error":"#N/A"}}]
[{"$nulls":7},{"$f":"VLOOKUP(G1043,Sheet1!C:D,2,FALSE)","v":{"$error":"#N/A"}}]
[{"$nulls":7},{"$f":"VLOOKUP(G1044,Sheet1!C:D,2,FALSE)","v":{"$error":"#N/A"}}]
[{"$nulls":7},{"$f":"VLOOKUP(G1045,Sheet1!C:D,2,FALSE)","v":{"$error":"#N/A"}}]
[{"$nulls":7},{"$f":"VLOOKUP(G1046,Sheet1!C:D,2,FALSE)","v":{"$error":"#N/A"}}]
[{"$nulls":7},{"$f":"VLOOKUP(G1047,Sheet1!C:D,2,FALSE)","v":{"$error":"#N/A"}}]
[{"$nulls":7},{"$f":"VLOOKUP(G1048,Sheet1!C:D,2,FALSE)","v":{"$error":"#N/A"}}]
[{"$nulls":7},{"$f":"VLOOKUP(G1049,Sheet1!C:D,2,FALSE)","v":{"$error":"#N/A"}}]
[{"$nulls":7},{"$f":"VLOOKUP(G1050,Sheet1!C:D,2,FALSE)","v":{"$error":"#N/A"}}]
[{"$nulls":7},{"$f":"VLOOKUP(G1051,Sheet1!C:D,2,FALSE)","v":{"$error":"#N/A"}}]
[{"$nulls":7},{"$f":"VLOOKUP(G1052,Sheet1!C:D,2,FALSE)","v":{"$error":"#N/A"}}]
[{"$nulls":7},{"$f":"VLOOKUP(G1053,Sheet1!C:D,2,FALSE)","v":{"$error":"#N/A"}}]
[{"$nulls":7},{"$f":"VLOOKUP(G1054,Sheet1!C:D,2,FALSE)","v":{"$error":"#N/A"}}]
[{"$nulls":7},{"$f":"VLOOKUP(G1055,Sheet1!C:D,2,FALSE)","v":{"$error":"#N/A"}}]
[{"$nulls":7},{"$f":"VLOOKUP(G1056,Sheet1!C:D,2,FALSE)","v":{"$error":"#N/A"}}]
[{"$nulls":7},{"$f":"VLOOKUP(G1057,Sheet1!C:D,2,FALSE)","v":{"$error":"#N/A"}}]
[{"$nulls":7},{"$f":"VLOOKUP(G1058,Sheet1!C:D,2,FALSE)","v":{"$error":"#N/A"}}]
[{"$nulls":7},{"$f":"VLOOKUP(G1059,Sheet1!C:D,2,FALSE)","v":{"$error":"#N/A"}}]
[{"$nulls":7},{"$f":"VLOOKUP(G1060,Sheet1!C:D,2,FALSE)","v":{"$error":"#N/A"}}]
[{"$nulls":7},{"$f":"VLOOKUP(G1061,Sheet1!C:D,2,FALSE)","v":{"$error":"#N/A"}}]
[{"$nulls":7},{"$f":"VLOOKUP(G1062,Sheet1!C:D,2,FALSE)","v":{"$error":"#N/A"}}]
[{"$nulls":7},{"$f":"VLOOKUP(G1063,Sheet1!C:D,2,FALSE)","v":{"$error":"#N/A"}}]
[{"$nulls":7},{"$f":"VLOOKUP(G1064,Sheet1!C:D,2,FALSE)","v":{"$error":"#N/A"}}]
[{"$nulls":7},{"$f":"VLOOKUP(G1065,Sheet1!C:D,2,FALSE)","v":{"$error":"#N/A"}}]
[{"$nulls":7},{"$f":"VLOOKUP(G1066,Sheet1!C:D,2,FALSE)","v":{"$error":"#N/A"}}]
[{"$nulls":7},{"$f":"VLOOKUP(G1067,Sheet1!C:D,2,FALSE)","v":{"$error":"#N/A"}}]
[{"$nulls":7},{"$f":"VLOOKUP(G1068,Sheet1!C:D,2,FALSE)","v":{"$error":"#N/A"}}]
[{"$nulls":7},{"$f":"VLOOKUP(G1069,Sheet1!C:D,2,FALSE)","v":{"$error":"#N/A"}}]
[{"$nulls":7},{"$f":"VLOOKUP(G1070,Sheet1!C:D,2,FALSE)","v":{"$error":"#N/A"}}]
[{"$nulls":7},{"$f":"VLOOKUP(G1071,Sheet1!C:D,2,FALSE)","v":{"$error":"#N/A"}}]
[{"$nulls":7},{"$f":"VLOOKUP(G1072,Sheet1!C:D,2,FALSE)","v":{"$error":"#N/A"}}]
[{"$nulls":7},{"$f":"VLOOKUP(G1073,Sheet1!C:D,2,FALSE)","v":{"$error":"#N/A"}}]
[{"$nulls":7},{"$f":"VLOOKUP(G1074,Sheet1!C:D,2,FALSE)","v":{"$error":"#N/A"}}]
[{"$nulls":7},{"$f":"VLOOKUP(G1075,Sheet1!C:D,2,FALSE)","v":{"$error":"#N/A"}}]
[{"$nulls":7},{"$f":"VLOOKUP(G1076,Sheet1!C:D,2,FALSE)","v":{"$error":"#N/A"}}]
[{"$nulls":7},{"$f":"VLOOKUP(G1077,Sheet1!C:D,2,FALSE)","v":{"$error":"#N/A"}}]
[{"$nulls":7},{"$f":"VLOOKUP(G1078,Sheet1!C:D,2,FALSE)","v":{"$error":"#N/A"}}]
[{"$nulls":7},{"$f":"VLOOKUP(G1079,Sheet1!C:D,2,FALSE)","v":{"$error":"#N/A"}}]
[{"$nulls":7},{"$f":"VLOOKUP(G1080,Sheet1!C:D,2,FALSE)","v":{"$error":"#N/A"}}]
[{"$nulls":7},{"$f":"VLOOKUP(G1081,Sheet1!C:D,2,FALSE)","v":{"$error":"#N/A"}}]
[{"$nulls":7},{"$f":"VLOOKUP(G1082,Sheet1!C:D,2,FALSE)","v":{"$error":"#N/A"}}]
[{"$nulls":7},{"$f":"VLOOKUP(G1083,Sheet1!C:D,2,FALSE)","v":{"$error":"#N/A"}}]
[{"$nulls":7},{"$f":"VLOOKUP(G1084,Sheet1!C:D,2,FALSE)","v":{"$error":"#N/A"}}]
[{"$nulls":7},{"$f":"VLOOKUP(G1085,Sheet1!C:D,2,FALSE)","v":{"$error":"#N/A"}}]
[{"$nulls":7},{"$f":"VLOOKUP(G1086,Sheet1!C:D,2,FALSE)","v":{"$error":"#N/A"}}]
[{"$nulls":7},{"$f":"VLOOKUP(G1087,Sheet1!C:D,2,FALSE)","v":{"$error":"#N/A"}}]
[{"$nulls":7},{"$f":"VLOOKUP(G1088,Sheet1!C:D,2,FALSE)","v":{"$error":"#N/A"}}]
[{"$nulls":7},{"$f":"VLOOKUP(G1089,Sheet1!C:D,2,FALSE)","v":{"$error":"#N/A"}}]
[{"$nulls":7},{"$f":"VLOOKUP(G1090,Sheet1!C:D,2,FALSE)","v":{"$error":"#N/A"}}]
[{"$nulls":7},{"$f":"VLOOKUP(G1091,Sheet1!C:D,2,FALSE)","v":{"$error":"#N/A"}}]
[{"$nulls":7},{"$f":"VLOOKUP(G1092,Sheet1!C:D,2,FALSE)","v":{"$error":"#N/A"}}]
[{"$nulls":7},{"$f":"VLOOKUP(G1093,Sheet1!C:D,2,FALSE)","v":{"$error":"#N/A"}}]
[{"$nulls":7},{"$f":"VLOOKUP(G1094,Sheet1!C:D,2,FALSE)","v":{"$error":"#N/A"}}]
[{"$nulls":7},{"$f":"VLOOKUP(G1095,Sheet1!C:D,2,FALSE)","v":{"$error":"#N/A"}}]
[{"$nulls":7},{"$f":"VLOOKUP(G1096,Sheet1!C:D,2,FALSE)","v":{"$error":"#N/A"}}]
[{"$nulls":7},{"$f":"VLOOKUP(G1097,Sheet1!C:D,2,FALSE)","v":{"$error":"#N/A"}}]
[{"$nulls":7},{"$f":"VLOOKUP(G1098,Sheet1!C:D,2,FALSE)","v":{"$error":"#N/A"}}]
[{"$nulls":7},{"$f":"VLOOKUP(G1099,Sheet1!C:D,2,FALSE)","v":{"$error":"#N/A"}}]
[{"$nulls":7},{"$f":"VLOOKUP(G1100,Sheet1!C:D,2,FALSE)","v":{"$error":"#N/A"}}]
[{"$nulls":7},{"$f":"VLOOKUP(G1101,Sheet1!C:D,2,FALSE)","v":{"$error":"#N/A"}}]
[{"$nulls":7},{"$f":"VLOOKUP(G1102,Sheet1!C:D,2,FALSE)","v":{"$error":"#N/A"}}]
[{"$nulls":7},{"$f":"VLOOKUP(G1103,Sheet1!C:D,2,FALSE)","v":{"$error":"#N/A"}}]
[{"$nulls":7},{"$f":"VLOOKUP(G1104,Sheet1!C:D,2,FALSE)","v":{"$error":"#N/A"}}]
[{"$nulls":7},{"$f":"VLOOKUP(G1105,Sheet1!C:D,2,FALSE)","v":{"$error":"#N/A"}}]
[{"$nulls":7},{"$f":"VLOOKUP(G1106,Sheet1!C:D,2,FALSE)","v":{"$error":"#N/A"}}]
[{"$nulls":7},{"$f":"VLOOKUP(G1107,Sheet1!C:D,2,FALSE)","v":{"$error":"#N/A"}}]
[{"$nulls":7},{"$f":"VLOOKUP(G1108,Sheet1!C:D,2,FALSE)","v":{"$error":"#N/A"}}]
[{"$nulls":7},{"$f":"VLOOKUP(G1109,Sheet1!C:D,2,FALSE)","v":{"$error":"#N/A"}}]
[{"$nulls":7},{"$f":"VLOOKUP(G1110,Sheet1!C:D,2,FALSE)","v":{"$error":"#N/A"}}]
[{"$nulls":7},{"$f":"VLOOKUP(G1111,Sheet1!C:D,2,FALSE)","v":{"$error":"#N/A"}}]
[{"$nulls":7},{"$f":"VLOOKUP(G1112,Sheet1!C:D,2,FALSE)","v":{"$error":"#N/A"}}]
[{"$nulls":7},{"$f":"VLOOKUP(G1113,Sheet1!C:D,2,FALSE)","v":{"$error":"#N/A"}}]
[{"$nulls":7},{"$f":"VLOOKUP(G1114,Sheet1!C:D,2,FALSE)","v":{"$error":"#N/A"}}]
[{"$nulls":7},{"$f":"VLOOKUP(G1115,Sheet1!C:D,2,FALSE)","v":{"$error":"#N/A"}}]
[{"$nulls":7},{"$f":"VLOOKUP(G1116,Sheet1!C:D,2,FALSE)","v":{"$error":"#N/A"}}]
[{"$nulls":7},{"$f":"VLOOKUP(G1117,Sheet1!C:D,2,FALSE)","v":{"$error":"#N/A"}}]
[{"$nulls":7},{"$f":"VLOOKUP(G1118,Sheet1!C:D,2,FALSE)","v":{"$error":"#N/A"}}]
[{"$nulls":7},{"$f":"VLOOKUP(G1119,Sheet1!C:D,2,FALSE)","v":{"$error":"#N/A"}}]
[{"$nulls":7},{"$f":"VLOOKUP(G1120,Sheet1!C:D,2,FALSE)","v":{"$error":"#N/A"}}]
[{"$nulls":7},{"$f":"VLOOKUP(G1121,Sheet1!C:D,2,FALSE)","v":{"$error":"#N/A"}}]
[{"$nulls":7},{"$f":"VLOOKUP(G1122,Sheet1!C:D,2,FALSE)","v":{"$error":"#N/A"}}]
[{"$nulls":7},{"$f":"VLOOKUP(G1123,Sheet1!C:D,2,FALSE)","v":{"$error":"#N/A"}}]
[{"$nulls":7},{"$f":"VLOOKUP(G1124,Sheet1!C:D,2,FALSE)","v":{"$error":"#N/A"}}]
[{"$nulls":7},{"$f":"VLOOKUP(G1125,Sheet1!C:D,2,FALSE)","v":{"$error":"#N/A"}}]
[{"$nulls":7},{"$f":"VLOOKUP(G1126,Sheet1!C:D,2,FALSE)","v":{"$error":"#N/A"}}]
[{"$nulls":7},{"$f":"VLOOKUP(G1127,Sheet1!C:D,2,FALSE)","v":{"$error":"#N/A"}}]
[{"$nulls":7},{"$f":"VLOOKUP(G1128,Sheet1!C:D,2,FALSE)","v":{"$error":"#N/A"}}]
[{"$nulls":7},{"$f":"VLOOKUP(G1129,Sheet1!C:D,2,FALSE)","v":{"$error":"#N/A"}}]
[{"$nulls":7},{"$f":"VLOOKUP(G1130,Sheet1!C:D,2,FALSE)","v":{"$error":"#N/A"}}]
[{"$nulls":7},{"$f":"VLOOKUP(G1131,Sheet1!C:D,2,FALSE)","v":{"$error":"#N/A"}}]
[{"$nulls":7},{"$f":"VLOOKUP(G1132,Sheet1!C:D,2,FALSE)","v":{"$error":"#N/A"}}]
[{"$nulls":7},{"$f":"VLOOKUP(G1133,Sheet1!C:D,2,FALSE)","v":{"$error":"#N/A"}}]
[{"$nulls":7},{"$f":"VLOOKUP(G1134,Sheet1!C:D,2,FALSE)","v":{"$error":"#N/A"}}]
[{"$nulls":7},{"$f":"VLOOKUP(G1135,Sheet1!C:D,2,FALSE)","v":{"$error":"#N/A"}}]
[{"$nulls":7},{"$f":"VLOOKUP(G1136,Sheet1!C:D,2,FALSE)","v":{"$error":"#N/A"}}]
[{"$nulls":7},{"$f":"VLOOKUP(G1137,Sheet1!C:D,2,FALSE)","v":{"$error":"#N/A"}}]
[{"$nulls":7},{"$f":"VLOOKUP(G1138,Sheet1!C:D,2,FALSE)","v":{"$error":"#N/A"}}]
[{"$nulls":7},{"$f":"VLOOKUP(G1139,Sheet1!C:D,2,FALSE)","v":{"$error":"#N/A"}}]
[{"$nulls":7},{"$f":"VLOOKUP(G1140,Sheet1!C:D,2,FALSE)","v":{"$error":"#N/A"}}]
[{"$nulls":7},{"$f":"VLOOKUP(G1141,Sheet1!C:D,2,FALSE)","v":{"$error":"#N/A"}}]
[{"$nulls":7},{"$f":"VLOOKUP(G1142,Sheet1!C:D,2,FALSE)","v":{"$error":"#N/A"}}]
[{"$nulls":7},{"$f":"VLOOKUP(G1143,Sheet1!C:D,2,FALSE)","v":{"$error":"#N/A"}}]
[{"$nulls":7},{"$f":"VLOOKUP(G1144,Sheet1!C:D,2,FALSE)","v":{"$error":"#N/A"}}]
[{"$nulls":7},{"$f":"VLOOKUP(G1145,Sheet1!C:D,2,FALSE)","v":{"$error":"#N/A"}}]
[{"$nulls":7},{"$f":"VLOOKUP(G1146,Sheet1!C:D,2,FALSE)","v":{"$error":"#N/A"}}]
[{"$nulls":7},{"$f":"VLOOKUP(G1147,Sheet1!C:D,2,FALSE)","v":{"$error":"#N/A"}}]
[{"$nulls":7},{"$f":"VLOOKUP(G1148,Sheet1!C:D,2,FALSE)","v":{"$error":"#N/A"}}]
[{"$nulls":7},{"$f":"VLOOKUP(G1149,Sheet1!C:D,2,FALSE)","v":{"$error":"#N/A"}}]
[{"$nulls":7},{"$f":"VLOOKUP(G1150,Sheet1!C:D,2,FALSE)","v":{"$error":"#N/A"}}]
[{"$nulls":7},{"$f":"VLOOKUP(G1151,Sheet1!C:D,2,FALSE)","v":{"$error":"#N/A"}}]
[{"$nulls":7},{"$f":"VLOOKUP(G1152,Sheet1!C:D,2,FALSE)","v":{"$error":"#N/A"}}]
[{"$nulls":7},{"$f":"VLOOKUP(G1153,Sheet1!C:D,2,FALSE)","v":{"$error":"#N/A"}}]
[{"$nulls":7},{"$f":"VLOOKUP(G1154,Sheet1!C:D,2,FALSE)","v":{"$error":"#N/A"}}]
[{"$nulls":7},{"$f":"VLOOKUP(G1155,Sheet1!C:D,2,FALSE)","v":{"$error":"#N/A"}}]
[{"$nulls":7},{"$f":"VLOOKUP(G1156,Sheet1!C:D,2,FALSE)","v":{"$error":"#N/A"}}]
[{"$nulls":7},{"$f":"VLOOKUP(G1157,Sheet1!C:D,2,FALSE)","v":{"$error":"#N/A"}}]
[{"$nulls":7},{"$f":"VLOOKUP(G1158,Sheet1!C:D,2,FALSE)","v":{"$error":"#N/A"}}]
[{"$nulls":7},{"$f":"VLOOKUP(G1159,Sheet1!C:D,2,FALSE)","v":{"$error":"#N/A"}}]
[{"$nulls":7},{"$f":"VLOOKUP(G1160,Sheet1!C:D,2,FALSE)","v":{"$error":"#N/A"}}]
[{"$nulls":7},{"$f":"VLOOKUP(G1161,Sheet1!C:D,2,FALSE)","v":{"$error":"#N/A"}}]
[{"$nulls":7},{"$f":"VLOOKUP(G1162,Sheet1!C:D,2,FALSE)","v":{"$error":"#N/A"}}]
[{"$nulls":7},{"$f":"VLOOKUP(G1163,Sheet1!C:D,2,FALSE)","v":{"$error":"#N/A"}}]
[{"$nulls":7},{"$f":"VLOOKUP(G1164,Sheet1!C:D,2,FALSE)","v":{"$error":"#N/A"}}]
[{"$nulls":7},{"$f":"VLOOKUP(G1165,Sheet1!C:D,2,FALSE)","v":{"$error":"#N/A"}}]
[{"$nulls":7},{"$f":"VLOOKUP(G1166,Sheet1!C:D,2,FALSE)","v":{"$error":"#N/A"}}]
[{"$nulls":7},{"$f":"VLOOKUP(G1167,Sheet1!C:D,2,FALSE)","v":{"$error":"#N/A"}}]
[{"$nulls":7},{"$f":"VLOOKUP(G1168,Sheet1!C:D,2,FALSE)","v":{"$error":"#N/A"}}]
[{"$nulls":7},{"$f":"VLOOKUP(G1169,Sheet1!C:D,2,FALSE)","v":{"$error":"#N/A"}}]
[{"$nulls":7},{"$f":"VLOOKUP(G1170,Sheet1!C:D,2,FALSE)","v":{"$error":"#N/A"}}]
[{"$nulls":7},{"$f":"VLOOKUP(G1171,Sheet1!C:D,2,FALSE)","v":{"$error":"#N/A"}}]
[{"$nulls":7},{"$f":"VLOOKUP(G1172,Sheet1!C:D,2,FALSE)","v":{"$error":"#N/A"}}]
[{"$nulls":7},{"$f":"VLOOKUP(G1173,Sheet1!C:D,2,FALSE)","v":{"$error":"#N/A"}}]
[{"$nulls":7},{"$f":"VLOOKUP(G1174,Sheet1!C:D,2,FALSE)","v":{"$error":"#N/A"}}]
[{"$nulls":7},{"$f":"VLOOKUP(G1175,Sheet1!C:D,2,FALSE)","v":{"$error":"#N/A"}}]
[{"$nulls":7},{"$f":"VLOOKUP(G1176,Sheet1!C:D,2,FALSE)","v":{"$error":"#N/A"}}]
[{"$nulls":7},{"$f":"VLOOKUP(G1177,Sheet1!C:D,2,FALSE)","v":{"$error":"#N/A"}}]
[{"$nulls":7},{"$f":"VLOOKUP(G1178,Sheet1!C:D,2,FALSE)","v":{"$error":"#N/A"}}]
[{"$nulls":7},{"$f":"VLOOKUP(G1179,Sheet1!C:D,2,FALSE)","v":{"$error":"#N/A"}}]
[{"$nulls":7},{"$f":"VLOOKUP(G1180,Sheet1!C:D,2,FALSE)","v":{"$error":"#N/A"}}]
[{"$nulls":7},{"$f":"VLOOKUP(G1181,Sheet1!C:D,2,FALSE)","v":{"$error":"#N/A"}}]
[{"$nulls":7},{"$f":"VLOOKUP(G1182,Sheet1!C:D,2,FALSE)","v":{"$error":"#N/A"}}]
[{"$nulls":7},{"$f":"VLOOKUP(G1183,Sheet1!C:D,2,FALSE)","v":{"$error":"#N/A"}}]
[{"$nulls":7},{"$f":"VLOOKUP(G1184,Sheet1!C:D,2,FALSE)","v":{"$error":"#N/A"}}]
[{"$nulls":7},{"$f":"VLOOKUP(G1185,Sheet1!C:D,2,FALSE)","v":{"$error":"#N/A"}}]
[{"$nulls":7},{"$f":"VLOOKUP(G1186,Sheet1!C:D,2,FALSE)","v":{"$error":"#N/A"}}]
[{"$nulls":7},{"$f":"VLOOKUP(G1187,Sheet1!C:D,2,FALSE)","v":{"$error":"#N/A"}}]
[{"$nulls":7},{"$f":"VLOOKUP(G1188,Sheet1!C:D,2,FALSE)","v":{"$error":"#N/A"}}]
[{"$nulls":7},{"$f":"VLOOKUP(G1189,Sheet1!C:D,2,FALSE)","v":{"$error":"#N/A"}}]
[{"$nulls":7},{"$f":"VLOOKUP(G1190,Sheet1!C:D,2,FALSE)","v":{"$error":"#N/A"}}]
[{"$nulls":7},{"$f":"VLOOKUP(G1191,Sheet1!C:D,2,FALSE)","v":{"$error":"#N/A"}}]
[{"$nulls":7},{"$f":"VLOOKUP(G1192,Sheet1!C:D,2,FALSE)","v":{"$error":"#N/A"}}]
[{"$nulls":7},{"$f":"VLOOKUP(G1193,Sheet1!C:D,2,FALSE)","v":{"$error":"#N/A"}}]
[{"$nulls":7},{"$f":"VLOOKUP(G1194,Sheet1!C:D,2,FALSE)","v":{"$error":"#N/A"}}]
[{"$nulls":7},{"$f":"VLOOKUP(G1195,Sheet1!C:D,2,FALSE)","v":{"$error":"#N/A"}}]
[{"$nulls":7},{"$f":"VLOOKUP(G1196,Sheet1!C:D,2,FALSE)","v":{"$error":"#N/A"}}]
[{"$nulls":7},{"$f":"VLOOKUP(G1197,Sheet1!C:D,2,FALSE)","v":{"$error":"#N/A"}}]
[{"$nulls":7},{"$f":"VLOOKUP(G1198,Sheet1!C:D,2,FALSE)","v":{"$error":"#N/A"}}]
[{"$nulls":7},{"$f":"VLOOKUP(G1199,Sheet1!C:D,2,FALSE)","v":{"$error":"#N/A"}}]
[{"$nulls":7},{"$f":"VLOOKUP(G1200,Sheet1!C:D,2,FALSE)","v":{"$error":"#N/A"}}]
[{"$nulls":7},{"$f":"VLOOKUP(G1201,Sheet1!C:D,2,FALSE)","v":{"$error":"#N/A"}}]
[{"$nulls":7},{"$f":"VLOOKUP(G1202,Sheet1!C:D,2,FALSE)","v":{"$error":"#N/A"}}]
[{"$nulls":7},{"$f":"VLOOKUP(G1203,Sheet1!C:D,2,FALSE)","v":{"$error":"#N/A"}}]
[{"$nulls":7},{"$f":"VLOOKUP(G1204,Sheet1!C:D,2,FALSE)","v":{"$error":"#N/A"}}]
[{"$nulls":7},{"$f":"VLOOKUP(G1205,Sheet1!C:D,2,FALSE)","v":{"$error":"#N/A"}}]
[{"$nulls":7},{"$f":"VLOOKUP(G1206,Sheet1!C:D,2,FALSE)","v":{"$error":"#N/A"}}]
[{"$nulls":7},{"$f":"VLOOKUP(G1207,Sheet1!C:D,2,FALSE)","v":{"$error":"#N/A"}}]
[{"$nulls":7},{"$f":"VLOOKUP(G1208,Sheet1!C:D,2,FALSE)","v":{"$error":"#N/A"}}]
[{"$nulls":7},{"$f":"VLOOKUP(G1209,Sheet1!C:D,2,FALSE)","v":{"$error":"#N/A"}}]
[{"$nulls":7},{"$f":"VLOOKUP(G1210,Sheet1!C:D,2,FALSE)","v":{"$error":"#N/A"}}]
[{"$nulls":7},{"$f":"VLOOKUP(G1211,Sheet1!C:D,2,FALSE)","v":{"$error":"#N/A"}}]
[{"$nulls":7},{"$f":"VLOOKUP(G1212,Sheet1!C:D,2,FALSE)","v":{"$error":"#N/A"}}]
[{"$nulls":7},{"$f":"VLOOKUP(G1213,Sheet1!C:D,2,FALSE)","v":{"$error":"#N/A"}}]
[{"$nulls":7},{"$f":"VLOOKUP(G1214,Sheet1!C:D,2,FALSE)","v":{"$error":"#N/A"}}]
[{"$nulls":7},{"$f":"VLOOKUP(G1215,Sheet1!C:D,2,FALSE)","v":{"$error":"#N/A"}}]
[{"$nulls":7},{"$f":"VLOOKUP(G1216,Sheet1!C:D,2,FALSE)","v":{"$error":"#N/A"}}]
[{"$nulls":7},{"$f":"VLOOKUP(G1217,Sheet1!C:D,2,FALSE)","v":{"$error":"#N/A"}}]
[{"$nulls":7},{"$f":"VLOOKUP(G1218,Sheet1!C:D,2,FALSE)","v":{"$error":"#N/A"}}]
[{"$nulls":7},{"$f":"VLOOKUP(G1219,Sheet1!C:D,2,FALSE)","v":{"$error":"#N/A"}}]
[{"$nulls":7},{"$f":"VLOOKUP(G1220,Sheet1!C:D,2,FALSE)","v":{"$error":"#N/A"}}]
[{"$nulls":7},{"$f":"VLOOKUP(G1221,Sheet1!C:D,2,FALSE)","v":{"$error":"#N/A"}}]
[{"$nulls":7},{"$f":"VLOOKUP(G1222,Sheet1!C:D,2,FALSE)","v":{"$error":"#N/A"}}]
[{"$nulls":7},{"$f":"VLOOKUP(G1223,Sheet1!C:D,2,FALSE)","v":{"$error":"#N/A"}}]
[{"$nulls":7},{"$f":"VLOOKUP(G1224,Sheet1!C:D,2,FALSE)","v":{"$error":"#N/A"}}]
[{"$nulls":7},{"$f":"VLOOKUP(G1225,Sheet1!C:D,2,FALSE)","v":{"$error":"#N/A"}}]
[{"$nulls":7},{"$f":"VLOOKUP(G1226,Sheet1!C:D,2,FALSE)","v":{"$error":"#N/A"}}]
[{"$nulls":7},{"$f":"VLOOKUP(G1227,Sheet1!C:D,2,FALSE)","v":{"$error":"#N/A"}}]
[{"$nulls":7},{"$f":"VLOOKUP(G1228,Sheet1!C:D,2,FALSE)","v":{"$error":"#N/A"}}]
[{"$nulls":7},{"$f":"VLOOKUP(G1229,Sheet1!C:D,2,FALSE)","v":{"$error":"#N/A"}}]
[{"$nulls":7},{"$f":"VLOOKUP(G1230,Sheet1!C:D,2,FALSE)","v":{"$error":"#N/A"}}]
[{"$nulls":7},{"$f":"VLOOKUP(G1231,Sheet1!C:D,2,FALSE)","v":{"$error":"#N/A"}}]
[{"$nulls":7},{"$f":"VLOOKUP(G1232,Sheet1!C:D,2,FALSE)","v":{"$error":"#N/A"}}]
[{"$nulls":7},{"$f":"VLOOKUP(G1233,Sheet1!C:D,2,FALSE)","v":{"$error":"#N/A"}}]
[{"$nulls":7},{"$f":"VLOOKUP(G1234,Sheet1!C:D,2,FALSE)","v":{"$error":"#N/A"}}]
[{"$nulls":7},{"$f":"VLOOKUP(G1235,Sheet1!C:D,2,FALSE)","v":{"$error":"#N/A"}}]
[{"$nulls":7},{"$f":"VLOOKUP(G1236,Sheet1!C:D,2,FALSE)","v":{"$error":"#N/A"}}]
[{"$nulls":7},{"$f":"VLOOKUP(G1237,Sheet1!C:D,2,FALSE)","v":{"$error":"#N/A"}}]
[{"$nulls":7},{"$f":"VLOOKUP(G1238,Sheet1!C:D,2,FALSE)","v":{"$error":"#N/A"}}]
[{"$nulls":7},{"$f":"VLOOKUP(G1239,Sheet1!C:D,2,FALSE)","v":{"$error":"#N/A"}}]
[{"$nulls":7},{"$f":"VLOOKUP(G1240,Sheet1!C:D,2,FALSE)","v":{"$error":"#N/A"}}]
[{"$nulls":7},{"$f":"VLOOKUP(G1241,Sheet1!C:D,2,FALSE)","v":{"$error":"#N/A"}}]
[{"$nulls":7},{"$f":"VLOOKUP(G1242,Sheet1!C:D,2,FALSE)","v":{"$error":"#N/A"}}]
[{"$nulls":7},{"$f":"VLOOKUP(G1243,Sheet1!C:D,2,FALSE)","v":{"$error":"#N/A"}}]
[{"$nulls":7},{"$f":"VLOOKUP(G1244,Sheet1!C:D,2,FALSE)","v":{"$error":"#N/A"}}]
[{"$nulls":7},{"$f":"VLOOKUP(G1245,Sheet1!C:D,2,FALSE)","v":{"$error":"#N/A"}}]
[{"$nulls":7},{"$f":"VLOOKUP(G1246,Sheet1!C:D,2,FALSE)","v":{"$error":"#N/A"}}]
[{"$nulls":7},{"$f":"VLOOKUP(G1247,Sheet1!C:D,2,FALSE)","v":{"$error":"#N/A"}}]
[{"$nulls":7},{"$f":"VLOOKUP(G1248,Sheet1!C:D,2,FALSE)","v":{"$error":"#N/A"}}]
[{"$nulls":7},{"$f":"VLOOKUP(G1249,Sheet1!C:D,2,FALSE)","v":{"$error":"#N/A"}}]
[{"$nulls":7},{"$f":"VLOOKUP(G1250,Sheet1!C:D,2,FALSE)","v":{"$error":"#N/A"}}]
[{"$nulls":7},{"$f":"VLOOKUP(G1251,Sheet1!C:D,2,FALSE)","v":{"$error":"#N/A"}}]
[{"$nulls":7},{"$f":"VLOOKUP(G1252,Sheet1!C:D,2,FALSE)","v":{"$error":"#N/A"}}]
[{"$nulls":7},{"$f":"VLOOKUP(G1253,Sheet1!C:D,2,FALSE)","v":{"$error":"#N/A"}}]
[{"$nulls":7},{"$f":"VLOOKUP(G1254,Sheet1!C:D,2,FALSE)","v":{"$error":"#N/A"}}]
[{"$nulls":7},{"$f":"VLOOKUP(G1255,Sheet1!C:D,2,FALSE)","v":{"$error":"#N/A"}}]
[{"$nulls":7},{"$f":"VLOOKUP(G1256,Sheet1!C:D,2,FALSE)","v":{"$error":"#N/A"}}]
[{"$nulls":7},{"$f":"VLOOKUP(G1257,Sheet1!C:D,2,FALSE)","v":{"$error":"#N/A"}}]
[{"$nulls":7},{"$f":"VLOOKUP(G1258,Sheet1!C:D,2,FALSE)","v":{"$error":"#N/A"}}]
[{"$nulls":7},{"$f":"VLOOKUP(G1259,Sheet1!C:D,2,FALSE)","v":{"$error":"#N/A"}}]
[{"$nulls":7},{"$f":"VLOOKUP(G1260,Sheet1!C:D,2,FALSE)","v":{"$error":"#N/A"}}]
[{"$nulls":7},{"$f":"VLOOKUP(G1261,Sheet1!C:D,2,FALSE)","v":{"$error":"#N/A"}}]
[{"$nulls":7},{"$f":"VLOOKUP(G1262,Sheet1!C:D,2,FALSE)","v":{"$error":"#N/A"}}]
[{"$nulls":7},{"$f":"VLOOKUP(G1263,Sheet1!C:D,2,FALSE)","v":{"$error":"#N/A"}}]
[{"$nulls":7},{"$f":"VLOOKUP(G1264,Sheet1!C:D,2,FALSE)","v":{"$error":"#N/A"}}]
[{"$nulls":7},{"$f":"VLOOKUP(G1265,Sheet1!C:D,2,FALSE)","v":{"$error":"#N/A"}}]
[{"$nulls":7},{"$f":"VLOOKUP(G1266,Sheet1!C:D,2,FALSE)","v":{"$error":"#N/A"}}]
[{"$nulls":7},{"$f":"VLOOKUP(G1267,Sheet1!C:D,2,FALSE)","v":{"$error":"#N/A"}}]
[{"$nulls":7},{"$f":"VLOOKUP(G1268,Sheet1!C:D,2,FALSE)","v":{"$error":"#N/A"}}]
[{"$nulls":7},{"$f":"VLOOKUP(G1269,Sheet1!C:D,2,FALSE)","v":{"$error":"#N/A"}}]
[{"$nulls":7},{"$f":"VLOOKUP(G1270,Sheet1!C:D,2,FALSE)","v":{"$error":"#N/A"}}]
[{"$nulls":7},{"$f":"VLOOKUP(G1271,Sheet1!C:D,2,FALSE)","v":{"$error":"#N/A"}}]
[{"$nulls":7},{"$f":"VLOOKUP(G1272,Sheet1!C:D,2,FALSE)","v":{"$error":"#N/A"}}]
[{"$nulls":7},{"$f":"VLOOKUP(G1273,Sheet1!C:D,2,FALSE)","v":{"$error":"#N/A"}}]
[{"$nulls":7},{"$f":"VLOOKUP(G1274,Sheet1!C:D,2,FALSE)","v":{"$error":"#N/A"}}]
[{"$nulls":7},{"$f":"VLOOKUP(G1275,Sheet1!C:D,2,FALSE)","v":{"$error":"#N/A"}}]
[{"$nulls":7},{"$f":"VLOOKUP(G1276,Sheet1!C:D,2,FALSE)","v":{"$error":"#N/A"}}]
[{"$nulls":7},{"$f":"VLOOKUP(G1277,Sheet1!C:D,2,FALSE)","v":{"$error":"#N/A"}}]
[{"$nulls":7},{"$f":"VLOOKUP(G1278,Sheet1!C:D,2,FALSE)","v":{"$error":"#N/A"}}]
[{"$nulls":7},{"$f":"VLOOKUP(G1279,Sheet1!C:D,2,FALSE)","v":{"$error":"#N/A"}}]
[{"$nulls":7},{"$f":"VLOOKUP(G1280,Sheet1!C:D,2,FALSE)","v":{"$error":"#N/A"}}]
[{"$nulls":7},{"$f":"VLOOKUP(G1281,Sheet1!C:D,2,FALSE)","v":{"$error":"#N/A"}}]
[{"$nulls":7},{"$f":"VLOOKUP(G1282,Sheet1!C:D,2,FALSE)","v":{"$error":"#N/A"}}]
[{"$nulls":7},{"$f":"VLOOKUP(G1283,Sheet1!C:D,2,FALSE)","v":{"$error":"#N/A"}}]
[{"$nulls":7},{"$f":"VLOOKUP(G1284,Sheet1!C:D,2,FALSE)","v":{"$error":"#N/A"}}]
[{"$nulls":7},{"$f":"VLOOKUP(G1285,Sheet1!C:D,2,FALSE)","v":{"$error":"#N/A"}}]
[{"$nulls":7},{"$f":"VLOOKUP(G1286,Sheet1!C:D,2,FALSE)","v":{"$error":"#N/A"}}]
[{"$nulls":7},{"$f":"VLOOKUP(G1287,Sheet1!C:D,2,FALSE)","v":{"$error":"#N/A"}}]
[{"$nulls":7},{"$f":"VLOOKUP(G1288,Sheet1!C:D,2,FALSE)","v":{"$error":"#N/A"}}]
[{"$nulls":7},{"$f":"VLOOKUP(G1289,Sheet1!C:D,2,FALSE)","v":{"$error":"#N/A"}}]
[{"$nulls":7},{"$f":"VLOOKUP(G1290,Sheet1!C:D,2,FALSE)","v":{"$error":"#N/A"}}]
[{"$nulls":7},{"$f":"VLOOKUP(G1291,Sheet1!C:D,2,FALSE)","v":{"$error":"#N/A"}}]
[{"$nulls":7},{"$f":"VLOOKUP(G1292,Sheet1!C:D,2,FALSE)","v":{"$error":"#N/A"}}]
[{"$nulls":7},{"$f":"VLOOKUP(G1293,Sheet1!C:D,2,FALSE)","v":{"$error":"#N/A"}}]
[{"$nulls":7},{"$f":"VLOOKUP(G1294,Sheet1!C:D,2,FALSE)","v":{"$error":"#N/A"}}]
[{"$nulls":7},{"$f":"VLOOKUP(G1295,Sheet1!C:D,2,FALSE)","v":{"$error":"#N/A"}}]
[{"$nulls":7},{"$f":"VLOOKUP(G1296,Sheet1!C:D,2,FALSE)","v":{"$error":"#N/A"}}]
[{"$nulls":7},{"$f":"VLOOKUP(G1297,Sheet1!C:D,2,FALSE)","v":{"$error":"#N/A"}}]
[{"$nulls":7},{"$f":"VLOOKUP(G1298,Sheet1!C:D,2,FALSE)","v":{"$error":"#N/A"}}]
[{"$nulls":7},{"$f":"VLOOKUP(G1299,Sheet1!C:D,2,FALSE)","v":{"$error":"#N/A"}}]
[{"$nulls":7},{"$f":"VLOOKUP(G1300,Sheet1!C:D,2,FALSE)","v":{"$error":"#N/A"}}]
[{"$nulls":7},{"$f":"VLOOKUP(G1301,Sheet1!C:D,2,FALSE)","v":{"$error":"#N/A"}}]
[{"$nulls":7},{"$f":"VLOOKUP(G1302,Sheet1!C:D,2,FALSE)","v":{"$error":"#N/A"}}]
[{"$nulls":7},{"$f":"VLOOKUP(G1303,Sheet1!C:D,2,FALSE)","v":{"$error":"#N/A"}}]
[{"$nulls":7},{"$f":"VLOOKUP(G1304,Sheet1!C:D,2,FALSE)","v":{"$error":"#N/A"}}]
[{"$nulls":7},{"$f":"VLOOKUP(G1305,Sheet1!C:D,2,FALSE)","v":{"$error":"#N/A"}}]
[{"$nulls":7},{"$f":"VLOOKUP(G1306,Sheet1!C:D,2,FALSE)","v":{"$error":"#N/A"}}]
[{"$nulls":7},{"$f":"VLOOKUP(G1307,Sheet1!C:D,2,FALSE)","v":{"$error":"#N/A"}}]
[{"$nulls":7},{"$f":"VLOOKUP(G1308,Sheet1!C:D,2,FALSE)","v":{"$error":"#N/A"}}]
[{"$nulls":7},{"$f":"VLOOKUP(G1309,Sheet1!C:D,2,FALSE)","v":{"$error":"#N/A"}}]
[{"$nulls":7},{"$f":"VLOOKUP(G1310,Sheet1!C:D,2,FALSE)","v":{"$error":"#N/A"}}]
[{"$nulls":7},{"$f":"VLOOKUP(G1311,Sheet1!C:D,2,FALSE)","v":{"$error":"#N/A"}}]
[{"$nulls":7},{"$f":"VLOOKUP(G1312,Sheet1!C:D,2,FALSE)","v":{"$error":"#N/A"}}]
[{"$nulls":7},{"$f":"VLOOKUP(G1313,Sheet1!C:D,2,FALSE)","v":{"$error":"#N/A"}}]
[{"$nulls":7},{"$f":"VLOOKUP(G1314,Sheet1!C:D,2,FALSE)","v":{"$error":"#N/A"}}]
[{"$nulls":7},{"$f":"VLOOKUP(G1315,Sheet1!C:D,2,FALSE)","v":{"$error":"#N/A"}}]
[{"$nulls":7},{"$f":"VLOOKUP(G1316,Sheet1!C:D,2,FALSE)","v":{"$error":"#N/A"}}]
[{"$nulls":7},{"$f":"VLOOKUP(G1317,Sheet1!C:D,2,FALSE)","v":{"$error":"#N/A"}}]
[{"$nulls":7},{"$f":"VLOOKUP(G1318,Sheet1!C:D,2,FALSE)","v":{"$error":"#N/A"}}]
[{"$nulls":7},{"$f":"VLOOKUP(G1319,Sheet1!C:D,2,FALSE)","v":{"$error":"#N/A"}}]
[{"$nulls":7},{"$f":"VLOOKUP(G1320,Sheet1!C:D,2,FALSE)","v":{"$error":"#N/A"}}]
[{"$nulls":7},{"$f":"VLOOKUP(G1321,Sheet1!C:D,2,FALSE)","v":{"$error":"#N/A"}}]
[{"$nulls":7},{"$f":"VLOOKUP(G1322,Sheet1!C:D,2,FALSE)","v":{"$error":"#N/A"}}]
[{"$nulls":7},{"$f":"VLOOKUP(G1323,Sheet1!C:D,2,FALSE)","v":{"$error":"#N/A"}}]
[{"$nulls":7},{"$f":"VLOOKUP(G1324,Sheet1!C:D,2,FALSE)","v":{"$error":"#N/A"}}]
[{"$nulls":7},{"$f":"VLOOKUP(G1325,Sheet1!C:D,2,FALSE)","v":{"$error":"#N/A"}}]
[{"$nulls":7},{"$f":"VLOOKUP(G1326,Sheet1!C:D,2,FALSE)","v":{"$error":"#N/A"}}]
[{"$nulls":7},{"$f":"VLOOKUP(G1327,Sheet1!C:D,2,FALSE)","v":{"$error":"#N/A"}}]
[{"$nulls":7},{"$f":"VLOOKUP(G1328,Sheet1!C:D,2,FALSE)","v":{"$error":"#N/A"}}]
[{"$nulls":7},{"$f":"VLOOKUP(G1329,Sheet1!C:D,2,FALSE)","v":{"$error":"#N/A"}}]
[{"$nulls":7},{"$f":"VLOOKUP(G1330,Sheet1!C:D,2,FALSE)","v":{"$error":"#N/A"}}]
[{"$nulls":7},{"$f":"VLOOKUP(G1331,Sheet1!C:D,2,FALSE)","v":{"$error":"#N/A"}}]
[{"$nulls":7},{"$f":"VLOOKUP(G1332,Sheet1!C:D,2,FALSE)","v":{"$error":"#N/A"}}]
[{"$nulls":7},{"$f":"VLOOKUP(G1333,Sheet1!C:D,2,FALSE)","v":{"$error":"#N/A"}}]
[{"$nulls":7},{"$f":"VLOOKUP(G1334,Sheet1!C:D,2,FALSE)","v":{"$error":"#N/A"}}]
[{"$nulls":7},{"$f":"VLOOKUP(G1335,Sheet1!C:D,2,FALSE)","v":{"$error":"#N/A"}}]
[{"$nulls":7},{"$f":"VLOOKUP(G1336,Sheet1!C:D,2,FALSE)","v":{"$error":"#N/A"}}]
[{"$nulls":7},{"$f":"VLOOKUP(G1337,Sheet1!C:D,2,FALSE)","v":{"$error":"#N/A"}}]
[{"$nulls":7},{"$f":"VLOOKUP(G1338,Sheet1!C:D,2,FALSE)","v":{"$error":"#N/A"}}]
[{"$nulls":7},{"$f":"VLOOKUP(G1339,Sheet1!C:D,2,FALSE)","v":{"$error":"#N/A"}}]
[{"$nulls":7},{"$f":"VLOOKUP(G1340,Sheet1!C:D,2,FALSE)","v":{"$error":"#N/A"}}]
[{"$nulls":7},{"$f":"VLOOKUP(G1341,Sheet1!C:D,2,FALSE)","v":{"$error":"#N/A"}}]
[{"$nulls":7},{"$f":"VLOOKUP(G1342,Sheet1!C:D,2,FALSE)","v":{"$error":"#N/A"}}]
[{"$nulls":7},{"$f":"VLOOKUP(G1343,Sheet1!C:D,2,FALSE)","v":{"$error":"#N/A"}}]
[{"$nulls":7},{"$f":"VLOOKUP(G1344,Sheet1!C:D,2,FALSE)","v":{"$error":"#N/A"}}]
[{"$nulls":7},{"$f":"VLOOKUP(G1345,Sheet1!C:D,2,FALSE)","v":{"$error":"#N/A"}}]
[{"$nulls":7},{"$f":"VLOOKUP(G1346,Sheet1!C:D,2,FALSE)","v":{"$error":"#N/A"}}]
[{"$nulls":7},{"$f":"VLOOKUP(G1347,Sheet1!C:D,2,FALSE)","v":{"$error":"#N/A"}}]
[{"$nulls":7},{"$f":"VLOOKUP(G1348,Sheet1!C:D,2,FALSE)","v":{"$error":"#N/A"}}]
[{"$nulls":7},{"$f":"VLOOKUP(G1349,Sheet1!C:D,2,FALSE)","v":{"$error":"#N/A"}}]
[{"$nulls":7},{"$f":"VLOOKUP(G1350,Sheet1!C:D,2,FALSE)","v":{"$error":"#N/A"}}]
[{"$nulls":7},{"$f":"VLOOKUP(G1351,Sheet1!C:D,2,FALSE)","v":{"$error":"#N/A"}}]
[{"$nulls":7},{"$f":"VLOOKUP(G1352,Sheet1!C:D,2,FALSE)","v":{"$error":"#N/A"}}]
[{"$nulls":7},{"$f":"VLOOKUP(G1353,Sheet1!C:D,2,FALSE)","v":{"$error":"#N/A"}}]
[{"$nulls":7},{"$f":"VLOOKUP(G1354,Sheet1!C:D,2,FALSE)","v":{"$error":"#N/A"}}]
[{"$nulls":7},{"$f":"VLOOKUP(G1355,Sheet1!C:D,2,FALSE)","v":{"$error":"#N/A"}}]
[{"$nulls":7},{"$f":"VLOOKUP(G1356,Sheet1!C:D,2,FALSE)","v":{"$error":"#N/A"}}]
[{"$nulls":7},{"$f":"VLOOKUP(G1357,Sheet1!C:D,2,FALSE)","v":{"$error":"#N/A"}}]
[{"$nulls":7},{"$f":"VLOOKUP(G1358,Sheet1!C:D,2,FALSE)","v":{"$error":"#N/A"}}]
[{"$nulls":7},{"$f":"VLOOKUP(G1359,Sheet1!C:D,2,FALSE)","v":{"$error":"#N/A"}}]
[{"$nulls":7},{"$f":"VLOOKUP(G1360,Sheet1!C:D,2,FALSE)","v":{"$error":"#N/A"}}]
[{"$nulls":7},{"$f":"VLOOKUP(G1361,Sheet1!C:D,2,FALSE)","v":{"$error":"#N/A"}}]
[{"$nulls":7},{"$f":"VLOOKUP(G1362,Sheet1!C:D,2,FALSE)","v":{"$error":"#N/A"}}]
[{"$nulls":7},{"$f":"VLOOKUP(G1363,Sheet1!C:D,2,FALSE)","v":{"$error":"#N/A"}}]
[{"$nulls":7},{"$f":"VLOOKUP(G1364,Sheet1!C:D,2,FALSE)","v":{"$error":"#N/A"}}]
[{"$nulls":7},{"$f":"VLOOKUP(G1365,Sheet1!C:D,2,FALSE)","v":{"$error":"#N/A"}}]
[{"$nulls":7},{"$f":"VLOOKUP(G1366,Sheet1!C:D,2,FALSE)","v":{"$error":"#N/A"}}]
[{"$nulls":7},{"$f":"VLOOKUP(G1367,Sheet1!C:D,2,FALSE)","v":{"$error":"#N/A"}}]
[{"$nulls":7},{"$f":"VLOOKUP(G1368,Sheet1!C:D,2,FALSE)","v":{"$error":"#N/A"}}]
[{"$nulls":7},{"$f":"VLOOKUP(G1369,Sheet1!C:D,2,FALSE)","v":{"$error":"#N/A"}}]
[{"$nulls":7},{"$f":"VLOOKUP(G1370,Sheet1!C:D,2,FALSE)","v":{"$error":"#N/A"}}]
[{"$nulls":7},{"$f":"VLOOKUP(G1371,Sheet1!C:D,2,FALSE)","v":{"$error":"#N/A"}}]
[{"$nulls":7},{"$f":"VLOOKUP(G1372,Sheet1!C:D,2,FALSE)","v":{"$error":"#N/A"}}]
[{"$nulls":7},{"$f":"VLOOKUP(G1373,Sheet1!C:D,2,FALSE)","v":{"$error":"#N/A"}}]
[{"$nulls":7},{"$f":"VLOOKUP(G1374,Sheet1!C:D,2,FALSE)","v":{"$error":"#N/A"}}]
[{"$nulls":7},{"$f":"VLOOKUP(G1375,Sheet1!C:D,2,FALSE)","v":{"$error":"#N/A"}}]
[{"$nulls":7},{"$f":"VLOOKUP(G1376,Sheet1!C:D,2,FALSE)","v":{"$error":"#N/A"}}]
[{"$nulls":7},{"$f":"VLOOKUP(G1377,Sheet1!C:D,2,FALSE)","v":{"$error":"#N/A"}}]
[{"$nulls":7},{"$f":"VLOOKUP(G1378,Sheet1!C:D,2,FALSE)","v":{"$error":"#N/A"}}]
[{"$nulls":7},{"$f":"VLOOKUP(G1379,Sheet1!C:D,2,FALSE)","v":{"$error":"#N/A"}}]
[{"$nulls":7},{"$f":"VLOOKUP(G1380,Sheet1!C:D,2,FALSE)","v":{"$error":"#N/A"}}]
[{"$nulls":7},{"$f":"VLOOKUP(G1381,Sheet1!C:D,2,FALSE)","v":{"$error":"#N/A"}}]
[{"$nulls":7},{"$f":"VLOOKUP(G1382,Sheet1!C:D,2,FALSE)","v":{"$error":"#N/A"}}]
[{"$nulls":7},{"$f":"VLOOKUP(G1383,Sheet1!C:D,2,FALSE)","v":{"$error":"#N/A"}}]
[{"$nulls":7},{"$f":"VLOOKUP(G1384,Sheet1!C:D,2,FALSE)","v":{"$error":"#N/A"}}]
[{"$nulls":7},{"$f":"VLOOKUP(G1385,Sheet1!C:D,2,FALSE)","v":{"$error":"#N/A"}}]
[{"$nulls":7},{"$f":"VLOOKUP(G1386,Sheet1!C:D,2,FALSE)","v":{"$error":"#N/A"}}]
[{"$nulls":7},{"$f":"VLOOKUP(G1387,Sheet1!C:D,2,FALSE)","v":{"$error":"#N/A"}}]
[{"$nulls":7},{"$f":"VLOOKUP(G1388,Sheet1!C:D,2,FALSE)","v":{"$error":"#N/A"}}]
[{"$nulls":7},{"$f":"VLOOKUP(G1389,Sheet1!C:D,2,FALSE)","v":{"$error":"#N/A"}}]
[{"$nulls":7},{"$f":"VLOOKUP(G1390,Sheet1!C:D,2,FALSE)","v":{"$error":"#N/A"}}]
[{"$nulls":7},{"$f":"VLOOKUP(G1391,Sheet1!C:D,2,FALSE)","v":{"$error":"#N/A"}}]
[{"$nulls":7},{"$f":"VLOOKUP(G1392,Sheet1!C:D,2,FALSE)","v":{"$error":"#N/A"}}]
[{"$nulls":7},{"$f":"VLOOKUP(G1393,Sheet1!C:D,2,FALSE)","v":{"$error":"#N/A"}}]
[{"$nulls":7},{"$f":"VLOOKUP(G1394,Sheet1!C:D,2,FALSE)","v":{"$error":"#N/A"}}]
[{"$nulls":7},{"$f":"VLOOKUP(G1395,Sheet1!C:D,2,FALSE)","v":{"$error":"#N/A"}}]
[{"$nulls":7},{"$f":"VLOOKUP(G1396,Sheet1!C:D,2,FALSE)","v":{"$error":"#N/A"}}]
[{"$nulls":7},{"$f":"VLOOKUP(G1397,Sheet1!C:D,2,FALSE)","v":{"$error":"#N/A"}}]
[{"$nulls":7},{"$f":"VLOOKUP(G1398,Sheet1!C:D,2,FALSE)","v":{"$error":"#N/A"}}]
[{"$nulls":7},{"$f":"VLOOKUP(G1399,Sheet1!C:D,2,FALSE)","v":{"$error":"#N/A"}}]
[{"$nulls":7},{"$f":"VLOOKUP(G1400,Sheet1!C:D,2,FALSE)","v":{"$error":"#N/A"}}]
[{"$nulls":7},{"$f":"VLOOKUP(G1401,Sheet1!C:D,2,FALSE)","v":{"$error":"#N/A"}}]
[{"$nulls":7},{"$f":"VLOOKUP(G1402,Sheet1!C:D,2,FALSE)","v":{"$error":"#N/A"}}]
[{"$nulls":7},{"$f":"VLOOKUP(G1403,Sheet1!C:D,2,FALSE)","v":{"$error":"#N/A"}}]
[{"$nulls":7},{"$f":"VLOOKUP(G1404,Sheet1!C:D,2,FALSE)","v":{"$error":"#N/A"}}]
[{"$nulls":7},{"$f":"VLOOKUP(G1405,Sheet1!C:D,2,FALSE)","v":{"$error":"#N/A"}}]
[{"$nulls":7},{"$f":"VLOOKUP(G1406,Sheet1!C:D,2,FALSE)","v":{"$error":"#N/A"}}]
[{"$nulls":7},{"$f":"VLOOKUP(G1407,Sheet1!C:D,2,FALSE)","v":{"$error":"#N/A"}}]
[{"$nulls":7},{"$f":"VLOOKUP(G1408,Sheet1!C:D,2,FALSE)","v":{"$error":"#N/A"}}]
[{"$nulls":7},{"$f":"VLOOKUP(G1409,Sheet1!C:D,2,FALSE)","v":{"$error":"#N/A"}}]
[{"$nulls":7},{"$f":"VLOOKUP(G1410,Sheet1!C:D,2,FALSE)","v":{"$error":"#N/A"}}]
[{"$nulls":7},{"$f":"VLOOKUP(G1411,Sheet1!C:D,2,FALSE)","v":{"$error":"#N/A"}}]
[{"$nulls":7},{"$f":"VLOOKUP(G1412,Sheet1!C:D,2,FALSE)","v":{"$error":"#N/A"}}]
[{"$nulls":7},{"$f":"VLOOKUP(G1413,Sheet1!C:D,2,FALSE)","v":{"$error":"#N/A"}}]
[{"$nulls":7},{"$f":"VLOOKUP(G1414,Sheet1!C:D,2,FALSE)","v":{"$error":"#N/A"}}]
[{"$nulls":7},{"$f":"VLOOKUP(G1415,Sheet1!C:D,2,FALSE)","v":{"$error":"#N/A"}}]
[{"$nulls":7},{"$f":"VLOOKUP(G1416,Sheet1!C:D,2,FALSE)","v":{"$error":"#N/A"}}]
[{"$nulls":7},{"$f":"VLOOKUP(G1417,Sheet1!C:D,2,FALSE)","v":{"$error":"#N/A"}}]
[{"$nulls":7},{"$f":"VLOOKUP(G1418,Sheet1!C:D,2,FALSE)","v":{"$error":"#N/A"}}]
[{"$nulls":7},{"$f":"VLOOKUP(G1419,Sheet1!C:D,2,FALSE)","v":{"$error":"#N/A"}}]
[{"$nulls":7},{"$f":"VLOOKUP(G1420,Sheet1!C:D,2,FALSE)","v":{"$error":"#N/A"}}]
[{"$nulls":7},{"$f":"VLOOKUP(G1421,Sheet1!C:D,2,FALSE)","v":{"$error":"#N/A"}}]
[{"$nulls":7},{"$f":"VLOOKUP(G1422,Sheet1!C:D,2,FALSE)","v":{"$error":"#N/A"}}]
[{"$nulls":7},{"$f":"VLOOKUP(G1423,Sheet1!C:D,2,FALSE)","v":{"$error":"#N/A"}}]
[{"$nulls":7},{"$f":"VLOOKUP(G1424,Sheet1!C:D,2,FALSE)","v":{"$error":"#N/A"}}]
[{"$nulls":7},{"$f":"VLOOKUP(G1425,Sheet1!C:D,2,FALSE)","v":{"$error":"#N/A"}}]
[{"$nulls":7},{"$f":"VLOOKUP(G1426,Sheet1!C:D,2,FALSE)","v":{"$error":"#N/A"}}]
[{"$nulls":7},{"$f":"VLOOKUP(G1427,Sheet1!C:D,2,FALSE)","v":{"$error":"#N/A"}}]
[{"$nulls":7},{"$f":"VLOOKUP(G1428,Sheet1!C:D,2,FALSE)","v":{"$error":"#N/A"}}]
[{"$nulls":7},{"$f":"VLOOKUP(G1429,Sheet1!C:D,2,FALSE)","v":{"$error":"#N/A"}}]
[{"$nulls":7},{"$f":"VLOOKUP(G1430,Sheet1!C:D,2,FALSE)","v":{"$error":"#N/A"}}]
[{"$nulls":7},{"$f":"VLOOKUP(G1431,Sheet1!C:D,2,FALSE)","v":{"$error":"#N/A"}}]
[{"$nulls":7},{"$f":"VLOOKUP(G1432,Sheet1!C:D,2,FALSE)","v":{"$error":"#N/A"}}]
[{"$nulls":7},{"$f":"VLOOKUP(G1433,Sheet1!C:D,2,FALSE)","v":{"$error":"#N/A"}}]
[{"$nulls":7},{"$f":"VLOOKUP(G1434,Sheet1!C:D,2,FALSE)","v":{"$error":"#N/A"}}]
[{"$nulls":7},{"$f":"VLOOKUP(G1435,Sheet1!C:D,2,FALSE)","v":{"$error":"#N/A"}}]
[{"$nulls":7},{"$f":"VLOOKUP(G1436,Sheet1!C:D,2,FALSE)","v":{"$error":"#N/A"}}]
[{"$nulls":7},{"$f":"VLOOKUP(G1437,Sheet1!C:D,2,FALSE)","v":{"$error":"#N/A"}}]
[{"$nulls":7},{"$f":"VLOOKUP(G1438,Sheet1!C:D,2,FALSE)","v":{"$error":"#N/A"}}]
[{"$nulls":7},{"$f":"VLOOKUP(G1439,Sheet1!C:D,2,FALSE)","v":{"$error":"#N/A"}}]
[{"$nulls":7},{"$f":"VLOOKUP(G1440,Sheet1!C:D,2,FALSE)","v":{"$error":"#N/A"}}]
[{"$nulls":7},{"$f":"VLOOKUP(G1441,Sheet1!C:D,2,FALSE)","v":{"$error":"#N/A"}}]
[{"$nulls":7},{"$f":"VLOOKUP(G1442,Sheet1!C:D,2,FALSE)","v":{"$error":"#N/A"}}]
[{"$nulls":7},{"$f":"VLOOKUP(G1443,Sheet1!C:D,2,FALSE)","v":{"$error":"#N/A"}}]
[{"$nulls":7},{"$f":"VLOOKUP(G1444,Sheet1!C:D,2,FALSE)","v":{"$error":"#N/A"}}]
[{"$nulls":7},{"$f":"VLOOKUP(G1445,Sheet1!C:D,2,FALSE)","v":{"$error":"#N/A"}}]
[{"$nulls":7},{"$f":"VLOOKUP(G1446,Sheet1!C:D,2,FALSE)","v":{"$error":"#N/A"}}]
[{"$nulls":7},{"$f":"VLOOKUP(G1447,Sheet1!C:D,2,FALSE)","v":{"$error":"#N/A"}}]
[{"$nulls":7},{"$f":"VLOOKUP(G1448,Sheet1!C:D,2,FALSE)","v":{"$error":"#N/A"}}]
[{"$nulls":7},{"$f":"VLOOKUP(G1449,Sheet1!C:D,2,FALSE)","v":{"$error":"#N/A"}}]
[{"$nulls":7},{"$f":"VLOOKUP(G1450,Sheet1!C:D,2,FALSE)","v":{"$error":"#N/A"}}]
[{"$nulls":7},{"$f":"VLOOKUP(G1451,Sheet1!C:D,2,FALSE)","v":{"$error":"#N/A"}}]
[{"$nulls":7},{"$f":"VLOOKUP(G1452,Sheet1!C:D,2,FALSE)","v":{"$error":"#N/A"}}]
[{"$nulls":7},{"$f":"VLOOKUP(G1453,Sheet1!C:D,2,FALSE)","v":{"$error":"#N/A"}}]
[{"$nulls":7},{"$f":"VLOOKUP(G1454,Sheet1!C:D,2,FALSE)","v":{"$error":"#N/A"}}]
[{"$nulls":7},{"$f":"VLOOKUP(G1455,Sheet1!C:D,2,FALSE)","v":{"$error":"#N/A"}}]
[{"$nulls":7},{"$f":"VLOOKUP(G1456,Sheet1!C:D,2,FALSE)","v":{"$error":"#N/A"}}]
[{"$nulls":7},{"$f":"VLOOKUP(G1457,Sheet1!C:D,2,FALSE)","v":{"$error":"#N/A"}}]
[{"$nulls":7},{"$f":"VLOOKUP(G1458,Sheet1!C:D,2,FALSE)","v":{"$error":"#N/A"}}]
[{"$nulls":7},{"$f":"VLOOKUP(G1459,Sheet1!C:D,2,FALSE)","v":{"$error":"#N/A"}}]
[{"$nulls":7},{"$f":"VLOOKUP(G1460,Sheet1!C:D,2,FALSE)","v":{"$error":"#N/A"}}]
[{"$nulls":7},{"$f":"VLOOKUP(G1461,Sheet1!C:D,2,FALSE)","v":{"$error":"#N/A"}}]
[{"$nulls":7},{"$f":"VLOOKUP(G1462,Sheet1!C:D,2,FALSE)","v":{"$error":"#N/A"}}]
[{"$nulls":7},{"$f":"VLOOKUP(G1463,Sheet1!C:D,2,FALSE)","v":{"$error":"#N/A"}}]
[{"$nulls":7},{"$f":"VLOOKUP(G1464,Sheet1!C:D,2,FALSE)","v":{"$error":"#N/A"}}]
[{"$nulls":7},{"$f":"VLOOKUP(G1465,Sheet1!C:D,2,FALSE)","v":{"$error":"#N/A"}}]
[{"$nulls":7},{"$f":"VLOOKUP(G1466,Sheet1!C:D,2,FALSE)","v":{"$error":"#N/A"}}]
[{"$nulls":7},{"$f":"VLOOKUP(G1467,Sheet1!C:D,2,FALSE)","v":{"$error":"#N/A"}}]
[{"$nulls":7},{"$f":"VLOOKUP(G1468,Sheet1!C:D,2,FALSE)","v":{"$error":"#N/A"}}]
[{"$nulls":7},{"$f":"VLOOKUP(G1469,Sheet1!C:D,2,FALSE)","v":{"$error":"#N/A"}}]
[{"$nulls":7},{"$f":"VLOOKUP(G1470,Sheet1!C:D,2,FALSE)","v":{"$error":"#N/A"}}]
[{"$nulls":7},{"$f":"VLOOKUP(G1471,Sheet1!C:D,2,FALSE)","v":{"$error":"#N/A"}}]
[{"$nulls":7},{"$f":"VLOOKUP(G1472,Sheet1!C:D,2,FALSE)","v":{"$error":"#N/A"}}]
[{"$nulls":7},{"$f":"VLOOKUP(G1473,Sheet1!C:D,2,FALSE)","v":{"$error":"#N/A"}}]
[{"$nulls":7},{"$f":"VLOOKUP(G1474,Sheet1!C:D,2,FALSE)","v":{"$error":"#N/A"}}]
[{"$nulls":7},{"$f":"VLOOKUP(G1475,Sheet1!C:D,2,FALSE)","v":{"$error":"#N/A"}}]
[{"$nulls":7},{"$f":"VLOOKUP(G1476,Sheet1!C:D,2,FALSE)","v":{"$error":"#N/A"}}]
[{"$nulls":7},{"$f":"VLOOKUP(G1477,Sheet1!C:D,2,FALSE)","v":{"$error":"#N/A"}}]
[{"$nulls":7},{"$f":"VLOOKUP(G1478,Sheet1!C:D,2,FALSE)","v":{"$error":"#N/A"}}]
[{"$nulls":7},{"$f":"VLOOKUP(G1479,Sheet1!C:D,2,FALSE)","v":{"$error":"#N/A"}}]
[{"$nulls":7},{"$f":"VLOOKUP(G1480,Sheet1!C:D,2,FALSE)","v":{"$error":"#N/A"}}]
[{"$nulls":7},{"$f":"VLOOKUP(G1481,Sheet1!C:D,2,FALSE)","v":{"$error":"#N/A"}}]
[{"$nulls":7},{"$f":"VLOOKUP(G1482,Sheet1!C:D,2,FALSE)","v":{"$error":"#N/A"}}]
[{"$nulls":7},{"$f":"VLOOKUP(G1483,Sheet1!C:D,2,FALSE)","v":{"$error":"#N/A"}}]
[{"$nulls":7},{"$f":"VLOOKUP(G1484,Sheet1!C:D,2,FALSE)","v":{"$error":"#N/A"}}]
[{"$nulls":7},{"$f":"VLOOKUP(G1485,Sheet1!C:D,2,FALSE)","v":{"$error":"#N/A"}}]
[{"$nulls":7},{"$f":"VLOOKUP(G1486,Sheet1!C:D,2,FALSE)","v":{"$error":"#N/A"}}]
[{"$nulls":7},{"$f":"VLOOKUP(G1487,Sheet1!C:D,2,FALSE)","v":{"$error":"#N/A"}}]
[{"$nulls":7},{"$f":"VLOOKUP(G1488,Sheet1!C:D,2,FALSE)","v":{"$error":"#N/A"}}]
[{"$nulls":7},{"$f":"VLOOKUP(G1489,Sheet1!C:D,2,FALSE)","v":{"$error":"#N/A"}}]
[{"$nulls":7},{"$f":"VLOOKUP(G1490,Sheet1!C:D,2,FALSE)","v":{"$error":"#N/A"}}]
[{"$nulls":7},{"$f":"VLOOKUP(G1491,Sheet1!C:D,2,FALSE)","v":{"$error":"#N/A"}}]
[{"$nulls":7},{"$f":"VLOOKUP(G1492,Sheet1!C:D,2,FALSE)","v":{"$error":"#N/A"}}]
[{"$nulls":7},{"$f":"VLOOKUP(G1493,Sheet1!C:D,2,FALSE)","v":{"$error":"#N/A"}}]
[{"$nulls":7},{"$f":"VLOOKUP(G1494,Sheet1!C:D,2,FALSE)","v":{"$error":"#N/A"}}]
[{"$nulls":7},{"$f":"VLOOKUP(G1495,Sheet1!C:D,2,FALSE)","v":{"$error":"#N/A"}}]
[{"$nulls":7},{"$f":"VLOOKUP(G1496,Sheet1!C:D,2,FALSE)","v":{"$error":"#N/A"}}]
[{"$nulls":7},{"$f":"VLOOKUP(G1497,Sheet1!C:D,2,FALSE)","v":{"$error":"#N/A"}}]
[{"$nulls":7},{"$f":"VLOOKUP(G1498,Sheet1!C:D,2,FALSE)","v":{"$error":"#N/A"}}]
[{"$nulls":7},{"$f":"VLOOKUP(G1499,Sheet1!C:D,2,FALSE)","v":{"$error":"#N/A"}}]
[{"$nulls":7},{"$f":"VLOOKUP(G1500,Sheet1!C:D,2,FALSE)","v":{"$error":"#N/A"}}]
[{"$nulls":7},{"$f":"VLOOKUP(G1501,Sheet1!C:D,2,FALSE)","v":{"$error":"#N/A"}}]
[{"$nulls":7},{"$f":"VLOOKUP(G1502,Sheet1!C:D,2,FALSE)","v":{"$error":"#N/A"}}]
[{"$nulls":7},{"$f":"VLOOKUP(G1503,Sheet1!C:D,2,FALSE)","v":{"$error":"#N/A"}}]
[{"$nulls":7},{"$f":"VLOOKUP(G1504,Sheet1!C:D,2,FALSE)","v":{"$error":"#N/A"}}]
[{"$nulls":7},{"$f":"VLOOKUP(G1505,Sheet1!C:D,2,FALSE)","v":{"$error":"#N/A"}}]
[{"$nulls":7},{"$f":"VLOOKUP(G1506,Sheet1!C:D,2,FALSE)","v":{"$error":"#N/A"}}]
[{"$nulls":7},{"$f":"VLOOKUP(G1507,Sheet1!C:D,2,FALSE)","v":{"$error":"#N/A"}}]
[{"$nulls":7},{"$f":"VLOOKUP(G1508,Sheet1!C:D,2,FALSE)","v":{"$error":"#N/A"}}]
[{"$nulls":7},{"$f":"VLOOKUP(G1509,Sheet1!C:D,2,FALSE)","v":{"$error":"#N/A"}}]

{"sheet":"Sheet1","index":1,"n_rows":323,"n_cols":7,"rows_kept":323,"hidden":true,"merged":[[0,0,1,0],[0,1,1,1],[0,3,1,3],[0,4,1,4],[0,5,1,5],[0,6,1,6]]}
["开课学年学期","开课院系",null,"课程号","课程名称","课程性质","专业"]
[]
["2022秋","经济管理学院",{"$f":"B3&E3","v":"经济管理学院科学研究训练"},"04P3292","科学研究训练","实践环节","会计学"]
["2022秋","经济管理学院",{"$f":"B4&E4","v":"经济管理学院专业认识实习"},"ACC205","专业认识实习","实践环节","会计学(国际会计师方向)"]
["2022秋","经济管理学院","经济管理学院专业认识实习","ACC205","专业认识实习","实践环节","会计学"]
["2022秋","经济管理学院","经济管理学院涉税实务","ACC206","涉税实务","实践环节","会计学(国际会计师方向)"]
["2022秋","经济管理学院","经济管理学院涉税实务","ACC206","涉税实务","实践环节","会计学"]
["2022秋","经济管理学院","经济管理学院财务管理沙盘模拟实习","ACC306","财务管理沙盘模拟实习","实践环节","会计学"]
["2022秋","经济管理学院","经济管理学院科学研究训练","ACC401","科学研究训练","实践环节","会计学(国际会计师方向)"]
["2022秋","经济管理学院","经济管理学院科学研究训练","ACC401","科学研究训练","实践环节","会计学"]
["2022秋","经济管理学院","经济管理学院综合实习","ACC402","综合实习","实践环节","会计学(国际会计师方向)"]
["2022秋","经济管理学院","经济管理学院综合实习","ACC402","综合实习","实践环节","会计学"]
["2022秋","经济管理学院","经济管理学院科学研究训练","IET403","科学研究训练","实践环节","国际经济与贸易"]
["2022秋","经济管理学院","经济管理学院科学研究训练","IET403","科学研究训练","实践环节","国际经济与贸易"]
["2022秋","经济管理学院","经济管理学院专业综合实习","IET405","专业综合实习","实践环节","国际经济与贸易"]
["2022秋","经济管理学院","经济管理学院经济学研究方法实践","IET404","经济学研究方法实践","实践环节","国际经济与贸易"]
["2022秋","经济管理学院","经济管理学院国际贸易业务模拟实习","IET401","国际贸易业务模拟实习","实践环节","国际经济与贸易"]
["2022秋","经济管理学院","经济管理学院国际贸易业务模拟实习","IET401","国际贸易业务模拟实习","实践环节","国际经济与贸易"]
["2022秋","经济管理学院","经济管理学院商业银行业务模拟实习","IET402","商业银行业务模拟实习","实践环节","国际经济与贸易"]
["2022秋","经济管理学院","经济管理学院商业银行业务模拟实习","IET402","商业银行业务模拟实习","实践环节","国际经济与贸易"]
["2022秋","信息工程学院","信息工程学院计算机组成原理课程设计","CST304","计算机组成原理课程设计","实践环节","计算机科学与技术"]
["2022秋","信息工程学院","信息工程学院计算机网络课程设计","CST305","计算机网络课程设计","实践环节","计算机科学与技术"]
["2022秋","信息工程学院","信息工程学院计算机专业实习","CST318","计算机专业实习","实践环节","计算机科学与技术"]
["2022秋","信息工程学院","信息工程学院计算机应用系统综合设计","CST405","计算机应用系统综合设计","实践环节","计算机科学与技术"]
["2022秋","新材料与化工学院","新材料与化工学院认识实习","CHE202","认识实习","实践环节","化学工程与工艺"]
["2022秋","新材料与化工学院","新材料与化工学院生产实习","CHE314","生产实习","实践环节","化学工程与工艺"]
["2022秋","机械工程学院","机械工程学院计算机辅助设计与工程图学训练","CEG202","计算机辅助设计与工程图学训练","实践环节","机械电子工程"]
["2022秋","新材料与化工学院","新材料与化工学院认识实习","MSE320","认识实习","实践环节","材料科学与工程"]
["2022秋","经济管理学院","经济管理学院物流管理工具实习","LOM315","物流管理工具实习","实践环节","物流管理"]
["2022秋","人文社科学院","人文社科学院会展专业实习","EEM401","会展专业实习","实践环节","会展经济与管理"]
["2022秋","人文社科学院","人文社科学院旅游专业实习","TRM401","旅游专业实习","实践环节","旅游管理"]
["2022秋","人文社科学院","人文社科学院旅游专业实习","TRM401","旅游专业实习","实践环节","旅游管理"]
["2022秋","信息工程学院","信息工程学院电子工程设计B","EEE210","电子工程设计B","实践环节","数据科学与大数据技术"]
["2022秋","信息工程学院","信息工程学院电子工程设计B","EEE210","电子工程设计B","实践环节","计算机科学与技术"]
["2022秋","新材料与化工学院","新材料与化工学院暑期工程实践（Ⅱ）","MSE325","暑期工程实践（Ⅱ）","实践环节","材料科学与工程"]
["2022秋","信息工程学院","信息工程学院大数据应用系统综合设计","BDT401","大数据应用系统综合设计","实践环节","数据科学与大数据技术"]
["2022秋","机械工程学院","机械工程学院专业实习(一)","PETP321","专业实习(一)","实践环节","油气储运工程"]
["2022秋","工程师学院","工程师学院工程训练C","EEC103","工程训练C","实践环节","材料科学与工程"]
["2022秋","工程师学院","工程师学院工程训练C","EEC103","工程训练C","实践环节","高分子材料与工程"]
["2022秋","工程师学院","工程师学院工程训练C","EEC103","工程训练C","实践环节","数据科学与大数据技术(中法班)"]
["2022秋","工程师学院","工程师学院工程训练C","EEC103","工程训练C","实践环节","物联网工程"]
["2022秋","工程师学院","工程师学院工程训练C","EEC103","工程训练C","实践环节","数据科学与大数据技术"]
["2022秋","工程师学院","工程师学院工程训练C","EEC103","工程训练C","实践环节","计算机科学与技术"]
["2022秋","工程师学院","工程师学院工程训练C","EEC103","工程训练C","实践环节","电气工程及其自动化"]
["2022秋","工程师学院","工程师学院工程训练C","EEC103","工程训练C","实践环节","自动化"]
["2022秋","经济管理学院","经济管理学院专业认识实习","LOM102","专业认识实习","实践环节","物流管理"]
["2022秋","新材料与化工学院","新材料与化工学院暑期工程实践（I）","MSE231","暑期工程实践（I）","实践环节","材料科学与工程"]
["2022秋","新材料与化工学院","新材料与化工学院暑期工程实践（I）","MSE231","暑期工程实践（I）","实践环节","高分子材料与工程"]
["2022秋","新材料与化工学院","新材料与化工学院材料科学与工程专业实验","MSE421","材料科学与工程专业实验","实践环节","材料科学与工程"]
["2022秋","经济管理学院","经济管理学院科学研究训练","MAR402","科学研究训练","实践环节","市场营销"]
["2022秋","经济管理学院","经济管理学院营销策划实习","MAR403","营销策划实习","实践环节","市场营销"]
["2022秋","经济管理学院","经济管理学院ERP软件实习","LOM307","ERP软件实习","实践环节","电子商务"]
["2022秋","经济管理学院","经济管理学院ERP软件实习","LOM307","ERP软件实习","实践环节","市场营销"]
["2022秋","经济管理学院","经济管理学院ERP软件实习","LOM307","ERP软件实习","实践环节","国际经济与贸易"]
["2022秋","经济管理学院","经济管理学院ERP软件实习","LOM307","ERP软件实习","实践环节","会计学(国际会计师方向)"]
["2022秋","经济管理学院","经济管理学院ERP软件实习","LOM307","ERP软件实习","实践环节","会计学"]
["2022秋","经济管理学院","经济管理学院电子商务实习","IMIS208","电子商务实习","实践环节","电子商务"]
["2022秋","经济管理学院","经济管理学院专业综合实习","MAR405","专业综合实习","实践环节","市场营销"]
["2022秋","机械工程学院","机械工程学院环保设备设计基础课程设计","MEE312","环保设备设计基础课程设计","实践环节","环境工程"]
["2022秋","信息工程学院","信息工程学院电子工程设计A","EEE209","电子工程设计A","实践环节","自动化"]
["2022秋","机械工程学院","机械工程学院机械工程基础课程设计","MEE211","机械工程基础课程设计","实践环节","安全工程"]
["2022秋","机械工程学院","机械工程学院机械设计基础课程设计","MEE216","机械设计基础课程设计","实践环节","机器人工程"]
["2022秋","机械工程学院","机械工程学院机械设计基础课程设计","MEE216","机械设计基础课程设计","实践环节","油气储运工程"]
["2022秋","机械工程学院","机械工程学院机械设计基础课程设计","MEE216","机械设计基础课程设计","实践环节","能源与动力工程"]
["2022秋","机械工程学院","机械工程学院机电系统设计主题实践","MEE412","机电系统设计主题实践","实践环节","机械电子工程"]
["2022秋","经济管理学院","经济管理学院程序设计综合训练","BDMA206","程序设计综合训练","实践环节","大数据管理与应用"]
["2022秋","新材料与化工学院","新材料与化工学院暑期工程实践（Ⅲ）","MSE425","暑期工程实践（Ⅲ）","实践环节","材料科学与工程"]
["2022秋","经济管理学院",{"$f":"B68&E68","v":"经济管理学院物流设计实习"},"LOM305","物流设计实习","实践环节","物流管理"]
["2022秋","经济管理学院","经济管理学院物流系统分析与规划实习","LOM306","物流系统分析与规划实习","实践环节","物流管理"]
["2022秋","经济管理学院","经济管理学院专业综合实习","LOM402","专业综合实习","实践环节","物流管理"]
["2022秋","机械工程学院","机械工程学院科学研究训练","PET391","科学研究训练","实践环节","油气储运工程"]
["2022秋","机械工程学院","机械工程学院燃气工程综合实验","PETP433","燃气工程综合实验","实践环节","油气储运工程"]
["2022秋","新材料与化工学院","新材料与化工学院岗位实践","PME405","岗位实践","实践环节","制药工程"]
["2022秋","新材料与化工学院","新材料与化工学院生物制药专业实验(I)","BPM309","生物制药专业实验(I)","实践环节","生物制药"]
["2022秋","新材料与化工学院","新材料与化工学院生产实习与岗位实践","BPM401","生产实习与岗位实践","实践环节","生物制药"]
["2022秋","经济管理学院","经济管理学院科学研究训练","EBU402","科学研究训练","实践环节","电子商务"]
["2022秋","经济管理学院","经济管理学院电商项目策划实习","EBU309","电商项目策划实习","实践环节","电子商务"]
["2022秋","经济管理学院","经济管理学院专业综合实习","EBU405","专业综合实习","实践环节","电子商务"]
["2022秋","经济管理学院","经济管理学院大数据存储实践","BDMA306","大数据存储实践","实践环节","大数据管理与应用"]
["2022秋","经济管理学院","经济管理学院数据分析实践","BDMA307","数据分析实践","实践环节","大数据管理与应用"]
["2022秋","经济管理学院","经济管理学院专业综合实习","BDMA406","专业综合实习","实践环节","大数据管理与应用"]
["2022秋","经济管理学院","经济管理学院科学研究训练","BDMA407","科学研究训练","实践环节","大数据管理与应用"]
["2022秋","信息工程学院","信息工程学院物联网感知课程设计","IOT310","物联网感知课程设计","实践环节","物联网工程"]
["2022秋","信息工程学院","信息工程学院物联网工程创新设计","IOT410","物联网工程创新设计","实践环节","物联网工程"]
["2022秋","信息工程学院","信息工程学院智能家居综合项目实践","IOT411","智能家居综合项目实践","实践环节","物联网工程"]
["2022秋","信息工程学院","信息工程学院专业实习","IOT412","专业实习","实践环节","物联网工程"]
["2022秋","工程师学院","工程师学院工程训练A（Ⅱ）","EEC111","工程训练A（Ⅱ）","实践环节","机器人工程"]
["2022秋","工程师学院","工程师学院工程训练A（Ⅱ）","EEC111","工程训练A（Ⅱ）","实践环节","机械电子工程"]
["2022秋","工程师学院","工程师学院工程训练A（Ⅱ）","EEC111","工程训练A（Ⅱ）","实践环节","机械工程"]
["2022秋","信息工程学院","信息工程学院运行维护与安全实训","AUTO402","运行维护与安全实训","实践环节","自动化"]
["2022秋","信息工程学院","信息工程学院计算机过程控制工程(Ⅱ)","AUTO403","计算机过程控制工程(Ⅱ)","实践环节","自动化"]
["2022秋","信息工程学院","信息工程学院过程装置专业实习","AUTO405","过程装置专业实习","实践环节","自动化"]
["2022秋","新材料与化工学院","新材料与化工学院专业实习","FUN421","专业实习","实践环节","功能材料"]
["2022秋","新材料与化工学院","新材料与化工学院专业实验","FUN422","专业实验","实践环节","功能材料"]
["2022秋","新材料与化工学院","新材料与化工学院暑期工程实践(三)","FUN425","暑期工程实践(三)","实践环节","功能材料"]
["2022秋","新材料与化工学院","新材料与化工学院科研方法训练","APCH402","科研方法训练","实践环节","应用化学"]
["2022秋","新材料与化工学院","新材料与化工学院化工原理课程设计B","CHE316","化工原理课程设计B","实践环节","高分子材料与工程"]
["2022秋","新材料与化工学院","新材料与化工学院化工原理课程设计B","CHE316","化工原理课程设计B","实践环节","制药工程"]
["2022秋","机械工程学院","机械工程学院机器人系统集成专业综合训练","RBE403","机器人系统集成专业综合训练","实践环节","机器人工程"]
["2022秋","新材料与化工学院","新材料与化工学院化工专业实验","CHE401","化工专业实验","实践环节","化学工程与工艺"]
["2022秋","新材料与化工学院","新材料与化工学院科研方法训练","CHE413","科研方法训练","实践环节","化学工程与工艺"]
["2022秋","信息工程学院","信息工程学院综合课程设计","EEA310","综合课程设计","实践环节","电气工程及其自动化"]
["2022秋","信息工程学院","信息工程学院电气控制综合实验","EEA401","电气控制综合实验","实践环节","电气工程及其自动化"]
["2022秋","信息工程学院","信息工程学院电气控制综合实验","EEA401","电气控制综合实验","实践环节","电气工程及其自动化"]
["2022秋","信息工程学院","信息工程学院检测技术专题实验","EEA402","检测技术专题实验","实践环节","电气工程及其自动化"]
["2022秋","信息工程学院","信息工程学院检测技术专题实验","EEA402","检测技术专题实验","实践环节","电气工程及其自动化"]
["2022秋","信息工程学院","信息工程学院专业实习","EEA403","专业实习","实践环节","电气工程及其自动化"]
["2022秋","信息工程学院","信息工程学院专业实习","EEA403","专业实习","实践环节","电气工程及其自动化"]
["2022秋","信息工程学院","信息工程学院工业控制器原理与应用(Ⅱ)","AUTO404","工业控制器原理与应用(Ⅱ)","实践环节","自动化"]
["2022秋","信息工程学院","信息工程学院计算机过程控制工程综合实践","AUTO400","计算机过程控制工程综合实践","实践环节","自动化"]
["2022秋","新材料与化工学院","新材料与化工学院科研方法训练","PME402","科研方法训练","实践环节","制药工程"]
["2022秋","新材料与化工学院","新材料与化工学院制药工程设计","PME403","制药工程设计","实践环节","制药工程"]
["2022秋","新材料与化工学院","新材料与化工学院生产实习","PME404","生产实习","实践环节","制药工程"]
["2022秋","经济管理学院","经济管理学院科学研究训练","LOM401","科学研究训练","实践环节","物流管理"]
["2022秋","新材料与化工学院","新材料与化工学院认识实习","PSE322","认识实习","实践环节","高分子材料与工程"]
["2022秋","新材料与化工学院","新材料与化工学院专业实习","PSE423","专业实习","实践环节","高分子材料与工程"]
["2022秋","新材料与化工学院","新材料与化工学院科学研究方法训练","PSE321","科学研究方法训练","实践环节","高分子材料与工程"]
["2022秋","新材料与化工学院","新材料与化工学院专业实验","PSE424","专业实验","实践环节","高分子材料与工程"]
["2022秋","新材料与化工学院","新材料与化工学院暑期工程实践(二)","PSE331","暑期工程实践(二)","实践环节","高分子材料与工程"]
["2022秋","新材料与化工学院","新材料与化工学院暑期工程实践(三)","PSE431","暑期工程实践(三)","实践环节","高分子材料与工程"]
["2022秋","安全工程学院","安全工程学院专业实习","SAE401","专业实习","实践环节","安全工程"]
["2022秋","新材料与化工学院","新材料与化工学院应用化学专业实验","APCH403","应用化学专业实验","实践环节","应用化学"]
["2022秋","经济管理学院","经济管理学院管理仿真实习","MAR201","管理仿真实习","实践环节","会计学(国际会计师方向)"]
["2022秋","经济管理学院","经济管理学院管理仿真实习","MAR201","管理仿真实习","实践环节","会计学"]
["2022秋","经济管理学院","经济管理学院管理仿真实习","MAR201","管理仿真实习","实践环节","大数据管理与应用"]
["2022秋","经济管理学院","经济管理学院管理仿真实习","MAR201","管理仿真实习","实践环节","物流管理"]
["2022秋","信息工程学院","信息工程学院分布式系统课程设计","BDT305","分布式系统课程设计","实践环节","数据科学与大数据技术"]
["2022秋","信息工程学院","信息工程学院仪表技术专业实习","AUTO406","仪表技术专业实习","实践环节","自动化"]
["2022秋","机械工程学院","机械工程学院环境工程测量","ENV205","环境工程测量","实践环节","环境工程"]
["2022秋","机械工程学院","机械工程学院环境工程专业实验(二)","ENV402","环境工程专业实验(二)","实践环节","环境工程"]
["2022秋","机械工程学院","机械工程学院固体废物处理与处置课程设计","ENV307","固体废物处理与处置课程设计","实践环节","环境工程"]
["2022秋","机械工程学院",{"$f":"B132&E132","v":"机械工程学院毕业实习"},"ENV410","毕业实习","实践环节","环境工程"]
["2022秋","机械工程学院","机械工程学院计算机辅助设计与工程图学训练","CEG201","计算机辅助设计与工程图学训练","实践环节","机器人工程"]
["2022秋","机械工程学院","机械工程学院计算机辅助设计与工程图学训练","CEG201","计算机辅助设计与工程图学训练","实践环节","机械工程"]
["2022秋","机械工程学院","机械工程学院机械设计与制造主题实践（II）","MEE318","机械设计与制造主题实践（II）","实践环节","机械电子工程"]
["2022秋","机械工程学院","机械工程学院机械设计与制造主题实践（II）","MEE318","机械设计与制造主题实践（II）","实践环节","机械工程"]
["2022秋","机械工程学院","机械工程学院单片机原理与接口技术主题实践","MEE314","单片机原理与接口技术主题实践","实践环节","机械电子工程"]
["2022秋","机械工程学院","机械工程学院单片机原理与接口技术主题实践","MEE314","单片机原理与接口技术主题实践","实践环节","机械工程"]
["2022秋","机械工程学院","机械工程学院单片机原理与接口技术主题实践","MEE314","单片机原理与接口技术主题实践","实践环节","机器人工程"]
["2022秋","机械工程学院","机械工程学院机械装备设计主题实践","MEE411","机械装备设计主题实践","实践环节","机械工程"]
["2022秋","机械工程学院","机械工程学院机械装备设计主题实践","MEE411","机械装备设计主题实践","实践环节","机械工程"]
["2022秋","人文社科学院","人文社科学院专业实习","HRM401","专业实习","实践环节","人力资源管理"]
["2022秋","工程师学院","工程师学院工程训练D","EEC104","工程训练D","实践环节","电子商务"]
["2022秋","工程师学院","工程师学院工程训练D","EEC104","工程训练D","实践环节","国际经济与贸易"]
["2022秋","工程师学院","工程师学院工程训练D","EEC104","工程训练D","实践环节","会计学(国际会计师方向)"]
["2022秋","工程师学院","工程师学院工程训练D","EEC104","工程训练D","实践环节","会计学"]
["2022秋","工程师学院","工程师学院工程训练D","EEC104","工程训练D","实践环节","大数据管理与应用"]
["2022秋","工程师学院","工程师学院工程训练D","EEC104","工程训练D","实践环节","物流管理"]
["2022秋","工程师学院","工程师学院工程训练D","EEC104","工程训练D","实践环节","市场营销"]
["2022秋","机械工程学院","机械工程学院科学研究训练","EPE408","科学研究训练","实践环节","能源与动力工程"]
["2022秋","机械工程学院","机械工程学院专业实习","EPE409","专业实习","实践环节","能源与动力工程"]
["2022秋","机械工程学院","机械工程学院专业综合训练","EPE411","专业综合训练","实践环节","能源与动力工程"]
["2022秋","信息工程学院","信息工程学院高频综合课程设计","COM341","高频综合课程设计","实践环节","通信工程"]
["2022秋","信息工程学院","信息工程学院短距离无线通信实践","COM342","短距离无线通信实践","实践环节","通信工程"]
["2022秋","信息工程学院","信息工程学院通信系统综合课程设计","COM440","通信系统综合课程设计","实践环节","通信工程"]
["2022秋","信息工程学院","信息工程学院通信网络综合实践","COM441","通信网络综合实践","实践环节","通信工程"]
["2022秋","信息工程学院","信息工程学院无线通信综合实践","COM442","无线通信综合实践","实践环节","通信工程"]
["2022秋","机械工程学院","机械工程学院专业实验","EPE410","专业实验","实践环节","能源与动力工程"]
["2022秋","机械工程学院","机械工程学院机器人结构分析主题实践","RBE402","机器人结构分析主题实践","实践环节","机器人工程"]
["2022秋","经济管理学院","经济管理学院电子商务实习","MAR315","电子商务实习","实践环节","市场营销"]
["2022秋","信息工程学院","信息工程学院电工电子实习","EEE213","电工电子实习","实践环节","材料科学与工程"]
["2022秋","信息工程学院","信息工程学院电工电子实习","EEE213","电工电子实习","实践环节","高分子材料与工程"]
["2022秋","新材料与化工学院","新材料与化工学院化工制图设计与实践","CHE206","化工制图设计与实践","实践环节","化学工程与工艺"]
["2022春","人文社科学院","人文社科学院专业实习G","PAM07706","专业实习G","实践环节","公共事业管理"]
["2022春","经济管理学院","经济管理学院财务会计实习","ACC207","财务会计实习","实践环节","会计学(国际会计师方向)"]
["2022春","经济管理学院","经济管理学院财务会计实习","ACC207","财务会计实习","实践环节","会计学"]
["2022春","经济管理学院","经济管理学院财务管理沙盘模拟实习","ACC306","财务管理沙盘模拟实习","实践环节","会计学(国际会计师方向)"]
["2022春","经济管理学院","经济管理学院审计实习","ACC307","审计实习","实践环节","会计学(国际会计师方向)"]
["2022春","经济管理学院","经济管理学院审计实习","ACC307","审计实习","实践环节","会计学"]
["2022春","经济管理学院","经济管理学院财务决策实习","ACC308","财务决策实习","实践环节","会计学(国际会计师方向)"]
["2022春","经济管理学院","经济管理学院财务决策实习","ACC308","财务决策实习","实践环节","会计学"]
["2022春","经济管理学院","经济管理学院外贸业务操作实习","IET315","外贸业务操作实习","实践环节","国际经济与贸易"]
["2022春","信息工程学院","信息工程学院数据结构课程设计","CST206","数据结构课程设计","实践环节","计算机科学与技术"]
["2022春","信息工程学院","信息工程学院数据结构课程设计","CST206","数据结构课程设计","实践环节","计算机科学与技术"]
["2022春","信息工程学院","信息工程学院计算机专业实习","CST318","计算机专业实习","实践环节","计算机科学与技术"]
["2022春","信息工程学院","信息工程学院岗位实习","CST406","岗位实习","实践环节","计算机科学与技术"]
["2022春","新材料与化工学院","新材料与化工学院化工工艺设计","CHE313","化工工艺设计","实践环节","化学工程与工艺"]
["2022春","新材料与化工学院","新材料与化工学院认识实习","CHE202","认识实习","实践环节","化学工程与工艺"]
["2022春","新材料与化工学院","新材料与化工学院生产实习","CHE314","生产实习","实践环节","化学工程与工艺"]
["2022春","人文社科学院","人文社科学院会展综合实训","EEM305","会展综合实训","实践环节","会展经济与管理"]
["2022春","人文社科学院","人文社科学院会展专业实习","EEM401","会展专业实习","实践环节","会展经济与管理"]
["2022春","人文社科学院","人文社科学院旅游认识实习","TRM210","旅游认识实习","实践环节","旅游管理"]
["2022春","人文社科学院","人文社科学院旅游专业实习","TRM401","旅游专业实习","实践环节","旅游管理"]
["2022春","人文社科学院","人文社科学院旅游专业实习","TRM401","旅游专业实习","实践环节","旅游管理"]
["2022春","信息工程学院","信息工程学院电子课程设计","EEE211","电子课程设计","实践环节","机械电子工程"]
["2022春","信息工程学院","信息工程学院电子课程设计","EEE211","电子课程设计","实践环节","机械工程"]
["2022春","信息工程学院","信息工程学院电子课程设计","EEE211","电子课程设计","实践环节","机器人工程"]
["2022春","新材料与化工学院","新材料与化工学院化工原理课程设计","CHE312","化工原理课程设计","实践环节","化学工程与工艺"]
["2022春","信息工程学院","信息工程学院大数据处理与分析","BDT203","大数据处理与分析","实践环节","数据科学与大数据技术"]
["2022春","信息工程学院","信息工程学院大数据专业实习","BDT311","大数据专业实习","实践环节","数据科学与大数据技术"]
["2022春","信息工程学院","信息工程学院岗位实习","BDT402","岗位实习","实践环节","数据科学与大数据技术"]
["2022春","机械工程学院","机械工程学院认识实习","PETP320","认识实习","实践环节","油气储运工程"]
["2022春","机械工程学院","机械工程学院专业实习(二)","PETP322","专业实习(二)","实践环节","油气储运工程"]
["2022春","工程师学院","工程师学院工程训练A（I）","EEC101","工程训练A（I）","实践环节","机器人工程"]
["2022春","工程师学院","工程师学院工程训练A（I）","EEC101","工程训练A（I）","实践环节","新能源科学与工程"]
["2022春","工程师学院",{"$f":"B196&E196","v":"工程师学院工程训练A（I）"},"EEC101","工程训练A（I）","实践环节","能源与动力工程"]
["2022春","工程师学院","工程师学院工程训练A（I）","EEC101","工程训练A（I）","实践环节","机械电子工程"]
["2022春","工程师学院","工程师学院工程训练A（I）","EEC101","工程训练A（I）","实践环节","机械工程"]
["2022春","工程师学院","工程师学院工程训练C","EEC103","工程训练C","实践环节","制药工程"]
["2022春","工程师学院","工程师学院工程训练C","EEC103","工程训练C","实践环节","化学工程与工艺"]
["2022春","工程师学院","工程师学院工程训练C","EEC103","工程训练C","实践环节","生物制药"]
["2022春","工程师学院","工程师学院工程训练C","EEC103","工程训练C","实践环节","环境工程"]
["2022春","工程师学院","工程师学院工程训练C","EEC103","工程训练C","实践环节","安全工程"]
["2022春","经济管理学院","经济管理学院会计手工模拟实习","ACC102","会计手工模拟实习","实践环节","会计学"]
["2022春","经济管理学院","经济管理学院专业认识实习","IET102","专业认识实习","实践环节","国际经济与贸易"]
["2022春","马克思主义学院","马克思主义学院国情调研与实践","SSE005","国情调研与实践","实践环节","材料科学与工程"]
["2022春","马克思主义学院","马克思主义学院国情调研与实践","SSE005","国情调研与实践","实践环节","高分子材料与工程"]
["2022春","马克思主义学院","马克思主义学院国情调研与实践","SSE005","国情调研与实践","实践环节","制药工程"]
["2022春","马克思主义学院","马克思主义学院国情调研与实践","SSE005","国情调研与实践","实践环节","化学工程与工艺"]
["2022春","马克思主义学院","马克思主义学院国情调研与实践","SSE005","国情调研与实践","实践环节","会展"]
["2022春","马克思主义学院","马克思主义学院国情调研与实践","SSE005","国情调研与实践","实践环节","数据科学与大数据技术(中法班)"]
["2022春","马克思主义学院","马克思主义学院国情调研与实践","SSE005","国情调研与实践","实践环节","生物制药"]
["2022春","马克思主义学院","马克思主义学院国情调研与实践","SSE005","国情调研与实践","实践环节","人力资源管理"]
["2022春","马克思主义学院","马克思主义学院国情调研与实践","SSE005","国情调研与实践","实践环节","旅游管理"]
["2022春","马克思主义学院","马克思主义学院国情调研与实践","SSE005","国情调研与实践","实践环节","电子商务"]
["2022春","马克思主义学院","马克思主义学院国情调研与实践","SSE005","国情调研与实践","实践环节","国际经济与贸易"]
["2022春","马克思主义学院","马克思主义学院国情调研与实践","SSE005","国情调研与实践","实践环节","会计学(国际会计师方向)"]
["2022春","马克思主义学院","马克思主义学院国情调研与实践","SSE005","国情调研与实践","实践环节","会计学"]
["2022春","马克思主义学院","马克思主义学院国情调研与实践","SSE005","国情调研与实践","实践环节","机器人工程"]
["2022春","马克思主义学院","马克思主义学院国情调研与实践","SSE005","国情调研与实践","实践环节","新能源科学与工程"]
["2022春","马克思主义学院","马克思主义学院国情调研与实践","SSE005","国情调研与实践","实践环节","安全工程"]
["2022春","马克思主义学院","马克思主义学院国情调研与实践","SSE005","国情调研与实践","实践环节","大数据管理与应用"]
["2022春","马克思主义学院","马克思主义学院国情调研与实践","SSE005","国情调研与实践","实践环节","物流管理"]
["2022春","马克思主义学院","马克思主义学院国情调研与实践","SSE005","国情调研与实践","实践环节","市场营销"]
["2022春","马克思主义学院","马克思主义学院国情调研与实践","SSE005","国情调研与实践","实践环节","物联网工程"]
["2022春","马克思主义学院","马克思主义学院国情调研与实践","SSE005","国情调研与实践","实践环节","数据科学与大数据技术"]
["2022春","马克思主义学院","马克思主义学院国情调研与实践","SSE005","国情调研与实践","实践环节","计算机科学与技术"]
["2022春","马克思主义学院","马克思主义学院国情调研与实践","SSE005","国情调研与实践","实践环节","电气工程及其自动化"]
["2022春","马克思主义学院","马克思主义学院国情调研与实践","SSE005","国情调研与实践","实践环节","自动化"]
["2022春","马克思主义学院","马克思主义学院国情调研与实践","SSE005","国情调研与实践","实践环节","环境工程"]
["2022春","马克思主义学院","马克思主义学院国情调研与实践","SSE005","国情调研与实践","实践环节","能源与动力工程"]
["2022春","马克思主义学院","马克思主义学院国情调研与实践","SSE005","国情调研与实践","实践环节","机械电子工程"]
["2022春","马克思主义学院","马克思主义学院国情调研与实践","SSE005","国情调研与实践","实践环节","机械工程"]
["2022春","信息工程学院","信息工程学院计算机编程能力实训","FCE204","计算机编程能力实训","实践环节","物联网工程"]
["2022春","信息工程学院","信息工程学院计算机编程能力实训","FCE204","计算机编程能力实训","实践环节","电气工程及其自动化"]
["2022春","信息工程学院","信息工程学院计算机编程能力实训","FCE204","计算机编程能力实训","实践环节","自动化"]
["2022春","新材料与化工学院","新材料与化工学院科学研究方法训练","MSE323","科学研究方法训练","实践环节","材料科学与工程"]
["2022春","经济管理学院","经济管理学院统计软件实习","MAR202","统计软件实习","实践环节","会计学"]
["2022春","经济管理学院","经济管理学院统计软件实习","MAR202","统计软件实习","实践环节","国际经济与贸易"]
["2022春","经济管理学院","经济管理学院统计软件实习","MAR202","统计软件实习","实践环节","大数据管理与应用"]
["2022春","经济管理学院","经济管理学院统计软件实习","MAR202","统计软件实习","实践环节","电子商务"]
["2022春","经济管理学院","经济管理学院统计软件实习","MAR202","统计软件实习","实践环节","物流管理"]
["2022春","经济管理学院","经济管理学院统计软件实习","MAR202","统计软件实习","实践环节","市场营销"]
["2022春","经济管理学院","经济管理学院统计软件实习","MAR202","统计软件实习","实践环节","国际经济与贸易"]
["2022春","经济管理学院","经济管理学院统计软件实习","MAR202","统计软件实习","实践环节","会计学(国际会计师方向)"]
["2022春","经济管理学院","经济管理学院统计软件实习","MAR202","统计软件实习","实践环节","会计学"]
["2022春","经济管理学院","经济管理学院市场调研实习","MAR401","市场调研实习","实践环节","市场营销"]
["2022春","经济管理学院","经济管理学院市场调研实习","MAR401","市场调研实习","实践环节","电子商务"]
["2022春","经济管理学院","经济管理学院ERP软件实习","LOM307","ERP软件实习","实践环节","物流管理"]
["2022春","信息工程学院","信息工程学院电子工程设计A","EEE209","电子工程设计A","实践环节","通信工程"]
["2022春","信息工程学院","信息工程学院电子工程设计A","EEE209","电子工程设计A","实践环节","电气工程及其自动化"]
["2022春","信息工程学院","信息工程学院电子工程设计A","EEE209","电子工程设计A","实践环节","物联网工程"]
["2022春","机械工程学院","机械工程学院机械工程基础课程设计","MEE211","机械工程基础课程设计","实践环节","高分子材料与工程"]
["2022春","机械工程学院","机械工程学院机械工程基础课程设计","MEE211","机械工程基础课程设计","实践环节","材料科学与工程"]
["2022春","新材料与化工学院","新材料与化工学院专业实习","MSE322","专业实习","实践环节","材料科学与工程"]
["2022春","信息工程学院","信息工程学院C语言课程设计","FCE201","C语言课程设计","实践环节","计算机科学与技术"]
["2022春","经济管理学院","经济管理学院专业认识实习","BDMA107","专业认识实习","实践环节","大数据管理与应用"]
["2022春","机械工程学院","机械工程学院机器人创新设计与实践","RBE305","机器人创新设计与实践","实践环节","机器人工程"]
["2022春","经济管理学院","经济管理学院供应链管理实习","LOM207","供应链管理实习","实践环节","物流管理"]
["2022春","机械工程学院",{"$f":"B260&E260","v":"机械工程学院油气储运综合课程设计"},"PETP411","油气储运综合课程设计","实践环节","油气储运工程"]
["2022春","机械工程学院","机械工程学院燃气输配综合课程设计","PETP412","燃气输配综合课程设计","实践环节","油气储运工程"]
["2022春","新材料与化工学院","新材料与化工学院认识实习","BPM201","认识实习","实践环节","生物制药"]
["2022春","经济管理学院","经济管理学院数据采集与预处理实践","BDMA207","数据采集与预处理实践","实践环节","大数据管理与应用"]
["2022春","经济管理学院","经济管理学院大数据综合实践","BDMA308","大数据综合实践","实践环节","大数据管理与应用"]
["2022春","信息工程学院","信息工程学院物联网工程综合设计","IOT311","物联网工程综合设计","实践环节","物联网工程"]
["2022春","新材料与化工学院","新材料与化工学院认识实习","PME206","认识实习","实践环节","制药工程"]
["2022春","新材料与化工学院","新材料与化工学院科研方法训练","FUN322","科研方法训练","实践环节","功能材料"]
["2022春","新材料与化工学院","新材料与化工学院生产实习","APCH306","生产实习","实践环节","应用化学"]
["2022春","新材料与化工学院","新材料与化工学院综合化学实验","APCH307","综合化学实验","实践环节","应用化学"]
["2022春","信息工程学院","信息工程学院专业技能训练","EEA311","专业技能训练","实践环节","电气工程及其自动化"]
["2022春","信息工程学院","信息工程学院专业技能训练","EEA311","专业技能训练","实践环节","电气工程及其自动化"]
["2022春","新材料与化工学院","新材料与化工学院生物化学实验","PME203","生物化学实验","实践环节","生物制药"]
["2022春","新材料与化工学院","新材料与化工学院生物化学实验","PME203","生物化学实验","实践环节","制药工程"]
["2022春","新材料与化工学院","新材料与化工学院制药工程专业实验","PME311","制药工程专业实验","实践环节","制药工程"]
["2022春","安全工程学院","安全工程学院安全原理与安全管理学课程设计","SAE205","安全原理与安全管理学课程设计","实践环节","安全工程"]
["2022春","安全工程学院","安全工程学院认识实习","SAE206","认识实习","实践环节","安全工程"]
["2022春","安全工程学院","安全工程学院职业卫生检测与评价实践","SAE308","职业卫生检测与评价实践","实践环节","安全工程"]
["2022春","安全工程学院","安全工程学院安全与应急能力评价实践","SAE309","安全与应急能力评价实践","实践环节","安全工程"]
["2022春","安全工程学院","安全工程学院科研方法训练","SAE310","科研方法训练","实践环节","安全工程"]
["2022春","安全工程学院","安全工程学院生产实习","SAE311","生产实习","实践环节","安全工程"]
["2022春","信息工程学院","信息工程学院控制系统综合设计","AUTO303","控制系统综合设计","实践环节","自动化"]
["2022春","信息工程学院","信息工程学院网络爬虫设计","BDT107","网络爬虫设计","实践环节","数据科学与大数据技术"]
["2022春","经济管理学院","经济管理学院管理仿真实习","MAR201","管理仿真实习","实践环节","电子商务"]
["2022春","经济管理学院","经济管理学院管理仿真实习","MAR201","管理仿真实习","实践环节","市场营销"]
["2022春","经济管理学院","经济管理学院管理仿真实习","MAR201","管理仿真实习","实践环节","国际经济与贸易"]
["2022春","机械工程学院","机械工程学院认识实习","ENV206","认识实习","实践环节","环境工程"]
["2022春","机械工程学院","机械工程学院污水管道与泵站设计","ENV207","污水管道与泵站设计","实践环节","环境工程"]
["2022春","机械工程学院","机械工程学院专业实习","ENV305","专业实习","实践环节","环境工程"]
["2022春","机械工程学院","机械工程学院环境工程专业实验(一)","ENV306","环境工程专业实验(一)","实践环节","环境工程"]
["2022春","机械工程学院","机械工程学院水污染控制工程课程设计","ENV308","水污染控制工程课程设计","实践环节","环境工程"]
["2022春","机械工程学院","机械工程学院大气污染控制工程课程设计","ENV309","大气污染控制工程课程设计","实践环节","环境工程"]
["2022春","机械工程学院","机械工程学院认识实习","MEE220","认识实习","实践环节","机械电子工程"]
["2022春","机械工程学院","机械工程学院认识实习","MEE220","认识实习","实践环节","机械工程"]
["2022春","机械工程学院","机械工程学院认识实习","MEE220","认识实习","实践环节","机器人工程"]
["2022春","机械工程学院","机械工程学院机械设计与制造主题实践（I）","MEE217","机械设计与制造主题实践（I）","实践环节","机械电子工程"]
["2022春","机械工程学院","机械工程学院机械设计与制造主题实践（I）","MEE217","机械设计与制造主题实践（I）","实践环节","机械工程"]
["2022春","机械工程学院","机械工程学院单片机原理与接口技术主题实践","MEE314","单片机原理与接口技术主题实践","实践环节","机械工程"]
["2022春","机械工程学院","机械工程学院PLC控制系统主题实践","MEE316","PLC控制系统主题实践","实践环节","机械工程"]
["2022春","机械工程学院","机械工程学院PLC控制系统主题实践","MEE316","PLC控制系统主题实践","实践环节","机械电子工程"]
["2022春","机械工程学院","机械工程学院PLC控制系统主题实践","MEE316","PLC控制系统主题实践","实践环节","机械工程"]
["2022春","机械工程学院","机械工程学院PLC控制系统主题实践","MEE316","PLC控制系统主题实践","实践环节","机器人工程"]
["2022春","机械工程学院","机械工程学院机械设计与制造主题实践（III）","MEE319","机械设计与制造主题实践（III）","实践环节","机械电子工程"]
["2022春","机械工程学院","机械工程学院机械设计与制造主题实践（III）","MEE319","机械设计与制造主题实践（III）","实践环节","机械工程"]
["2022春","机械工程学院","机械工程学院专业实习","MEE320","专业实习","实践环节","机械工程"]
["2022春","机械工程学院","机械工程学院专业实习","MEE320","专业实习","实践环节","机械电子工程"]
["2022春","机械工程学院","机械工程学院专业实习","MEE320","专业实习","实践环节","机械工程"]
["2022春","机械工程学院","机械工程学院专业实习","MEE320","专业实习","实践环节","机器人工程"]
["2022春","人文社科学院","人文社科学院人力资源管理仿真实习","HRM307","人力资源管理仿真实习","实践环节","人力资源管理"]
["2022春","人文社科学院","人文社科学院专业实习","HRM401","专业实习","实践环节","人力资源管理"]
["2022春","机械工程学院","机械工程学院认识实习","EPE204","认识实习","实践环节","能源与动力工程"]
["2022春","机械工程学院","机械工程学院热能装置拆装及模拟训练","EPE312","热能装置拆装及模拟训练","实践环节","能源与动力工程"]
["2022春","信息工程学院","信息工程学院生产实习","COM343","生产实习","实践环节","通信工程"]
["2022春","信息工程学院","信息工程学院网络爬虫设计(英）","BDT106","网络爬虫设计(英）","实践环节","数据科学与大数据技术(中法班)"]
["2022春","经济管理学院","经济管理学院电子商务物流实习","LOM406","电子商务物流实习","实践环节","物流管理"]
["2022春","新材料与化工学院","新材料与化工学院生物制药专业实验(Ⅱ)","BPM310","生物制药专业实验(Ⅱ)","实践环节","生物制药"]
["2022春","人文社科学院","人文社科学院会展业认知实践","EVE104","会展业认知实践","实践环节","会展"]
["2022春","信息工程学院","信息工程学院岗位实习","AUTO411","岗位实习","实践环节","自动化"]
["2022春","信息工程学院","信息工程学院电工电子实习","EEE213","电工电子实习","实践环节","安全工程"]
["2022春","信息工程学院","信息工程学院电工电子实习","EEE213","电工电子实习","实践环节","油气储运工程"]
["2022春","信息工程学院","信息工程学院电工电子实习","EEE213","电工电子实习","实践环节","能源与动力工程"]
["2022春","机械工程学院","机械工程学院机器人感知技术主题实践","RBE304","机器人感知技术主题实践","实践环节","机器人工程"]
["2022春","信息工程学院","信息工程学院单片机工程实训","AUTO317","单片机工程实训","实践环节","电气工程及其自动化"]
["2022春","信息工程学院","信息工程学院单片机工程实训","AUTO317","单片机工程实训","实践环节","自动化"]

{"sheet":"2023年实习计划--其他","index":2,"n_rows":1303,"n_cols":23,"rows_kept":1303,"merged":[[0,0,0,22],[1,0,1,22]]}
["北京石油化工学院2023年度实习计划表---其他实习(非燕化实习均填此表）"]
["1、请各位老师在绿色区域直接选择下拉菜单中的选项，无需手动输入\n2、请各位老师在填写“实习起始/终止时间”两列时，按2023/12/06格式输入日期"]
["序号","学期","院系","专业","班级","实践环节课程名称",null,"课程号","总周数","周次","学生男","学生女","学生人数","教师男","教师女","实习起始时间","实习终止时间","实习类型","实习单位名称/场所","实习目的、内容与要求","带队教师姓名、联系方式、邮箱","经费预算","说明或备用方案"]
["示例","2023秋","新材料与化工学院","化学工程与工艺","化18-123","认识实习",{"$f":"C4&F4","v":"新材料与化工学院认识实习"},{"$f":"VLOOKUP(G4,Sheet1!C:D,2,FALSE)","v":"CHE202"},3,"17-19周",43,28,71,1,1,"2023-06-13","2023-07-01","校内"]
[null,"2022秋","机械工程学院","环境工程",{"$nulls":3},{"$f":"VLOOKUP(G5,Sheet1!C:D,2,FALSE)","v":{"$error":"#N/A"}}]
[{"$nulls":6},{"$f":"C6&F6","v":""},{"$f":"VLOOKUP(G6,Sheet1!C:D,2,FALSE)","v":{"$error":"#N/A"}}]
[{"$nulls":6},"",{"$f":"VLOOKUP(G7,Sheet1!C:D,2,FALSE)","v":{"$error":"#N/A"}}]
[{"$nulls":6},"",{"$f":"VLOOKUP(G8,Sheet1!C:D,2,FALSE)","v":{"$error":"#N/A"}}]
[{"$nulls":6},"",{"$f":"VLOOKUP(G9,Sheet1!C:D,2,FALSE)","v":{"$error":"#N/A"}}]
[{"$nulls":6},"",{"$f":"VLOOKUP(G10,Sheet1!C:D,2,FALSE)","v":{"$error":"#N/A"}}]
[{"$nulls":6},"",{"$f":"VLOOKUP(G11,Sheet1!C:D,2,FALSE)","v":{"$error":"#N/A"}}]
[{"$nulls":6},"",{"$f":"VLOOKUP(G12,Sheet1!C:D,2,FALSE)","v":{"$error":"#N/A"}}]
[{"$nulls":6},"",{"$f":"VLOOKUP(G13,Sheet1!C:D,2,FALSE)","v":{"$error":"#N/A"}}]
[{"$nulls":6},"",{"$f":"VLOOKUP(G14,Sheet1!C:D,2,FALSE)","v":{"$error":"#N/A"}}]
[{"$nulls":6},"",{"$f":"VLOOKUP(G15,Sheet1!C:D,2,FALSE)","v":{"$error":"#N/A"}}]
[{"$nulls":6},"",{"$f":"VLOOKUP(G16,Sheet1!C:D,2,FALSE)","v":{"$error":"#N/A"}}]
[{"$nulls":6},"",{"$f":"VLOOKUP(G17,Sheet1!C:D,2,FALSE)","v":{"$error":"#N/A"}}]
[{"$nulls":6},"",{"$f":"VLOOKUP(G18,Sheet1!C:D,2,FALSE)","v":{"$error":"#N/A"}}]
[{"$nulls":6},"",{"$f":"VLOOKUP(G19,Sheet1!C:D,2,FALSE)","v":{"$error":"#N/A"}}]
[{"$nulls":6},"",{"$f":"VLOOKUP(G20,Sheet1!C:D,2,FALSE)","v":{"$error":"#N/A"}}]
[{"$nulls":6},"",{"$f":"VLOOKUP(G21,Sheet1!C:D,2,FALSE)","v":{"$error":"#N/A"}}]
[{"$nulls":6},"",{"$f":"VLOOKUP(G22,Sheet1!C:D,2,FALSE)","v":{"$error":"#N/A"}}]
[{"$nulls":6},"",{"$f":"VLOOKUP(G23,Sheet1!C:D,2,FALSE)","v":{"$error":"#N/A"}}]
[{"$nulls":6},"",{"$f":"VLOOKUP(G24,Sheet1!C:D,2,FALSE)","v":{"$error":"#N/A"}}]
[{"$nulls":6},"",{"$f":"VLOOKUP(G25,Sheet1!C:D,2,FALSE)","v":{"$error":"#N/A"}}]
[{"$nulls":6},"",{"$f":"VLOOKUP(G26,Sheet1!C:D,2,FALSE)","v":{"$error":"#N/A"}}]
[{"$nulls":6},"",{"$f":"VLOOKUP(G27,Sheet1!C:D,2,FALSE)","v":{"$error":"#N/A"}}]
[null,null,"化学工程学院",{"$nulls":3},"化学工程学院",{"$f":"VLOOKUP(G28,Sheet1!C:D,2,FALSE)","v":{"$error":"#N/A"}}]
[{"$nulls":6},"",{"$f":"VLOOKUP(G29,Sheet1!C:D,2,FALSE)","v":{"$error":"#N/A"}}]
[{"$nulls":6},"",{"$f":"VLOOKUP(G30,Sheet1!C:D,2,FALSE)","v":{"$error":"#N/A"}}]
[{"$nulls":6},"",{"$f":"VLOOKUP(G31,Sheet1!C:D,2,FALSE)","v":{"$error":"#N/A"}}]
[{"$nulls":6},"",{"$f":"VLOOKUP(G32,Sheet1!C:D,2,FALSE)","v":{"$error":"#N/A"}}]
[{"$nulls":6},"",{"$f":"VLOOKUP(G33,Sheet1!C:D,2,FALSE)","v":{"$error":"#N/A"}}]
[{"$nulls":6},"",{"$f":"VLOOKUP(G34,Sheet1!C:D,2,FALSE)","v":{"$error":"#N/A"}}]
[{"$nulls":6},"",{"$f":"VLOOKUP(G35,Sheet1!C:D,2,FALSE)","v":{"$error":"#N/A"}}]
[{"$nulls":6},"",{"$f":"VLOOKUP(G36,Sheet1!C:D,2,FALSE)","v":{"$error":"#N/A"}}]
[{"$nulls":6},"",{"$f":"VLOOKUP(G37,Sheet1!C:D,2,FALSE)","v":{"$error":"#N/A"}}]
[{"$nulls":6},"",{"$f":"VLOOKUP(G38,Sheet1!C:D,2,FALSE)","v":{"$error":"#N/A"}}]
[{"$nulls":6},"",{"$f":"VLOOKUP(G39,Sheet1!C:D,2,FALSE)","v":{"$error":"#N/A"}}]
[{"$nulls":6},"",{"$f":"VLOOKUP(G40,Sheet1!C:D,2,FALSE)","v":{"$error":"#N/A"}}]
[{"$nulls":6},"",{"$f":"VLOOKUP(G41,Sheet1!C:D,2,FALSE)","v":{"$error":"#N/A"}}]
[{"$nulls":6},"",{"$f":"VLOOKUP(G42,Sheet1!C:D,2,FALSE)","v":{"$error":"#N/A"}}]
[{"$nulls":6},"",{"$f":"VLOOKUP(G43,Sheet1!C:D,2,FALSE)","v":{"$error":"#N/A"}}]
[{"$nulls":6},"",{"$f":"VLOOKUP(G44,Sheet1!C:D,2,FALSE)","v":{"$error":"#N/A"}}]
[{"$nulls":6},"",{"$f":"VLOOKUP(G45,Sheet1!C:D,2,FALSE)","v":{"$error":"#N/A"}}]
[{"$nulls":6},"",{"$f":"VLOOKUP(G46,Sheet1!C:D,2,FALSE)","v":{"$error":"#N/A"}}]
[{"$nulls":6},"",{"$f":"VLOOKUP(G47,Sheet1!C:D,2,FALSE)","v":{"$error":"#N/A"}}]
[{"$nulls":6},"",{"$f":"VLOOKUP(G48,Sheet1!C:D,2,FALSE)","v":{"$error":"#N/A"}}]
[{"$nulls":6},"",{"$f":"VLOOKUP(G49,Sheet1!C:D,2,FALSE)","v":{"$error":"#N/A"}}]
[{"$nulls":6},"",{"$f":"VLOOKUP(G50,Sheet1!C:D,2,FALSE)","v":{"$error":"#N/A"}}]
[{"$nulls":6},"",{"$f":"VLOOKUP(G51,Sheet1!C:D,2,FALSE)","v":{"$error":"#N/A"}}]
[{"$nulls":6},"",{"$f":"VLOOKUP(G52,Sheet1!C:D,2,FALSE)","v":{"$error":"#N/A"}}]
[{"$nulls":6},"",{"$f":"VLOOKUP(G53,Sheet1!C:D,2,FALSE)","v":{"$error":"#N/A"}}]
[{"$nulls":6},"",{"$f":"VLOOKUP(G54,Sheet1!C:D,2,FALSE)","v":{"$error":"#N/A"}}]
[{"$nulls":6},"",{"$f":"VLOOKUP(G55,Sheet1!C:D,2,FALSE)","v":{"$error":"#N/A"}}]
[{"$nulls":6},"",{"$f":"VLOOKUP(G56,Sheet1!C:D,2,FALSE)","v":{"$error":"#N/A"}}]
[{"$nulls":6},"",{"$f":"VLOOKUP(G57,Sheet1!C:D,2,FALSE)","v":{"$error":"#N/A"}}]
[{"$nulls":6},"",{"$f":"VLOOKUP(G58,Sheet1!C:D,2,FALSE)","v":{"$error":"#N/A"}}]
[{"$nulls":6},"",{"$f":"VLOOKUP(G59,Sheet1!C:D,2,FALSE)","v":{"$error":"#N/A"}}]
[{"$nulls":6},"",{"$f":"VLOOKUP(G60,Sheet1!C:D,2,FALSE)","v":{"$error":"#N/A"}}]
[{"$nulls":6},"",{"$f":"VLOOKUP(G61,Sheet1!C:D,2,FALSE)","v":{"$error":"#N/A"}}]
[{"$nulls":6},"",{"$f":"VLOOKUP(G62,Sheet1!C:D,2,FALSE)","v":{"$error":"#N/A"}}]
[{"$nulls":6},"",{"$f":"VLOOKUP(G63,Sheet1!C:D,2,FALSE)","v":{"$error":"#N/A"}}]
[{"$nulls":6},"",{"$f":"VLOOKUP(G64,Sheet1!C:D,2,FALSE)","v":{"$error":"#N/A"}}]
[{"$nulls":6},"",{"$f":"VLOOKUP(G65,Sheet1!C:D,2,FALSE)","v":{"$error":"#N/A"}}]
[{"$nulls":6},"",{"$f":"VLOOKUP(G66,Sheet1!C:D,2,FALSE)","v":{"$error":"#N/A"}}]
[{"$nulls":6},"",{"$f":"VLOOKUP(G67,Sheet1!C:D,2,FALSE)","v":{"$error":"#N/A"}}]
[{"$nulls":6},"",{"$f":"VLOOKUP(G68,Sheet1!C:D,2,FALSE)","v":{"$error":"#N/A"}}]
[{"$nulls":6},{"$f":"C69&F69","v":""},{"$f":"VLOOKUP(G69,Sheet1!C:D,2,FALSE)","v":{"$error":"#N/A"}}]
[{"$nulls":6},"",{"$f":"VLOOKUP(G70,Sheet1!C:D,2,FALSE)","v":{"$error":"#N/A"}}]
[{"$nulls":6},"",{"$f":"VLOOKUP(G71,Sheet1!C:D,2,FALSE)","v":{"$error":"#N/A"}}]
[{"$nulls":6},"",{"$f":"VLOOKUP(G72,Sheet1!C:D,2,FALSE)","v":{"$error":"#N/A"}}]
[{"$nulls":6},"",{"$f":"VLOOKUP(G73,Sheet1!C:D,2,FALSE)","v":{"$error":"#N/A"}}]
[{"$nulls":6},"",{"$f":"VLOOKUP(G74,Sheet1!C:D,2,FALSE)","v":{"$error":"#N/A"}}]
[{"$nulls":6},"",{"$f":"VLOOKUP(G75,Sheet1!C:D,2,FALSE)","v":{"$error":"#N/A"}}]
[{"$nulls":6},"",{"$f":"VLOOKUP(G76,Sheet1!C:D,2,FALSE)","v":{"$error":"#N/A"}}]
[{"$nulls":6},"",{"$f":"VLOOKUP(G77,Sheet1!C:D,2,FALSE)","v":{"$error":"#N/A"}}]
[{"$nulls":6},"",{"$f":"VLOOKUP(G78,Sheet1!C:D,2,FALSE)","v":{"$error":"#N/A"}}]
[{"$nulls":6},"",{"$f":"VLOOKUP(G79,Sheet1!C:D,2,FALSE)","v":{"$error":"#N/A"}}]
[{"$nulls":6},"",{"$f":"VLOOKUP(G80,Sheet1!C:D,2,FALSE)","v":{"$error":"#N/A"}}]
[{"$nulls":6},"",{"$f":"VLOOKUP(G81,Sheet1!C:D,2,FALSE)","v":{"$error":"#N/A"}}]
[{"$nulls":6},"",{"$f":"VLOOKUP(G82,Sheet1!C:D,2,FALSE)","v":{"$error":"#N/A"}}]
[{"$nulls":6},"",{"$f":"VLOOKUP(G83,Sheet1!C:D,2,FALSE)","v":{"$error":"#N/A"}}]
[{"$nulls":6},"",{"$f":"VLOOKUP(G84,Sheet1!C:D,2,FALSE)","v":{"$error":"#N/A"}}]
[{"$nulls":6},"",{"$f":"VLOOKUP(G85,Sheet1!C:D,2,FALSE)","v":{"$error":"#N/A"}}]
[{"$nulls":6},"",{"$f":"VLOOKUP(G86,Sheet1!C:D,2,FALSE)","v":{"$error":"#N/A"}}]
[{"$nulls":6},"",{"$f":"VLOOKUP(G87,Sheet1!C:D,2,FALSE)","v":{"$error":"#N/A"}}]
[{"$nulls":6},"",{"$f":"VLOOKUP(G88,Sheet1!C:D,2,FALSE)","v":{"$error":"#N/A"}}]
[{"$nulls":6},"",{"$f":"VLOOKUP(G89,Sheet1!C:D,2,FALSE)","v":{"$error":"#N/A"}}]
[{"$nulls":6},"",{"$f":"VLOOKUP(G90,Sheet1!C:D,2,FALSE)","v":{"$error":"#N/A"}}]
[{"$nulls":6},"",{"$f":"VLOOKUP(G91,Sheet1!C:D,2,FALSE)","v":{"$error":"#N/A"}}]
[{"$nulls":6},"",{"$f":"VLOOKUP(G92,Sheet1!C:D,2,FALSE)","v":{"$error":"#N/A"}}]
[{"$nulls":6},"",{"$f":"VLOOKUP(G93,Sheet1!C:D,2,FALSE)","v":{"$error":"#N/A"}}]
[{"$nulls":6},"",{"$f":"VLOOKUP(G94,Sheet1!C:D,2,FALSE)","v":{"$error":"#N/A"}}]
[{"$nulls":6},"",{"$f":"VLOOKUP(G95,Sheet1!C:D,2,FALSE)","v":{"$error":"#N/A"}}]
[{"$nulls":6},"",{"$f":"VLOOKUP(G96,Sheet1!C:D,2,FALSE)","v":{"$error":"#N/A"}}]
[{"$nulls":6},"",{"$f":"VLOOKUP(G97,Sheet1!C:D,2,FALSE)","v":{"$error":"#N/A"}}]
[{"$nulls":6},"",{"$f":"VLOOKUP(G98,Sheet1!C:D,2,FALSE)","v":{"$error":"#N/A"}}]
[{"$nulls":6},"",{"$f":"VLOOKUP(G99,Sheet1!C:D,2,FALSE)","v":{"$error":"#N/A"}}]
[{"$nulls":6},"",{"$f":"VLOOKUP(G100,Sheet1!C:D,2,FALSE)","v":{"$error":"#N/A"}}]
[{"$nulls":6},"",{"$f":"VLOOKUP(G101,Sheet1!C:D,2,FALSE)","v":{"$error":"#N/A"}}]
[{"$nulls":6},"",{"$f":"VLOOKUP(G102,Sheet1!C:D,2,FALSE)","v":{"$error":"#N/A"}}]
[{"$nulls":6},"",{"$f":"VLOOKUP(G103,Sheet1!C:D,2,FALSE)","v":{"$error":"#N/A"}}]
[{"$nulls":6},"",{"$f":"VLOOKUP(G104,Sheet1!C:D,2,FALSE)","v":{"$error":"#N/A"}}]
[{"$nulls":6},"",{"$f":"VLOOKUP(G105,Sheet1!C:D,2,FALSE)","v":{"$error":"#N/A"}}]
[{"$nulls":6},"",{"$f":"VLOOKUP(G106,Sheet1!C:D,2,FALSE)","v":{"$error":"#N/A"}}]
[{"$nulls":6},"",{"$f":"VLOOKUP(G107,Sheet1!C:D,2,FALSE)","v":{"$error":"#N/A"}}]
[{"$nulls":6},"",{"$f":"VLOOKUP(G108,Sheet1!C:D,2,FALSE)","v":{"$error":"#N/A"}}]
[{"$nulls":6},"",{"$f":"VLOOKUP(G109,Sheet1!C:D,2,FALSE)","v":{"$error":"#N/A"}}]
[{"$nulls":6},"",{"$f":"VLOOKUP(G110,Sheet1!C:D,2,FALSE)","v":{"$error":"#N/A"}}]
[{"$nulls":6},"",{"$f":"VLOOKUP(G111,Sheet1!C:D,2,FALSE)","v":{"$error":"#N/A"}}]
[{"$nulls":6},"",{"$f":"VLOOKUP(G112,Sheet1!C:D,2,FALSE)","v":{"$error":"#N/A"}}]
[{"$nulls":6},"",{"$f":"VLOOKUP(G113,Sheet1!C:D,2,FALSE)","v":{"$error":"#N/A"}}]
[{"$nulls":6},"",{"$f":"VLOOKUP(G114,Sheet1!C:D,2,FALSE)","v":{"$error":"#N/A"}}]
[{"$nulls":6},"",{"$f":"VLOOKUP(G115,Sheet1!C:D,2,FALSE)","v":{"$error":"#N/A"}}]
[{"$nulls":6},"",{"$f":"VLOOKUP(G116,Sheet1!C:D,2,FALSE)","v":{"$error":"#N/A"}}]
[{"$nulls":6},"",{"$f":"VLOOKUP(G117,Sheet1!C:D,2,FALSE)","v":{"$error":"#N/A"}}]
[{"$nulls":6},"",{"$f":"VLOOKUP(G118,Sheet1!C:D,2,FALSE)","v":{"$error":"#N/A"}}]
[{"$nulls":6},"",{"$f":"VLOOKUP(G119,Sheet1!C:D,2,FALSE)","v":{"$error":"#N/A"}}]
[{"$nulls":6},"",{"$f":"VLOOKUP(G120,Sheet1!C:D,2,FALSE)","v":{"$error":"#N/A"}}]
[{"$nulls":6},"",{"$f":"VLOOKUP(G121,Sheet1!C:D,2,FALSE)","v":{"$error":"#N/A"}}]
[{"$nulls":6},"",{"$f":"VLOOKUP(G122,Sheet1!C:D,2,FALSE)","v":{"$error":"#N/A"}}]
[{"$nulls":6},"",{"$f":"VLOOKUP(G123,Sheet1!C:D,2,FALSE)","v":{"$error":"#N/A"}}]
[{"$nulls":6},"",{"$f":"VLOOKUP(G124,Sheet1!C:D,2,FALSE)","v":{"$error":"#N/A"}}]
[{"$nulls":6},"",{"$f":"VLOOKUP(G125,Sheet1!C:D,2,FALSE)","v":{"$error":"#N/A"}}]
[{"$nulls":6},"",{"$f":"VLOOKUP(G126,Sheet1!C:D,2,FALSE)","v":{"$error":"#N/A"}}]
[{"$nulls":6},"",{"$f":"VLOOKUP(G127,Sheet1!C:D,2,FALSE)","v":{"$error":"#N/A"}}]
[{"$nulls":6},"",{"$f":"VLOOKUP(G128,Sheet1!C:D,2,FALSE)","v":{"$error":"#N/A"}}]
[{"$nulls":6},"",{"$f":"VLOOKUP(G129,Sheet1!C:D,2,FALSE)","v":{"$error":"#N/A"}}]
[{"$nulls":6},"",{"$f":"VLOOKUP(G130,Sheet1!C:D,2,FALSE)","v":{"$error":"#N/A"}}]
[{"$nulls":6},"",{"$f":"VLOOKUP(G131,Sheet1!C:D,2,FALSE)","v":{"$error":"#N/A"}}]
[{"$nulls":6},"",{"$f":"VLOOKUP(G132,Sheet1!C:D,2,FALSE)","v":{"$error":"#N/A"}}]
[{"$nulls":6},{"$f":"C133&F133","v":""},{"$f":"VLOOKUP(G133,Sheet1!C:D,2,FALSE)","v":{"$error":"#N/A"}}]
[{"$nulls":6},"",{"$f":"VLOOKUP(G134,Sheet1!C:D,2,FALSE)","v":{"$error":"#N/A"}}]
[{"$nulls":6},"",{"$f":"VLOOKUP(G135,Sheet1!C:D,2,FALSE)","v":{"$error":"#N/A"}}]
[{"$nulls":6},"",{"$f":"VLOOKUP(G136,Sheet1!C:D,2,FALSE)","v":{"$error":"#N/A"}}]
[{"$nulls":6},"",{"$f":"VLOOKUP(G137,Sheet1!C:D,2,FALSE)","v":{"$error":"#N/A"}}]
[{"$nulls":6},"",{"$f":"VLOOKUP(G138,Sheet1!C:D,2,FALSE)","v":{"$error":"#N/A"}}]
[{"$nulls":6},"",{"$f":"VLOOKUP(G139,Sheet1!C:D,2,FALSE)","v":{"$error":"#N/A"}}]
[{"$nulls":6},"",{"$f":"VLOOKUP(G140,Sheet1!C:D,2,FALSE)","v":{"$error":"#N/A"}}]
[{"$nulls":6},"",{"$f":"VLOOKUP(G141,Sheet1!C:D,2,FALSE)","v":{"$error":"#N/A"}}]
[{"$nulls":6},"",{"$f":"VLOOKUP(G142,Sheet1!C:D,2,FALSE)","v":{"$error":"#N/A"}}]
[{"$nulls":6},"",{"$f":"VLOOKUP(G143,Sheet1!C:D,2,FALSE)","v":{"$error":"#N/A"}}]
[{"$nulls":6},"",{"$f":"VLOOKUP(G144,Sheet1!C:D,2,FALSE)","v":{"$error":"#N/A"}}]
[{"$nulls":6},"",{"$f":"VLOOKUP(G145,Sheet1!C:D,2,FALSE)","v":{"$error":"#N/A"}}]
[{"$nulls":6},"",{"$f":"VLOOKUP(G146,Sheet1!C:D,2,FALSE)","v":{"$error":"#N/A"}}]
[{"$nulls":6},"",{"$f":"VLOOKUP(G147,Sheet1!C:D,2,FALSE)","v":{"$error":"#N/A"}}]
[{"$nulls":6},"",{"$f":"VLOOKUP(G148,Sheet1!C:D,2,FALSE)","v":{"$error":"#N/A"}}]
[{"$nulls":6},"",{"$f":"VLOOKUP(G149,Sheet1!C:D,2,FALSE)","v":{"$error":"#N/A"}}]
[{"$nulls":6},"",{"$f":"VLOOKUP(G150,Sheet1!C:D,2,FALSE)","v":{"$error":"#N/A"}}]
[{"$nulls":6},"",{"$f":"VLOOKUP(G151,Sheet1!C:D,2,FALSE)","v":{"$error":"#N/A"}}]
[{"$nulls":6},"",{"$f":"VLOOKUP(G152,Sheet1!C:D,2,FALSE)","v":{"$error":"#N/A"}}]
[{"$nulls":6},"",{"$f":"VLOOKUP(G153,Sheet1!C:D,2,FALSE)","v":{"$error":"#N/A"}}]
[{"$nulls":6},"",{"$f":"VLOOKUP(G154,Sheet1!C:D,2,FALSE)","v":{"$error":"#N/A"}}]
[{"$nulls":6},"",{"$f":"VLOOKUP(G155,Sheet1!C:D,2,FALSE)","v":{"$error":"#N/A"}}]
[{"$nulls":6},"",{"$f":"VLOOKUP(G156,Sheet1!C:D,2,FALSE)","v":{"$error":"#N/A"}}]
[{"$nulls":6},"",{"$f":"VLOOKUP(G157,Sheet1!C:D,2,FALSE)","v":{"$error":"#N/A"}}]
[{"$nulls":6},"",{"$f":"VLOOKUP(G158,Sheet1!C:D,2,FALSE)","v":{"$error":"#N/A"}}]
[{"$nulls":6},"",{"$f":"VLOOKUP(G159,Sheet1!C:D,2,FALSE)","v":{"$error":"#N/A"}}]
[{"$nulls":6},"",{"$f":"VLOOKUP(G160,Sheet1!C:D,2,FALSE)","v":{"$error":"#N/A"}}]
[{"$nulls":6},"",{"$f":"VLOOKUP(G161,Sheet1!C:D,2,FALSE)","v":{"$error":"#N/A"}}]
[{"$nulls":6},"",{"$f":"VLOOKUP(G162,Sheet1!C:D,2,FALSE)","v":{"$error":"#N/A"}}]
[{"$nulls":6},"",{"$f":"VLOOKUP(G163,Sheet1!C:D,2,FALSE)","v":{"$error":"#N/A"}}]
[{"$nulls":6},"",{"$f":"VLOOKUP(G164,Sheet1!C:D,2,FALSE)","v":{"$error":"#N/A"}}]
[{"$nulls":6},"",{"$f":"VLOOKUP(G165,Sheet1!C:D,2,FALSE)","v":{"$error":"#N/A"}}]
[{"$nulls":6},"",{"$f":"VLOOKUP(G166,Sheet1!C:D,2,FALSE)","v":{"$error":"#N/A"}}]
[{"$nulls":6},"",{"$f":"VLOOKUP(G167,Sheet1!C:D,2,FALSE)","v":{"$error":"#N/A"}}]
[{"$nulls":6},"",{"$f":"VLOOKUP(G168,Sheet1!C:D,2,FALSE)","v":{"$error":"#N/A"}}]
[{"$nulls":6},"",{"$f":"VLOOKUP(G169,Sheet1!C:D,2,FALSE)","v":{"$error":"#N/A"}}]
[{"$nulls":6},"",{"$f":"VLOOKUP(G170,Sheet1!C:D,2,FALSE)","v":{"$error":"#N/A"}}]
[{"$nulls":6},"",{"$f":"VLOOKUP(G171,Sheet1!C:D,2,FALSE)","v":{"$error":"#N/A"}}]
[{"$nulls":6},"",{"$f":"VLOOKUP(G172,Sheet1!C:D,2,FALSE)","v":{"$error":"#N/A"}}]
[{"$nulls":6},"",{"$f":"VLOOKUP(G173,Sheet1!C:D,2,FALSE)","v":{"$error":"#N/A"}}]
[{"$nulls":6},"",{"$f":"VLOOKUP(G174,Sheet1!C:D,2,FALSE)","v":{"$error":"#N/A"}}]
[{"$nulls":6},"",{"$f":"VLOOKUP(G175,Sheet1!C:D,2,FALSE)","v":{"$error":"#N/A"}}]
[{"$nulls":6},"",{"$f":"VLOOKUP(G176,Sheet1!C:D,2,FALSE)","v":{"$error":"#N/A"}}]
[{"$nulls":6},"",{"$f":"VLOOKUP(G177,Sheet1!C:D,2,FALSE)","v":{"$error":"#N/A"}}]
[{"$nulls":6},"",{"$f":"VLOOKUP(G178,Sheet1!C:D,2,FALSE)","v":{"$error":"#N/A"}}]
[{"$nulls":6},"",{"$f":"VLOOKUP(G179,Sheet1!C:D,2,FALSE)","v":{"$error":"#N/A"}}]
[{"$nulls":6},"",{"$f":"VLOOKUP(G180,Sheet1!C:D,2,FALSE)","v":{"$error":"#N/A"}}]
[{"$nulls":6},"",{"$f":"VLOOKUP(G181,Sheet1!C:D,2,FALSE)","v":{"$error":"#N/A"}}]
[{"$nulls":6},"",{"$f":"VLOOKUP(G182,Sheet1!C:D,2,FALSE)","v":{"$error":"#N/A"}}]
[{"$nulls":6},"",{"$f":"VLOOKUP(G183,Sheet1!C:D,2,FALSE)","v":{"$error":"#N/A"}}]
[{"$nulls":6},"",{"$f":"VLOOKUP(G184,Sheet1!C:D,2,FALSE)","v":{"$error":"#N/A"}}]
[{"$nulls":6},"",{"$f":"VLOOKUP(G185,Sheet1!C:D,2,FALSE)","v":{"$error":"#N/A"}}]
[{"$nulls":6},"",{"$f":"VLOOKUP(G186,Sheet1!C:D,2,FALSE)","v":{"$error":"#N/A"}}]
[{"$nulls":6},"",{"$f":"VLOOKUP(G187,Sheet1!C:D,2,FALSE)","v":{"$error":"#N/A"}}]
[{"$nulls":6},"",{"$f":"VLOOKUP(G188,Sheet1!C:D,2,FALSE)","v":{"$error":"#N/A"}}]
[{"$nulls":6},"",{"$f":"VLOOKUP(G189,Sheet1!C:D,2,FALSE)","v":{"$error":"#N/A"}}]
[{"$nulls":6},"",{"$f":"VLOOKUP(G190,Sheet1!C:D,2,FALSE)","v":{"$error":"#N/A"}}]
[{"$nulls":6},"",{"$f":"VLOOKUP(G191,Sheet1!C:D,2,FALSE)","v":{"$error":"#N/A"}}]
[{"$nulls":6},"",{"$f":"VLOOKUP(G192,Sheet1!C:D,2,FALSE)","v":{"$error":"#N/A"}}]
[{"$nulls":6},"",{"$f":"VLOOKUP(G193,Sheet1!C:D,2,FALSE)","v":{"$error":"#N/A"}}]
[{"$nulls":6},"",{"$f":"VLOOKUP(G194,Sheet1!C:D,2,FALSE)","v":{"$error":"#N/A"}}]
[{"$nulls":6},"",{"$f":"VLOOKUP(G195,Sheet1!C:D,2,FALSE)","v":{"$error":"#N/A"}}]
[{"$nulls":6},"",{"$f":"VLOOKUP(G196,Sheet1!C:D,2,FALSE)","v":{"$error":"#N/A"}}]
[{"$nulls":6},{"$f":"C197&F197","v":""},{"$f":"VLOOKUP(G197,Sheet1!C:D,2,FALSE)","v":{"$error":"#N/A"}}]
[{"$nulls":6},"",{"$f":"VLOOKUP(G198,Sheet1!C:D,2,FALSE)","v":{"$error":"#N/A"}}]
[{"$nulls":6},"",{"$f":"VLOOKUP(G199,Sheet1!C:D,2,FALSE)","v":{"$error":"#N/A"}}]
[{"$nulls":6},"",{"$f":"VLOOKUP(G200,Sheet1!C:D,2,FALSE)","v":{"$error":"#N/A"}}]
[{"$nulls":6},"",{"$f":"VLOOKUP(G201,Sheet1!C:D,2,FALSE)","v":{"$error":"#N/A"}}]
[{"$nulls":6},"",{"$f":"VLOOKUP(G202,Sheet1!C:D,2,FALSE)","v":{"$error":"#N/A"}}]
[{"$nulls":6},"",{"$f":"VLOOKUP(G203,Sheet1!C:D,2,FALSE)","v":{"$error":"#N/A"}}]
[{"$nulls":6},"",{"$f":"VLOOKUP(G204,Sheet1!C:D,2,FALSE)","v":{"$error":"#N/A"}}]
[{"$nulls":6},"",{"$f":"VLOOKUP(G205,Sheet1!C:D,2,FALSE)","v":{"$error":"#N/A"}}]
[{"$nulls":6},"",{"$f":"VLOOKUP(G206,Sheet1!C:D,2,FALSE)","v":{"$error":"#N/A"}}]
[{"$nulls":6},"",{"$f":"VLOOKUP(G207,Sheet1!C:D,2,FALSE)","v":{"$error":"#N/A"}}]
[{"$nulls":6},"",{"$f":"VLOOKUP(G208,Sheet1!C:D,2,FALSE)","v":{"$error":"#N/A"}}]
[{"$nulls":6},"",{"$f":"VLOOKUP(G209,Sheet1!C:D,2,FALSE)","v":{"$error":"#N/A"}}]
[{"$nulls":6},"",{"$f":"VLOOKUP(G210,Sheet1!C:D,2,FALSE)","v":{"$error":"#N/A"}}]
[{"$nulls":6},"",{"$f":"VLOOKUP(G211,Sheet1!C:D,2,FALSE)","v":{"$error":"#N/A"}}]
[{"$nulls":6},"",{"$f":"VLOOKUP(G212,Sheet1!C:D,2,FALSE)","v":{"$error":"#N/A"}}]
[{"$nulls":6},"",{"$f":"VLOOKUP(G213,Sheet1!C:D,2,FALSE)","v":{"$error":"#N/A"}}]
[{"$nulls":6},"",{"$f":"VLOOKUP(G214,Sheet1!C:D,2,FALSE)","v":{"$error":"#N/A"}}]
[{"$nulls":6},"",{"$f":"VLOOKUP(G215,Sheet1!C:D,2,FALSE)","v":{"$error":"#N/A"}}]
[{"$nulls":6},"",{"$f":"VLOOKUP(G216,Sheet1!C:D,2,FALSE)","v":{"$error":"#N/A"}}]
[{"$nulls":6},"",{"$f":"VLOOKUP(G217,Sheet1!C:D,2,FALSE)","v":{"$error":"#N/A"}}]
[{"$nulls":6},"",{"$f":"VLOOKUP(G218,Sheet1!C:D,2,FALSE)","v":{"$error":"#N/A"}}]
[{"$nulls":6},"",{"$f":"VLOOKUP(G219,Sheet1!C:D,2,FALSE)","v":{"$error":"#N/A"}}]
[{"$nulls":6},"",{"$f":"VLOOKUP(G220,Sheet1!C:D,2,FALSE)","v":{"$error":"#N/A"}}]
[{"$nulls":6},"",{"$f":"VLOOKUP(G221,Sheet1!C:D,2,FALSE)","v":{"$error":"#N/A"}}]
[{"$nulls":6},"",{"$f":"VLOOKUP(G222,Sheet1!C:D,2,FALSE)","v":{"$error":"#N/A"}}]
[{"$nulls":6},"",{"$f":"VLOOKUP(G223,Sheet1!C:D,2,FALSE)","v":{"$error":"#N/A"}}]
[{"$nulls":6},"",{"$f":"VLOOKUP(G224,Sheet1!C:D,2,FALSE)","v":{"$error":"#N/A"}}]
[{"$nulls":6},"",{"$f":"VLOOKUP(G225,Sheet1!C:D,2,FALSE)","v":{"$error":"#N/A"}}]
[{"$nulls":6},"",{"$f":"VLOOKUP(G226,Sheet1!C:D,2,FALSE)","v":{"$error":"#N/A"}}]
[{"$nulls":6},"",{"$f":"VLOOKUP(G227,Sheet1!C:D,2,FALSE)","v":{"$error":"#N/A"}}]
[{"$nulls":6},"",{"$f":"VLOOKUP(G228,Sheet1!C:D,2,FALSE)","v":{"$error":"#N/A"}}]
[{"$nulls":6},"",{"$f":"VLOOKUP(G229,Sheet1!C:D,2,FALSE)","v":{"$error":"#N/A"}}]
[{"$nulls":6},"",{"$f":"VLOOKUP(G230,Sheet1!C:D,2,FALSE)","v":{"$error":"#N/A"}}]
[{"$nulls":6},"",{"$f":"VLOOKUP(G231,Sheet1!C:D,2,FALSE)","v":{"$error":"#N/A"}}]
[{"$nulls":6},"",{"$f":"VLOOKUP(G232,Sheet1!C:D,2,FALSE)","v":{"$error":"#N/A"}}]
[{"$nulls":6},"",{"$f":"VLOOKUP(G233,Sheet1!C:D,2,FALSE)","v":{"$error":"#N/A"}}]
[{"$nulls":6},"",{"$f":"VLOOKUP(G234,Sheet1!C:D,2,FALSE)","v":{"$error":"#N/A"}}]
[{"$nulls":6},"",{"$f":"VLOOKUP(G235,Sheet1!C:D,2,FALSE)","v":{"$error":"#N/A"}}]
[{"$nulls":6},"",{"$f":"VLOOKUP(G236,Sheet1!C:D,2,FALSE)","v":{"$error":"#N/A"}}]
[{"$nulls":6},"",{"$f":"VLOOKUP(G237,Sheet1!C:D,2,FALSE)","v":{"$error":"#N/A"}}]
[{"$nulls":6},"",{"$f":"VLOOKUP(G238,Sheet1!C:D,2,FALSE)","v":{"$error":"#N/A"}}]
[{"$nulls":6},"",{"$f":"VLOOKUP(G239,Sheet1!C:D,2,FALSE)","v":{"$error":"#N/A"}}]
[{"$nulls":6},"",{"$f":"VLOOKUP(G240,Sheet1!C:D,2,FALSE)","v":{"$error":"#N/A"}}]
[{"$nulls":6},"",{"$f":"VLOOKUP(G241,Sheet1!C:D,2,FALSE)","v":{"$error":"#N/A"}}]
[{"$nulls":6},"",{"$f":"VLOOKUP(G242,Sheet1!C:D,2,FALSE)","v":{"$error":"#N/A"}}]
[{"$nulls":6},"",{"$f":"VLOOKUP(G243,Sheet1!C:D,2,FALSE)","v":{"$error":"#N/A"}}]
[{"$nulls":6},"",{"$f":"VLOOKUP(G244,Sheet1!C:D,2,FALSE)","v":{"$error":"#N/A"}}]
[{"$nulls":6},"",{"$f":"VLOOKUP(G245,Sheet1!C:D,2,FALSE)","v":{"$error":"#N/A"}}]
[{"$nulls":6},"",{"$f":"VLOOKUP(G246,Sheet1!C:D,2,FALSE)","v":{"$error":"#N/A"}}]
[{"$nulls":6},"",{"$f":"VLOOKUP(G247,Sheet1!C:D,2,FALSE)","v":{"$error":"#N/A"}}]
[{"$nulls":6},"",{"$f":"VLOOKUP(G248,Sheet1!C:D,2,FALSE)","v":{"$error":"#N/A"}}]
[{"$nulls":6},"",{"$f":"VLOOKUP(G249,Sheet1!C:D,2,FALSE)","v":{"$error":"#N/A"}}]
[{"$nulls":6},"",{"$f":"VLOOKUP(G250,Sheet1!C:D,2,FALSE)","v":{"$error":"#N/A"}}]
[{"$nulls":6},"",{"$f":"VLOOKUP(G251,Sheet1!C:D,2,FALSE)","v":{"$error":"#N/A"}}]
[{"$nulls":6},"",{"$f":"VLOOKUP(G252,Sheet1!C:D,2,FALSE)","v":{"$error":"#N/A"}}]
[{"$nulls":6},"",{"$f":"VLOOKUP(G253,Sheet1!C:D,2,FALSE)","v":{"$error":"#N/A"}}]
[{"$nulls":6},"",{"$f":"VLOOKUP(G254,Sheet1!C:D,2,FALSE)","v":{"$error":"#N/A"}}]
[{"$nulls":6},"",{"$f":"VLOOKUP(G255,Sheet1!C:D,2,FALSE)","v":{"$error":"#N/A"}}]
[{"$nulls":6},"",{"$f":"VLOOKUP(G256,Sheet1!C:D,2,FALSE)","v":{"$error":"#N/A"}}]
[{"$nulls":6},"",{"$f":"VLOOKUP(G257,Sheet1!C:D,2,FALSE)","v":{"$error":"#N/A"}}]
[{"$nulls":6},"",{"$f":"VLOOKUP(G258,Sheet1!C:D,2,FALSE)","v":{"$error":"#N/A"}}]
[{"$nulls":6},"",{"$f":"VLOOKUP(G259,Sheet1!C:D,2,FALSE)","v":{"$error":"#N/A"}}]
[{"$nulls":6},"",{"$f":"VLOOKUP(G260,Sheet1!C:D,2,FALSE)","v":{"$error":"#N/A"}}]
[{"$nulls":6},{"$f":"C261&F261","v":""},{"$f":"VLOOKUP(G261,Sheet1!C:D,2,FALSE)","v":{"$error":"#N/A"}}]
[{"$nulls":6},"",{"$f":"VLOOKUP(G262,Sheet1!C:D,2,FALSE)","v":{"$error":"#N/A"}}]
[{"$nulls":6},"",{"$f":"VLOOKUP(G263,Sheet1!C:D,2,FALSE)","v":{"$error":"#N/A"}}]
[{"$nulls":6},"",{"$f":"VLOOKUP(G264,Sheet1!C:D,2,FALSE)","v":{"$error":"#N/A"}}]
[{"$nulls":6},"",{"$f":"VLOOKUP(G265,Sheet1!C:D,2,FALSE)","v":{"$error":"#N/A"}}]
[{"$nulls":6},"",{"$f":"VLOOKUP(G266,Sheet1!C:D,2,FALSE)","v":{"$error":"#N/A"}}]
[{"$nulls":6},"",{"$f":"VLOOKUP(G267,Sheet1!C:D,2,FALSE)","v":{"$error":"#N/A"}}]
[{"$nulls":6},"",{"$f":"VLOOKUP(G268,Sheet1!C:D,2,FALSE)","v":{"$error":"#N/A"}}]
[{"$nulls":6},"",{"$f":"VLOOKUP(G269,Sheet1!C:D,2,FALSE)","v":{"$error":"#N/A"}}]
[{"$nulls":6},"",{"$f":"VLOOKUP(G270,Sheet1!C:D,2,FALSE)","v":{"$error":"#N/A"}}]
[{"$nulls":6},"",{"$f":"VLOOKUP(G271,Sheet1!C:D,2,FALSE)","v":{"$error":"#N/A"}}]
[{"$nulls":6},"",{"$f":"VLOOKUP(G272,Sheet1!C:D,2,FALSE)","v":{"$error":"#N/A"}}]
[{"$nulls":6},"",{"$f":"VLOOKUP(G273,Sheet1!C:D,2,FALSE)","v":{"$error":"#N/A"}}]
[{"$nulls":6},"",{"$f":"VLOOKUP(G274,Sheet1!C:D,2,FALSE)","v":{"$error":"#N/A"}}]
[{"$nulls":6},"",{"$f":"VLOOKUP(G275,Sheet1!C:D,2,FALSE)","v":{"$error":"#N/A"}}]
[{"$nulls":6},"",{"$f":"VLOOKUP(G276,Sheet1!C:D,2,FALSE)","v":{"$error":"#N/A"}}]
[{"$nulls":6},"",{"$f":"VLOOKUP(G277,Sheet1!C:D,2,FALSE)","v":{"$error":"#N/A"}}]
[{"$nulls":6},"",{"$f":"VLOOKUP(G278,Sheet1!C:D,2,FALSE)","v":{"$error":"#N/A"}}]
[{"$nulls":6},"",{"$f":"VLOOKUP(G279,Sheet1!C:D,2,FALSE)","v":{"$error":"#N/A"}}]
[{"$nulls":6},"",{"$f":"VLOOKUP(G280,Sheet1!C:D,2,FALSE)","v":{"$error":"#N/A"}}]
[{"$nulls":6},"",{"$f":"VLOOKUP(G281,Sheet1!C:D,2,FALSE)","v":{"$error":"#N/A"}}]
[{"$nulls":6},"",{"$f":"VLOOKUP(G282,Sheet1!C:D,2,FALSE)","v":{"$error":"#N/A"}}]
[{"$nulls":6},"",{"$f":"VLOOKUP(G283,Sheet1!C:D,2,FALSE)","v":{"$error":"#N/A"}}]
[{"$nulls":6},"",{"$f":"VLOOKUP(G284,Sheet1!C:D,2,FALSE)","v":{"$error":"#N/A"}}]
[{"$nulls":6},"",{"$f":"VLOOKUP(G285,Sheet1!C:D,2,FALSE)","v":{"$error":"#N/A"}}]
[{"$nulls":6},"",{"$f":"VLOOKUP(G286,Sheet1!C:D,2,FALSE)","v":{"$error":"#N/A"}}]
[{"$nulls":6},"",{"$f":"VLOOKUP(G287,Sheet1!C:D,2,FALSE)","v":{"$error":"#N/A"}}]
[{"$nulls":6},"",{"$f":"VLOOKUP(G288,Sheet1!C:D,2,FALSE)","v":{"$error":"#N/A"}}]
[{"$nulls":6},"",{"$f":"VLOOKUP(G289,Sheet1!C:D,2,FALSE)","v":{"$error":"#N/A"}}]
[{"$nulls":6},"",{"$f":"VLOOKUP(G290,Sheet1!C:D,2,FALSE)","v":{"$error":"#N/A"}}]
[{"$nulls":6},"",{"$f":"VLOOKUP(G291,Sheet1!C:D,2,FALSE)","v":{"$error":"#N/A"}}]
[{"$nulls":6},"",{"$f":"VLOOKUP(G292,Sheet1!C:D,2,FALSE)","v":{"$error":"#N/A"}}]
[{"$nulls":6},"",{"$f":"VLOOKUP(G293,Sheet1!C:D,2,FALSE)","v":{"$error":"#N/A"}}]
[{"$nulls":6},"",{"$f":"VLOOKUP(G294,Sheet1!C:D,2,FALSE)","v":{"$error":"#N/A"}}]
[{"$nulls":6},"",{"$f":"VLOOKUP(G295,Sheet1!C:D,2,FALSE)","v":{"$error":"#N/A"}}]
[{"$nulls":6},"",{"$f":"VLOOKUP(G296,Sheet1!C:D,2,FALSE)","v":{"$error":"#N/A"}}]
[{"$nulls":6},"",{"$f":"VLOOKUP(G297,Sheet1!C:D,2,FALSE)","v":{"$error":"#N/A"}}]
[{"$nulls":6},"",{"$f":"VLOOKUP(G298,Sheet1!C:D,2,FALSE)","v":{"$error":"#N/A"}}]
[{"$nulls":6},"",{"$f":"VLOOKUP(G299,Sheet1!C:D,2,FALSE)","v":{"$error":"#N/A"}}]
[{"$nulls":6},"",{"$f":"VLOOKUP(G300,Sheet1!C:D,2,FALSE)","v":{"$error":"#N/A"}}]
[{"$nulls":6},"",{"$f":"VLOOKUP(G301,Sheet1!C:D,2,FALSE)","v":{"$error":"#N/A"}}]
[{"$nulls":6},"",{"$f":"VLOOKUP(G302,Sheet1!C:D,2,FALSE)","v":{"$error":"#N/A"}}]
[{"$nulls":6},"",{"$f":"VLOOKUP(G303,Sheet1!C:D,2,FALSE)","v":{"$error":"#N/A"}}]
[{"$nulls":6},"",{"$f":"VLOOKUP(G304,Sheet1!C:D,2,FALSE)","v":{"$error":"#N/A"}}]
[{"$nulls":6},"",{"$f":"VLOOKUP(G305,Sheet1!C:D,2,FALSE)","v":{"$error":"#N/A"}}]
[{"$nulls":6},"",{"$f":"VLOOKUP(G306,Sheet1!C:D,2,FALSE)","v":{"$error":"#N/A"}}]
[{"$nulls":6},"",{"$f":"VLOOKUP(G307,Sheet1!C:D,2,FALSE)","v":{"$error":"#N/A"}}]
[{"$nulls":6},"",{"$f":"VLOOKUP(G308,Sheet1!C:D,2,FALSE)","v":{"$error":"#N/A"}}]
[{"$nulls":6},"",{"$f":"VLOOKUP(G309,Sheet1!C:D,2,FALSE)","v":{"$error":"#N/A"}}]
[{"$nulls":6},"",{"$f":"VLOOKUP(G310,Sheet1!C:D,2,FALSE)","v":{"$error":"#N/A"}}]
[{"$nulls":6},"",{"$f":"VLOOKUP(G311,Sheet1!C:D,2,FALSE)","v":{"$error":"#N/A"}}]
[{"$nulls":6},"",{"$f":"VLOOKUP(G312,Sheet1!C:D,2,FALSE)","v":{"$error":"#N/A"}}]
[{"$nulls":6},"",{"$f":"VLOOKUP(G313,Sheet1!C:D,2,FALSE)","v":{"$error":"#N/A"}}]
[{"$nulls":6},"",{"$f":"VLOOKUP(G314,Sheet1!C:D,2,FALSE)","v":{"$error":"#N/A"}}]
[{"$nulls":6},"",{"$f":"VLOOKUP(G315,Sheet1!C:D,2,FALSE)","v":{"$error":"#N/A"}}]
[{"$nulls":6},"",{"$f":"VLOOKUP(G316,Sheet1!C:D,2,FALSE)","v":{"$error":"#N/A"}}]
[{"$nulls":6},"",{"$f":"VLOOKUP(G317,Sheet1!C:D,2,FALSE)","v":{"$error":"#N/A"}}]
[{"$nulls":6},"",{"$f":"VLOOKUP(G318,Sheet1!C:D,2,FALSE)","v":{"$error":"#N/A"}}]
[{"$nulls":6},"",{"$f":"VLOOKUP(G319,Sheet1!C:D,2,FALSE)","v":{"$error":"#N/A"}}]
[{"$nulls":6},"",{"$f":"VLOOKUP(G320,Sheet1!C:D,2,FALSE)","v":{"$error":"#N/A"}}]
[{"$nulls":6},"",{"$f":"VLOOKUP(G321,Sheet1!C:D,2,FALSE)","v":{"$error":"#N/A"}}]
[{"$nulls":6},"",{"$f":"VLOOKUP(G322,Sheet1!C:D,2,FALSE)","v":{"$error":"#N/A"}}]
[{"$nulls":6},"",{"$f":"VLOOKUP(G323,Sheet1!C:D,2,FALSE)","v":{"$error":"#N/A"}}]
[{"$nulls":6},"",{"$f":"VLOOKUP(G324,Sheet1!C:D,2,FALSE)","v":{"$error":"#N/A"}}]
[{"$nulls":6},{"$f":"C325&F325","v":""},{"$f":"VLOOKUP(G325,Sheet1!C:D,2,FALSE)","v":{"$error":"#N/A"}}]
[{"$nulls":6},"",{"$f":"VLOOKUP(G326,Sheet1!C:D,2,FALSE)","v":{"$error":"#N/A"}}]
[{"$nulls":6},"",{"$f":"VLOOKUP(G327,Sheet1!C:D,2,FALSE)","v":{"$error":"#N/A"}}]
[{"$nulls":6},"",{"$f":"VLOOKUP(G328,Sheet1!C:D,2,FALSE)","v":{"$error":"#N/A"}}]
[{"$nulls":6},"",{"$f":"VLOOKUP(G329,Sheet1!C:D,2,FALSE)","v":{"$error":"#N/A"}}]
[{"$nulls":6},"",{"$f":"VLOOKUP(G330,Sheet1!C:D,2,FALSE)","v":{"$error":"#N/A"}}]
[{"$nulls":6},"",{"$f":"VLOOKUP(G331,Sheet1!C:D,2,FALSE)","v":{"$error":"#N/A"}}]
[{"$nulls":6},"",{"$f":"VLOOKUP(G332,Sheet1!C:D,2,FALSE)","v":{"$error":"#N/A"}}]
[{"$nulls":6},"",{"$f":"VLOOKUP(G333,Sheet1!C:D,2,FALSE)","v":{"$error":"#N/A"}}]
[{"$nulls":6},"",{"$f":"VLOOKUP(G334,Sheet1!C:D,2,FALSE)","v":{"$error":"#N/A"}}]
[{"$nulls":6},"",{"$f":"VLOOKUP(G335,Sheet1!C:D,2,FALSE)","v":{"$error":"#N/A"}}]
[{"$nulls":6},"",{"$f":"VLOOKUP(G336,Sheet1!C:D,2,FALSE)","v":{"$error":"#N/A"}}]
[{"$nulls":6},"",{"$f":"VLOOKUP(G337,Sheet1!C:D,2,FALSE)","v":{"$error":"#N/A"}}]
[{"$nulls":6},"",{"$f":"VLOOKUP(G338,Sheet1!C:D,2,FALSE)","v":{"$error":"#N/A"}}]
[{"$nulls":6},"",{"$f":"VLOOKUP(G339,Sheet1!C:D,2,FALSE)","v":{"$error":"#N/A"}}]
[{"$nulls":6},"",{"$f":"VLOOKUP(G340,Sheet1!C:D,2,FALSE)","v":{"$error":"#N/A"}}]
[{"$nulls":6},"",{"$f":"VLOOKUP(G341,Sheet1!C:D,2,FALSE)","v":{"$error":"#N/A"}}]
[{"$nulls":6},"",{"$f":"VLOOKUP(G342,Sheet1!C:D,2,FALSE)","v":{"$error":"#N/A"}}]
[{"$nulls":6},"",{"$f":"VLOOKUP(G343,Sheet1!C:D,2,FALSE)","v":{"$error":"#N/A"}}]
[{"$nulls":6},"",{"$f":"VLOOKUP(G344,Sheet1!C:D,2,FALSE)","v":{"$error":"#N/A"}}]
[{"$nulls":6},"",{"$f":"VLOOKUP(G345,Sheet1!C:D,2,FALSE)","v":{"$error":"#N/A"}}]
[{"$nulls":6},"",{"$f":"VLOOKUP(G346,Sheet1!C:D,2,FALSE)","v":{"$error":"#N/A"}}]
[{"$nulls":6},"",{"$f":"VLOOKUP(G347,Sheet1!C:D,2,FALSE)","v":{"$error":"#N/A"}}]
[{"$nulls":6},"",{"$f":"VLOOKUP(G348,Sheet1!C:D,2,FALSE)","v":{"$error":"#N/A"}}]
[{"$nulls":6},"",{"$f":"VLOOKUP(G349,Sheet1!C:D,2,FALSE)","v":{"$error":"#N/A"}}]
[{"$nulls":6},"",{"$f":"VLOOKUP(G350,Sheet1!C:D,2,FALSE)","v":{"$error":"#N/A"}}]
[{"$nulls":6},"",{"$f":"VLOOKUP(G351,Sheet1!C:D,2,FALSE)","v":{"$error":"#N/A"}}]
[{"$nulls":6},"",{"$f":"VLOOKUP(G352,Sheet1!C:D,2,FALSE)","v":{"$error":"#N/A"}}]
[{"$nulls":6},"",{"$f":"VLOOKUP(G353,Sheet1!C:D,2,FALSE)","v":{"$error":"#N/A"}}]
[{"$nulls":6},"",{"$f":"VLOOKUP(G354,Sheet1!C:D,2,FALSE)","v":{"$error":"#N/A"}}]
[{"$nulls":6},"",{"$f":"VLOOKUP(G355,Sheet1!C:D,2,FALSE)","v":{"$error":"#N/A"}}]
[{"$nulls":6},"",{"$f":"VLOOKUP(G356,Sheet1!C:D,2,FALSE)","v":{"$error":"#N/A"}}]
[{"$nulls":6},"",{"$f":"VLOOKUP(G357,Sheet1!C:D,2,FALSE)","v":{"$error":"#N/A"}}]
[{"$nulls":6},"",{"$f":"VLOOKUP(G358,Sheet1!C:D,2,FALSE)","v":{"$error":"#N/A"}}]
[{"$nulls":6},"",{"$f":"VLOOKUP(G359,Sheet1!C:D,2,FALSE)","v":{"$error":"#N/A"}}]
[{"$nulls":6},"",{"$f":"VLOOKUP(G360,Sheet1!C:D,2,FALSE)","v":{"$error":"#N/A"}}]
[{"$nulls":6},"",{"$f":"VLOOKUP(G361,Sheet1!C:D,2,FALSE)","v":{"$error":"#N/A"}}]
[{"$nulls":6},"",{"$f":"VLOOKUP(G362,Sheet1!C:D,2,FALSE)","v":{"$error":"#N/A"}}]
[{"$nulls":6},"",{"$f":"VLOOKUP(G363,Sheet1!C:D,2,FALSE)","v":{"$error":"#N/A"}}]
[{"$nulls":6},"",{"$f":"VLOOKUP(G364,Sheet1!C:D,2,FALSE)","v":{"$error":"#N/A"}}]
[{"$nulls":6},"",{"$f":"VLOOKUP(G365,Sheet1!C:D,2,FALSE)","v":{"$error":"#N/A"}}]
[{"$nulls":6},"",{"$f":"VLOOKUP(G366,Sheet1!C:D,2,FALSE)","v":{"$error":"#N/A"}}]
[{"$nulls":6},"",{"$f":"VLOOKUP(G367,Sheet1!C:D,2,FALSE)","v":{"$error":"#N/A"}}]
[{"$nulls":6},"",{"$f":"VLOOKUP(G368,Sheet1!C:D,2,FALSE)","v":{"$error":"#N/A"}}]
[{"$nulls":6},"",{"$f":"VLOOKUP(G369,Sheet1!C:D,2,FALSE)","v":{"$error":"#N/A"}}]
[{"$nulls":6},"",{"$f":"VLOOKUP(G370,Sheet1!C:D,2,FALSE)","v":{"$error":"#N/A"}}]
[{"$nulls":6},"",{"$f":"VLOOKUP(G371,Sheet1!C:D,2,FALSE)","v":{"$error":"#N/A"}}]
[{"$nulls":6},"",{"$f":"VLOOKUP(G372,Sheet1!C:D,2,FALSE)","v":{"$error":"#N/A"}}]
[{"$nulls":6},"",{"$f":"VLOOKUP(G373,Sheet1!C:D,2,FALSE)","v":{"$error":"#N/A"}}]
[{"$nulls":6},"",{"$f":"VLOOKUP(G374,Sheet1!C:D,2,FALSE)","v":{"$error":"#N/A"}}]
[{"$nulls":6},"",{"$f":"VLOOKUP(G375,Sheet1!C:D,2,FALSE)","v":{"$error":"#N/A"}}]
[{"$nulls":6},"",{"$f":"VLOOKUP(G376,Sheet1!C:D,2,FALSE)","v":{"$error":"#N/A"}}]
[{"$nulls":6},"",{"$f":"VLOOKUP(G377,Sheet1!C:D,2,FALSE)","v":{"$error":"#N/A"}}]
[{"$nulls":6},"",{"$f":"VLOOKUP(G378,Sheet1!C:D,2,FALSE)","v":{"$error":"#N/A"}}]
[{"$nulls":6},"",{"$f":"VLOOKUP(G379,Sheet1!C:D,2,FALSE)","v":{"$error":"#N/A"}}]
[{"$nulls":6},"",{"$f":"VLOOKUP(G380,Sheet1!C:D,2,FALSE)","v":{"$error":"#N/A"}}]
[{"$nulls":6},"",{"$f":"VLOOKUP(G381,Sheet1!C:D,2,FALSE)","v":{"$error":"#N/A"}}]
[{"$nulls":6},"",{"$f":"VLOOKUP(G382,Sheet1!C:D,2,FALSE)","v":{"$error":"#N/A"}}]
[{"$nulls":6},"",{"$f":"VLOOKUP(G383,Sheet1!C:D,2,FALSE)","v":{"$error":"#N/A"}}]
[{"$nulls":6},"",{"$f":"VLOOKUP(G384,Sheet1!C:D,2,FALSE)","v":{"$error":"#N/A"}}]
[{"$nulls":6},"",{"$f":"VLOOKUP(G385,Sheet1!C:D,2,FALSE)","v":{"$error":"#N/A"}}]
[{"$nulls":6},"",{"$f":"VLOOKUP(G386,Sheet1!C:D,2,FALSE)","v":{"$error":"#N/A"}}]
[{"$nulls":6},"",{"$f":"VLOOKUP(G387,Sheet1!C:D,2,FALSE)","v":{"$error":"#N/A"}}]
[{"$nulls":6},"",{"$f":"VLOOKUP(G388,Sheet1!C:D,2,FALSE)","v":{"$error":"#N/A"}}]
[{"$nulls":6},{"$f":"C389&F389","v":""},{"$f":"VLOOKUP(G389,Sheet1!C:D,2,FALSE)","v":{"$error":"#N/A"}}]
[{"$nulls":6},"",{"$f":"VLOOKUP(G390,Sheet1!C:D,2,FALSE)","v":{"$error":"#N/A"}}]
[{"$nulls":6},"",{"$f":"VLOOKUP(G391,Sheet1!C:D,2,FALSE)","v":{"$error":"#N/A"}}]
[{"$nulls":6},"",{"$f":"VLOOKUP(G392,Sheet1!C:D,2,FALSE)","v":{"$error":"#N/A"}}]
[{"$nulls":6},"",{"$f":"VLOOKUP(G393,Sheet1!C:D,2,FALSE)","v":{"$error":"#N/A"}}]
[{"$nulls":6},"",{"$f":"VLOOKUP(G394,Sheet1!C:D,2,FALSE)","v":{"$error":"#N/A"}}]
[{"$nulls":6},"",{"$f":"VLOOKUP(G395,Sheet1!C:D,2,FALSE)","v":{"$error":"#N/A"}}]
[{"$nulls":6},"",{"$f":"VLOOKUP(G396,Sheet1!C:D,2,FALSE)","v":{"$error":"#N/A"}}]
[{"$nulls":6},"",{"$f":"VLOOKUP(G397,Sheet1!C:D,2,FALSE)","v":{"$error":"#N/A"}}]
[{"$nulls":6},"",{"$f":"VLOOKUP(G398,Sheet1!C:D,2,FALSE)","v":{"$error":"#N/A"}}]
[{"$nulls":6},"",{"$f":"VLOOKUP(G399,Sheet1!C:D,2,FALSE)","v":{"$error":"#N/A"}}]
[{"$nulls":6},"",{"$f":"VLOOKUP(G400,Sheet1!C:D,2,FALSE)","v":{"$error":"#N/A"}}]
[{"$nulls":6},"",{"$f":"VLOOKUP(G401,Sheet1!C:D,2,FALSE)","v":{"$error":"#N/A"}}]
[{"$nulls":6},"",{"$f":"VLOOKUP(G402,Sheet1!C:D,2,FALSE)","v":{"$error":"#N/A"}}]
[{"$nulls":6},"",{"$f":"VLOOKUP(G403,Sheet1!C:D,2,FALSE)","v":{"$error":"#N/A"}}]
[{"$nulls":6},"",{"$f":"VLOOKUP(G404,Sheet1!C:D,2,FALSE)","v":{"$error":"#N/A"}}]
[{"$nulls":6},"",{"$f":"VLOOKUP(G405,Sheet1!C:D,2,FALSE)","v":{"$error":"#N/A"}}]
[{"$nulls":6},"",{"$f":"VLOOKUP(G406,Sheet1!C:D,2,FALSE)","v":{"$error":"#N/A"}}]
[{"$nulls":6},"",{"$f":"VLOOKUP(G407,Sheet1!C:D,2,FALSE)","v":{"$error":"#N/A"}}]
[{"$nulls":6},"",{"$f":"VLOOKUP(G408,Sheet1!C:D,2,FALSE)","v":{"$error":"#N/A"}}]
[{"$nulls":6},"",{"$f":"VLOOKUP(G409,Sheet1!C:D,2,FALSE)","v":{"$error":"#N/A"}}]
[{"$nulls":6},"",{"$f":"VLOOKUP(G410,Sheet1!C:D,2,FALSE)","v":{"$error":"#N/A"}}]
[{"$nulls":6},"",{"$f":"VLOOKUP(G411,Sheet1!C:D,2,FALSE)","v":{"$error":"#N/A"}}]
[{"$nulls":6},"",{"$f":"VLOOKUP(G412,Sheet1!C:D,2,FALSE)","v":{"$error":"#N/A"}}]
[{"$nulls":6},"",{"$f":"VLOOKUP(G413,Sheet1!C:D,2,FALSE)","v":{"$error":"#N/A"}}]
[{"$nulls":6},"",{"$f":"VLOOKUP(G414,Sheet1!C:D,2,FALSE)","v":{"$error":"#N/A"}}]
[{"$nulls":6},"",{"$f":"VLOOKUP(G415,Sheet1!C:D,2,FALSE)","v":{"$error":"#N/A"}}]
[{"$nulls":6},"",{"$f":"VLOOKUP(G416,Sheet1!C:D,2,FALSE)","v":{"$error":"#N/A"}}]
[{"$nulls":6},"",{"$f":"VLOOKUP(G417,Sheet1!C:D,2,FALSE)","v":{"$error":"#N/A"}}]
[{"$nulls":6},"",{"$f":"VLOOKUP(G418,Sheet1!C:D,2,FALSE)","v":{"$error":"#N/A"}}]
[{"$nulls":6},"",{"$f":"VLOOKUP(G419,Sheet1!C:D,2,FALSE)","v":{"$error":"#N/A"}}]
[{"$nulls":6},"",{"$f":"VLOOKUP(G420,Sheet1!C:D,2,FALSE)","v":{"$error":"#N/A"}}]
[{"$nulls":6},"",{"$f":"VLOOKUP(G421,Sheet1!C:D,2,FALSE)","v":{"$error":"#N/A"}}]
[{"$nulls":6},"",{"$f":"VLOOKUP(G422,Sheet1!C:D,2,FALSE)","v":{"$error":"#N/A"}}]
[{"$nulls":6},"",{"$f":"VLOOKUP(G423,Sheet1!C:D,2,FALSE)","v":{"$error":"#N/A"}}]
[{"$nulls":6},"",{"$f":"VLOOKUP(G424,Sheet1!C:D,2,FALSE)","v":{"$error":"#N/A"}}]
[{"$nulls":6},"",{"$f":"VLOOKUP(G425,Sheet1!C:D,2,FALSE)","v":{"$error":"#N/A"}}]
[{"$nulls":6},"",{"$f":"VLOOKUP(G426,Sheet1!C:D,2,FALSE)","v":{"$error":"#N/A"}}]
[{"$nulls":6},"",{"$f":"VLOOKUP(G427,Sheet1!C:D,2,FALSE)","v":{"$error":"#N/A"}}]
[{"$nulls":6},"",{"$f":"VLOOKUP(G428,Sheet1!C:D,2,FALSE)","v":{"$error":"#N/A"}}]
[{"$nulls":6},"",{"$f":"VLOOKUP(G429,Sheet1!C:D,2,FALSE)","v":{"$error":"#N/A"}}]
[{"$nulls":6},"",{"$f":"VLOOKUP(G430,Sheet1!C:D,2,FALSE)","v":{"$error":"#N/A"}}]
[{"$nulls":6},"",{"$f":"VLOOKUP(G431,Sheet1!C:D,2,FALSE)","v":{"$error":"#N/A"}}]
[{"$nulls":6},"",{"$f":"VLOOKUP(G432,Sheet1!C:D,2,FALSE)","v":{"$error":"#N/A"}}]
[{"$nulls":6},"",{"$f":"VLOOKUP(G433,Sheet1!C:D,2,FALSE)","v":{"$error":"#N/A"}}]
[{"$nulls":6},"",{"$f":"VLOOKUP(G434,Sheet1!C:D,2,FALSE)","v":{"$error":"#N/A"}}]
[{"$nulls":6},"",{"$f":"VLOOKUP(G435,Sheet1!C:D,2,FALSE)","v":{"$error":"#N/A"}}]
[{"$nulls":6},"",{"$f":"VLOOKUP(G436,Sheet1!C:D,2,FALSE)","v":{"$error":"#N/A"}}]
[{"$nulls":6},"",{"$f":"VLOOKUP(G437,Sheet1!C:D,2,FALSE)","v":{"$error":"#N/A"}}]
[{"$nulls":6},"",{"$f":"VLOOKUP(G438,Sheet1!C:D,2,FALSE)","v":{"$error":"#N/A"}}]
[{"$nulls":6},"",{"$f":"VLOOKUP(G439,Sheet1!C:D,2,FALSE)","v":{"$error":"#N/A"}}]
[{"$nulls":6},"",{"$f":"VLOOKUP(G440,Sheet1!C:D,2,FALSE)","v":{"$error":"#N/A"}}]
[{"$nulls":6},"",{"$f":"VLOOKUP(G441,Sheet1!C:D,2,FALSE)","v":{"$error":"#N/A"}}]
[{"$nulls":6},"",{"$f":"VLOOKUP(G442,Sheet1!C:D,2,FALSE)","v":{"$error":"#N/A"}}]
[{"$nulls":6},"",{"$f":"VLOOKUP(G443,Sheet1!C:D,2,FALSE)","v":{"$error":"#N/A"}}]
[{"$nulls":6},"",{"$f":"VLOOKUP(G444,Sheet1!C:D,2,FALSE)","v":{"$error":"#N/A"}}]
[{"$nulls":6},"",{"$f":"VLOOKUP(G445,Sheet1!C:D,2,FALSE)","v":{"$error":"#N/A"}}]
[{"$nulls":6},"",{"$f":"VLOOKUP(G446,Sheet1!C:D,2,FALSE)","v":{"$error":"#N/A"}}]
[{"$nulls":6},"",{"$f":"VLOOKUP(G447,Sheet1!C:D,2,FALSE)","v":{"$error":"#N/A"}}]
[{"$nulls":6},"",{"$f":"VLOOKUP(G448,Sheet1!C:D,2,FALSE)","v":{"$error":"#N/A"}}]
[{"$nulls":6},"",{"$f":"VLOOKUP(G449,Sheet1!C:D,2,FALSE)","v":{"$error":"#N/A"}}]
[{"$nulls":6},"",{"$f":"VLOOKUP(G450,Sheet1!C:D,2,FALSE)","v":{"$error":"#N/A"}}]
[{"$nulls":6},"",{"$f":"VLOOKUP(G451,Sheet1!C:D,2,FALSE)","v":{"$error":"#N/A"}}]
[{"$nulls":6},"",{"$f":"VLOOKUP(G452,Sheet1!C:D,2,FALSE)","v":{"$error":"#N/A"}}]
[{"$nulls":6},{"$f":"C453&F453","v":""},{"$f":"VLOOKUP(G453,Sheet1!C:D,2,FALSE)","v":{"$error":"#N/A"}}]
[{"$nulls":6},"",{"$f":"VLOOKUP(G454,Sheet1!C:D,2,FALSE)","v":{"$error":"#N/A"}}]
[{"$nulls":6},"",{"$f":"VLOOKUP(G455,Sheet1!C:D,2,FALSE)","v":{"$error":"#N/A"}}]
[{"$nulls":6},"",{"$f":"VLOOKUP(G456,Sheet1!C:D,2,FALSE)","v":{"$error":"#N/A"}}]
[{"$nulls":6},"",{"$f":"VLOOKUP(G457,Sheet1!C:D,2,FALSE)","v":{"$error":"#N/A"}}]
[{"$nulls":6},"",{"$f":"VLOOKUP(G458,Sheet1!C:D,2,FALSE)","v":{"$error":"#N/A"}}]
[{"$nulls":6},"",{"$f":"VLOOKUP(G459,Sheet1!C:D,2,FALSE)","v":{"$error":"#N/A"}}]
[{"$nulls":6},"",{"$f":"VLOOKUP(G460,Sheet1!C:D,2,FALSE)","v":{"$error":"#N/A"}}]
[{"$nulls":6},"",{"$f":"VLOOKUP(G461,Sheet1!C:D,2,FALSE)","v":{"$error":"#N/A"}}]
[{"$nulls":6},"",{"$f":"VLOOKUP(G462,Sheet1!C:D,2,FALSE)","v":{"$error":"#N/A"}}]
[{"$nulls":6},"",{"$f":"VLOOKUP(G463,Sheet1!C:D,2,FALSE)","v":{"$error":"#N/A"}}]
[{"$nulls":6},"",{"$f":"VLOOKUP(G464,Sheet1!C:D,2,FALSE)","v":{"$error":"#N/A"}}]
[{"$nulls":6},"",{"$f":"VLOOKUP(G465,Sheet1!C:D,2,FALSE)","v":{"$error":"#N/A"}}]
[{"$nulls":6},"",{"$f":"VLOOKUP(G466,Sheet1!C:D,2,FALSE)","v":{"$error":"#N/A"}}]
[{"$nulls":6},"",{"$f":"VLOOKUP(G467,Sheet1!C:D,2,FALSE)","v":{"$error":"#N/A"}}]
[{"$nulls":6},"",{"$f":"VLOOKUP(G468,Sheet1!C:D,2,FALSE)","v":{"$error":"#N/A"}}]
[{"$nulls":6},"",{"$f":"VLOOKUP(G469,Sheet1!C:D,2,FALSE)","v":{"$error":"#N/A"}}]
[{"$nulls":6},"",{"$f":"VLOOKUP(G470,Sheet1!C:D,2,FALSE)","v":{"$error":"#N/A"}}]
[{"$nulls":6},"",{"$f":"VLOOKUP(G471,Sheet1!C:D,2,FALSE)","v":{"$error":"#N/A"}}]
[{"$nulls":6},"",{"$f":"VLOOKUP(G472,Sheet1!C:D,2,FALSE)","v":{"$error":"#N/A"}}]
[{"$nulls":6},"",{"$f":"VLOOKUP(G473,Sheet1!C:D,2,FALSE)","v":{"$error":"#N/A"}}]
[{"$nulls":6},"",{"$f":"VLOOKUP(G474,Sheet1!C:D,2,FALSE)","v":{"$error":"#N/A"}}]
[{"$nulls":6},"",{"$f":"VLOOKUP(G475,Sheet1!C:D,2,FALSE)","v":{"$error":"#N/A"}}]
[{"$nulls":6},"",{"$f":"VLOOKUP(G476,Sheet1!C:D,2,FALSE)","v":{"$error":"#N/A"}}]
[{"$nulls":6},"",{"$f":"VLOOKUP(G477,Sheet1!C:D,2,FALSE)","v":{"$error":"#N/A"}}]
[{"$nulls":6},"",{"$f":"VLOOKUP(G478,Sheet1!C:D,2,FALSE)","v":{"$error":"#N/A"}}]
[{"$nulls":6},"",{"$f":"VLOOKUP(G479,Sheet1!C:D,2,FALSE)","v":{"$error":"#N/A"}}]
[{"$nulls":6},"",{"$f":"VLOOKUP(G480,Sheet1!C:D,2,FALSE)","v":{"$error":"#N/A"}}]
[{"$nulls":6},"",{"$f":"VLOOKUP(G481,Sheet1!C:D,2,FALSE)","v":{"$error":"#N/A"}}]
[{"$nulls":6},"",{"$f":"VLOOKUP(G482,Sheet1!C:D,2,FALSE)","v":{"$error":"#N/A"}}]
[{"$nulls":6},"",{"$f":"VLOOKUP(G483,Sheet1!C:D,2,FALSE)","v":{"$error":"#N/A"}}]
[{"$nulls":6},"",{"$f":"VLOOKUP(G484,Sheet1!C:D,2,FALSE)","v":{"$error":"#N/A"}}]
[{"$nulls":6},"",{"$f":"VLOOKUP(G485,Sheet1!C:D,2,FALSE)","v":{"$error":"#N/A"}}]
[{"$nulls":6},"",{"$f":"VLOOKUP(G486,Sheet1!C:D,2,FALSE)","v":{"$error":"#N/A"}}]
[{"$nulls":6},"",{"$f":"VLOOKUP(G487,Sheet1!C:D,2,FALSE)","v":{"$error":"#N/A"}}]
[{"$nulls":6},"",{"$f":"VLOOKUP(G488,Sheet1!C:D,2,FALSE)","v":{"$error":"#N/A"}}]
[{"$nulls":6},"",{"$f":"VLOOKUP(G489,Sheet1!C:D,2,FALSE)","v":{"$error":"#N/A"}}]
[{"$nulls":6},"",{"$f":"VLOOKUP(G490,Sheet1!C:D,2,FALSE)","v":{"$error":"#N/A"}}]
[{"$nulls":6},"",{"$f":"VLOOKUP(G491,Sheet1!C:D,2,FALSE)","v":{"$error":"#N/A"}}]
[{"$nulls":6},"",{"$f":"VLOOKUP(G492,Sheet1!C:D,2,FALSE)","v":{"$error":"#N/A"}}]
[{"$nulls":6},"",{"$f":"VLOOKUP(G493,Sheet1!C:D,2,FALSE)","v":{"$error":"#N/A"}}]
[{"$nulls":6},"",{"$f":"VLOOKUP(G494,Sheet1!C:D,2,FALSE)","v":{"$error":"#N/A"}}]
[{"$nulls":6},"",{"$f":"VLOOKUP(G495,Sheet1!C:D,2,FALSE)","v":{"$error":"#N/A"}}]
[{"$nulls":6},"",{"$f":"VLOOKUP(G496,Sheet1!C:D,2,FALSE)","v":{"$error":"#N/A"}}]
[{"$nulls":6},"",{"$f":"VLOOKUP(G497,Sheet1!C:D,2,FALSE)","v":{"$error":"#N/A"}}]
[{"$nulls":6},"",{"$f":"VLOOKUP(G498,Sheet1!C:D,2,FALSE)","v":{"$error":"#N/A"}}]
[{"$nulls":6},"",{"$f":"VLOOKUP(G499,Sheet1!C:D,2,FALSE)","v":{"$error":"#N/A"}}]
[{"$nulls":6},"",{"$f":"VLOOKUP(G500,Sheet1!C:D,2,FALSE)","v":{"$error":"#N/A"}}]
[{"$nulls":6},"",{"$f":"VLOOKUP(G501,Sheet1!C:D,2,FALSE)","v":{"$error":"#N/A"}}]
[{"$nulls":6},"",{"$f":"VLOOKUP(G502,Sheet1!C:D,2,FALSE)","v":{"$error":"#N/A"}}]
[{"$nulls":6},"",{"$f":"VLOOKUP(G503,Sheet1!C:D,2,FALSE)","v":{"$error":"#N/A"}}]
[{"$nulls":6},"",{"$f":"VLOOKUP(G504,Sheet1!C:D,2,FALSE)","v":{"$error":"#N/A"}}]
[{"$nulls":6},"",{"$f":"VLOOKUP(G505,Sheet1!C:D,2,FALSE)","v":{"$error":"#N/A"}}]
[{"$nulls":6},"",{"$f":"VLOOKUP(G506,Sheet1!C:D,2,FALSE)","v":{"$error":"#N/A"}}]
[{"$nulls":6},"",{"$f":"VLOOKUP(G507,Sheet1!C:D,2,FALSE)","v":{"$error":"#N/A"}}]
[{"$nulls":6},"",{"$f":"VLOOKUP(G508,Sheet1!C:D,2,FALSE)","v":{"$error":"#N/A"}}]
[{"$nulls":6},"",{"$f":"VLOOKUP(G509,Sheet1!C:D,2,FALSE)","v":{"$error":"#N/A"}}]
[{"$nulls":6},"",{"$f":"VLOOKUP(G510,Sheet1!C:D,2,FALSE)","v":{"$error":"#N/A"}}]
[{"$nulls":6},"",{"$f":"VLOOKUP(G511,Sheet1!C:D,2,FALSE)","v":{"$error":"#N/A"}}]
[{"$nulls":6},"",{"$f":"VLOOKUP(G512,Sheet1!C:D,2,FALSE)","v":{"$error":"#N/A"}}]
[{"$nulls":6},"",{"$f":"VLOOKUP(G513,Sheet1!C:D,2,FALSE)","v":{"$error":"#N/A"}}]
[{"$nulls":6},"",{"$f":"VLOOKUP(G514,Sheet1!C:D,2,FALSE)","v":{"$error":"#N/A"}}]
[{"$nulls":6},"",{"$f":"VLOOKUP(G515,Sheet1!C:D,2,FALSE)","v":{"$error":"#N/A"}}]
[{"$nulls":6},"",{"$f":"VLOOKUP(G516,Sheet1!C:D,2,FALSE)","v":{"$error":"#N/A"}}]
[{"$nulls":6},{"$f":"C517&F517","v":""},{"$f":"VLOOKUP(G517,Sheet1!C:D,2,FALSE)","v":{"$error":"#N/A"}}]
[{"$nulls":6},"",{"$f":"VLOOKUP(G518,Sheet1!C:D,2,FALSE)","v":{"$error":"#N/A"}}]
[{"$nulls":6},"",{"$f":"VLOOKUP(G519,Sheet1!C:D,2,FALSE)","v":{"$error":"#N/A"}}]
[{"$nulls":6},"",{"$f":"VLOOKUP(G520,Sheet1!C:D,2,FALSE)","v":{"$error":"#N/A"}}]
[{"$nulls":6},"",{"$f":"VLOOKUP(G521,Sheet1!C:D,2,FALSE)","v":{"$error":"#N/A"}}]
[{"$nulls":6},"",{"$f":"VLOOKUP(G522,Sheet1!C:D,2,FALSE)","v":{"$error":"#N/A"}}]
[{"$nulls":6},"",{"$f":"VLOOKUP(G523,Sheet1!C:D,2,FALSE)","v":{"$error":"#N/A"}}]
[{"$nulls":6},"",{"$f":"VLOOKUP(G524,Sheet1!C:D,2,FALSE)","v":{"$error":"#N/A"}}]
[{"$nulls":6},"",{"$f":"VLOOKUP(G525,Sheet1!C:D,2,FALSE)","v":{"$error":"#N/A"}}]
[{"$nulls":6},"",{"$f":"VLOOKUP(G526,Sheet1!C:D,2,FALSE)","v":{"$error":"#N/A"}}]
[{"$nulls":6},"",{"$f":"VLOOKUP(G527,Sheet1!C:D,2,FALSE)","v":{"$error":"#N/A"}}]
[{"$nulls":6},"",{"$f":"VLOOKUP(G528,Sheet1!C:D,2,FALSE)","v":{"$error":"#N/A"}}]
[{"$nulls":6},"",{"$f":"VLOOKUP(G529,Sheet1!C:D,2,FALSE)","v":{"$error":"#N/A"}}]
[{"$nulls":6},"",{"$f":"VLOOKUP(G530,Sheet1!C:D,2,FALSE)","v":{"$error":"#N/A"}}]
[{"$nulls":6},"",{"$f":"VLOOKUP(G531,Sheet1!C:D,2,FALSE)","v":{"$error":"#N/A"}}]
[{"$nulls":6},"",{"$f":"VLOOKUP(G532,Sheet1!C:D,2,FALSE)","v":{"$error":"#N/A"}}]
[{"$nulls":6},"",{"$f":"VLOOKUP(G533,Sheet1!C:D,2,FALSE)","v":{"$error":"#N/A"}}]
[{"$nulls":6},"",{"$f":"VLOOKUP(G534,Sheet1!C:D,2,FALSE)","v":{"$error":"#N/A"}}]
[{"$nulls":6},"",{"$f":"VLOOKUP(G535,Sheet1!C:D,2,FALSE)","v":{"$error":"#N/A"}}]
[{"$nulls":6},"",{"$f":"VLOOKUP(G536,Sheet1!C:D,2,FALSE)","v":{"$error":"#N/A"}}]
[{"$nulls":6},"",{"$f":"VLOOKUP(G537,Sheet1!C:D,2,FALSE)","v":{"$error":"#N/A"}}]
[{"$nulls":6},"",{"$f":"VLOOKUP(G538,Sheet1!C:D,2,FALSE)","v":{"$error":"#N/A"}}]
[{"$nulls":6},"",{"$f":"VLOOKUP(G539,Sheet1!C:D,2,FALSE)","v":{"$error":"#N/A"}}]
[{"$nulls":6},"",{"$f":"VLOOKUP(G540,Sheet1!C:D,2,FALSE)","v":{"$error":"#N/A"}}]
[{"$nulls":6},"",{"$f":"VLOOKUP(G541,Sheet1!C:D,2,FALSE)","v":{"$error":"#N/A"}}]
[{"$nulls":6},"",{"$f":"VLOOKUP(G542,Sheet1!C:D,2,FALSE)","v":{"$error":"#N/A"}}]
[{"$nulls":6},"",{"$f":"VLOOKUP(G543,Sheet1!C:D,2,FALSE)","v":{"$error":"#N/A"}}]
[{"$nulls":6},"",{"$f":"VLOOKUP(G544,Sheet1!C:D,2,FALSE)","v":{"$error":"#N/A"}}]
[{"$nulls":6},"",{"$f":"VLOOKUP(G545,Sheet1!C:D,2,FALSE)","v":{"$error":"#N/A"}}]
[{"$nulls":6},"",{"$f":"VLOOKUP(G546,Sheet1!C:D,2,FALSE)","v":{"$error":"#N/A"}}]
[{"$nulls":6},"",{"$f":"VLOOKUP(G547,Sheet1!C:D,2,FALSE)","v":{"$error":"#N/A"}}]
[{"$nulls":6},"",{"$f":"VLOOKUP(G548,Sheet1!C:D,2,FALSE)","v":{"$error":"#N/A"}}]
[{"$nulls":6},"",{"$f":"VLOOKUP(G549,Sheet1!C:D,2,FALSE)","v":{"$error":"#N/A"}}]
[{"$nulls":6},"",{"$f":"VLOOKUP(G550,Sheet1!C:D,2,FALSE)","v":{"$error":"#N/A"}}]
[{"$nulls":6},"",{"$f":"VLOOKUP(G551,Sheet1!C:D,2,FALSE)","v":{"$error":"#N/A"}}]
[{"$nulls":6},"",{"$f":"VLOOKUP(G552,Sheet1!C:D,2,FALSE)","v":{"$error":"#N/A"}}]
[{"$nulls":6},"",{"$f":"VLOOKUP(G553,Sheet1!C:D,2,FALSE)","v":{"$error":"#N/A"}}]
[{"$nulls":6},"",{"$f":"VLOOKUP(G554,Sheet1!C:D,2,FALSE)","v":{"$error":"#N/A"}}]
[{"$nulls":6},"",{"$f":"VLOOKUP(G555,Sheet1!C:D,2,FALSE)","v":{"$error":"#N/A"}}]
[{"$nulls":6},"",{"$f":"VLOOKUP(G556,Sheet1!C:D,2,FALSE)","v":{"$error":"#N/A"}}]
[{"$nulls":6},"",{"$f":"VLOOKUP(G557,Sheet1!C:D,2,FALSE)","v":{"$error":"#N/A"}}]
[{"$nulls":6},"",{"$f":"VLOOKUP(G558,Sheet1!C:D,2,FALSE)","v":{"$error":"#N/A"}}]
[{"$nulls":6},"",{"$f":"VLOOKUP(G559,Sheet1!C:D,2,FALSE)","v":{"$error":"#N/A"}}]
[{"$nulls":6},"",{"$f":"VLOOKUP(G560,Sheet1!C:D,2,FALSE)","v":{"$error":"#N/A"}}]
[{"$nulls":6},"",{"$f":"VLOOKUP(G561,Sheet1!C:D,2,FALSE)","v":{"$error":"#N/A"}}]
[{"$nulls":6},"",{"$f":"VLOOKUP(G562,Sheet1!C:D,2,FALSE)","v":{"$error":"#N/A"}}]
[{"$nulls":6},"",{"$f":"VLOOKUP(G563,Sheet1!C:D,2,FALSE)","v":{"$error":"#N/A"}}]
[{"$nulls":6},"",{"$f":"VLOOKUP(G564,Sheet1!C:D,2,FALSE)","v":{"$error":"#N/A"}}]
[{"$nulls":6},"",{"$f":"VLOOKUP(G565,Sheet1!C:D,2,FALSE)","v":{"$error":"#N/A"}}]
[{"$nulls":6},"",{"$f":"VLOOKUP(G566,Sheet1!C:D,2,FALSE)","v":{"$error":"#N/A"}}]
[{"$nulls":6},"",{"$f":"VLOOKUP(G567,Sheet1!C:D,2,FALSE)","v":{"$error":"#N/A"}}]
[{"$nulls":6},"",{"$f":"VLOOKUP(G568,Sheet1!C:D,2,FALSE)","v":{"$error":"#N/A"}}]
[{"$nulls":6},"",{"$f":"VLOOKUP(G569,Sheet1!C:D,2,FALSE)","v":{"$error":"#N/A"}}]
[{"$nulls":6},"",{"$f":"VLOOKUP(G570,Sheet1!C:D,2,FALSE)","v":{"$error":"#N/A"}}]
[{"$nulls":6},"",{"$f":"VLOOKUP(G571,Sheet1!C:D,2,FALSE)","v":{"$error":"#N/A"}}]
[{"$nulls":6},"",{"$f":"VLOOKUP(G572,Sheet1!C:D,2,FALSE)","v":{"$error":"#N/A"}}]
[{"$nulls":6},"",{"$f":"VLOOKUP(G573,Sheet1!C:D,2,FALSE)","v":{"$error":"#N/A"}}]
[{"$nulls":6},"",{"$f":"VLOOKUP(G574,Sheet1!C:D,2,FALSE)","v":{"$error":"#N/A"}}]
[{"$nulls":6},"",{"$f":"VLOOKUP(G575,Sheet1!C:D,2,FALSE)","v":{"$error":"#N/A"}}]
[{"$nulls":6},"",{"$f":"VLOOKUP(G576,Sheet1!C:D,2,FALSE)","v":{"$error":"#N/A"}}]
[{"$nulls":6},"",{"$f":"VLOOKUP(G577,Sheet1!C:D,2,FALSE)","v":{"$error":"#N/A"}}]
[{"$nulls":6},"",{"$f":"VLOOKUP(G578,Sheet1!C:D,2,FALSE)","v":{"$error":"#N/A"}}]
[{"$nulls":6},"",{"$f":"VLOOKUP(G579,Sheet1!C:D,2,FALSE)","v":{"$error":"#N/A"}}]
[{"$nulls":6},"",{"$f":"VLOOKUP(G580,Sheet1!C:D,2,FALSE)","v":{"$error":"#N/A"}}]
[{"$nulls":6},{"$f":"C581&F581","v":""},{"$f":"VLOOKUP(G581,Sheet1!C:D,2,FALSE)","v":{"$error":"#N/A"}}]
[{"$nulls":6},"",{"$f":"VLOOKUP(G582,Sheet1!C:D,2,FALSE)","v":{"$error":"#N/A"}}]
[{"$nulls":6},"",{"$f":"VLOOKUP(G583,Sheet1!C:D,2,FALSE)","v":{"$error":"#N/A"}}]
[{"$nulls":6},"",{"$f":"VLOOKUP(G584,Sheet1!C:D,2,FALSE)","v":{"$error":"#N/A"}}]
[{"$nulls":6},"",{"$f":"VLOOKUP(G585,Sheet1!C:D,2,FALSE)","v":{"$error":"#N/A"}}]
[{"$nulls":6},"",{"$f":"VLOOKUP(G586,Sheet1!C:D,2,FALSE)","v":{"$error":"#N/A"}}]
[{"$nulls":6},"",{"$f":"VLOOKUP(G587,Sheet1!C:D,2,FALSE)","v":{"$error":"#N/A"}}]
[{"$nulls":6},"",{"$f":"VLOOKUP(G588,Sheet1!C:D,2,FALSE)","v":{"$error":"#N/A"}}]
[{"$nulls":6},"",{"$f":"VLOOKUP(G589,Sheet1!C:D,2,FALSE)","v":{"$error":"#N/A"}}]
[{"$nulls":6},"",{"$f":"VLOOKUP(G590,Sheet1!C:D,2,FALSE)","v":{"$error":"#N/A"}}]
[{"$nulls":6},"",{"$f":"VLOOKUP(G591,Sheet1!C:D,2,FALSE)","v":{"$error":"#N/A"}}]
[{"$nulls":6},"",{"$f":"VLOOKUP(G592,Sheet1!C:D,2,FALSE)","v":{"$error":"#N/A"}}]
[{"$nulls":6},"",{"$f":"VLOOKUP(G593,Sheet1!C:D,2,FALSE)","v":{"$error":"#N/A"}}]
[{"$nulls":6},"",{"$f":"VLOOKUP(G594,Sheet1!C:D,2,FALSE)","v":{"$error":"#N/A"}}]
[{"$nulls":6},"",{"$f":"VLOOKUP(G595,Sheet1!C:D,2,FALSE)","v":{"$error":"#N/A"}}]
[{"$nulls":6},"",{"$f":"VLOOKUP(G596,Sheet1!C:D,2,FALSE)","v":{"$error":"#N/A"}}]
[{"$nulls":6},"",{"$f":"VLOOKUP(G597,Sheet1!C:D,2,FALSE)","v":{"$error":"#N/A"}}]
[{"$nulls":6},"",{"$f":"VLOOKUP(G598,Sheet1!C:D,2,FALSE)","v":{"$error":"#N/A"}}]
[{"$nulls":6},"",{"$f":"VLOOKUP(G599,Sheet1!C:D,2,FALSE)","v":{"$error":"#N/A"}}]
[{"$nulls":6},"",{"$f":"VLOOKUP(G600,Sheet1!C:D,2,FALSE)","v":{"$error":"#N/A"}}]
[{"$nulls":6},"",{"$f":"VLOOKUP(G601,Sheet1!C:D,2,FALSE)","v":{"$error":"#N/A"}}]
[{"$nulls":6},"",{"$f":"VLOOKUP(G602,Sheet1!C:D,2,FALSE)","v":{"$error":"#N/A"}}]
[{"$nulls":6},"",{"$f":"VLOOKUP(G603,Sheet1!C:D,2,FALSE)","v":{"$error":"#N/A"}}]
[{"$nulls":6},"",{"$f":"VLOOKUP(G604,Sheet1!C:D,2,FALSE)","v":{"$error":"#N/A"}}]
[{"$nulls":6},"",{"$f":"VLOOKUP(G605,Sheet1!C:D,2,FALSE)","v":{"$error":"#N/A"}}]
[{"$nulls":6},"",{"$f":"VLOOKUP(G606,Sheet1!C:D,2,FALSE)","v":{"$error":"#N/A"}}]
[{"$nulls":6},"",{"$f":"VLOOKUP(G607,Sheet1!C:D,2,FALSE)","v":{"$error":"#N/A"}}]
[{"$nulls":6},"",{"$f":"VLOOKUP(G608,Sheet1!C:D,2,FALSE)","v":{"$error":"#N/A"}}]
[{"$nulls":6},"",{"$f":"VLOOKUP(G609,Sheet1!C:D,2,FALSE)","v":{"$error":"#N/A"}}]
[{"$nulls":6},"",{"$f":"VLOOKUP(G610,Sheet1!C:D,2,FALSE)","v":{"$error":"#N/A"}}]
[{"$nulls":6},"",{"$f":"VLOOKUP(G611,Sheet1!C:D,2,FALSE)","v":{"$error":"#N/A"}}]
[{"$nulls":6},"",{"$f":"VLOOKUP(G612,Sheet1!C:D,2,FALSE)","v":{"$error":"#N/A"}}]
[{"$nulls":6},"",{"$f":"VLOOKUP(G613,Sheet1!C:D,2,FALSE)","v":{"$error":"#N/A"}}]
[{"$nulls":6},"",{"$f":"VLOOKUP(G614,Sheet1!C:D,2,FALSE)","v":{"$error":"#N/A"}}]
[{"$nulls":6},"",{"$f":"VLOOKUP(G615,Sheet1!C:D,2,FALSE)","v":{"$error":"#N/A"}}]
[{"$nulls":6},"",{"$f":"VLOOKUP(G616,Sheet1!C:D,2,FALSE)","v":{"$error":"#N/A"}}]
[{"$nulls":6},"",{"$f":"VLOOKUP(G617,Sheet1!C:D,2,FALSE)","v":{"$error":"#N/A"}}]
[{"$nulls":6},"",{"$f":"VLOOKUP(G618,Sheet1!C:D,2,FALSE)","v":{"$error":"#N/A"}}]
[{"$nulls":6},"",{"$f":"VLOOKUP(G619,Sheet1!C:D,2,FALSE)","v":{"$error":"#N/A"}}]
[{"$nulls":6},"",{"$f":"VLOOKUP(G620,Sheet1!C:D,2,FALSE)","v":{"$error":"#N/A"}}]
[{"$nulls":6},"",{"$f":"VLOOKUP(G621,Sheet1!C:D,2,FALSE)","v":{"$error":"#N/A"}}]
[{"$nulls":6},"",{"$f":"VLOOKUP(G622,Sheet1!C:D,2,FALSE)","v":{"$error":"#N/A"}}]
[{"$nulls":6},"",{"$f":"VLOOKUP(G623,Sheet1!C:D,2,FALSE)","v":{"$error":"#N/A"}}]
[{"$nulls":6},"",{"$f":"VLOOKUP(G624,Sheet1!C:D,2,FALSE)","v":{"$error":"#N/A"}}]
[{"$nulls":6},"",{"$f":"VLOOKUP(G625,Sheet1!C:D,2,FALSE)","v":{"$error":"#N/A"}}]
[{"$nulls":6},"",{"$f":"VLOOKUP(G626,Sheet1!C:D,2,FALSE)","v":{"$error":"#N/A"}}]
[{"$nulls":6},"",{"$f":"VLOOKUP(G627,Sheet1!C:D,2,FALSE)","v":{"$error":"#N/A"}}]
[{"$nulls":6},"",{"$f":"VLOOKUP(G628,Sheet1!C:D,2,FALSE)","v":{"$error":"#N/A"}}]
[{"$nulls":6},"",{"$f":"VLOOKUP(G629,Sheet1!C:D,2,FALSE)","v":{"$error":"#N/A"}}]
[{"$nulls":6},"",{"$f":"VLOOKUP(G630,Sheet1!C:D,2,FALSE)","v":{"$error":"#N/A"}}]
[{"$nulls":6},"",{"$f":"VLOOKUP(G631,Sheet1!C:D,2,FALSE)","v":{"$error":"#N/A"}}]
[{"$nulls":6},"",{"$f":"VLOOKUP(G632,Sheet1!C:D,2,FALSE)","v":{"$error":"#N/A"}}]
[{"$nulls":6},"",{"$f":"VLOOKUP(G633,Sheet1!C:D,2,FALSE)","v":{"$error":"#N/A"}}]
[{"$nulls":6},"",{"$f":"VLOOKUP(G634,Sheet1!C:D,2,FALSE)","v":{"$error":"#N/A"}}]
[{"$nulls":6},"",{"$f":"VLOOKUP(G635,Sheet1!C:D,2,FALSE)","v":{"$error":"#N/A"}}]
[{"$nulls":6},"",{"$f":"VLOOKUP(G636,Sheet1!C:D,2,FALSE)","v":{"$error":"#N/A"}}]
[{"$nulls":6},"",{"$f":"VLOOKUP(G637,Sheet1!C:D,2,FALSE)","v":{"$error":"#N/A"}}]
[{"$nulls":6},"",{"$f":"VLOOKUP(G638,Sheet1!C:D,2,FALSE)","v":{"$error":"#N/A"}}]
[{"$nulls":6},"",{"$f":"VLOOKUP(G639,Sheet1!C:D,2,FALSE)","v":{"$error":"#N/A"}}]
[{"$nulls":6},"",{"$f":"VLOOKUP(G640,Sheet1!C:D,2,FALSE)","v":{"$error":"#N/A"}}]
[{"$nulls":6},"",{"$f":"VLOOKUP(G641,Sheet1!C:D,2,FALSE)","v":{"$error":"#N/A"}}]
[{"$nulls":6},"",{"$f":"VLOOKUP(G642,Sheet1!C:D,2,FALSE)","v":{"$error":"#N/A"}}]
[{"$nulls":6},"",{"$f":"VLOOKUP(G643,Sheet1!C:D,2,FALSE)","v":{"$error":"#N/A"}}]
[{"$nulls":6},"",{"$f":"VLOOKUP(G644,Sheet1!C:D,2,FALSE)","v":{"$error":"#N/A"}}]
[{"$nulls":6},{"$f":"C645&F645","v":""},{"$f":"VLOOKUP(G645,Sheet1!C:D,2,FALSE)","v":{"$error":"#N/A"}}]
[{"$nulls":6},"",{"$f":"VLOOKUP(G646,Sheet1!C:D,2,FALSE)","v":{"$error":"#N/A"}}]
[{"$nulls":6},"",{"$f":"VLOOKUP(G647,Sheet1!C:D,2,FALSE)","v":{"$error":"#N/A"}}]
[{"$nulls":6},"",{"$f":"VLOOKUP(G648,Sheet1!C:D,2,FALSE)","v":{"$error":"#N/A"}}]
[{"$nulls":6},"",{"$f":"VLOOKUP(G649,Sheet1!C:D,2,FALSE)","v":{"$error":"#N/A"}}]
[{"$nulls":6},"",{"$f":"VLOOKUP(G650,Sheet1!C:D,2,FALSE)","v":{"$error":"#N/A"}}]
[{"$nulls":6},"",{"$f":"VLOOKUP(G651,Sheet1!C:D,2,FALSE)","v":{"$error":"#N/A"}}]
[{"$nulls":6},"",{"$f":"VLOOKUP(G652,Sheet1!C:D,2,FALSE)","v":{"$error":"#N/A"}}]
[{"$nulls":6},"",{"$f":"VLOOKUP(G653,Sheet1!C:D,2,FALSE)","v":{"$error":"#N/A"}}]
[{"$nulls":6},"",{"$f":"VLOOKUP(G654,Sheet1!C:D,2,FALSE)","v":{"$error":"#N/A"}}]
[{"$nulls":6},"",{"$f":"VLOOKUP(G655,Sheet1!C:D,2,FALSE)","v":{"$error":"#N/A"}}]
[{"$nulls":6},"",{"$f":"VLOOKUP(G656,Sheet1!C:D,2,FALSE)","v":{"$error":"#N/A"}}]
[{"$nulls":6},"",{"$f":"VLOOKUP(G657,Sheet1!C:D,2,FALSE)","v":{"$error":"#N/A"}}]
[{"$nulls":6},"",{"$f":"VLOOKUP(G658,Sheet1!C:D,2,FALSE)","v":{"$error":"#N/A"}}]
[{"$nulls":6},"",{"$f":"VLOOKUP(G659,Sheet1!C:D,2,FALSE)","v":{"$error":"#N/A"}}]
[{"$nulls":6},"",{"$f":"VLOOKUP(G660,Sheet1!C:D,2,FALSE)","v":{"$error":"#N/A"}}]
[{"$nulls":6},"",{"$f":"VLOOKUP(G661,Sheet1!C:D,2,FALSE)","v":{"$error":"#N/A"}}]
[{"$nulls":6},"",{"$f":"VLOOKUP(G662,Sheet1!C:D,2,FALSE)","v":{"$error":"#N/A"}}]
[{"$nulls":6},"",{"$f":"VLOOKUP(G663,Sheet1!C:D,2,FALSE)","v":{"$error":"#N/A"}}]
[{"$nulls":6},"",{"$f":"VLOOKUP(G664,Sheet1!C:D,2,FALSE)","v":{"$error":"#N/A"}}]
[{"$nulls":6},"",{"$f":"VLOOKUP(G665,Sheet1!C:D,2,FALSE)","v":{"$error":"#N/A"}}]
[{"$nulls":6},"",{"$f":"VLOOKUP(G666,Sheet1!C:D,2,FALSE)","v":{"$error":"#N/A"}}]
[{"$nulls":6},"",{"$f":"VLOOKUP(G667,Sheet1!C:D,2,FALSE)","v":{"$error":"#N/A"}}]
[{"$nulls":6},"",{"$f":"VLOOKUP(G668,Sheet1!C:D,2,FALSE)","v":{"$error":"#N/A"}}]
[{"$nulls":6},"",{"$f":"VLOOKUP(G669,Sheet1!C:D,2,FALSE)","v":{"$error":"#N/A"}}]
[{"$nulls":6},"",{"$f":"VLOOKUP(G670,Sheet1!C:D,2,FALSE)","v":{"$error":"#N/A"}}]
[{"$nulls":6},"",{"$f":"VLOOKUP(G671,Sheet1!C:D,2,FALSE)","v":{"$error":"#N/A"}}]
[{"$nulls":6},"",{"$f":"VLOOKUP(G672,Sheet1!C:D,2,FALSE)","v":{"$error":"#N/A"}}]
[{"$nulls":6},"",{"$f":"VLOOKUP(G673,Sheet1!C:D,2,FALSE)","v":{"$error":"#N/A"}}]
[{"$nulls":6},"",{"$f":"VLOOKUP(G674,Sheet1!C:D,2,FALSE)","v":{"$error":"#N/A"}}]
[{"$nulls":6},"",{"$f":"VLOOKUP(G675,Sheet1!C:D,2,FALSE)","v":{"$error":"#N/A"}}]
[{"$nulls":6},"",{"$f":"VLOOKUP(G676,Sheet1!C:D,2,FALSE)","v":{"$error":"#N/A"}}]
[{"$nulls":6},"",{"$f":"VLOOKUP(G677,Sheet1!C:D,2,FALSE)","v":{"$error":"#N/A"}}]
[{"$nulls":6},"",{"$f":"VLOOKUP(G678,Sheet1!C:D,2,FALSE)","v":{"$error":"#N/A"}}]
[{"$nulls":6},"",{"$f":"VLOOKUP(G679,Sheet1!C:D,2,FALSE)","v":{"$error":"#N/A"}}]
[{"$nulls":6},"",{"$f":"VLOOKUP(G680,Sheet1!C:D,2,FALSE)","v":{"$error":"#N/A"}}]
[{"$nulls":6},"",{"$f":"VLOOKUP(G681,Sheet1!C:D,2,FALSE)","v":{"$error":"#N/A"}}]
[{"$nulls":6},"",{"$f":"VLOOKUP(G682,Sheet1!C:D,2,FALSE)","v":{"$error":"#N/A"}}]
[{"$nulls":6},"",{"$f":"VLOOKUP(G683,Sheet1!C:D,2,FALSE)","v":{"$error":"#N/A"}}]
[{"$nulls":6},"",{"$f":"VLOOKUP(G684,Sheet1!C:D,2,FALSE)","v":{"$error":"#N/A"}}]
[{"$nulls":6},"",{"$f":"VLOOKUP(G685,Sheet1!C:D,2,FALSE)","v":{"$error":"#N/A"}}]
[{"$nulls":6},"",{"$f":"VLOOKUP(G686,Sheet1!C:D,2,FALSE)","v":{"$error":"#N/A"}}]
[{"$nulls":6},"",{"$f":"VLOOKUP(G687,Sheet1!C:D,2,FALSE)","v":{"$error":"#N/A"}}]
[{"$nulls":6},"",{"$f":"VLOOKUP(G688,Sheet1!C:D,2,FALSE)","v":{"$error":"#N/A"}}]
[{"$nulls":6},"",{"$f":"VLOOKUP(G689,Sheet1!C:D,2,FALSE)","v":{"$error":"#N/A"}}]
[{"$nulls":6},"",{"$f":"VLOOKUP(G690,Sheet1!C:D,2,FALSE)","v":{"$error":"#N/A"}}]
[{"$nulls":6},"",{"$f":"VLOOKUP(G691,Sheet1!C:D,2,FALSE)","v":{"$error":"#N/A"}}]
[{"$nulls":6},"",{"$f":"VLOOKUP(G692,Sheet1!C:D,2,FALSE)","v":{"$error":"#N/A"}}]
[{"$nulls":6},"",{"$f":"VLOOKUP(G693,Sheet1!C:D,2,FALSE)","v":{"$error":"#N/A"}}]
[{"$nulls":6},"",{"$f":"VLOOKUP(G694,Sheet1!C:D,2,FALSE)","v":{"$error":"#N/A"}}]
[{"$nulls":6},"",{"$f":"VLOOKUP(G695,Sheet1!C:D,2,FALSE)","v":{"$error":"#N/A"}}]
[{"$nulls":6},"",{"$f":"VLOOKUP(G696,Sheet1!C:D,2,FALSE)","v":{"$error":"#N/A"}}]
[{"$nulls":6},"",{"$f":"VLOOKUP(G697,Sheet1!C:D,2,FALSE)","v":{"$error":"#N/A"}}]
[{"$nulls":6},"",{"$f":"VLOOKUP(G698,Sheet1!C:D,2,FALSE)","v":{"$error":"#N/A"}}]
[{"$nulls":6},"",{"$f":"VLOOKUP(G699,Sheet1!C:D,2,FALSE)","v":{"$error":"#N/A"}}]
[{"$nulls":6},"",{"$f":"VLOOKUP(G700,Sheet1!C:D,2,FALSE)","v":{"$error":"#N/A"}}]
[{"$nulls":6},"",{"$f":"VLOOKUP(G701,Sheet1!C:D,2,FALSE)","v":{"$error":"#N/A"}}]
[{"$nulls":6},"",{"$f":"VLOOKUP(G702,Sheet1!C:D,2,FALSE)","v":{"$error":"#N/A"}}]
[{"$nulls":6},"",{"$f":"VLOOKUP(G703,Sheet1!C:D,2,FALSE)","v":{"$error":"#N/A"}}]
[{"$nulls":6},"",{"$f":"VLOOKUP(G704,Sheet1!C:D,2,FALSE)","v":{"$error":"#N/A"}}]
[{"$nulls":6},"",{"$f":"VLOOKUP(G705,Sheet1!C:D,2,FALSE)","v":{"$error":"#N/A"}}]
[{"$nulls":6},"",{"$f":"VLOOKUP(G706,Sheet1!C:D,2,FALSE)","v":{"$error":"#N/A"}}]
[{"$nulls":6},"",{"$f":"VLOOKUP(G707,Sheet1!C:D,2,FALSE)","v":{"$error":"#N/A"}}]
[{"$nulls":6},"",{"$f":"VLOOKUP(G708,Sheet1!C:D,2,FALSE)","v":{"$error":"#N/A"}}]
[{"$nulls":6},{"$f":"C709&F709","v":""},{"$f":"VLOOKUP(G709,Sheet1!C:D,2,FALSE)","v":{"$error":"#N/A"}}]
[{"$nulls":6},"",{"$f":"VLOOKUP(G710,Sheet1!C:D,2,FALSE)","v":{"$error":"#N/A"}}]
[{"$nulls":6},"",{"$f":"VLOOKUP(G711,Sheet1!C:D,2,FALSE)","v":{"$error":"#N/A"}}]
[{"$nulls":6},"",{"$f":"VLOOKUP(G712,Sheet1!C:D,2,FALSE)","v":{"$error":"#N/A"}}]
[{"$nulls":6},"",{"$f":"VLOOKUP(G713,Sheet1!C:D,2,FALSE)","v":{"$error":"#N/A"}}]
[{"$nulls":6},"",{"$f":"VLOOKUP(G714,Sheet1!C:D,2,FALSE)","v":{"$error":"#N/A"}}]
[{"$nulls":6},"",{"$f":"VLOOKUP(G715,Sheet1!C:D,2,FALSE)","v":{"$error":"#N/A"}}]
[{"$nulls":6},"",{"$f":"VLOOKUP(G716,Sheet1!C:D,2,FALSE)","v":{"$error":"#N/A"}}]
[{"$nulls":6},"",{"$f":"VLOOKUP(G717,Sheet1!C:D,2,FALSE)","v":{"$error":"#N/A"}}]
[{"$nulls":6},"",{"$f":"VLOOKUP(G718,Sheet1!C:D,2,FALSE)","v":{"$error":"#N/A"}}]
[{"$nulls":6},"",{"$f":"VLOOKUP(G719,Sheet1!C:D,2,FALSE)","v":{"$error":"#N/A"}}]
[{"$nulls":6},"",{"$f":"VLOOKUP(G720,Sheet1!C:D,2,FALSE)","v":{"$error":"#N/A"}}]
[{"$nulls":6},"",{"$f":"VLOOKUP(G721,Sheet1!C:D,2,FALSE)","v":{"$error":"#N/A"}}]
[{"$nulls":6},"",{"$f":"VLOOKUP(G722,Sheet1!C:D,2,FALSE)","v":{"$error":"#N/A"}}]
[{"$nulls":6},"",{"$f":"VLOOKUP(G723,Sheet1!C:D,2,FALSE)","v":{"$error":"#N/A"}}]
[{"$nulls":6},"",{"$f":"VLOOKUP(G724,Sheet1!C:D,2,FALSE)","v":{"$error":"#N/A"}}]
[{"$nulls":6},"",{"$f":"VLOOKUP(G725,Sheet1!C:D,2,FALSE)","v":{"$error":"#N/A"}}]
[{"$nulls":6},"",{"$f":"VLOOKUP(G726,Sheet1!C:D,2,FALSE)","v":{"$error":"#N/A"}}]
[{"$nulls":6},"",{"$f":"VLOOKUP(G727,Sheet1!C:D,2,FALSE)","v":{"$error":"#N/A"}}]
[{"$nulls":6},"",{"$f":"VLOOKUP(G728,Sheet1!C:D,2,FALSE)","v":{"$error":"#N/A"}}]
[{"$nulls":6},"",{"$f":"VLOOKUP(G729,Sheet1!C:D,2,FALSE)","v":{"$error":"#N/A"}}]
[{"$nulls":6},"",{"$f":"VLOOKUP(G730,Sheet1!C:D,2,FALSE)","v":{"$error":"#N/A"}}]
[{"$nulls":6},"",{"$f":"VLOOKUP(G731,Sheet1!C:D,2,FALSE)","v":{"$error":"#N/A"}}]
[{"$nulls":6},"",{"$f":"VLOOKUP(G732,Sheet1!C:D,2,FALSE)","v":{"$error":"#N/A"}}]
[{"$nulls":6},"",{"$f":"VLOOKUP(G733,Sheet1!C:D,2,FALSE)","v":{"$error":"#N/A"}}]
[{"$nulls":6},"",{"$f":"VLOOKUP(G734,Sheet1!C:D,2,FALSE)","v":{"$error":"#N/A"}}]
[{"$nulls":6},"",{"$f":"VLOOKUP(G735,Sheet1!C:D,2,FALSE)","v":{"$error":"#N/A"}}]
[{"$nulls":6},"",{"$f":"VLOOKUP(G736,Sheet1!C:D,2,FALSE)","v":{"$error":"#N/A"}}]
[{"$nulls":6},"",{"$f":"VLOOKUP(G737,Sheet1!C:D,2,FALSE)","v":{"$error":"#N/A"}}]
[{"$nulls":6},"",{"$f":"VLOOKUP(G738,Sheet1!C:D,2,FALSE)","v":{"$error":"#N/A"}}]
[{"$nulls":6},"",{"$f":"VLOOKUP(G739,Sheet1!C:D,2,FALSE)","v":{"$error":"#N/A"}}]
[{"$nulls":6},"",{"$f":"VLOOKUP(G740,Sheet1!C:D,2,FALSE)","v":{"$error":"#N/A"}}]
[{"$nulls":6},"",{"$f":"VLOOKUP(G741,Sheet1!C:D,2,FALSE)","v":{"$error":"#N/A"}}]
[{"$nulls":6},"",{"$f":"VLOOKUP(G742,Sheet1!C:D,2,FALSE)","v":{"$error":"#N/A"}}]
[{"$nulls":6},"",{"$f":"VLOOKUP(G743,Sheet1!C:D,2,FALSE)","v":{"$error":"#N/A"}}]
[{"$nulls":6},"",{"$f":"VLOOKUP(G744,Sheet1!C:D,2,FALSE)","v":{"$error":"#N/A"}}]
[{"$nulls":6},"",{"$f":"VLOOKUP(G745,Sheet1!C:D,2,FALSE)","v":{"$error":"#N/A"}}]
[{"$nulls":6},"",{"$f":"VLOOKUP(G746,Sheet1!C:D,2,FALSE)","v":{"$error":"#N/A"}}]
[{"$nulls":6},"",{"$f":"VLOOKUP(G747,Sheet1!C:D,2,FALSE)","v":{"$error":"#N/A"}}]
[{"$nulls":6},"",{"$f":"VLOOKUP(G748,Sheet1!C:D,2,FALSE)","v":{"$error":"#N/A"}}]
[{"$nulls":6},"",{"$f":"VLOOKUP(G749,Sheet1!C:D,2,FALSE)","v":{"$error":"#N/A"}}]
[{"$nulls":6},"",{"$f":"VLOOKUP(G750,Sheet1!C:D,2,FALSE)","v":{"$error":"#N/A"}}]
[{"$nulls":6},"",{"$f":"VLOOKUP(G751,Sheet1!C:D,2,FALSE)","v":{"$error":"#N/A"}}]
[{"$nulls":6},"",{"$f":"VLOOKUP(G752,Sheet1!C:D,2,FALSE)","v":{"$error":"#N/A"}}]
[{"$nulls":6},"",{"$f":"VLOOKUP(G753,Sheet1!C:D,2,FALSE)","v":{"$error":"#N/A"}}]
[{"$nulls":6},"",{"$f":"VLOOKUP(G754,Sheet1!C:D,2,FALSE)","v":{"$error":"#N/A"}}]
[{"$nulls":6},"",{"$f":"VLOOKUP(G755,Sheet1!C:D,2,FALSE)","v":{"$error":"#N/A"}}]
[{"$nulls":6},"",{"$f":"VLOOKUP(G756,Sheet1!C:D,2,FALSE)","v":{"$error":"#N/A"}}]
[{"$nulls":6},"",{"$f":"VLOOKUP(G757,Sheet1!C:D,2,FALSE)","v":{"$error":"#N/A"}}]
[{"$nulls":6},"",{"$f":"VLOOKUP(G758,Sheet1!C:D,2,FALSE)","v":{"$error":"#N/A"}}]
[{"$nulls":6},"",{"$f":"VLOOKUP(G759,Sheet1!C:D,2,FALSE)","v":{"$error":"#N/A"}}]
[{"$nulls":6},"",{"$f":"VLOOKUP(G760,Sheet1!C:D,2,FALSE)","v":{"$error":"#N/A"}}]
[{"$nulls":6},"",{"$f":"VLOOKUP(G761,Sheet1!C:D,2,FALSE)","v":{"$error":"#N/A"}}]
[{"$nulls":6},"",{"$f":"VLOOKUP(G762,Sheet1!C:D,2,FALSE)","v":{"$error":"#N/A"}}]
[{"$nulls":6},"",{"$f":"VLOOKUP(G763,Sheet1!C:D,2,FALSE)","v":{"$error":"#N/A"}}]
[{"$nulls":6},"",{"$f":"VLOOKUP(G764,Sheet1!C:D,2,FALSE)","v":{"$error":"#N/A"}}]
[{"$nulls":6},"",{"$f":"VLOOKUP(G765,Sheet1!C:D,2,FALSE)","v":{"$error":"#N/A"}}]
[{"$nulls":6},"",{"$f":"VLOOKUP(G766,Sheet1!C:D,2,FALSE)","v":{"$error":"#N/A"}}]
[{"$nulls":6},"",{"$f":"VLOOKUP(G767,Sheet1!C:D,2,FALSE)","v":{"$error":"#N/A"}}]
[{"$nulls":6},"",{"$f":"VLOOKUP(G768,Sheet1!C:D,2,FALSE)","v":{"$error":"#N/A"}}]
[{"$nulls":6},"",{"$f":"VLOOKUP(G769,Sheet1!C:D,2,FALSE)","v":{"$error":"#N/A"}}]
[{"$nulls":6},"",{"$f":"VLOOKUP(G770,Sheet1!C:D,2,FALSE)","v":{"$error":"#N/A"}}]
[{"$nulls":6},"",{"$f":"VLOOKUP(G771,Sheet1!C:D,2,FALSE)","v":{"$error":"#N/A"}}]
[{"$nulls":6},"",{"$f":"VLOOKUP(G772,Sheet1!C:D,2,FALSE)","v":{"$error":"#N/A"}}]
[{"$nulls":6},{"$f":"C773&F773","v":""},{"$f":"VLOOKUP(G773,Sheet1!C:D,2,FALSE)","v":{"$error":"#N/A"}}]
[{"$nulls":6},"",{"$f":"VLOOKUP(G774,Sheet1!C:D,2,FALSE)","v":{"$error":"#N/A"}}]
[{"$nulls":6},"",{"$f":"VLOOKUP(G775,Sheet1!C:D,2,FALSE)","v":{"$error":"#N/A"}}]
[{"$nulls":6},"",{"$f":"VLOOKUP(G776,Sheet1!C:D,2,FALSE)","v":{"$error":"#N/A"}}]
[{"$nulls":6},"",{"$f":"VLOOKUP(G777,Sheet1!C:D,2,FALSE)","v":{"$error":"#N/A"}}]
[{"$nulls":6},"",{"$f":"VLOOKUP(G778,Sheet1!C:D,2,FALSE)","v":{"$error":"#N/A"}}]
[{"$nulls":6},"",{"$f":"VLOOKUP(G779,Sheet1!C:D,2,FALSE)","v":{"$error":"#N/A"}}]
[{"$nulls":6},"",{"$f":"VLOOKUP(G780,Sheet1!C:D,2,FALSE)","v":{"$error":"#N/A"}}]
[{"$nulls":6},"",{"$f":"VLOOKUP(G781,Sheet1!C:D,2,FALSE)","v":{"$error":"#N/A"}}]
[{"$nulls":6},"",{"$f":"VLOOKUP(G782,Sheet1!C:D,2,FALSE)","v":{"$error":"#N/A"}}]
[{"$nulls":6},"",{"$f":"VLOOKUP(G783,Sheet1!C:D,2,FALSE)","v":{"$error":"#N/A"}}]
[{"$nulls":6},"",{"$f":"VLOOKUP(G784,Sheet1!C:D,2,FALSE)","v":{"$error":"#N/A"}}]
[{"$nulls":6},"",{"$f":"VLOOKUP(G785,Sheet1!C:D,2,FALSE)","v":{"$error":"#N/A"}}]
[{"$nulls":6},"",{"$f":"VLOOKUP(G786,Sheet1!C:D,2,FALSE)","v":{"$error":"#N/A"}}]
[{"$nulls":6},"",{"$f":"VLOOKUP(G787,Sheet1!C:D,2,FALSE)","v":{"$error":"#N/A"}}]
[{"$nulls":6},"",{"$f":"VLOOKUP(G788,Sheet1!C:D,2,FALSE)","v":{"$error":"#N/A"}}]
[{"$nulls":6},"",{"$f":"VLOOKUP(G789,Sheet1!C:D,2,FALSE)","v":{"$error":"#N/A"}}]
[{"$nulls":6},"",{"$f":"VLOOKUP(G790,Sheet1!C:D,2,FALSE)","v":{"$error":"#N/A"}}]
[{"$nulls":6},"",{"$f":"VLOOKUP(G791,Sheet1!C:D,2,FALSE)","v":{"$error":"#N/A"}}]
[{"$nulls":6},"",{"$f":"VLOOKUP(G792,Sheet1!C:D,2,FALSE)","v":{"$error":"#N/A"}}]
[{"$nulls":6},"",{"$f":"VLOOKUP(G793,Sheet1!C:D,2,FALSE)","v":{"$error":"#N/A"}}]
[{"$nulls":6},"",{"$f":"VLOOKUP(G794,Sheet1!C:D,2,FALSE)","v":{"$error":"#N/A"}}]
[{"$nulls":6},"",{"$f":"VLOOKUP(G795,Sheet1!C:D,2,FALSE)","v":{"$error":"#N/A"}}]
[{"$nulls":6},"",{"$f":"VLOOKUP(G796,Sheet1!C:D,2,FALSE)","v":{"$error":"#N/A"}}]
[{"$nulls":6},"",{"$f":"VLOOKUP(G797,Sheet1!C:D,2,FALSE)","v":{"$error":"#N/A"}}]
[{"$nulls":6},"",{"$f":"VLOOKUP(G798,Sheet1!C:D,2,FALSE)","v":{"$error":"#N/A"}}]
[{"$nulls":6},"",{"$f":"VLOOKUP(G799,Sheet1!C:D,2,FALSE)","v":{"$error":"#N/A"}}]
[{"$nulls":6},"",{"$f":"VLOOKUP(G800,Sheet1!C:D,2,FALSE)","v":{"$error":"#N/A"}}]
[{"$nulls":6},"",{"$f":"VLOOKUP(G801,Sheet1!C:D,2,FALSE)","v":{"$error":"#N/A"}}]
[{"$nulls":6},"",{"$f":"VLOOKUP(G802,Sheet1!C:D,2,FALSE)","v":{"$error":"#N/A"}}]
[{"$nulls":6},"",{"$f":"VLOOKUP(G803,Sheet1!C:D,2,FALSE)","v":{"$error":"#N/A"}}]
[{"$nulls":6},"",{"$f":"VLOOKUP(G804,Sheet1!C:D,2,FALSE)","v":{"$error":"#N/A"}}]
[{"$nulls":6},"",{"$f":"VLOOKUP(G805,Sheet1!C:D,2,FALSE)","v":{"$error":"#N/A"}}]
[{"$nulls":6},"",{"$f":"VLOOKUP(G806,Sheet1!C:D,2,FALSE)","v":{"$error":"#N/A"}}]
[{"$nulls":6},"",{"$f":"VLOOKUP(G807,Sheet1!C:D,2,FALSE)","v":{"$error":"#N/A"}}]
[{"$nulls":6},"",{"$f":"VLOOKUP(G808,Sheet1!C:D,2,FALSE)","v":{"$error":"#N/A"}}]
[{"$nulls":6},"",{"$f":"VLOOKUP(G809,Sheet1!C:D,2,FALSE)","v":{"$error":"#N/A"}}]
[{"$nulls":6},"",{"$f":"VLOOKUP(G810,Sheet1!C:D,2,FALSE)","v":{"$error":"#N/A"}}]
[{"$nulls":6},"",{"$f":"VLOOKUP(G811,Sheet1!C:D,2,FALSE)","v":{"$error":"#N/A"}}]
[{"$nulls":6},"",{"$f":"VLOOKUP(G812,Sheet1!C:D,2,FALSE)","v":{"$error":"#N/A"}}]
[{"$nulls":6},"",{"$f":"VLOOKUP(G813,Sheet1!C:D,2,FALSE)","v":{"$error":"#N/A"}}]
[{"$nulls":6},"",{"$f":"VLOOKUP(G814,Sheet1!C:D,2,FALSE)","v":{"$error":"#N/A"}}]
[{"$nulls":6},"",{"$f":"VLOOKUP(G815,Sheet1!C:D,2,FALSE)","v":{"$error":"#N/A"}}]
[{"$nulls":6},"",{"$f":"VLOOKUP(G816,Sheet1!C:D,2,FALSE)","v":{"$error":"#N/A"}}]
[{"$nulls":6},"",{"$f":"VLOOKUP(G817,Sheet1!C:D,2,FALSE)","v":{"$error":"#N/A"}}]
[{"$nulls":6},"",{"$f":"VLOOKUP(G818,Sheet1!C:D,2,FALSE)","v":{"$error":"#N/A"}}]
[{"$nulls":6},"",{"$f":"VLOOKUP(G819,Sheet1!C:D,2,FALSE)","v":{"$error":"#N/A"}}]
[{"$nulls":6},"",{"$f":"VLOOKUP(G820,Sheet1!C:D,2,FALSE)","v":{"$error":"#N/A"}}]
[{"$nulls":6},"",{"$f":"VLOOKUP(G821,Sheet1!C:D,2,FALSE)","v":{"$error":"#N/A"}}]
[{"$nulls":6},"",{"$f":"VLOOKUP(G822,Sheet1!C:D,2,FALSE)","v":{"$error":"#N/A"}}]
[{"$nulls":6},"",{"$f":"VLOOKUP(G823,Sheet1!C:D,2,FALSE)","v":{"$error":"#N/A"}}]
[{"$nulls":6},"",{"$f":"VLOOKUP(G824,Sheet1!C:D,2,FALSE)","v":{"$error":"#N/A"}}]
[{"$nulls":6},"",{"$f":"VLOOKUP(G825,Sheet1!C:D,2,FALSE)","v":{"$error":"#N/A"}}]
[{"$nulls":6},"",{"$f":"VLOOKUP(G826,Sheet1!C:D,2,FALSE)","v":{"$error":"#N/A"}}]
[{"$nulls":6},"",{"$f":"VLOOKUP(G827,Sheet1!C:D,2,FALSE)","v":{"$error":"#N/A"}}]
[{"$nulls":6},"",{"$f":"VLOOKUP(G828,Sheet1!C:D,2,FALSE)","v":{"$error":"#N/A"}}]
[{"$nulls":6},"",{"$f":"VLOOKUP(G829,Sheet1!C:D,2,FALSE)","v":{"$error":"#N/A"}}]
[{"$nulls":6},"",{"$f":"VLOOKUP(G830,Sheet1!C:D,2,FALSE)","v":{"$error":"#N/A"}}]
[{"$nulls":6},"",{"$f":"VLOOKUP(G831,Sheet1!C:D,2,FALSE)","v":{"$error":"#N/A"}}]
[{"$nulls":6},"",{"$f":"VLOOKUP(G832,Sheet1!C:D,2,FALSE)","v":{"$error":"#N/A"}}]
[{"$nulls":6},"",{"$f":"VLOOKUP(G833,Sheet1!C:D,2,FALSE)","v":{"$error":"#N/A"}}]
[{"$nulls":6},"",{"$f":"VLOOKUP(G834,Sheet1!C:D,2,FALSE)","v":{"$error":"#N/A"}}]
[{"$nulls":6},"",{"$f":"VLOOKUP(G835,Sheet1!C:D,2,FALSE)","v":{"$error":"#N/A"}}]
[{"$nulls":6},"",{"$f":"VLOOKUP(G836,Sheet1!C:D,2,FALSE)","v":{"$error":"#N/A"}}]
[{"$nulls":6},{"$f":"C837&F837","v":""},{"$f":"VLOOKUP(G837,Sheet1!C:D,2,FALSE)","v":{"$error":"#N/A"}}]
[{"$nulls":6},"",{"$f":"VLOOKUP(G838,Sheet1!C:D,2,FALSE)","v":{"$error":"#N/A"}}]
[{"$nulls":6},"",{"$f":"VLOOKUP(G839,Sheet1!C:D,2,FALSE)","v":{"$error":"#N/A"}}]
[{"$nulls":6},"",{"$f":"VLOOKUP(G840,Sheet1!C:D,2,FALSE)","v":{"$error":"#N/A"}}]
[{"$nulls":6},"",{"$f":"VLOOKUP(G841,Sheet1!C:D,2,FALSE)","v":{"$error":"#N/A"}}]
[{"$nulls":6},"",{"$f":"VLOOKUP(G842,Sheet1!C:D,2,FALSE)","v":{"$error":"#N/A"}}]
[{"$nulls":6},"",{"$f":"VLOOKUP(G843,Sheet1!C:D,2,FALSE)","v":{"$error":"#N/A"}}]
[{"$nulls":6},"",{"$f":"VLOOKUP(G844,Sheet1!C:D,2,FALSE)","v":{"$error":"#N/A"}}]
[{"$nulls":6},"",{"$f":"VLOOKUP(G845,Sheet1!C:D,2,FALSE)","v":{"$error":"#N/A"}}]
[{"$nulls":6},"",{"$f":"VLOOKUP(G846,Sheet1!C:D,2,FALSE)","v":{"$error":"#N/A"}}]
[{"$nulls":6},"",{"$f":"VLOOKUP(G847,Sheet1!C:D,2,FALSE)","v":{"$error":"#N/A"}}]
[{"$nulls":6},"",{"$f":"VLOOKUP(G848,Sheet1!C:D,2,FALSE)","v":{"$error":"#N/A"}}]
[{"$nulls":6},"",{"$f":"VLOOKUP(G849,Sheet1!C:D,2,FALSE)","v":{"$error":"#N/A"}}]
[{"$nulls":6},"",{"$f":"VLOOKUP(G850,Sheet1!C:D,2,FALSE)","v":{"$error":"#N/A"}}]
[{"$nulls":6},"",{"$f":"VLOOKUP(G851,Sheet1!C:D,2,FALSE)","v":{"$error":"#N/A"}}]
[{"$nulls":6},"",{"$f":"VLOOKUP(G852,Sheet1!C:D,2,FALSE)","v":{"$error":"#N/A"}}]
[{"$nulls":6},"",{"$f":"VLOOKUP(G853,Sheet1!C:D,2,FALSE)","v":{"$error":"#N/A"}}]
[{"$nulls":6},"",{"$f":"VLOOKUP(G854,Sheet1!C:D,2,FALSE)","v":{"$error":"#N/A"}}]
[{"$nulls":6},"",{"$f":"VLOOKUP(G855,Sheet1!C:D,2,FALSE)","v":{"$error":"#N/A"}}]
[{"$nulls":6},"",{"$f":"VLOOKUP(G856,Sheet1!C:D,2,FALSE)","v":{"$error":"#N/A"}}]
[{"$nulls":6},"",{"$f":"VLOOKUP(G857,Sheet1!C:D,2,FALSE)","v":{"$error":"#N/A"}}]
[{"$nulls":6},"",{"$f":"VLOOKUP(G858,Sheet1!C:D,2,FALSE)","v":{"$error":"#N/A"}}]
[{"$nulls":6},"",{"$f":"VLOOKUP(G859,Sheet1!C:D,2,FALSE)","v":{"$error":"#N/A"}}]
[{"$nulls":6},"",{"$f":"VLOOKUP(G860,Sheet1!C:D,2,FALSE)","v":{"$error":"#N/A"}}]
[{"$nulls":6},"",{"$f":"VLOOKUP(G861,Sheet1!C:D,2,FALSE)","v":{"$error":"#N/A"}}]
[{"$nulls":6},"",{"$f":"VLOOKUP(G862,Sheet1!C:D,2,FALSE)","v":{"$error":"#N/A"}}]
[{"$nulls":6},"",{"$f":"VLOOKUP(G863,Sheet1!C:D,2,FALSE)","v":{"$error":"#N/A"}}]
[{"$nulls":6},"",{"$f":"VLOOKUP(G864,Sheet1!C:D,2,FALSE)","v":{"$error":"#N/A"}}]
[{"$nulls":6},"",{"$f":"VLOOKUP(G865,Sheet1!C:D,2,FALSE)","v":{"$error":"#N/A"}}]
[{"$nulls":6},"",{"$f":"VLOOKUP(G866,Sheet1!C:D,2,FALSE)","v":{"$error":"#N/A"}}]
[{"$nulls":6},"",{"$f":"VLOOKUP(G867,Sheet1!C:D,2,FALSE)","v":{"$error":"#N/A"}}]
[{"$nulls":6},"",{"$f":"VLOOKUP(G868,Sheet1!C:D,2,FALSE)","v":{"$error":"#N/A"}}]
[{"$nulls":6},"",{"$f":"VLOOKUP(G869,Sheet1!C:D,2,FALSE)","v":{"$error":"#N/A"}}]
[{"$nulls":6},"",{"$f":"VLOOKUP(G870,Sheet1!C:D,2,FALSE)","v":{"$error":"#N/A"}}]
[{"$nulls":6},"",{"$f":"VLOOKUP(G871,Sheet1!C:D,2,FALSE)","v":{"$error":"#N/A"}}]
[{"$nulls":6},"",{"$f":"VLOOKUP(G872,Sheet1!C:D,2,FALSE)","v":{"$error":"#N/A"}}]
[{"$nulls":6},"",{"$f":"VLOOKUP(G873,Sheet1!C:D,2,FALSE)","v":{"$error":"#N/A"}}]
[{"$nulls":6},"",{"$f":"VLOOKUP(G874,Sheet1!C:D,2,FALSE)","v":{"$error":"#N/A"}}]
[{"$nulls":6},"",{"$f":"VLOOKUP(G875,Sheet1!C:D,2,FALSE)","v":{"$error":"#N/A"}}]
[{"$nulls":6},"",{"$f":"VLOOKUP(G876,Sheet1!C:D,2,FALSE)","v":{"$error":"#N/A"}}]
[{"$nulls":6},"",{"$f":"VLOOKUP(G877,Sheet1!C:D,2,FALSE)","v":{"$error":"#N/A"}}]
[{"$nulls":6},"",{"$f":"VLOOKUP(G878,Sheet1!C:D,2,FALSE)","v":{"$error":"#N/A"}}]
[{"$nulls":6},"",{"$f":"VLOOKUP(G879,Sheet1!C:D,2,FALSE)","v":{"$error":"#N/A"}}]
[{"$nulls":6},"",{"$f":"VLOOKUP(G880,Sheet1!C:D,2,FALSE)","v":{"$error":"#N/A"}}]
[{"$nulls":6},"",{"$f":"VLOOKUP(G881,Sheet1!C:D,2,FALSE)","v":{"$error":"#N/A"}}]
[{"$nulls":6},"",{"$f":"VLOOKUP(G882,Sheet1!C:D,2,FALSE)","v":{"$error":"#N/A"}}]
[{"$nulls":6},"",{"$f":"VLOOKUP(G883,Sheet1!C:D,2,FALSE)","v":{"$error":"#N/A"}}]
[{"$nulls":6},"",{"$f":"VLOOKUP(G884,Sheet1!C:D,2,FALSE)","v":{"$error":"#N/A"}}]
[{"$nulls":6},"",{"$f":"VLOOKUP(G885,Sheet1!C:D,2,FALSE)","v":{"$error":"#N/A"}}]
[{"$nulls":6},"",{"$f":"VLOOKUP(G886,Sheet1!C:D,2,FALSE)","v":{"$error":"#N/A"}}]
[{"$nulls":6},"",{"$f":"VLOOKUP(G887,Sheet1!C:D,2,FALSE)","v":{"$error":"#N/A"}}]
[{"$nulls":6},"",{"$f":"VLOOKUP(G888,Sheet1!C:D,2,FALSE)","v":{"$error":"#N/A"}}]
[{"$nulls":6},"",{"$f":"VLOOKUP(G889,Sheet1!C:D,2,FALSE)","v":{"$error":"#N/A"}}]
[{"$nulls":6},"",{"$f":"VLOOKUP(G890,Sheet1!C:D,2,FALSE)","v":{"$error":"#N/A"}}]
[{"$nulls":6},"",{"$f":"VLOOKUP(G891,Sheet1!C:D,2,FALSE)","v":{"$error":"#N/A"}}]
[{"$nulls":6},"",{"$f":"VLOOKUP(G892,Sheet1!C:D,2,FALSE)","v":{"$error":"#N/A"}}]
[{"$nulls":6},"",{"$f":"VLOOKUP(G893,Sheet1!C:D,2,FALSE)","v":{"$error":"#N/A"}}]
[{"$nulls":6},"",{"$f":"VLOOKUP(G894,Sheet1!C:D,2,FALSE)","v":{"$error":"#N/A"}}]
[{"$nulls":6},"",{"$f":"VLOOKUP(G895,Sheet1!C:D,2,FALSE)","v":{"$error":"#N/A"}}]
[{"$nulls":6},"",{"$f":"VLOOKUP(G896,Sheet1!C:D,2,FALSE)","v":{"$error":"#N/A"}}]
[{"$nulls":6},"",{"$f":"VLOOKUP(G897,Sheet1!C:D,2,FALSE)","v":{"$error":"#N/A"}}]
[{"$nulls":6},"",{"$f":"VLOOKUP(G898,Sheet1!C:D,2,FALSE)","v":{"$error":"#N/A"}}]
[{"$nulls":6},"",{"$f":"VLOOKUP(G899,Sheet1!C:D,2,FALSE)","v":{"$error":"#N/A"}}]
[{"$nulls":6},"",{"$f":"VLOOKUP(G900,Sheet1!C:D,2,FALSE)","v":{"$error":"#N/A"}}]
[{"$nulls":6},{"$f":"C901&F901","v":""},{"$f":"VLOOKUP(G901,Sheet1!C:D,2,FALSE)","v":{"$error":"#N/A"}}]
[{"$nulls":6},"",{"$f":"VLOOKUP(G902,Sheet1!C:D,2,FALSE)","v":{"$error":"#N/A"}}]
[{"$nulls":6},"",{"$f":"VLOOKUP(G903,Sheet1!C:D,2,FALSE)","v":{"$error":"#N/A"}}]
[{"$nulls":6},"",{"$f":"VLOOKUP(G904,Sheet1!C:D,2,FALSE)","v":{"$error":"#N/A"}}]
[{"$nulls":6},"",{"$f":"VLOOKUP(G905,Sheet1!C:D,2,FALSE)","v":{"$error":"#N/A"}}]
[{"$nulls":6},"",{"$f":"VLOOKUP(G906,Sheet1!C:D,2,FALSE)","v":{"$error":"#N/A"}}]
[{"$nulls":6},"",{"$f":"VLOOKUP(G907,Sheet1!C:D,2,FALSE)","v":{"$error":"#N/A"}}]
[{"$nulls":6},"",{"$f":"VLOOKUP(G908,Sheet1!C:D,2,FALSE)","v":{"$error":"#N/A"}}]
[{"$nulls":6},"",{"$f":"VLOOKUP(G909,Sheet1!C:D,2,FALSE)","v":{"$error":"#N/A"}}]
[{"$nulls":6},"",{"$f":"VLOOKUP(G910,Sheet1!C:D,2,FALSE)","v":{"$error":"#N/A"}}]
[{"$nulls":6},"",{"$f":"VLOOKUP(G911,Sheet1!C:D,2,FALSE)","v":{"$error":"#N/A"}}]
[{"$nulls":6},"",{"$f":"VLOOKUP(G912,Sheet1!C:D,2,FALSE)","v":{"$error":"#N/A"}}]
[{"$nulls":6},"",{"$f":"VLOOKUP(G913,Sheet1!C:D,2,FALSE)","v":{"$error":"#N/A"}}]
[{"$nulls":6},"",{"$f":"VLOOKUP(G914,Sheet1!C:D,2,FALSE)","v":{"$error":"#N/A"}}]
[{"$nulls":6},"",{"$f":"VLOOKUP(G915,Sheet1!C:D,2,FALSE)","v":{"$error":"#N/A"}}]
[{"$nulls":6},"",{"$f":"VLOOKUP(G916,Sheet1!C:D,2,FALSE)","v":{"$error":"#N/A"}}]
[{"$nulls":6},"",{"$f":"VLOOKUP(G917,Sheet1!C:D,2,FALSE)","v":{"$error":"#N/A"}}]
[{"$nulls":6},"",{"$f":"VLOOKUP(G918,Sheet1!C:D,2,FALSE)","v":{"$error":"#N/A"}}]
[{"$nulls":6},"",{"$f":"VLOOKUP(G919,Sheet1!C:D,2,FALSE)","v":{"$error":"#N/A"}}]
[{"$nulls":6},"",{"$f":"VLOOKUP(G920,Sheet1!C:D,2,FALSE)","v":{"$error":"#N/A"}}]
[{"$nulls":6},"",{"$f":"VLOOKUP(G921,Sheet1!C:D,2,FALSE)","v":{"$error":"#N/A"}}]
[{"$nulls":6},"",{"$f":"VLOOKUP(G922,Sheet1!C:D,2,FALSE)","v":{"$error":"#N/A"}}]
[{"$nulls":6},"",{"$f":"VLOOKUP(G923,Sheet1!C:D,2,FALSE)","v":{"$error":"#N/A"}}]
[{"$nulls":6},"",{"$f":"VLOOKUP(G924,Sheet1!C:D,2,FALSE)","v":{"$error":"#N/A"}}]
[{"$nulls":6},"",{"$f":"VLOOKUP(G925,Sheet1!C:D,2,FALSE)","v":{"$error":"#N/A"}}]
[{"$nulls":6},"",{"$f":"VLOOKUP(G926,Sheet1!C:D,2,FALSE)","v":{"$error":"#N/A"}}]
[{"$nulls":6},"",{"$f":"VLOOKUP(G927,Sheet1!C:D,2,FALSE)","v":{"$error":"#N/A"}}]
[{"$nulls":6},"",{"$f":"VLOOKUP(G928,Sheet1!C:D,2,FALSE)","v":{"$error":"#N/A"}}]
[{"$nulls":6},"",{"$f":"VLOOKUP(G929,Sheet1!C:D,2,FALSE)","v":{"$error":"#N/A"}}]
[{"$nulls":6},"",{"$f":"VLOOKUP(G930,Sheet1!C:D,2,FALSE)","v":{"$error":"#N/A"}}]
[{"$nulls":6},"",{"$f":"VLOOKUP(G931,Sheet1!C:D,2,FALSE)","v":{"$error":"#N/A"}}]
[{"$nulls":6},"",{"$f":"VLOOKUP(G932,Sheet1!C:D,2,FALSE)","v":{"$error":"#N/A"}}]
[{"$nulls":6},"",{"$f":"VLOOKUP(G933,Sheet1!C:D,2,FALSE)","v":{"$error":"#N/A"}}]
[{"$nulls":6},"",{"$f":"VLOOKUP(G934,Sheet1!C:D,2,FALSE)","v":{"$error":"#N/A"}}]
[{"$nulls":6},"",{"$f":"VLOOKUP(G935,Sheet1!C:D,2,FALSE)","v":{"$error":"#N/A"}}]
[{"$nulls":6},"",{"$f":"VLOOKUP(G936,Sheet1!C:D,2,FALSE)","v":{"$error":"#N/A"}}]
[{"$nulls":6},"",{"$f":"VLOOKUP(G937,Sheet1!C:D,2,FALSE)","v":{"$error":"#N/A"}}]
[{"$nulls":6},"",{"$f":"VLOOKUP(G938,Sheet1!C:D,2,FALSE)","v":{"$error":"#N/A"}}]
[{"$nulls":6},"",{"$f":"VLOOKUP(G939,Sheet1!C:D,2,FALSE)","v":{"$error":"#N/A"}}]
[{"$nulls":6},"",{"$f":"VLOOKUP(G940,Sheet1!C:D,2,FALSE)","v":{"$error":"#N/A"}}]
[{"$nulls":6},"",{"$f":"VLOOKUP(G941,Sheet1!C:D,2,FALSE)","v":{"$error":"#N/A"}}]
[{"$nulls":6},"",{"$f":"VLOOKUP(G942,Sheet1!C:D,2,FALSE)","v":{"$error":"#N/A"}}]
[{"$nulls":6},"",{"$f":"VLOOKUP(G943,Sheet1!C:D,2,FALSE)","v":{"$error":"#N/A"}}]
[{"$nulls":6},"",{"$f":"VLOOKUP(G944,Sheet1!C:D,2,FALSE)","v":{"$error":"#N/A"}}]
[{"$nulls":6},"",{"$f":"VLOOKUP(G945,Sheet1!C:D,2,FALSE)","v":{"$error":"#N/A"}}]
[{"$nulls":6},"",{"$f":"VLOOKUP(G946,Sheet1!C:D,2,FALSE)","v":{"$error":"#N/A"}}]
[{"$nulls":6},"",{"$f":"VLOOKUP(G947,Sheet1!C:D,2,FALSE)","v":{"$error":"#N/A"}}]
[{"$nulls":6},"",{"$f":"VLOOKUP(G948,Sheet1!C:D,2,FALSE)","v":{"$error":"#N/A"}}]
[{"$nulls":6},"",{"$f":"VLOOKUP(G949,Sheet1!C:D,2,FALSE)","v":{"$error":"#N/A"}}]
[{"$nulls":6},"",{"$f":"VLOOKUP(G950,Sheet1!C:D,2,FALSE)","v":{"$error":"#N/A"}}]
[{"$nulls":6},"",{"$f":"VLOOKUP(G951,Sheet1!C:D,2,FALSE)","v":{"$error":"#N/A"}}]
[{"$nulls":6},"",{"$f":"VLOOKUP(G952,Sheet1!C:D,2,FALSE)","v":{"$error":"#N/A"}}]
[{"$nulls":6},"",{"$f":"VLOOKUP(G953,Sheet1!C:D,2,FALSE)","v":{"$error":"#N/A"}}]
[{"$nulls":6},"",{"$f":"VLOOKUP(G954,Sheet1!C:D,2,FALSE)","v":{"$error":"#N/A"}}]
[{"$nulls":6},"",{"$f":"VLOOKUP(G955,Sheet1!C:D,2,FALSE)","v":{"$error":"#N/A"}}]
[{"$nulls":6},"",{"$f":"VLOOKUP(G956,Sheet1!C:D,2,FALSE)","v":{"$error":"#N/A"}}]
[{"$nulls":6},"",{"$f":"VLOOKUP(G957,Sheet1!C:D,2,FALSE)","v":{"$error":"#N/A"}}]
[{"$nulls":6},"",{"$f":"VLOOKUP(G958,Sheet1!C:D,2,FALSE)","v":{"$error":"#N/A"}}]
[{"$nulls":6},"",{"$f":"VLOOKUP(G959,Sheet1!C:D,2,FALSE)","v":{"$error":"#N/A"}}]
[{"$nulls":6},"",{"$f":"VLOOKUP(G960,Sheet1!C:D,2,FALSE)","v":{"$error":"#N/A"}}]
[{"$nulls":6},"",{"$f":"VLOOKUP(G961,Sheet1!C:D,2,FALSE)","v":{"$error":"#N/A"}}]
[{"$nulls":6},"",{"$f":"VLOOKUP(G962,Sheet1!C:D,2,FALSE)","v":{"$error":"#N/A"}}]
[{"$nulls":6},"",{"$f":"VLOOKUP(G963,Sheet1!C:D,2,FALSE)","v":{"$error":"#N/A"}}]
[{"$nulls":6},"",{"$f":"VLOOKUP(G964,Sheet1!C:D,2,FALSE)","v":{"$error":"#N/A"}}]
[{"$nulls":6},{"$f":"C965&F965","v":""},{"$f":"VLOOKUP(G965,Sheet1!C:D,2,FALSE)","v":{"$error":"#N/A"}}]
[{"$nulls":6},"",{"$f":"VLOOKUP(G966,Sheet1!C:D,2,FALSE)","v":{"$error":"#N/A"}}]
[{"$nulls":6},"",{"$f":"VLOOKUP(G967,Sheet1!C:D,2,FALSE)","v":{"$error":"#N/A"}}]
[{"$nulls":6},"",{"$f":"VLOOKUP(G968,Sheet1!C:D,2,FALSE)","v":{"$error":"#N/A"}}]
[{"$nulls":6},"",{"$f":"VLOOKUP(G969,Sheet1!C:D,2,FALSE)","v":{"$error":"#N/A"}}]
[{"$nulls":6},"",{"$f":"VLOOKUP(G970,Sheet1!C:D,2,FALSE)","v":{"$error":"#N/A"}}]
[{"$nulls":6},"",{"$f":"VLOOKUP(G971,Sheet1!C:D,2,FALSE)","v":{"$error":"#N/A"}}]
[{"$nulls":6},"",{"$f":"VLOOKUP(G972,Sheet1!C:D,2,FALSE)","v":{"$error":"#N/A"}}]
[{"$nulls":6},"",{"$f":"VLOOKUP(G973,Sheet1!C:D,2,FALSE)","v":{"$error":"#N/A"}}]
[{"$nulls":6},"",{"$f":"VLOOKUP(G974,Sheet1!C:D,2,FALSE)","v":{"$error":"#N/A"}}]
[{"$nulls":6},"",{"$f":"VLOOKUP(G975,Sheet1!C:D,2,FALSE)","v":{"$error":"#N/A"}}]
[{"$nulls":6},"",{"$f":"VLOOKUP(G976,Sheet1!C:D,2,FALSE)","v":{"$error":"#N/A"}}]
[{"$nulls":6},"",{"$f":"VLOOKUP(G977,Sheet1!C:D,2,FALSE)","v":{"$error":"#N/A"}}]
[{"$nulls":6},"",{"$f":"VLOOKUP(G978,Sheet1!C:D,2,FALSE)","v":{"$error":"#N/A"}}]
[{"$nulls":6},"",{"$f":"VLOOKUP(G979,Sheet1!C:D,2,FALSE)","v":{"$error":"#N/A"}}]
[{"$nulls":6},"",{"$f":"VLOOKUP(G980,Sheet1!C:D,2,FALSE)","v":{"$error":"#N/A"}}]
[{"$nulls":6},"",{"$f":"VLOOKUP(G981,Sheet1!C:D,2,FALSE)","v":{"$error":"#N/A"}}]
[{"$nulls":6},"",{"$f":"VLOOKUP(G982,Sheet1!C:D,2,FALSE)","v":{"$error":"#N/A"}}]
[{"$nulls":6},"",{"$f":"VLOOKUP(G983,Sheet1!C:D,2,FALSE)","v":{"$error":"#N/A"}}]
[{"$nulls":6},"",{"$f":"VLOOKUP(G984,Sheet1!C:D,2,FALSE)","v":{"$error":"#N/A"}}]
[{"$nulls":6},"",{"$f":"VLOOKUP(G985,Sheet1!C:D,2,FALSE)","v":{"$error":"#N/A"}}]
[{"$nulls":6},"",{"$f":"VLOOKUP(G986,Sheet1!C:D,2,FALSE)","v":{"$error":"#N/A"}}]
[{"$nulls":6},"",{"$f":"VLOOKUP(G987,Sheet1!C:D,2,FALSE)","v":{"$error":"#N/A"}}]
[{"$nulls":6},"",{"$f":"VLOOKUP(G988,Sheet1!C:D,2,FALSE)","v":{"$error":"#N/A"}}]
[{"$nulls":6},"",{"$f":"VLOOKUP(G989,Sheet1!C:D,2,FALSE)","v":{"$error":"#N/A"}}]
[{"$nulls":6},"",{"$f":"VLOOKUP(G990,Sheet1!C:D,2,FALSE)","v":{"$error":"#N/A"}}]
[{"$nulls":6},"",{"$f":"VLOOKUP(G991,Sheet1!C:D,2,FALSE)","v":{"$error":"#N/A"}}]
[{"$nulls":6},"",{"$f":"VLOOKUP(G992,Sheet1!C:D,2,FALSE)","v":{"$error":"#N/A"}}]
[{"$nulls":6},"",{"$f":"VLOOKUP(G993,Sheet1!C:D,2,FALSE)","v":{"$error":"#N/A"}}]
[{"$nulls":6},"",{"$f":"VLOOKUP(G994,Sheet1!C:D,2,FALSE)","v":{"$error":"#N/A"}}]
[{"$nulls":6},"",{"$f":"VLOOKUP(G995,Sheet1!C:D,2,FALSE)","v":{"$error":"#N/A"}}]
[{"$nulls":6},"",{"$f":"VLOOKUP(G996,Sheet1!C:D,2,FALSE)","v":{"$error":"#N/A"}}]
[{"$nulls":6},"",{"$f":"VLOOKUP(G997,Sheet1!C:D,2,FALSE)","v":{"$error":"#N/A"}}]
[{"$nulls":6},"",{"$f":"VLOOKUP(G998,Sheet1!C:D,2,FALSE)","v":{"$error":"#N/A"}}]
[{"$nulls":6},"",{"$f":"VLOOKUP(G999,Sheet1!C:D,2,FALSE)","v":{"$error":"#N/A"}}]
[{"$nulls":6},"",{"$f":"VLOOKUP(G1000,Sheet1!C:D,2,FALSE)","v":{"$error":"#N/A"}}]
[{"$nulls":6},"",{"$f":"VLOOKUP(G1001,Sheet1!C:D,2,FALSE)","v":{"$error":"#N/A"}}]
[{"$nulls":6},"",{"$f":"VLOOKUP(G1002,Sheet1!C:D,2,FALSE)","v":{"$error":"#N/A"}}]
[{"$nulls":6},"",{"$f":"VLOOKUP(G1003,Sheet1!C:D,2,FALSE)","v":{"$error":"#N/A"}}]
[{"$nulls":6},"",{"$f":"VLOOKUP(G1004,Sheet1!C:D,2,FALSE)","v":{"$error":"#N/A"}}]
[{"$nulls":6},"",{"$f":"VLOOKUP(G1005,Sheet1!C:D,2,FALSE)","v":{"$error":"#N/A"}}]
[{"$nulls":6},"",{"$f":"VLOOKUP(G1006,Sheet1!C:D,2,FALSE)","v":{"$error":"#N/A"}}]
[{"$nulls":6},"",{"$f":"VLOOKUP(G1007,Sheet1!C:D,2,FALSE)","v":{"$error":"#N/A"}}]
[{"$nulls":6},"",{"$f":"VLOOKUP(G1008,Sheet1!C:D,2,FALSE)","v":{"$error":"#N/A"}}]
[{"$nulls":6},"",{"$f":"VLOOKUP(G1009,Sheet1!C:D,2,FALSE)","v":{"$error":"#N/A"}}]
[{"$nulls":6},"",{"$f":"VLOOKUP(G1010,Sheet1!C:D,2,FALSE)","v":{"$error":"#N/A"}}]
[{"$nulls":6},"",{"$f":"VLOOKUP(G1011,Sheet1!C:D,2,FALSE)","v":{"$error":"#N/A"}}]
[{"$nulls":6},"",{"$f":"VLOOKUP(G1012,Sheet1!C:D,2,FALSE)","v":{"$error":"#N/A"}}]
[{"$nulls":6},"",{"$f":"VLOOKUP(G1013,Sheet1!C:D,2,FALSE)","v":{"$error":"#N/A"}}]
[{"$nulls":6},"",{"$f":"VLOOKUP(G1014,Sheet1!C:D,2,FALSE)","v":{"$error":"#N/A"}}]
[{"$nulls":6},"",{"$f":"VLOOKUP(G1015,Sheet1!C:D,2,FALSE)","v":{"$error":"#N/A"}}]
[{"$nulls":6},"",{"$f":"VLOOKUP(G1016,Sheet1!C:D,2,FALSE)","v":{"$error":"#N/A"}}]
[{"$nulls":6},"",{"$f":"VLOOKUP(G1017,Sheet1!C:D,2,FALSE)","v":{"$error":"#N/A"}}]
[{"$nulls":6},"",{"$f":"VLOOKUP(G1018,Sheet1!C:D,2,FALSE)","v":{"$error":"#N/A"}}]
[{"$nulls":6},"",{"$f":"VLOOKUP(G1019,Sheet1!C:D,2,FALSE)","v":{"$error":"#N/A"}}]
[{"$nulls":6},"",{"$f":"VLOOKUP(G1020,Sheet1!C:D,2,FALSE)","v":{"$error":"#N/A"}}]
[{"$nulls":6},"",{"$f":"VLOOKUP(G1021,Sheet1!C:D,2,FALSE)","v":{"$error":"#N/A"}}]
[{"$nulls":6},"",{"$f":"VLOOKUP(G1022,Sheet1!C:D,2,FALSE)","v":{"$error":"#N/A"}}]
[{"$nulls":6},"",{"$f":"VLOOKUP(G1023,Sheet1!C:D,2,FALSE)","v":{"$error":"#N/A"}}]
[{"$nulls":6},"",{"$f":"VLOOKUP(G1024,Sheet1!C:D,2,FALSE)","v":{"$error":"#N/A"}}]
[{"$nulls":6},"",{"$f":"VLOOKUP(G1025,Sheet1!C:D,2,FALSE)","v":{"$error":"#N/A"}}]
[{"$nulls":6},"",{"$f":"VLOOKUP(G1026,Sheet1!C:D,2,FALSE)","v":{"$error":"#N/A"}}]
[{"$nulls":6},"",{"$f":"VLOOKUP(G1027,Sheet1!C:D,2,FALSE)","v":{"$error":"#N/A"}}]
[{"$nulls":6},"",{"$f":"VLOOKUP(G1028,Sheet1!C:D,2,FALSE)","v":{"$error":"#N/A"}}]
[{"$nulls":6},{"$f":"C1029&F1029","v":""},{"$f":"VLOOKUP(G1029,Sheet1!C:D,2,FALSE)","v":{"$error":"#N/A"}}]
[{"$nulls":6},"",{"$f":"VLOOKUP(G1030,Sheet1!C:D,2,FALSE)","v":{"$error":"#N/A"}}]
[{"$nulls":6},"",{"$f":"VLOOKUP(G1031,Sheet1!C:D,2,FALSE)","v":{"$error":"#N/A"}}]
[{"$nulls":6},"",{"$f":"VLOOKUP(G1032,Sheet1!C:D,2,FALSE)","v":{"$error":"#N/A"}}]
[{"$nulls":6},"",{"$f":"VLOOKUP(G1033,Sheet1!C:D,2,FALSE)","v":{"$error":"#N/A"}}]
[{"$nulls":6},"",{"$f":"VLOOKUP(G1034,Sheet1!C:D,2,FALSE)","v":{"$error":"#N/A"}}]
[{"$nulls":6},"",{"$f":"VLOOKUP(G1035,Sheet1!C:D,2,FALSE)","v":{"$error":"#N/A"}}]
[{"$nulls":6},"",{"$f":"VLOOKUP(G1036,Sheet1!C:D,2,FALSE)","v":{"$error":"#N/A"}}]
[{"$nulls":6},"",{"$f":"VLOOKUP(G1037,Sheet1!C:D,2,FALSE)","v":{"$error":"#N/A"}}]
[{"$nulls":6},"",{"$f":"VLOOKUP(G1038,Sheet1!C:D,2,FALSE)","v":{"$error":"#N/A"}}]
[{"$nulls":6},"",{"$f":"VLOOKUP(G1039,Sheet1!C:D,2,FALSE)","v":{"$error":"#N/A"}}]
[{"$nulls":6},"",{"$f":"VLOOKUP(G1040,Sheet1!C:D,2,FALSE)","v":{"$error":"#N/A"}}]
[{"$nulls":6},"",{"$f":"VLOOKUP(G1041,Sheet1!C:D,2,FALSE)","v":{"$error":"#N/A"}}]
[{"$nulls":6},"",{"$f":"VLOOKUP(G1042,Sheet1!C:D,2,FALSE)","v":{"$error":"#N/A"}}]
[{"$nulls":6},"",{"$f":"VLOOKUP(G1043,Sheet1!C:D,2,FALSE)","v":{"$error":"#N/A"}}]
[{"$nulls":6},"",{"$f":"VLOOKUP(G1044,Sheet1!C:D,2,FALSE)","v":{"$error":"#N/A"}}]
[{"$nulls":6},"",{"$f":"VLOOKUP(G1045,Sheet1!C:D,2,FALSE)","v":{"$error":"#N/A"}}]
[{"$nulls":6},"",{"$f":"VLOOKUP(G1046,Sheet1!C:D,2,FALSE)","v":{"$error":"#N/A"}}]
[{"$nulls":6},"",{"$f":"VLOOKUP(G1047,Sheet1!C:D,2,FALSE)","v":{"$error":"#N/A"}}]
[{"$nulls":6},"",{"$f":"VLOOKUP(G1048,Sheet1!C:D,2,FALSE)","v":{"$error":"#N/A"}}]
[{"$nulls":6},"",{"$f":"VLOOKUP(G1049,Sheet1!C:D,2,FALSE)","v":{"$error":"#N/A"}}]
[{"$nulls":6},"",{"$f":"VLOOKUP(G1050,Sheet1!C:D,2,FALSE)","v":{"$error":"#N/A"}}]
[{"$nulls":6},"",{"$f":"VLOOKUP(G1051,Sheet1!C:D,2,FALSE)","v":{"$error":"#N/A"}}]
[{"$nulls":6},"",{"$f":"VLOOKUP(G1052,Sheet1!C:D,2,FALSE)","v":{"$error":"#N/A"}}]
[{"$nulls":6},"",{"$f":"VLOOKUP(G1053,Sheet1!C:D,2,FALSE)","v":{"$error":"#N/A"}}]
[{"$nulls":6},"",{"$f":"VLOOKUP(G1054,Sheet1!C:D,2,FALSE)","v":{"$error":"#N/A"}}]
[{"$nulls":6},"",{"$f":"VLOOKUP(G1055,Sheet1!C:D,2,FALSE)","v":{"$error":"#N/A"}}]
[{"$nulls":6},"",{"$f":"VLOOKUP(G1056,Sheet1!C:D,2,FALSE)","v":{"$error":"#N/A"}}]
[{"$nulls":6},"",{"$f":"VLOOKUP(G1057,Sheet1!C:D,2,FALSE)","v":{"$error":"#N/A"}}]
[{"$nulls":6},"",{"$f":"VLOOKUP(G1058,Sheet1!C:D,2,FALSE)","v":{"$error":"#N/A"}}]
[{"$nulls":6},"",{"$f":"VLOOKUP(G1059,Sheet1!C:D,2,FALSE)","v":{"$error":"#N/A"}}]
[{"$nulls":6},"",{"$f":"VLOOKUP(G1060,Sheet1!C:D,2,FALSE)","v":{"$error":"#N/A"}}]
[{"$nulls":6},"",{"$f":"VLOOKUP(G1061,Sheet1!C:D,2,FALSE)","v":{"$error":"#N/A"}}]
[{"$nulls":6},"",{"$f":"VLOOKUP(G1062,Sheet1!C:D,2,FALSE)","v":{"$error":"#N/A"}}]
[{"$nulls":6},"",{"$f":"VLOOKUP(G1063,Sheet1!C:D,2,FALSE)","v":{"$error":"#N/A"}}]
[{"$nulls":6},"",{"$f":"VLOOKUP(G1064,Sheet1!C:D,2,FALSE)","v":{"$error":"#N/A"}}]
[{"$nulls":6},"",{"$f":"VLOOKUP(G1065,Sheet1!C:D,2,FALSE)","v":{"$error":"#N/A"}}]
[{"$nulls":6},"",{"$f":"VLOOKUP(G1066,Sheet1!C:D,2,FALSE)","v":{"$error":"#N/A"}}]
[{"$nulls":6},"",{"$f":"VLOOKUP(G1067,Sheet1!C:D,2,FALSE)","v":{"$error":"#N/A"}}]
[{"$nulls":6},"",{"$f":"VLOOKUP(G1068,Sheet1!C:D,2,FALSE)","v":{"$error":"#N/A"}}]
[{"$nulls":6},"",{"$f":"VLOOKUP(G1069,Sheet1!C:D,2,FALSE)","v":{"$error":"#N/A"}}]
[{"$nulls":6},"",{"$f":"VLOOKUP(G1070,Sheet1!C:D,2,FALSE)","v":{"$error":"#N/A"}}]
[{"$nulls":6},"",{"$f":"VLOOKUP(G1071,Sheet1!C:D,2,FALSE)","v":{"$error":"#N/A"}}]
[{"$nulls":6},"",{"$f":"VLOOKUP(G1072,Sheet1!C:D,2,FALSE)","v":{"$error":"#N/A"}}]
[{"$nulls":6},"",{"$f":"VLOOKUP(G1073,Sheet1!C:D,2,FALSE)","v":{"$error":"#N/A"}}]
[{"$nulls":6},"",{"$f":"VLOOKUP(G1074,Sheet1!C:D,2,FALSE)","v":{"$error":"#N/A"}}]
[{"$nulls":6},"",{"$f":"VLOOKUP(G1075,Sheet1!C:D,2,FALSE)","v":{"$error":"#N/A"}}]
[{"$nulls":6},"",{"$f":"VLOOKUP(G1076,Sheet1!C:D,2,FALSE)","v":{"$error":"#N/A"}}]
[{"$nulls":6},"",{"$f":"VLOOKUP(G1077,Sheet1!C:D,2,FALSE)","v":{"$error":"#N/A"}}]
[{"$nulls":6},"",{"$f":"VLOOKUP(G1078,Sheet1!C:D,2,FALSE)","v":{"$error":"#N/A"}}]
[{"$nulls":6},"",{"$f":"VLOOKUP(G1079,Sheet1!C:D,2,FALSE)","v":{"$error":"#N/A"}}]
[{"$nulls":6},"",{"$f":"VLOOKUP(G1080,Sheet1!C:D,2,FALSE)","v":{"$error":"#N/A"}}]
[{"$nulls":6},"",{"$f":"VLOOKUP(G1081,Sheet1!C:D,2,FALSE)","v":{"$error":"#N/A"}}]
[{"$nulls":6},"",{"$f":"VLOOKUP(G1082,Sheet1!C:D,2,FALSE)","v":{"$error":"#N/A"}}]
[{"$nulls":6},"",{"$f":"VLOOKUP(G1083,Sheet1!C:D,2,FALSE)","v":{"$error":"#N/A"}}]
[{"$nulls":6},"",{"$f":"VLOOKUP(G1084,Sheet1!C:D,2,FALSE)","v":{"$error":"#N/A"}}]
[{"$nulls":6},"",{"$f":"VLOOKUP(G1085,Sheet1!C:D,2,FALSE)","v":{"$error":"#N/A"}}]
[{"$nulls":6},"",{"$f":"VLOOKUP(G1086,Sheet1!C:D,2,FALSE)","v":{"$error":"#N/A"}}]
[{"$nulls":6},"",{"$f":"VLOOKUP(G1087,Sheet1!C:D,2,FALSE)","v":{"$error":"#N/A"}}]
[{"$nulls":6},"",{"$f":"VLOOKUP(G1088,Sheet1!C:D,2,FALSE)","v":{"$error":"#N/A"}}]
[{"$nulls":6},"",{"$f":"VLOOKUP(G1089,Sheet1!C:D,2,FALSE)","v":{"$error":"#N/A"}}]
[{"$nulls":6},"",{"$f":"VLOOKUP(G1090,Sheet1!C:D,2,FALSE)","v":{"$error":"#N/A"}}]
[{"$nulls":6},"",{"$f":"VLOOKUP(G1091,Sheet1!C:D,2,FALSE)","v":{"$error":"#N/A"}}]
[{"$nulls":6},"",{"$f":"VLOOKUP(G1092,Sheet1!C:D,2,FALSE)","v":{"$error":"#N/A"}}]
[{"$nulls":6},{"$f":"C1093&F1093","v":""},{"$f":"VLOOKUP(G1093,Sheet1!C:D,2,FALSE)","v":{"$error":"#N/A"}}]
[{"$nulls":6},"",{"$f":"VLOOKUP(G1094,Sheet1!C:D,2,FALSE)","v":{"$error":"#N/A"}}]
[{"$nulls":6},"",{"$f":"VLOOKUP(G1095,Sheet1!C:D,2,FALSE)","v":{"$error":"#N/A"}}]
[{"$nulls":6},"",{"$f":"VLOOKUP(G1096,Sheet1!C:D,2,FALSE)","v":{"$error":"#N/A"}}]
[{"$nulls":6},"",{"$f":"VLOOKUP(G1097,Sheet1!C:D,2,FALSE)","v":{"$error":"#N/A"}}]
[{"$nulls":6},"",{"$f":"VLOOKUP(G1098,Sheet1!C:D,2,FALSE)","v":{"$error":"#N/A"}}]
[{"$nulls":6},"",{"$f":"VLOOKUP(G1099,Sheet1!C:D,2,FALSE)","v":{"$error":"#N/A"}}]
[{"$nulls":6},"",{"$f":"VLOOKUP(G1100,Sheet1!C:D,2,FALSE)","v":{"$error":"#N/A"}}]
[{"$nulls":6},"",{"$f":"VLOOKUP(G1101,Sheet1!C:D,2,FALSE)","v":{"$error":"#N/A"}}]
[{"$nulls":6},"",{"$f":"VLOOKUP(G1102,Sheet1!C:D,2,FALSE)","v":{"$error":"#N/A"}}]
[{"$nulls":6},"",{"$f":"VLOOKUP(G1103,Sheet1!C:D,2,FALSE)","v":{"$error":"#N/A"}}]
[{"$nulls":6},"",{"$f":"VLOOKUP(G1104,Sheet1!C:D,2,FALSE)","v":{"$error":"#N/A"}}]
[{"$nulls":6},"",{"$f":"VLOOKUP(G1105,Sheet1!C:D,2,FALSE)","v":{"$error":"#N/A"}}]
[{"$nulls":6},"",{"$f":"VLOOKUP(G1106,Sheet1!C:D,2,FALSE)","v":{"$error":"#N/A"}}]
[{"$nulls":6},"",{"$f":"VLOOKUP(G1107,Sheet1!C:D,2,FALSE)","v":{"$error":"#N/A"}}]
[{"$nulls":6},"",{"$f":"VLOOKUP(G1108,Sheet1!C:D,2,FALSE)","v":{"$error":"#N/A"}}]
[{"$nulls":6},"",{"$f":"VLOOKUP(G1109,Sheet1!C:D,2,FALSE)","v":{"$error":"#N/A"}}]
[{"$nulls":6},"",{"$f":"VLOOKUP(G1110,Sheet1!C:D,2,FALSE)","v":{"$error":"#N/A"}}]
[{"$nulls":6},"",{"$f":"VLOOKUP(G1111,Sheet1!C:D,2,FALSE)","v":{"$error":"#N/A"}}]
[{"$nulls":6},"",{"$f":"VLOOKUP(G1112,Sheet1!C:D,2,FALSE)","v":{"$error":"#N/A"}}]
[{"$nulls":6},"",{"$f":"VLOOKUP(G1113,Sheet1!C:D,2,FALSE)","v":{"$error":"#N/A"}}]
[{"$nulls":6},"",{"$f":"VLOOKUP(G1114,Sheet1!C:D,2,FALSE)","v":{"$error":"#N/A"}}]
[{"$nulls":6},"",{"$f":"VLOOKUP(G1115,Sheet1!C:D,2,FALSE)","v":{"$error":"#N/A"}}]
[{"$nulls":6},"",{"$f":"VLOOKUP(G1116,Sheet1!C:D,2,FALSE)","v":{"$error":"#N/A"}}]
[{"$nulls":6},"",{"$f":"VLOOKUP(G1117,Sheet1!C:D,2,FALSE)","v":{"$error":"#N/A"}}]
[{"$nulls":6},"",{"$f":"VLOOKUP(G1118,Sheet1!C:D,2,FALSE)","v":{"$error":"#N/A"}}]
[{"$nulls":6},"",{"$f":"VLOOKUP(G1119,Sheet1!C:D,2,FALSE)","v":{"$error":"#N/A"}}]
[{"$nulls":6},"",{"$f":"VLOOKUP(G1120,Sheet1!C:D,2,FALSE)","v":{"$error":"#N/A"}}]
[{"$nulls":6},"",{"$f":"VLOOKUP(G1121,Sheet1!C:D,2,FALSE)","v":{"$error":"#N/A"}}]
[{"$nulls":6},"",{"$f":"VLOOKUP(G1122,Sheet1!C:D,2,FALSE)","v":{"$error":"#N/A"}}]
[{"$nulls":6},"",{"$f":"VLOOKUP(G1123,Sheet1!C:D,2,FALSE)","v":{"$error":"#N/A"}}]
[{"$nulls":6},"",{"$f":"VLOOKUP(G1124,Sheet1!C:D,2,FALSE)","v":{"$error":"#N/A"}}]
[{"$nulls":6},"",{"$f":"VLOOKUP(G1125,Sheet1!C:D,2,FALSE)","v":{"$error":"#N/A"}}]
[{"$nulls":6},"",{"$f":"VLOOKUP(G1126,Sheet1!C:D,2,FALSE)","v":{"$error":"#N/A"}}]
[{"$nulls":6},"",{"$f":"VLOOKUP(G1127,Sheet1!C:D,2,FALSE)","v":{"$error":"#N/A"}}]
[{"$nulls":6},"",{"$f":"VLOOKUP(G1128,Sheet1!C:D,2,FALSE)","v":{"$error":"#N/A"}}]
[{"$nulls":6},"",{"$f":"VLOOKUP(G1129,Sheet1!C:D,2,FALSE)","v":{"$error":"#N/A"}}]
[{"$nulls":6},"",{"$f":"VLOOKUP(G1130,Sheet1!C:D,2,FALSE)","v":{"$error":"#N/A"}}]
[{"$nulls":6},"",{"$f":"VLOOKUP(G1131,Sheet1!C:D,2,FALSE)","v":{"$error":"#N/A"}}]
[{"$nulls":6},"",{"$f":"VLOOKUP(G1132,Sheet1!C:D,2,FALSE)","v":{"$error":"#N/A"}}]
[{"$nulls":6},"",{"$f":"VLOOKUP(G1133,Sheet1!C:D,2,FALSE)","v":{"$error":"#N/A"}}]
[{"$nulls":6},"",{"$f":"VLOOKUP(G1134,Sheet1!C:D,2,FALSE)","v":{"$error":"#N/A"}}]
[{"$nulls":6},"",{"$f":"VLOOKUP(G1135,Sheet1!C:D,2,FALSE)","v":{"$error":"#N/A"}}]
[{"$nulls":6},"",{"$f":"VLOOKUP(G1136,Sheet1!C:D,2,FALSE)","v":{"$error":"#N/A"}}]
[{"$nulls":6},"",{"$f":"VLOOKUP(G1137,Sheet1!C:D,2,FALSE)","v":{"$error":"#N/A"}}]
[{"$nulls":6},"",{"$f":"VLOOKUP(G1138,Sheet1!C:D,2,FALSE)","v":{"$error":"#N/A"}}]
[{"$nulls":6},"",{"$f":"VLOOKUP(G1139,Sheet1!C:D,2,FALSE)","v":{"$error":"#N/A"}}]
[{"$nulls":6},"",{"$f":"VLOOKUP(G1140,Sheet1!C:D,2,FALSE)","v":{"$error":"#N/A"}}]
[{"$nulls":6},"",{"$f":"VLOOKUP(G1141,Sheet1!C:D,2,FALSE)","v":{"$error":"#N/A"}}]
[{"$nulls":6},"",{"$f":"VLOOKUP(G1142,Sheet1!C:D,2,FALSE)","v":{"$error":"#N/A"}}]
[{"$nulls":6},"",{"$f":"VLOOKUP(G1143,Sheet1!C:D,2,FALSE)","v":{"$error":"#N/A"}}]
[{"$nulls":6},"",{"$f":"VLOOKUP(G1144,Sheet1!C:D,2,FALSE)","v":{"$error":"#N/A"}}]
[{"$nulls":6},"",{"$f":"VLOOKUP(G1145,Sheet1!C:D,2,FALSE)","v":{"$error":"#N/A"}}]
[{"$nulls":6},"",{"$f":"VLOOKUP(G1146,Sheet1!C:D,2,FALSE)","v":{"$error":"#N/A"}}]
[{"$nulls":6},"",{"$f":"VLOOKUP(G1147,Sheet1!C:D,2,FALSE)","v":{"$error":"#N/A"}}]
[{"$nulls":6},"",{"$f":"VLOOKUP(G1148,Sheet1!C:D,2,FALSE)","v":{"$error":"#N/A"}}]
[{"$nulls":6},"",{"$f":"VLOOKUP(G1149,Sheet1!C:D,2,FALSE)","v":{"$error":"#N/A"}}]
[{"$nulls":6},"",{"$f":"VLOOKUP(G1150,Sheet1!C:D,2,FALSE)","v":{"$error":"#N/A"}}]
[{"$nulls":6},"",{"$f":"VLOOKUP(G1151,Sheet1!C:D,2,FALSE)","v":{"$error":"#N/A"}}]
[{"$nulls":6},"",{"$f":"VLOOKUP(G1152,Sheet1!C:D,2,FALSE)","v":{"$error":"#N/A"}}]
[{"$nulls":6},"",{"$f":"VLOOKUP(G1153,Sheet1!C:D,2,FALSE)","v":{"$error":"#N/A"}}]
[{"$nulls":6},"",{"$f":"VLOOKUP(G1154,Sheet1!C:D,2,FALSE)","v":{"$error":"#N/A"}}]
[{"$nulls":6},"",{"$f":"VLOOKUP(G1155,Sheet1!C:D,2,FALSE)","v":{"$error":"#N/A"}}]
[{"$nulls":6},"",{"$f":"VLOOKUP(G1156,Sheet1!C:D,2,FALSE)","v":{"$error":"#N/A"}}]
[{"$nulls":6},{"$f":"C1157&F1157","v":""},{"$f":"VLOOKUP(G1157,Sheet1!C:D,2,FALSE)","v":{"$error":"#N/A"}}]
[{"$nulls":6},"",{"$f":"VLOOKUP(G1158,Sheet1!C:D,2,FALSE)","v":{"$error":"#N/A"}}]
[{"$nulls":6},"",{"$f":"VLOOKUP(G1159,Sheet1!C:D,2,FALSE)","v":{"$error":"#N/A"}}]
[{"$nulls":6},"",{"$f":"VLOOKUP(G1160,Sheet1!C:D,2,FALSE)","v":{"$error":"#N/A"}}]
[{"$nulls":6},"",{"$f":"VLOOKUP(G1161,Sheet1!C:D,2,FALSE)","v":{"$error":"#N/A"}}]
[{"$nulls":6},"",{"$f":"VLOOKUP(G1162,Sheet1!C:D,2,FALSE)","v":{"$error":"#N/A"}}]
[{"$nulls":6},"",{"$f":"VLOOKUP(G1163,Sheet1!C:D,2,FALSE)","v":{"$error":"#N/A"}}]
[{"$nulls":6},"",{"$f":"VLOOKUP(G1164,Sheet1!C:D,2,FALSE)","v":{"$error":"#N/A"}}]
[{"$nulls":6},"",{"$f":"VLOOKUP(G1165,Sheet1!C:D,2,FALSE)","v":{"$error":"#N/A"}}]
[{"$nulls":6},"",{"$f":"VLOOKUP(G1166,Sheet1!C:D,2,FALSE)","v":{"$error":"#N/A"}}]
[{"$nulls":6},"",{"$f":"VLOOKUP(G1167,Sheet1!C:D,2,FALSE)","v":{"$error":"#N/A"}}]
[{"$nulls":6},"",{"$f":"VLOOKUP(G1168,Sheet1!C:D,2,FALSE)","v":{"$error":"#N/A"}}]
[{"$nulls":6},"",{"$f":"VLOOKUP(G1169,Sheet1!C:D,2,FALSE)","v":{"$error":"#N/A"}}]
[{"$nulls":6},"",{"$f":"VLOOKUP(G1170,Sheet1!C:D,2,FALSE)","v":{"$error":"#N/A"}}]
[{"$nulls":6},"",{"$f":"VLOOKUP(G1171,Sheet1!C:D,2,FALSE)","v":{"$error":"#N/A"}}]
[{"$nulls":6},"",{"$f":"VLOOKUP(G1172,Sheet1!C:D,2,FALSE)","v":{"$error":"#N/A"}}]
[{"$nulls":6},"",{"$f":"VLOOKUP(G1173,Sheet1!C:D,2,FALSE)","v":{"$error":"#N/A"}}]
[{"$nulls":6},"",{"$f":"VLOOKUP(G1174,Sheet1!C:D,2,FALSE)","v":{"$error":"#N/A"}}]
[{"$nulls":6},"",{"$f":"VLOOKUP(G1175,Sheet1!C:D,2,FALSE)","v":{"$error":"#N/A"}}]
[{"$nulls":6},"",{"$f":"VLOOKUP(G1176,Sheet1!C:D,2,FALSE)","v":{"$error":"#N/A"}}]
[{"$nulls":6},"",{"$f":"VLOOKUP(G1177,Sheet1!C:D,2,FALSE)","v":{"$error":"#N/A"}}]
[{"$nulls":6},"",{"$f":"VLOOKUP(G1178,Sheet1!C:D,2,FALSE)","v":{"$error":"#N/A"}}]
[{"$nulls":6},"",{"$f":"VLOOKUP(G1179,Sheet1!C:D,2,FALSE)","v":{"$error":"#N/A"}}]
[{"$nulls":6},"",{"$f":"VLOOKUP(G1180,Sheet1!C:D,2,FALSE)","v":{"$error":"#N/A"}}]
[{"$nulls":6},"",{"$f":"VLOOKUP(G1181,Sheet1!C:D,2,FALSE)","v":{"$error":"#N/A"}}]
[{"$nulls":6},"",{"$f":"VLOOKUP(G1182,Sheet1!C:D,2,FALSE)","v":{"$error":"#N/A"}}]
[{"$nulls":6},"",{"$f":"VLOOKUP(G1183,Sheet1!C:D,2,FALSE)","v":{"$error":"#N/A"}}]
[{"$nulls":6},"",{"$f":"VLOOKUP(G1184,Sheet1!C:D,2,FALSE)","v":{"$error":"#N/A"}}]
[{"$nulls":6},"",{"$f":"VLOOKUP(G1185,Sheet1!C:D,2,FALSE)","v":{"$error":"#N/A"}}]
[{"$nulls":6},"",{"$f":"VLOOKUP(G1186,Sheet1!C:D,2,FALSE)","v":{"$error":"#N/A"}}]
[{"$nulls":6},"",{"$f":"VLOOKUP(G1187,Sheet1!C:D,2,FALSE)","v":{"$error":"#N/A"}}]
[{"$nulls":6},"",{"$f":"VLOOKUP(G1188,Sheet1!C:D,2,FALSE)","v":{"$error":"#N/A"}}]
[{"$nulls":6},"",{"$f":"VLOOKUP(G1189,Sheet1!C:D,2,FALSE)","v":{"$error":"#N/A"}}]
[{"$nulls":6},"",{"$f":"VLOOKUP(G1190,Sheet1!C:D,2,FALSE)","v":{"$error":"#N/A"}}]
[{"$nulls":6},"",{"$f":"VLOOKUP(G1191,Sheet1!C:D,2,FALSE)","v":{"$error":"#N/A"}}]
[{"$nulls":6},"",{"$f":"VLOOKUP(G1192,Sheet1!C:D,2,FALSE)","v":{"$error":"#N/A"}}]
[{"$nulls":6},"",{"$f":"VLOOKUP(G1193,Sheet1!C:D,2,FALSE)","v":{"$error":"#N/A"}}]
[{"$nulls":6},"",{"$f":"VLOOKUP(G1194,Sheet1!C:D,2,FALSE)","v":{"$error":"#N/A"}}]
[{"$nulls":6},"",{"$f":"VLOOKUP(G1195,Sheet1!C:D,2,FALSE)","v":{"$error":"#N/A"}}]
[{"$nulls":6},"",{"$f":"VLOOKUP(G1196,Sheet1!C:D,2,FALSE)","v":{"$error":"#N/A"}}]
[{"$nulls":6},"",{"$f":"VLOOKUP(G1197,Sheet1!C:D,2,FALSE)","v":{"$error":"#N/A"}}]
[{"$nulls":6},"",{"$f":"VLOOKUP(G1198,Sheet1!C:D,2,FALSE)","v":{"$error":"#N/A"}}]
[{"$nulls":6},"",{"$f":"VLOOKUP(G1199,Sheet1!C:D,2,FALSE)","v":{"$error":"#N/A"}}]
[{"$nulls":6},"",{"$f":"VLOOKUP(G1200,Sheet1!C:D,2,FALSE)","v":{"$error":"#N/A"}}]
[{"$nulls":6},"",{"$f":"VLOOKUP(G1201,Sheet1!C:D,2,FALSE)","v":{"$error":"#N/A"}}]
[{"$nulls":6},"",{"$f":"VLOOKUP(G1202,Sheet1!C:D,2,FALSE)","v":{"$error":"#N/A"}}]
[{"$nulls":6},"",{"$f":"VLOOKUP(G1203,Sheet1!C:D,2,FALSE)","v":{"$error":"#N/A"}}]
[{"$nulls":6},"",{"$f":"VLOOKUP(G1204,Sheet1!C:D,2,FALSE)","v":{"$error":"#N/A"}}]
[{"$nulls":6},"",{"$f":"VLOOKUP(G1205,Sheet1!C:D,2,FALSE)","v":{"$error":"#N/A"}}]
[{"$nulls":6},"",{"$f":"VLOOKUP(G1206,Sheet1!C:D,2,FALSE)","v":{"$error":"#N/A"}}]
[{"$nulls":6},"",{"$f":"VLOOKUP(G1207,Sheet1!C:D,2,FALSE)","v":{"$error":"#N/A"}}]
[{"$nulls":6},"",{"$f":"VLOOKUP(G1208,Sheet1!C:D,2,FALSE)","v":{"$error":"#N/A"}}]
[{"$nulls":6},"",{"$f":"VLOOKUP(G1209,Sheet1!C:D,2,FALSE)","v":{"$error":"#N/A"}}]
[{"$nulls":6},"",{"$f":"VLOOKUP(G1210,Sheet1!C:D,2,FALSE)","v":{"$error":"#N/A"}}]
[{"$nulls":6},"",{"$f":"VLOOKUP(G1211,Sheet1!C:D,2,FALSE)","v":{"$error":"#N/A"}}]
[{"$nulls":6},"",{"$f":"VLOOKUP(G1212,Sheet1!C:D,2,FALSE)","v":{"$error":"#N/A"}}]
[{"$nulls":6},"",{"$f":"VLOOKUP(G1213,Sheet1!C:D,2,FALSE)","v":{"$error":"#N/A"}}]
[{"$nulls":6},"",{"$f":"VLOOKUP(G1214,Sheet1!C:D,2,FALSE)","v":{"$error":"#N/A"}}]
[{"$nulls":6},"",{"$f":"VLOOKUP(G1215,Sheet1!C:D,2,FALSE)","v":{"$error":"#N/A"}}]
[{"$nulls":6},"",{"$f":"VLOOKUP(G1216,Sheet1!C:D,2,FALSE)","v":{"$error":"#N/A"}}]
[{"$nulls":6},"",{"$f":"VLOOKUP(G1217,Sheet1!C:D,2,FALSE)","v":{"$error":"#N/A"}}]
[{"$nulls":6},"",{"$f":"VLOOKUP(G1218,Sheet1!C:D,2,FALSE)","v":{"$error":"#N/A"}}]
[{"$nulls":6},"",{"$f":"VLOOKUP(G1219,Sheet1!C:D,2,FALSE)","v":{"$error":"#N/A"}}]
[{"$nulls":6},"",{"$f":"VLOOKUP(G1220,Sheet1!C:D,2,FALSE)","v":{"$error":"#N/A"}}]
[{"$nulls":6},{"$f":"C1221&F1221","v":""},{"$f":"VLOOKUP(G1221,Sheet1!C:D,2,FALSE)","v":{"$error":"#N/A"}}]
[{"$nulls":6},"",{"$f":"VLOOKUP(G1222,Sheet1!C:D,2,FALSE)","v":{"$error":"#N/A"}}]
[{"$nulls":6},"",{"$f":"VLOOKUP(G1223,Sheet1!C:D,2,FALSE)","v":{"$error":"#N/A"}}]
[{"$nulls":6},"",{"$f":"VLOOKUP(G1224,Sheet1!C:D,2,FALSE)","v":{"$error":"#N/A"}}]
[{"$nulls":6},"",{"$f":"VLOOKUP(G1225,Sheet1!C:D,2,FALSE)","v":{"$error":"#N/A"}}]
[{"$nulls":6},"",{"$f":"VLOOKUP(G1226,Sheet1!C:D,2,FALSE)","v":{"$error":"#N/A"}}]
[{"$nulls":6},"",{"$f":"VLOOKUP(G1227,Sheet1!C:D,2,FALSE)","v":{"$error":"#N/A"}}]
[{"$nulls":6},"",{"$f":"VLOOKUP(G1228,Sheet1!C:D,2,FALSE)","v":{"$error":"#N/A"}}]
[{"$nulls":6},"",{"$f":"VLOOKUP(G1229,Sheet1!C:D,2,FALSE)","v":{"$error":"#N/A"}}]
[{"$nulls":6},"",{"$f":"VLOOKUP(G1230,Sheet1!C:D,2,FALSE)","v":{"$error":"#N/A"}}]
[{"$nulls":6},"",{"$f":"VLOOKUP(G1231,Sheet1!C:D,2,FALSE)","v":{"$error":"#N/A"}}]
[{"$nulls":6},"",{"$f":"VLOOKUP(G1232,Sheet1!C:D,2,FALSE)","v":{"$error":"#N/A"}}]
[{"$nulls":6},"",{"$f":"VLOOKUP(G1233,Sheet1!C:D,2,FALSE)","v":{"$error":"#N/A"}}]
[{"$nulls":6},"",{"$f":"VLOOKUP(G1234,Sheet1!C:D,2,FALSE)","v":{"$error":"#N/A"}}]
[{"$nulls":6},"",{"$f":"VLOOKUP(G1235,Sheet1!C:D,2,FALSE)","v":{"$error":"#N/A"}}]
[{"$nulls":6},"",{"$f":"VLOOKUP(G1236,Sheet1!C:D,2,FALSE)","v":{"$error":"#N/A"}}]
[{"$nulls":6},"",{"$f":"VLOOKUP(G1237,Sheet1!C:D,2,FALSE)","v":{"$error":"#N/A"}}]
[{"$nulls":6},"",{"$f":"VLOOKUP(G1238,Sheet1!C:D,2,FALSE)","v":{"$error":"#N/A"}}]
[{"$nulls":6},"",{"$f":"VLOOKUP(G1239,Sheet1!C:D,2,FALSE)","v":{"$error":"#N/A"}}]
[{"$nulls":6},"",{"$f":"VLOOKUP(G1240,Sheet1!C:D,2,FALSE)","v":{"$error":"#N/A"}}]
[{"$nulls":6},"",{"$f":"VLOOKUP(G1241,Sheet1!C:D,2,FALSE)","v":{"$error":"#N/A"}}]
[{"$nulls":6},"",{"$f":"VLOOKUP(G1242,Sheet1!C:D,2,FALSE)","v":{"$error":"#N/A"}}]
[{"$nulls":6},"",{"$f":"VLOOKUP(G1243,Sheet1!C:D,2,FALSE)","v":{"$error":"#N/A"}}]
[{"$nulls":6},"",{"$f":"VLOOKUP(G1244,Sheet1!C:D,2,FALSE)","v":{"$error":"#N/A"}}]
[{"$nulls":6},"",{"$f":"VLOOKUP(G1245,Sheet1!C:D,2,FALSE)","v":{"$error":"#N/A"}}]
[{"$nulls":6},"",{"$f":"VLOOKUP(G1246,Sheet1!C:D,2,FALSE)","v":{"$error":"#N/A"}}]
[{"$nulls":6},"",{"$f":"VLOOKUP(G1247,Sheet1!C:D,2,FALSE)","v":{"$error":"#N/A"}}]
[{"$nulls":6},"",{"$f":"VLOOKUP(G1248,Sheet1!C:D,2,FALSE)","v":{"$error":"#N/A"}}]
[{"$nulls":6},"",{"$f":"VLOOKUP(G1249,Sheet1!C:D,2,FALSE)","v":{"$error":"#N/A"}}]
[{"$nulls":6},"",{"$f":"VLOOKUP(G1250,Sheet1!C:D,2,FALSE)","v":{"$error":"#N/A"}}]
[{"$nulls":6},"",{"$f":"VLOOKUP(G1251,Sheet1!C:D,2,FALSE)","v":{"$error":"#N/A"}}]
[{"$nulls":6},"",{"$f":"VLOOKUP(G1252,Sheet1!C:D,2,FALSE)","v":{"$error":"#N/A"}}]
[{"$nulls":6},"",{"$f":"VLOOKUP(G1253,Sheet1!C:D,2,FALSE)","v":{"$error":"#N/A"}}]
[{"$nulls":6},"",{"$f":"VLOOKUP(G1254,Sheet1!C:D,2,FALSE)","v":{"$error":"#N/A"}}]
[{"$nulls":6},"",{"$f":"VLOOKUP(G1255,Sheet1!C:D,2,FALSE)","v":{"$error":"#N/A"}}]
[{"$nulls":6},"",{"$f":"VLOOKUP(G1256,Sheet1!C:D,2,FALSE)","v":{"$error":"#N/A"}}]
[{"$nulls":6},"",{"$f":"VLOOKUP(G1257,Sheet1!C:D,2,FALSE)","v":{"$error":"#N/A"}}]
[{"$nulls":6},"",{"$f":"VLOOKUP(G1258,Sheet1!C:D,2,FALSE)","v":{"$error":"#N/A"}}]
[{"$nulls":6},"",{"$f":"VLOOKUP(G1259,Sheet1!C:D,2,FALSE)","v":{"$error":"#N/A"}}]
[{"$nulls":6},"",{"$f":"VLOOKUP(G1260,Sheet1!C:D,2,FALSE)","v":{"$error":"#N/A"}}]
[{"$nulls":6},"",{"$f":"VLOOKUP(G1261,Sheet1!C:D,2,FALSE)","v":{"$error":"#N/A"}}]
[{"$nulls":6},"",{"$f":"VLOOKUP(G1262,Sheet1!C:D,2,FALSE)","v":{"$error":"#N/A"}}]
[{"$nulls":6},"",{"$f":"VLOOKUP(G1263,Sheet1!C:D,2,FALSE)","v":{"$error":"#N/A"}}]
[{"$nulls":6},"",{"$f":"VLOOKUP(G1264,Sheet1!C:D,2,FALSE)","v":{"$error":"#N/A"}}]
[{"$nulls":6},"",{"$f":"VLOOKUP(G1265,Sheet1!C:D,2,FALSE)","v":{"$error":"#N/A"}}]
[{"$nulls":6},"",{"$f":"VLOOKUP(G1266,Sheet1!C:D,2,FALSE)","v":{"$error":"#N/A"}}]
[{"$nulls":6},"",{"$f":"VLOOKUP(G1267,Sheet1!C:D,2,FALSE)","v":{"$error":"#N/A"}}]
[{"$nulls":6},"",{"$f":"VLOOKUP(G1268,Sheet1!C:D,2,FALSE)","v":{"$error":"#N/A"}}]
[{"$nulls":6},"",{"$f":"VLOOKUP(G1269,Sheet1!C:D,2,FALSE)","v":{"$error":"#N/A"}}]
[{"$nulls":6},"",{"$f":"VLOOKUP(G1270,Sheet1!C:D,2,FALSE)","v":{"$error":"#N/A"}}]
[{"$nulls":6},"",{"$f":"VLOOKUP(G1271,Sheet1!C:D,2,FALSE)","v":{"$error":"#N/A"}}]
[{"$nulls":6},"",{"$f":"VLOOKUP(G1272,Sheet1!C:D,2,FALSE)","v":{"$error":"#N/A"}}]
[{"$nulls":6},"",{"$f":"VLOOKUP(G1273,Sheet1!C:D,2,FALSE)","v":{"$error":"#N/A"}}]
[{"$nulls":6},"",{"$f":"VLOOKUP(G1274,Sheet1!C:D,2,FALSE)","v":{"$error":"#N/A"}}]
[{"$nulls":6},"",{"$f":"VLOOKUP(G1275,Sheet1!C:D,2,FALSE)","v":{"$error":"#N/A"}}]
[{"$nulls":6},"",{"$f":"VLOOKUP(G1276,Sheet1!C:D,2,FALSE)","v":{"$error":"#N/A"}}]
[{"$nulls":6},"",{"$f":"VLOOKUP(G1277,Sheet1!C:D,2,FALSE)","v":{"$error":"#N/A"}}]
[{"$nulls":6},"",{"$f":"VLOOKUP(G1278,Sheet1!C:D,2,FALSE)","v":{"$error":"#N/A"}}]
[{"$nulls":6},"",{"$f":"VLOOKUP(G1279,Sheet1!C:D,2,FALSE)","v":{"$error":"#N/A"}}]
[{"$nulls":6},"",{"$f":"VLOOKUP(G1280,Sheet1!C:D,2,FALSE)","v":{"$error":"#N/A"}}]
[{"$nulls":6},"",{"$f":"VLOOKUP(G1281,Sheet1!C:D,2,FALSE)","v":{"$error":"#N/A"}}]
[{"$nulls":6},"",{"$f":"VLOOKUP(G1282,Sheet1!C:D,2,FALSE)","v":{"$error":"#N/A"}}]
[{"$nulls":6},"",{"$f":"VLOOKUP(G1283,Sheet1!C:D,2,FALSE)","v":{"$error":"#N/A"}}]
[{"$nulls":6},"",{"$f":"VLOOKUP(G1284,Sheet1!C:D,2,FALSE)","v":{"$error":"#N/A"}}]
[{"$nulls":6},{"$f":"C1285&F1285","v":""},{"$f":"VLOOKUP(G1285,Sheet1!C:D,2,FALSE)","v":{"$error":"#N/A"}}]
[{"$nulls":6},"",{"$f":"VLOOKUP(G1286,Sheet1!C:D,2,FALSE)","v":{"$error":"#N/A"}}]
[{"$nulls":6},"",{"$f":"VLOOKUP(G1287,Sheet1!C:D,2,FALSE)","v":{"$error":"#N/A"}}]
[{"$nulls":6},"",{"$f":"VLOOKUP(G1288,Sheet1!C:D,2,FALSE)","v":{"$error":"#N/A"}}]
[{"$nulls":6},"",{"$f":"VLOOKUP(G1289,Sheet1!C:D,2,FALSE)","v":{"$error":"#N/A"}}]
[{"$nulls":6},"",{"$f":"VLOOKUP(G1290,Sheet1!C:D,2,FALSE)","v":{"$error":"#N/A"}}]
[{"$nulls":6},"",{"$f":"VLOOKUP(G1291,Sheet1!C:D,2,FALSE)","v":{"$error":"#N/A"}}]
[{"$nulls":6},"",{"$f":"VLOOKUP(G1292,Sheet1!C:D,2,FALSE)","v":{"$error":"#N/A"}}]
[{"$nulls":6},"",{"$f":"VLOOKUP(G1293,Sheet1!C:D,2,FALSE)","v":{"$error":"#N/A"}}]
[{"$nulls":6},"",{"$f":"VLOOKUP(G1294,Sheet1!C:D,2,FALSE)","v":{"$error":"#N/A"}}]
[{"$nulls":6},"",{"$f":"VLOOKUP(G1295,Sheet1!C:D,2,FALSE)","v":{"$error":"#N/A"}}]
[{"$nulls":6},"",{"$f":"VLOOKUP(G1296,Sheet1!C:D,2,FALSE)","v":{"$error":"#N/A"}}]
[{"$nulls":6},"",{"$f":"VLOOKUP(G1297,Sheet1!C:D,2,FALSE)","v":{"$error":"#N/A"}}]
[{"$nulls":6},"",{"$f":"VLOOKUP(G1298,Sheet1!C:D,2,FALSE)","v":{"$error":"#N/A"}}]
[{"$nulls":6},"",{"$f":"VLOOKUP(G1299,Sheet1!C:D,2,FALSE)","v":{"$error":"#N/A"}}]
[{"$nulls":6},"",{"$f":"VLOOKUP(G1300,Sheet1!C:D,2,FALSE)","v":{"$error":"#N/A"}}]
[{"$nulls":6},"",{"$f":"VLOOKUP(G1301,Sheet1!C:D,2,FALSE)","v":{"$error":"#N/A"}}]
[{"$nulls":6},"",{"$f":"VLOOKUP(G1302,Sheet1!C:D,2,FALSE)","v":{"$error":"#N/A"}}]
[{"$nulls":6},"",{"$f":"VLOOKUP(G1303,Sheet1!C:D,2,FALSE)","v":{"$error":"#N/A"}}]

{"sheet":"2023年教培中心实训课程明细","index":3,"n_rows":34,"n_cols":9,"rows_kept":34,"merged":[[0,0,0,8],[2,7,6,7],[2,8,6,8],[3,6,6,6],[7,7,17,7],[7,8,17,8],[15,6,17,6],[18,6,21,6],[18,7,33,7],[18,8,33,8],[23,6,31,6],[32,6,33,6]]}
["燕山石化教育培训中心学生实训课程明细（2023）"]
["序号","实训课程名称","实训目的","主要内容","课时","人数","实习场所","承接部门","负责人"]
[1,"炼油化工装置基本操作技能","1.通过训练装置实习,熟悉对二甲苯装置的生产工艺流程，掌握化工基本操作技能和化工单元操作，学会装置开停工操作，增强工程实践能力。\n⒉培养学生良好职业素养和职业道德，成为具有一定工程实践能力、良好的沟通能力和团队合作精神的化工技术人才。\n","1.安全帽、安全带的使用方法\n2. 训练装置工艺流程图的识读；\n3. 离心泵的工作原理、操作及日常维护；\n4. DCS的基本功能；\n5.加热炉、精馏塔等典型设备的控制方案；\n6.训练装置的开停车；\n7. 正常巡检及工艺台帐记录；\n8. 常见故障的处理方法",40,30,"教育培训中心西校区石油化工训练装置","\n\n\n炼化仿真培训部","\n\n\n祝子强\n69338654\n13691137372\n\n"]
[2,"炼油系统仿真操作","以炼油系统常减压装置为例：\n1.熟悉常减压装置的各项工艺参数；\n2.学会常减压工艺的开车步骤、DCS操作方法、生产操作的调节手段；\n3.熟悉设备的正常使用、仪表控制等的操作方法；\n4.熟悉常减压整个生产流程。\n","1. 原油的评价及由来\n2.换热器的原理、结构和日常操作\n3. 电脱盐的原理、结构和日常注意问题\n4. 塔的操作和基本生产原理\n5. 加热炉的原理、结构及操作\n6.产品质量的调节\n7. 炼油厂安全事例分析\n8.环保、腐蚀对装置的影响\n9.常减压开停车方案及事故处理原则\n10.仪表的基本知识\n11. Dcs基础知识和操作\n12.各类常用设备的原理和结构及操作方法。",40,30,"教育培训中心西校区仿真培训室"]
[3,"化工系统仿真操作","以化工系统聚乙烯装置为例：\n1.熟悉聚乙烯装置的各项工艺参数；\n2.了解聚乙烯装置的工艺特点、开车步骤、DCS操作方法、生产操作的调节手段；\n3.熟悉设备的正常使用、仪表控制等的操作方法；\n4.了解聚乙烯生产操作的生产过程。","1.介绍生产工艺流程、工艺控制；\n2.仿真操作画面讲解及开车操作演练；\n3.聚乙烯仿真开车训练。",40,30]
[4,"热工（CFB炉）仿真操作","1.通过对CFB锅炉的工艺过程、操作原理、设备知识等方面的培训， 使参训人员了解CFB锅炉的生产过程、工艺原理，掌握设备及仪表控制等基本理论知识；\n2.通过进行CFB锅炉仿真操作培训，使参训人员熟悉CFB锅炉的各项工艺参数，熟练掌握CFB锅炉的开停车步骤、DCS操作方法、生产操作的调节手段，以及熟悉设备的正常使用、仪表控制等的操作方法，以提高参训人员的生产操作能力；\n3.掌握CFB锅炉操作的基本操作方法和基本控制方案。","1.介绍生产工艺流程、工艺控制；\n2.仿真操作画面讲解及开车操作演练；\n3.CFB锅炉仿真开车训练。\n",40,30]
[5,"高分子专业工程教育认证","1.熟悉聚丙烯装置的各项工艺参数；\n了解聚丙烯工艺的开车步骤、DCS操作方法、生产操作的调节手段；\n2.熟悉设备的正常使用、仪表控制等的操作方法；\n3.了解聚丙烯生产操作的生产过程；\n4.依据中国工程教育专业认证标准, 通过仿真实习达到能解决复杂工艺问题的毕业要求，提高学生的知识与技能素养。","1.介绍生产工艺流程、工艺控制；\n2.仿真操作画面讲解及开车操作演练；\n3. 聚丙烯仿真开车训练；\n4.分组研讨－复杂工艺问题解决方案。会运用深入的工程原理分析解决部分复杂工艺问题。\n",120,30]
[6,"机泵拆装（过装专业）","通过四种机泵的拆装，掌握其结构、工作原理，了解各零部件的作用和零件的常用材料，配合间隙的调整及检测、检修方法；另通过实训掌握开停车的过程，常见故障现象；测量、绘制常见零件的图纸。","往复式压缩机、计量泵、磁力泵、三级水泵的工作原理、结构及拆装方法。",48,30,"教育培训中心机泵检维修实训基地","\n\n\n\n\n机电仪培训部","\n\n\n\n祝子强\n69338654\n13691137372\n"]
[7,"常规仪表应用培训","认识各类仪表；认识控制系统的构成；培养学生对仪表自控的工程应用能力。","回路调试；仪表校验；简单故障分析处理",40,20,"教育培训中心西校区常规表实训室"]
[8,"西门子PLC（S7-300）应用培训","认识S7-300软硬件；学会组态；了解西门子PLC的工程应用","S7-300软硬件；组态；以任务为中心学习西门子PLC的工程应用",40,20,"教育培训中心西校区PLC（S7-300）实训室"]
[9,"横河DCS（CS3000）应用培训","认识CS3000系统软硬件；学会组态；了解CS3000的工程应用内容","CS3000软硬件；组态基础；系统应用与维护",40,20,"教育培训中心西校区横河DCS（CS3000）实训室"]
[10,"ECS700应用培训","认识ECS700系统软硬件；学会组态；了解ECS700的工程应用内容","ECS700软硬件；组态基础；系统应用与维护",40,20,"教育培训中心西校区横河DCS（ECS700）实训室"]
[11,"6kV变电站运行及相关技术","了解6kV变电站的系统组成，了解变电站运行的相关规程，了解基本的倒闸操作方法。","电力系统简介，倒闸操作规范，倒闸操作实操",20,20,"教育培训中心西校区6kV综合自动化变电站实训室"]
[12,"高压异步电动机二次回路故障查找","掌握基本的识图方法，了解二次回路的工作原理，掌握基本的故障排查方法。","二次回路原理及组成，故障排查实操",20,20,"教育培训中心西校区二次回路实训室"]
[13,"欧姆龙PLC技术","了解PLC的原理，会使用编程软件编写简单的控制程序，外部接线和程序调试。                          ","PLC简介，编程软件，编程方法及调试",20,20,"教育培训中心西校区欧姆龙PLC实训室"]
[14,"人体触电的相关知识、配电系统设备参观 ","了解人体触电的相关知识、了解常用电气设备                                          ","人体触电的相关知识、常用电气设备介绍",4,20,"教育培训中心西校区电气实训室"]
[15,"电气法律法规、安全用电                                 ","了解安全生产法、北京市安全生产条例                                                            了解电工特种作业管理标准                                    掌握安全用电的常识","安全生产法、北京市安全生产条例                                                            电工特种作业管理标准                                    安全用电的常识",4,20]
[16,"电气安全工作规程","了解电气安全工作的组织措施和技术措施                                                            了解防雷和防静电技术                                了解电气防火技术","电气安全工作的组织措施和技术措施                                                            防雷和防静电技术                                电气防火技术",4,20]
[17,"危化品工艺单元事故处理及应急处置","通过培训，学员能够了解不同工艺单元在发生异常状况或事故时的处理过程及处置要求","熟悉工艺过程、发现问题并及时处理",16,"≤45","危化品培训基地","安全环保培训部","徐建华80344961、13621020856"]
[18,"直接作业仿真操作培训","通过培训，学员能够了解并掌握直接作业过程的特点、隐患排查及安全监护的相关要求","熟悉作业任务、危害识别与隐患排除、安全措施检查与落实、开始作业",16,"≤45"]
[19,"加氢裂化装置（炼油）认识实习学习系统","该系统的三维模型是按燕山石化加氢裂化装置真实场景开发而成。学生通过学习装置的知识点、回答思考题、完成任务，可掌握生产的HSE、工艺生产、设备、应急处理等方面知识。系统可自动评分。","加氢裂化装置仿真操作训练",16,"≤45"]
[20,"初起火灾救援及灭火器的选择与使用","会判断不同类型的初起火灾，会选择使用灭火器材。","初起火灾扑救（理论）、灭火器的使用",4,30]
[21,"空气呼吸器选择与佩戴","会针对不同危险环境选择和正确佩戴空气呼吸器，能发现空气呼吸器存在的安全隐患，会进行判断其安全性。","空气呼吸器的选择、检查与佩戴",4,30,"危化品培训基地、安全实训基地"]
[22,"消防基础与事故案例","知道石油化工企业着火爆炸的机理，知道如何进行防火与防爆，会正确选择和使用灭火器","防火防爆理论、灭火器的选择与使用操作方法",4,30,"安全实训基地"]
[23,"进入受限空间操作","知道进入受限空间安全操作内容，会操作。","进入受限空间进行安全操作讲解",4,30]
[24,"事故模拟安全演习","通过装置模拟演练，知道如何进行正确处置和组织救援及相应的应急； 知道企业安全工作人员应当扮演的角色及其工作内容。","安全基地装置，以小组为单位进行情景分析和事故模拟演练",4,30]
[25,"结绳操作技能","掌握结绳操作技能，针对事故现场能自救互救。","结绳操作技能",2,30]
[26,"隐患排查及事故现场应急处置","针对石油化工企业常出现的事故，知道如何进行装置的隐患排查，正确处置和组织救援及相应的应急。","石油化工企业常出现的事故案例，装置的隐患排查的操作方法等",8,30]
[27,"安全展板学习及考核","知识安全生产法规、制度的基本要求，会区分哪些是不安全行为，哪些是还不安全状态，知道如何防范事故","安全生产法规、制度要求、不安全行为和不安全状态识别与考核",4,30]
[28,"火灾逃生与事故应急","知道发生火灾时的正确应对措施，会针对火灾现场如何应对初期火灾","火灾应急演练、演练出现的问题点评",4,30]
[29,"石油化工作业流程介绍与事故案例","知道石油化工系统的作业流程，各阶段的主要内容，了解各作业过程中的事故发生原因与防范措施","石油化工上、中、下游作业流程介绍与石油化工事故案例",4,30]
[30,"安全设备设施与个体防护用品","会结合现场的危险有害因素选择适宜的个人防护用品，并会正确使用，会判断异常","常用个人防护用品的种类，适用的场合，使用方法",4,30]
[31,"现场创伤救护技术","能够掌握事故现场的止血包扎及伤员搬运操作技能，并会自救互救。","止血包扎操作技能和伤员搬运方式",4,30,"“红十字会”应急救援"]
[32,"心肺复苏术","能够掌握事故现场的心肺复苏、人工呼吸等自救互救的基本技能，并会操作。","心肺复苏、人工呼吸操作技能",4,30]

{"sheet":"2023年燕化实习装置分布情况","index":4,"n_rows":19,"n_cols":6,"rows_kept":19,"merged":[[0,1,0,5],[2,0,4,0],[2,1,4,1],[2,5,4,5],[6,0,7,0],[6,1,7,1],[6,3,7,3],[6,5,7,5],[9,0,10,0],[9,1,10,1],[9,3,10,3],[9,5,10,5],[15,0,18,0]]}
[null,"燕化公司接待高等院校实习装置分布情况（2023）"]
["序号","单位","装置、操作单元","实习专业","接待容量","联系人"]
[1,"炼油厂","常减压蒸馏、延迟焦化、高压加氢裂化、制氢、三废处理","炼油、化学、化工、防腐、环境工程","一个班共35人","吴丽楠69334430 15117969453"]
[null,null,"重整加氢、中压加氢裂化","炼油、化学、化工、防腐、环境工程","一个班共35人"]
[null,null,"气体分馏、制氢、催化重整","炼油、化学、化工、防腐、环境工程","一个班共35人"]
[2,"烯烃厂","裂解、乙二醇、制苯、苯乙烯、聚苯乙烯","化工、化学、防腐","一个班共35人","梁靖华 69346465 3521770376"]
[3,"合成树脂厂","聚丙烯","化工、化学、高分子、防腐","一个班共35人","刘文凡 69366601 13693307811"]
[null,null,"聚烯烃（高压、低压聚乙烯）",null,"一个班共35人"]
[4,"化学品厂","苯酚丙酮（两套）","化工、化学、高分子、防腐","一个班共35人","张建宏13621005776"]
[5,"储运厂","装油单元、油品单元、原胶厂罐区车间","储运、包装机械（参观实习）","一个班共35人","刘瑛69342713 13693001232"]
[null,null,"固体料：一成品、二成品、三成品",null,"一个班共35人"]
[6,"合成橡胶厂","顺丁车间、烯烃车间","高分子、化工","一个班共35人","张玉环69343450 13691530957"]
[7,"检验计量中心","各分析站","化学、分析","同时两个班共70人（分炼油、化工区域）","魏杰69344135 13641266095"]
[8,"热电部","第一热力车间（一电站）\n第三热力车间（三电站）","动力工程、电气专业、环境工程","同时两个班共70人（分炼油、化工区域）","乌兰克69342601 13810201453"]
[9,"职业病防治所",null,null,"一个班共35人","时锐81337532 13718942757"]
["改制企业学校联系","中燕建设","设备、机电、仪表维护","机、电、仪等工程","同时两个班共70人（分炼油、化工区域）","李玉杰17718355223"]
[null,"威立雅水务公司","东区水处理、牛口峪水库","环境工程（参观实习）","一个班","张冬生13681131359"]
[null,"北京燕华工程建设有限公司","机加工车间","机械加工与制造","一个班","赵忠霞18010132198"]
[null,"北京燕化正邦设备检修有限公司","机架，设备维修","设备制造","一个班","邢桂玲13701318653"]

{"sheet":"22-23春教学进程","index":5,"n_rows":144,"n_cols":29,"rows_kept":144,"merged":[[0,0,0,28],[1,0,2,0],[1,1,2,1],[1,2,2,2],[1,3,2,3],[1,4,2,4],[1,5,2,5],[1,6,2,6],[1,7,2,7],[1,8,1,27],[1,28,2,28],[140,26,141,28]]}
["2022-2023学年春季学期教学进程表"]
["院系名称","年级","专业班级","班级","专业","年级","年级专业","人数","教学周",{"$nulls":19},"实践环节安排"]
[{"$nulls":8},0,1,2,3,4,5,6,7,8,9,10,11,12,13,14,15,16,17,18,19]
["安全工程学院","19级","安19-12","安191","安全工程","2019","2019安全工程",60,null,"×","×","×","×","×","×","×","×","×","×","×","×","×","×","×","×","×","×",null,"1-18周毕业设计(论文)"]
["新材料与化工学院","19级","功材19-1","功材191","功能材料","2019","2019功能材料",28,null,"×","×","×","×","×","×","×","×","×","×","×","×","×","×","×","×","×","×",null,"1-18周毕业设计(论文)"]
["新材料与化工学院","19级","高19-123","高191","高分子材料与工程","2019","2019高分子材料与工程",72,null,"×","×","×","×","×","×","×","×","×","×","×","×","×","×","×","×","×","×",null,"1-18周毕业设计(论文)"]
["新材料与化工学院","19级","材19-1","材191","材料科学与工程","2019","2019材料科学与工程",33,null,"×","×","×","×","×","×","×","×","×","×","×","×","×","×","×","×","×","×",null,"1-18周毕业设计(论文)"]
["新材料与化工学院","19级","应19-12","应191","应用化学","2019","2019应用化学",30,null,"×","×","×","×","×","×","×","×","×","×","×","×","×","×","×","×","×","×",null,"1-18周毕业设计(论文)"]
["新材料与化工学院","19级","药19-12","药191","制药工程","2019","2019制药工程",59,null,"×","×","×","×","×","×","×","×","×","×","×","×","×","×","×","×","×","×",null,"1-18周毕业设计(论文)"]
["新材料与化工学院","19级","生物19-1","生物191","生物制药","2019","2019生物制药",27,null,"×","×","×","×","×","×","×","×","×","×","×","×","×","×","×","×","×","×",null,"1-18周毕业设计(论文)"]
["新材料与化工学院","19级","化19-123","化191","化学工程与工艺","2019","2019化学工程与工艺",84,null,"×","×","×","×","×","×","×","×","×","×","×","×","×","×","×","×","×","×",null,"1-18周毕业设计(论文)"]
["机械工程学院","19级","能动19-12","能动191","能源与动力工程","2019","2019能源与动力工程",58,null,"×","×","×","×","×","×","×","×","×","×","×","×","×","×","×","×","×","×",null,"1-18周毕业设计(论文)"]
["机械工程学院","19级","机电19-12","机电191","机械电子工程","2019","2019机械电子工程",70,null,"×","×","×","×","×","×","×","×","×","×","×","×","×","×","×","×","×","×",null,"1-18周毕业设计(论文)"]
["机械工程学院","19级","机19-12","机191","机械工程","2019","2019机械工程",46,null,"×","×","×","×","×","×","×","×","×","×","×","×","×","×","×","×","×","×",null,"1-18周毕业设计(论文)"]
["机械工程学院","19级","机器人19-1","机器人191","机器人工程","2019","2019机器人工程",28,null,"×","×","×","×","×","×","×","×","×","×","×","×","×","×","×","×","×","×",null,"1-18周毕业设计(论文)"]
["机械工程学院","19级","环19-123","环191","环境工程","2019","2019环境工程",82,null,"×","×","×","×","×","×","×","×","×","×","×","×","×","×","×","×","×","×",null,"1-18周毕业设计(论文)"]
["机械工程学院","19级","储19-12","储191","油气储运工程","2019","2019油气储运工程",51,null,"×","×","×","×","×","×","×","×","×","×","×","×","×","×","×","×","×","×",null,"1-18周毕业设计(论文)"]
["经济管理学院","19级","营19-12","营191","市场营销","2019","2019市场营销",32,null,"×","×","×","×","×","×","×","×","×","×","×","×","×","×","×","×","×","×",null,"1-18周毕业设计(论文)"]
["经济管理学院","19级","物19-12","物191","物流管理","2019","2019物流管理",59,null,"×","×","×","×","×","×","×","×","×","×","×","×","×","×","×","×","×","×",null,"1-18周毕业设计(论文)"]
["经济管理学院","19级","电商19-1","电商191","电子商务","2019","2019电子商务",24,null,"×","×","×","×","×","×","×","×","×","×","×","×","×","×","×","×","×","×",null,"1-18周毕业设计(论文)"]
["经济管理学院","19级","会193","会193","会计学(国际会计师方向)","2019","2019会计学(国际会计师方向)",33,null,"×","×","×","×","×","×","×","×","×","×","×","×","×","×","×","×","×","×",null,"1-18周毕业设计(论文)"]
["经济管理学院","19级","会19-12","会191","会计学","2019","2019会计学",51,null,"×","×","×","×","×","×","×","×","×","×","×","×","×","×","×","×","×","×",null,"1-18周毕业设计(论文)"]
["经济管理学院","19级","数管19-12","数管191","大数据管理与应用","2019","2019大数据管理与应用",57,null,"×","×","×","×","×","×","×","×","×","×","×","×","×","×","×","×","×","×",null,"1-18周毕业设计(论文)"]
["经济管理学院","19级","国19-123","国191","国际经济与贸易","2019","2019国际经济与贸易",76,null,"×","×","×","×","×","×","×","×","×","×","×","×","×","×","×","×","×","×",null,"1-18周毕业设计(论文)"]
["人文社科学院","19级","人资19-12","人资191","人力资源管理","2019","2019人力资源管理",72,null,"☆","☆","☆","☆","☆","☆","☆","☆","☆","☆","☆","☆","☆","☆","☆","☆","☆","☆",null,"1-18周毕业设计(论文)\n专业实习（18周分散）"]
["人文社科学院","19级","旅19-12","旅191","旅游管理","2019","2019旅游管理",47,null,"☆","☆","☆","☆","☆","☆","☆","☆","☆","☆","☆","☆","☆","☆","☆","☆","☆","☆",null,"1-18周毕业设计(论文)\n旅游专业实习（18周分散）"]
["人文社科学院","19级","会展19-1","会展191","会展经济与管理","2019","2019会展经济与管理",41,null,"☆","☆","☆","☆","☆","☆","☆","☆","☆","☆","☆","☆","☆","☆","☆","☆","☆","☆",null,"1-18周毕业设计(论文)\n会展专业实习18周（分散）"]
["信息工程学院","19级","通19-12","通191","通信工程","2019","2019通信工程",56,null,"×","×","×","×","×","×","×","×","×","×","×","×","×","×","×","×","×","×",null,"1-18周毕业设计(论文)"]
["信息工程学院","19级","计19-12","计191","计算机科学与技术","2019","2019计算机科学与技术",71,null,"×","×","×","×","×","×","×","×","×","×","×","×","×","×","×","×","×","×",null,"1-18周毕业设计(论文)\n岗位实习6周（分散）"]
["信息工程学院","19级","物联网19-1","物联网191","物联网工程","2019","2019物联网工程",29,null,"×","×","×","×","×","×","×","×","×","×","×","×","×","×","×","×","×","×",null,"1-18周毕业设计(论文)"]
["信息工程学院","19级","电19-12","电191","电气工程及其自动化","2019","2019电气工程及其自动化",63,null,"×","×","×","×","×","×","×","×","×","×","×","×","×","×","×","×","×","×",null,"1-18周毕业设计(论文)"]
["信息工程学院","19级","大数据19-1","大数据191","数据科学与大数据技术","2019","2019数据科学与大数据技术",31,null,"×","×","×","×","×","×","×","×","×","×","×","×","×","×","×","×","×","×",null,"1-18周毕业设计(论文)\n岗位实习6周（分散）"]
["信息工程学院","19级","自19-123","自191","自动化","2019","2019自动化",86,null,"×","×","×","×","×","×","×","×","×","×","×","×","×","×","×","×","×","×",null,"1-18周毕业设计(论文)\n岗位实习4周（分散）"]
["机械工程学院","专升本21","机G21-12","机G211","机械工程","2021","2021机械工程专升本",29,null,"×","×","×","×","×","×","×","×","×","×","×","×","×","×","×","×","×","×",null,"1-18周毕业设计(论文)"]
["经济管理学院","专升本21","会G21-1","会G211","会计学","2021","2021会计学专升本",14,null,"×","×","×","×","×","×","×","×","×","×","×","×","×","×","×","×","×","×",null,"1-18周毕业设计(论文)"]
["经济管理学院","专升本21","国G21-1","国G211","国际经济与贸易","2021","2021国际经济与贸易专升本",8,null,"×","×","×","×","×","×","×","×","×","×","×","×","×","×","×","×","×","×",null,"1-18周毕业设计(论文)"]
["人文社科学院","专升本21","人资G21-1","人资G211","人力资源管理","2021","2021人力资源管理",68,null,"×","×","×","×","×","×","×","×","×","×","×","×","×","×","×","×","×","×",null,"1-18周毕业设计(论文)\n专业实习G10周（分散）"]
["人文社科学院","专升本21","旅G21-1","旅G211","旅游管理","2021","2021旅游管理专升本",16,null,"×","×","×","×","×","×","×","×","×","×","×","×","×","×","×","×","×","×",null,"1-18周毕业设计(论文)\n旅游专业实习18周（分散）"]
["信息工程学院","专升本21","计G21-12","计G211","计算机科学与技术","2021","2021计算机科学与技术专升本",22,null,"×","×","×","×","×","×","×","×","×","×","×","×","×","×","×","×","×","×",null,"1-18周毕业设计(论文)"]
["信息工程学院","专升本21","电G21-1","电G211","电气工程及其自动化","2021","2021电气工程及其自动化专升本",11,null,"×","×","×","×","×","×","×","×","×","×","×","×","×","×","×","×","×","×",null,"1-18周毕业设计(论文)"]
["致远学院","21第二学位","英E211","英E211","英语二学位",2021,"2021英语二学位",16,null,"×","×","×","×","×","×","×","×","×","×","×","×","×","×","×","×","×","×",null,"1-18周毕业设计(论文)"]
["安全工程学院","20级","安20-12","安201","安全工程","2020","2020安全工程",58,null,"—","—","—","—","—","—","—","—","—","—","—","—","★","★","★","★","☆","☆",null,"13-14周实验室安全管理实践\n15-16周安全与应急能力评价实践\n17-18周生产实习\n科研方法训练2周（分散）"]
["新材料与化工学院","20级","高20-123","高201","高分子材料与工程","2020","2020高分子材料与工程",83,null,"—","—","—","—","—","—","—","—","—","—","—","—","—","—","—","—","：","："]
["新材料与化工学院","20级","材201","材201","材料科学与工程","2020","2020材料科学与工程",27,null,"—","—","—","—","—","—","—","—","—","—","—","—","—","—","—","—","：","★","★","18-19周生产实习（另1周分散）\n科学研究方法训练（1周分散）"]
["新材料与化工学院","20级","药20-12","药201","制药工程","2020","2020制药工程",88,null,"—","—","—","—","—","—","—","—","—","—","—","—","—","—","—","—","—","："]
["新材料与化工学院","20级","生物20-1","生物201","生物制药","2020","2020生物制药",30,null,"—","—","—","—","—","—","—","—","—","—","—","—","—","—","—","—","—","："]
["新材料与化工学院","20级","化20-123","化201","化学工程与工艺","2020","2020化学工程与工艺",82,null,"—","—","—","—","—","—","—","—","—","—","—","—","—","—","—","—","☆","☆","☆","17-19周生产实习（另1周分散）\n化工工艺设计（4周分散）\n化工原理课程设计（2周分散）"]
["机械工程学院","20级","能动20-12","能动201","能源与动力工程","2020","2020能源与动力工程",81,null,"—","—","—","—","—","—","—","—","—","—","—","—","—","—","—","—","：","★","★","18-19周热能装置拆装及模拟训练"]
["机械工程学院","20级","机电20-12","机电201","机械电子工程","2020","2020机械电子工程",47,null,"—","—","—","—","—","—","—","—","—","—","—","—","—","—","：","☆","☆","★","★","16-17周专业实习\n18-19周机械设计与制造主题实践（III）（另1周分散）\nPLC控制系统主题实践1周（分散）"]
["机械工程学院","20级","机20-12","机201","机械工程","2020","2020机械工程",58,null,"—","—","—","—","—","—","—","—","—","—","—","—","—","—","：","☆","☆","★","★","16-17周专业实习\n18-19周机械设计与制造主题实践（III）（另1周分散）\nPLC控制系统主题实践1周（分散）"]
["机械工程学院","20级","机器人20-1","机器人201","机器人工程","2020","2020机器人工程",28,null,"—","—","—","—","—","—","—","—","—","—","—","—","—","—","：","☆","☆","★","★","16-17周专业实习\n18-19周机器人感知技术主题实践\n机器人创新设计与实践（3周分散）\nPLC控制系统主题实践（1周分散）"]
["机械工程学院","20级","环20-123","环201","环境工程","2020","2020环境工程",81,null,"—","—","—","—","—","—","—","—","—","—","—","—","☆","☆","☆","★","★","★","★","13-15周专业实习\n16-17周水污染控制工程课程设计\n18-19周大气污染控制工程课程设计\n环境工程专业实验(一)（1周分散）"]
["机械工程学院","20级","储20-12","储201","油气储运工程","2020","2020油气储运工程",25,null,"—","—","—","—","—","—","—","—","—","—","—","—","—","：","☆","☆","☆","★","★","15-17周专业实习(二)\n18周油气储运综合课程设计（另2周分散）\n19周燃气输配综合课程设计（另2周分散）"]
["经济管理学院","20级","营20-1","营201","市场营销","2020","2020市场营销",29,null,"—","—","—","—","—","—","—","—","—","—","—","—","—","—","—","—","：","★","★","18-19周市场调研实习\n营销策划实习（3周分散）"]
["经济管理学院","20级","电商20-1","电商201","电子商务","2020","2020电子商务",28,null,"—","—","—","—","—","—","—","—","—","—","—","—","—","—","—","—","：","★","★","18-19周市场调研实习\n电商项目策划实习（3周分散）"]
["经济管理学院","20级","数管20-12","数管201","大数据管理与应用","2020","2020大数据管理与应用",60,null,"—","—","—","—","—","—","—","—","—","—","—","—","—","—","—","—","：","★","★","18-19周大数据综合实践"]
["经济管理学院","20级","物20-12","物201","物流管理","2020","2020物流管理",59,null,"—","—","—","—","—","—","—","—","—","—","—","—","—","—","—","—","：","★","★","18-19周ERP软件实习"]
["经济管理学院","20级","会204","会204","会计学(国际会计师方向)","2020","2020会计学(国际会计师方向)",23,null,"—","—","—","—","—","—","—","—","—","—","—","—","—","—","—","—","：","★",null,"18周财务决策实习\n财务管理沙盘模拟实习（2周分散）\n审计实习（2周分散）"]
["经济管理学院","20级","会20-123","会201","会计学","2020","2020会计学",76,null,"—","—","—","—","—","—","—","—","—","—","—","—","—","—","—","—","：","★",null,"18周财务决策实习\n审计实习（2周分散）"]
["经济管理学院","20级","国20-123","国201","国际经济与贸易","2020","2020国际经济与贸易",86,null,"—","—","—","—","—","—","—","—","—","—","—","—","—","—","—","—","：","★","★","18-19周外贸业务操作实习"]
["人文社科学院","20级","会展20-12","会展201","会展经济与管理","2020","2020会展经济与管理",53,null,"—","—","—","—","—","—","—","—","—","—","—","—","—","—","—","—","：","★","★","18-19周会展综合实训"]
["人文社科学院","20级","人资20-123","人资201","人力资源管理","2020","2020人力资源管理",74,null,"—","—","—","—","—","—","—","—","—","—","—","—","—","—","—","—","："]
["人文社科学院","20级","旅20-12","旅201","旅游管理","2020","2020旅游管理",57,null,"—","—","—","—","—","—","—","—","—","—","—","—","—","—","—","—","："]
["信息工程学院","20级","通20-1","通201","通信工程","2020","2020通信工程",31,null,"—","—","—","—","—","—","—","—","—","—","—","—","—","—","：","☆","☆","☆",null,"16-18周生产实习"]
["信息工程学院","20级","大数据20-12","大数据201","数据科学与大数据技术",2020,"2020数据科学与大数据技术",55,null,"—","—","—","—","—","—","—","—","—","—","—","—","—","—","：","☆","☆","☆","☆","16-19周大数据专业实习"]
["信息工程学院","20级","计20-12","计201","计算机科学与技术","2020","2020计算机科学与技术",72,null,"—","—","—","—","—","—","—","—","—","—","—","—","—","—","：","☆","☆","☆","☆","16-19周计算机专业实习"]
["信息工程学院","20级","物联网20-1","物联网201","物联网工程","2020","2020物联网工程",26,null,"—","—","—","—","—","—","—","—","—","—","—","—","—","—","—","：","★","★",null,"17-18周物联网工程综合设计"]
["信息工程学院","20级","自20-123","自201","自动化",2020,"2020自动化",84,null,"—","—","—","—","★","★","★","—","—","—","—","—","—","—","—","—","—","：",null,"5-7周单片机工程实训"]
["信息工程学院","20级","电20-12","电201","电气工程及其自动化","2020","2020电气工程及其自动化",65,null,"—","—","—","—","—","—","—","—","—","—","—","—","：","★","★","★","★","★","★","17-19周专业技能训练\n14-16周单片机工程实训"]
["机械工程学院","专升本22","机G22-1","机G221","机械工程","2022","2022机械工程专升本",40,null,"—","—","—","—","—","—","—","—","—","—","—","—","—","—","—","—","：","☆","☆","18-19周专业实习\n单片机原理与接口技术主题实践（2周分散）\nPLC控制系统主题实践（1周分散）"]
["经济管理学院","专升本22","营G22-1","营G221","市场营销","2022","2022市场营销",2,null,"—","—","—","—","—","—","—","—","—","—","—","—","—","—","—","—","：","★",null,"18周统计软件实习\n"]
["经济管理学院","专升本22","物G22-1","物G221","物流管理","2022","2022物流管理",8,null,"—","—","—","—","—","—","—","—","—","—","—","—","—","—","—","—","：","★",null,"18周统计软件实习\n"]
["经济管理学院","专升本22","会G22-1","会G221","会计学","2022","2022会计学专升本",19,null,"—","—","—","—","—","—","—","—","—","—","—","—","—","—","—","—","：","★",null,"18周统计软件实习"]
["人文社科学院","专升本22","人资G22-12","人资G221","人力资源管理","2022","2022人力资源管理专升本",56,null,"—","—","—","—","—","—","—","—","—","—","—","—","—","—","—","—","：","："]
["人文社科学院","专升本22","新会展G22-1","新会展G221","会展","2022","2022会展专升本",14,null,"—","—","—","—","—","—","—","—","—","—","—","—","—","—","—","—","：","："]
["人文社科学院","专升本22","旅G22-1","旅G221","旅游管理","2022","2022旅游管理专升本",12,null,"—","—","—","—","—","—","—","—","—","—","—","—","—","—","—","—","：","："]
["信息工程学院","专升本22","计G22-12","计G221","计算机科学与技术","2022","2022计算机科学与技术专升本",67,null,"—","—","—","—","—","—","—","—","—","—","—","—","—","—","—","—","：","★","★","18-19周数据结构与算法课程设计"]
["信息工程学院","专升本22","电G22-1","电G221","电气工程及其自动化","2022","2022电气工程及其自动化专升本",23,null,"—","—","—","—","—","—","—","—","—","—","—","—","—","—","—","—","★","★","★","17-19周专业技能训练"]
["安全工程学院","专升本22","安G22-12","电G221","电气工程及其自动化","2022","2022电气工程及其自动化专升本",23,null,"—","—","—","—","—","—","—","—","—","—","—","—","—","—","★","★","：","★",null,"15-16周安全与应急能力评价实践\n18周安全原理与安全管理学课程设计"]
["安全工程学院","21级","安21-12","安211","安全工程","2021","2021安全工程",49,null,"—","—","—","—","—","—","—","—","—","—","—","—","—","—","—","—","：","★","☆","18周安全原理与安全管理学课程设计\n19周认识实习\n工程训练C（2周分散到分散到1-16周周三Ⅲ-Ⅳ大节）\n电工电子技术（1周分散在12-16周周一Ⅱ-Ⅳ大节）"]
["新材料与化工学院","21级","高21-123","高211","高分子材料与工程","2021","2021高分子材料与工程",91,null,"—","—","—","—","—","—","—","—","—","—","—","—","—","—","—","—","：","★",null,"18周机械工程基础课程设计"]
["新材料与化工学院","21级","材21-1","材211","材料科学与工程","2021","2021材料科学与工程",27,null,"—","—","—","—","—","—","—","—","—","—","—","—","—","—","—","—","：","★",null,"18周机械工程基础课程设计"]
["新材料与化工学院","21级","药21-123","药211","制药工程","2021","2021制药工程",91,null,"—","—","—","—","—","—","—","—","—","—","—","—","—","—","—","—","：","☆",null,"18周认识实习"]
["新材料与化工学院","21级","生物21-1","生物211","生物制药","2021","2021生物制药",59,null,"—","—","—","—","—","—","—","—","—","—","—","—","—","—","—","—","：","☆",null,"18周认识实习"]
["新材料与化工学院","21级","化21-123","化211","化学工程与工艺","2021","2021化学工程与工艺",90,null,"—","—","—","—","—","—","—","—","—","—","—","—","—","—","—","—","：","☆","☆","18-19周认识实习"]
["机械工程学院","21级","能动21-123","能动211","能源与动力工程","2021","2021能源与动力工程",78,null,"—","—","—","—","—","—","—","—","—","—","—","—","—","—","—","—","：","☆",null,"18周认识实习\n电工电子技术（1周分散在12-16周周一Ⅱ-Ⅳ大节）"]
["机械工程学院","21级","机21-12","机211","机械工程","2021","2021机械工程",54,null,"—","—","—","—","—","—","—","—","—","—","—","—","—","—","—","—","：","☆","★","18周认识实习\n19周电子课程设计\n机械设计与制造主题实践（I）（2周分散）"]
["机械工程学院","21级","机电21-12","机电211","机械电子工程","2021","2021机械电子工程",55,null,"—","—","—","—","—","—","—","—","—","—","—","—","—","—","—","—","：","☆","★","18周认识实习\n19周电子课程设计\n机械设计与制造主题实践（I）（2周分散）"]
["机械工程学院","21级","机器人21-1","机器人211","机器人工程","2021","2021机器人工程",33,null,"—","—","—","—","—","—","—","—","—","—","—","—","—","—","—","—","：","☆","★","18周认识实习\n19周电子课程设计"]
["机械工程学院","21级","新能源21-1","新能源211","新能源科学与工程","2021","2021新能源科学与工程",25,null,"—","—","—","—","—","—","—","—","—","—","—","—","—","—","—","—","：","☆","★","18周认识实习\n19周机械设计基础课程设计（另2周分散）"]
["机械工程学院","21级","环21-123","环211","环境工程","2021","2021环境工程",83,null,"—","—","—","—","—","—","—","—","—","—","—","—","—","—","—","—","：","☆","★","18周认识实习\n19周污水管道与泵站设计（另1周分散）"]
["经济管理学院","21级","营21-1","营211","市场营销","2021","2021市场营销",30,null,"—","—","—","—","—","—","—","—","—","—","—","—","—","—","—","—","：","★",null,"18周统计软件实习\n管理仿真实习（2周分散）"]
["经济管理学院","21级","物21-12","物211","物流管理","2021","2021物流管理",55,null,"—","—","—","—","—","—","—","—","—","—","—","—","—","—","—","—","：","★",null,"18周统计软件实习\n电子商务物流实习（1周分散）\n供应链管理实习（2周分散）"]
["经济管理学院","21级","电商21-1","电商211","电子商务","2021","2021电子商务",28,null,"—","—","—","—","—","—","—","—","—","—","—","—","—","—","—","—","：","★",null,"18周统计软件实习\n管理仿真实习（2周分散）"]
["经济管理学院","21级","国21-123","国211","国际经济与贸易","2021","2021国际经济与贸易",56,null,"—","—","—","—","—","—","—","—","—","—","—","—","—","—","—","—","：","★",null,"18周统计软件实习\n管理仿真实习（2周分散）"]
["经济管理学院","21级","会21-123","会211","会计学","2021","2021会计学",89,null,"—","—","—","—","—","—","—","—","—","—","—","—","—","—","—","—","：","★","★","18周统计软件实习\n19周财务会计实习（另1周分散）"]
["经济管理学院","21级","会214","会214","会计学(国际会计师方向)","2021","2021会计学(国际会计师方向)",26,null,"—","—","—","—","—","—","—","—","—","—","—","—","—","—","—","—","：","★","★","18周统计软件实习\n19周财务会计实习（另1周分散）"]
["经济管理学院","21级","数管21-12","数管211","大数据管理与应用","2021","2021大数据管理与应用",59,null,"—","—","—","—","—","—","—","—","—","—","—","—","—","—","—","—","：","★","★","18周统计软件实习\n19周大数据采集与预处理实践（另1周分散）"]
["人文社科学院","21级","人资21-12","人资211","人力资源管理","2021","2021人力资源管理",68,null,"—","—","—","—","—","—","—","—","—","—","—","—","—","—","—","—","：","☆",null,"18周人力资源管理仿真实习"]
["人文社科学院","21级","旅21-12","旅211","旅游管理","2021","2021旅游管理",53,null,"—","—","—","—","—","—","—","—","—","—","—","—","—","—","—","—","：","☆",null,"18周旅游认识实习"]
["人文社科学院","21级","新会展21-12","新会展211","会展","2021","2021会展",58,null,"—","—","—","—","—","—","—","—","—","—","—","—","—","—","—","—","：","★","★","18-19周会展综合实训"]
["信息工程学院","21级","计21-12","计211","计算机科学与技术","2021","2021计算机科学与技术",68,null,"—","—","—","—","—","—","—","—","—","—","—","—","—","—","—","—","：","★","★","18-19周数据结构课程设计"]
["信息工程学院","21级","电21-12","电211","电气工程及其自动化","2021","2021电气工程及其自动化",60,null,"—","—","—","—","—","—","—","—","—","—","—","—","—","—","—","—","：","★","★","18-19周电子工程设计A（另1周分散）"]
["信息工程学院","21级","大数据21-12","大数据211","数据科学与大数据技术","2021","2021数据科学与大数据技术",37,null,"—","—","—","—","—","—","—","—","—","—","—","—","—","—","—","—","：","★","★","18-19周大数据处理与分析"]
["信息工程学院","21级","大数据21-12","大数据212","数据科学与大数据技术(中法班)","2021","2021数据科学与大数据技术(中法班)",23,null,"—","—","—","—","—","—","—","—","—","—","—","—","—","—","—","—","：","★","★","18-19周数据结构课程设计(英)"]
["信息工程学院","21级","物联网21-1","物联网211","物联网工程","2021","2021物联网工程",27,null,"—","—","—","—","—","—","—","—","—","—","—","—","—","—","—","—","：","★","★","18-19周电子工程设计A（另1周分散）"]
["信息工程学院","21级","自21-123","自211","自动化","2021","2021自动化",91,null,"—","—","—","—","—","—","—","—","—","—","—","—","—","—","—","—","：","★","★","18-19周控制系统综合设计（另1周分散）"]
["安全工程学院","22级","安22-12","安221","安全工程","2022","2022安全工程",58,null,"—","—","—","—","—","—","—","—","—","—","—","—","—","—","—","—","：","：",null,"“习近平新时代中国特色社会主义思想概论”调研与实践（1周分散）"]
["新材料与化工学院","22级","材22-1","材221","材料科学与工程","2022","2022材料科学与工程",32,null,"—","—","—","—","—","—","—","—","—","—","—","—","—","—","—","—","：","："]
["新材料与化工学院","22级","高22-123","高221","高分子材料与工程","2022","2022高分子材料与工程",75,null,"—","—","—","—","—","—","—","—","—","—","—","—","—","—","—","—","：","："]
["新材料与化工学院","22级","药22-123","药221","制药工程","2022","2022制药工程",92,null,"—","—","—","—","—","—","—","—","—","—","—","—","—","—","—","—","：","："]
["新材料与化工学院","22级","生物22-12","生物221","生物制药","2022","2022生物制药",59,null,"—","—","—","—","—","—","—","—","—","—","—","—","—","—","—","—","：","："]
["新材料与化工学院","22级","化22-123","化221","化学工程与工艺","2022","2022化学工程与工艺",82,null,"—","—","—","—","—","—","—","—","—","—","—","—","—","—","—","—","：","：",null,"工程训练C（2周分散到分散到1-16周周一Ⅲ-Ⅳ大节）\n"]
["新材料与化工学院","专升本22","药G22-1","药201","制药工程","2020","2020制药工程",88,null,"—","—","—","—","—","—","—","—","—","—","—","—","—","—","—","—","—","：","★","19周制药工程专业实验（另3周分散）"]
["机械工程学院","22级","新能源22-1","新能源221","新能源科学与工程","2022","2022新能源科学与工程",54,null,"—","—","—","—","—","—","—","—","—","—","—","—","—","—","—","—","：","：",null,"18-19周工程训练A（I）（另1周分散到9-16周周五Ⅲ-Ⅳ大节）"]
["机械工程学院","22级","能动22-123","能动221","能源与动力工程","2022","2022能源与动力工程",84,null,"—","—","—","—","—","—","—","—","—","—","—","—","—","—","—","—","：","：",null,"18-19周工程训练A（I）（另1周分散到9-16周周五Ⅲ-Ⅳ大节）\n"]
["机械工程学院","22级","机22-12","机221","机械工程","2022","2022机械工程",52,null,"—","—","—","—","—","—","—","—","—","—","—","—","—","—","—","—","：","：",null,"工程训练A（I）（3周分散到1-16周周日Ⅲ-Ⅳ大节和1-8周周五Ⅲ-Ⅳ大节）\n"]
["机械工程学院","22级","机器人22-1","机器人221","机器人工程","2022","2022机器人工程",55,null,"—","—","—","—","—","—","—","—","—","—","—","—","—","—","—","—","：","：",null,"工程训练A（I）（3周分散到1-16周周日Ⅲ-Ⅳ大节和1-8周周五Ⅲ-Ⅳ大节）\n"]
["机械工程学院","22级","环22-123","环221","环境工程","2022","2022环境工程",91,null,"—","—","—","—","—","—","—","—","—","—","—","—","—","—","—","—","：","：",null,"工程训练C（2周分散到分散到1-16周周三Ⅲ-Ⅳ大节）\n"]
["经济管理学院","22级","物22-12","物221","物流管理","2022","2022物流管理",55,null,"—","—","—","—","—","—","—","—","—","—","—","—","—","—","—","—","：","：",null,"\n虚拟商业社会综合实训（2周分散）"]
["经济管理学院","22级","数管22-12","数管221","大数据管理与应用","2022","2022大数据管理与应用",51,null,"—","—","—","—","—","—","—","—","—","—","—","—","—","—","—","—","：","：","★","19周专业认识实习\n"]
["经济管理学院","22级","会22-123","会221","会计学","2022","2022会计学",83,null,"—","—","—","—","—","—","—","—","—","—","—","—","—","—","—","—","：","★","★","18-19周智能会计核算实训\n"]
["经济管理学院","22级","会224","会224","会计学(国际会计师方向)","2022","2022会计学(国际会计师方向)",28,null,"—","—","—","—","—","—","—","—","—","—","—","—","—","—","—","—","：","★","★","18-19周智能会计核算实训\n"]
["经济管理学院","22级","营22-1","营221","市场营销","2022","2022市场营销",58,null,"—","—","—","—","—","—","—","—","—","—","—","—","—","—","—","—","：","：",null,"虚拟商业社会综合实训（2周分散）\n"]
["经济管理学院","22级","电商22-1","电商221","电子商务","2022","2022电子商务",58,null,"—","—","—","—","—","—","—","—","—","—","—","—","—","—","—","—","：","：",null,"虚拟商业社会综合实训（2周分散）\n"]
["人文社科学院","22级","人资22-12","人资221","人力资源管理","2022","2022人力资源管理",65,null,"—","—","—","—","—","—","—","—","—","—","—","—","—","—","—","—","：","：",null,"\n人力资源管理综合实训（1周分散）"]
["人文社科学院","22级","新会展22-12","新会展221","会展","2022","2022会展",65,null,"—","—","—","—","—","—","—","—","—","—","—","—","—","—","—","—","：","：",null,"会展活动策划实训（1周分散）\n"]
["人文社科学院","22级","旅22-12","旅221","旅游管理","2022","2022旅游管理",63,null,"—","—","—","—","—","—","—","—","—","—","—","—","—","—","—","—","：","："]
["信息工程学院","22级","物联网22-1","物联网221","物联网工程","2022","2022物联网工程",30,null,"—","—","—","—","—","—","—","—","—","—","—","—","—","—","—","—","：","★","★","18-19周计算机编程能力实训\n"]
["信息工程学院","22级","计22-12","计221","计算机科学与技术","2022","2022计算机科学与技术",60,null,"—","—","—","—","—","—","—","—","—","—","—","—","—","—","—","—","：","★","★","18-19周C语言课程设计\n"]
["信息工程学院","22级","电22-12","电221","电气工程及其自动化","2022","2022电气工程及其自动化",62,null,"—","—","—","—","—","—","—","—","—","—","—","—","—","—","—","—","：","★","★","18-19周计算机编程能力实训\n"]
["信息工程学院","22级","大数据221","大数据221","数据科学与大数据技术","2022","2022数据科学与大数据技术",37,null,"—","—","—","—","—","—","—","—","—","—","—","—","—","—","—","—","：","★","★","18-19周网络爬虫设计\n"]
["信息工程学院","22级","大数据222","大数据222","数据科学与大数据技术(中法班)","2022","2022数据科学与大数据技术(中法班)",29,null,"—","—","—","—","—","—","—","—","—","—","—","—","—","—","—","—","：","★","★","18-19周网络爬虫设计(英）\n"]
["信息工程学院","22级","自22-123","自221","自动化","2022","2022自动化",85,null,"—","—","—","—","—","—","—","—","—","—","—","—","—","—","—","—","：","★","★","18-19周计算机编程能力实训\n"]
["致远学院","22级","致远221","致远221","智慧化工与新材料类","2022","2022智慧化工与新材料类",30,null,"—","—","—","—","—","—","—","—","—","—","—","—","—","—","—","—","：","：",null,"\n工程项目训练(Ⅱ)（分散到1-16周周二Ⅲ-Ⅳ大节）"]
["致远学院","22级","致远222","致远222","智能制造类","2022","2022智能制造类",30,null,"—","—","—","—","—","—","—","—","—","—","—","—","—","—","—","—","：","：",null,"\n工程项目训练(Ⅱ)（分散到1-16周周二Ⅲ-Ⅳ大节）"]
["致远学院","22级","致远223","致远223","智能计算类","2022","2022智能计算类",30,null,"—","—","—","—","—","—","—","—","—","—","—","—","—","—","—","—","：","：",null,"\n工程项目训练(Ⅱ)（分散到1-16周周二Ⅲ-Ⅳ大节）"]
["教务处","22级","2022预科班","2022预科班","预科班","2022","2022预科班",30,null,"—","—","—","—","—","—","—","—","—","—","—","—","—","—","—","—","：","："]
["致远学院","22第二学位","英E221","英E221","英语二学位",2022,"2022英语二学位",105,null,"—","—","—","—","—","—","—","—","—","—","—","—","—","—","—","—","：","："]
["安全工程学院","22第二学位","安E221","安E221","安全工程二学位",2022,"2022安全工程二学位",45,null,"—","—","—","—","—","—","—","—","—","—","—","—","—","—","—","—","：","："]
[{"$nulls":26},"教务处\n2021年10月21日"]
[]
[{"$nulls":8},"★","——",null,"校内实习",{"$nulls":3},"☆","——",null,"校外实习"]
[{"$nulls":8},"-","——",null,"理论课",{"$nulls":3},"：","——",null,"考试周",{"$nulls":3},"▽","——",null,"入学教育"]

{"sheet":"基础数据","index":6,"n_rows":33,"n_cols":14,"rows_kept":33,"hidden":true}
["安全工程学院","新材料与化工学院","机械工程学院","经济管理学院","人文社科学院","信息工程学院",{"$nulls":3},"2023春","校内",null,"教培实训课程","燕化实习装置"]
["安全工程","化学工程与工艺","过程装备与控制工程","大数据管理与应用","公共事业管理","测控技术与仪器专业",{"$nulls":3},"2023秋","校外",null,"炼油化工装置基本操作技能","炼油厂"]
["安全工程(双培)","材料科学与工程","环境工程","电子商务","会展","电气工程及其自动化",{"$nulls":6},"炼油系统仿真操作","烯烃厂"]
[null,"应用化学","机器人工程","国际经济与贸易","会展经济与管理","计算机科学与技术",{"$nulls":6},"化工系统仿真操作","合成树脂厂"]
[null,"高分子材料与工程","机械电子工程","会计学","旅游管理","数据科学与大数据技术",{"$nulls":6},"热工（CFB炉）仿真操作","化学品厂"]
[null,"制药工程","机械工程","会计学(国际会计师方向)","人力资源管理","数据科学与大数据技术(中法班)",{"$nulls":6},"高分子专业工程教育认证","储运厂"]
[null,"功能材料","机械类","市场营销",null,"通信工程",{"$nulls":6},"机泵拆装（过装专业）","合成橡胶厂"]
[null,"化学工程与工艺(双培)","能源与动力工程","物流管理",null,"物联网工程",{"$nulls":6},"常规仪表应用培训","检验计量中心"]
[null,"材料类","新能源科学与工程","信息管理与信息系统",null,"自动化",{"$nulls":6},"西门子PLC（S7-300）应用培训","热电部"]
[null,"生物制药","油气储运工程",{"$nulls":9},"横河DCS（CS3000）应用培训","职业病防治所"]
[{"$nulls":12},"ECS700应用培训","中燕建设"]
[{"$nulls":12},"6kV变电站运行及相关技术","威立雅水务公司"]
[{"$nulls":12},"高压异步电动机二次回路故障查找","北京燕华工程建设有限公司"]
[{"$nulls":12},"欧姆龙PLC技术","北京燕化正邦设备检修有限公司"]
[{"$nulls":12},"人体触电的相关知识、配电系统设备参观 "]
[{"$nulls":12},"电气法律法规、安全用电                                 "]
[{"$nulls":12},"电气安全工作规程"]
[{"$nulls":12},"危化品工艺单元事故处理及应急处置"]
[{"$nulls":12},"直接作业仿真操作培训"]
[{"$nulls":12},"加氢裂化装置（炼油）认识实习学习系统"]
[{"$nulls":12},"初起火灾救援及灭火器的选择与使用"]
[{"$nulls":12},"空气呼吸器选择与佩戴"]
[{"$nulls":12},"消防基础与事故案例"]
[{"$nulls":12},"进入受限空间操作"]
[{"$nulls":12},"事故模拟安全演习"]
[{"$nulls":12},"结绳操作技能"]
[{"$nulls":12},"隐患排查及事故现场应急处置"]
[{"$nulls":12},"安全展板学习及考核"]
[{"$nulls":12},"火灾逃生与事故应急"]
[{"$nulls":12},"石油化工作业流程介绍与事故案例"]
[{"$nulls":12},"安全设备设施与个体防护用品"]
[{"$nulls":12},"现场创伤救护技术"]
[{"$nulls":12},"心肺复苏术"]