{"text_format":"3","workbook":"xlsx","n_sheets":7,"sheets":["2025年实习计划--燕化","2025年实习计划--其他","数据2","基础数据1","燕化公司接待高等院校实习装置分布情况（2025）","燕山石化教育培训中心学生实训课程明细（2025）","2024-2025学年春季学期教学进程表"],"not_rendered":{"external_links":1,"defined_names":10},"read":"whole","date_system":"1900"}

{"sheet":"2025年实习计划--燕化","index":0,"n_rows":1509,"n_cols":23,"rows_kept":1509,"merged":[[0,0,0,22],[1,0,1,22]]}
["北京石油化工学院2025年度实习计划表---燕化实习              "]
["1、请各位老师在绿色区域直接选择下拉菜单中的选项，无需手动输入\n2、请各位老师在填写“实习起始/终止时间”两列时，按2025/12/06格式输入日期"]
["序号","学期","院系","专业","班级","实践环节课程名称",null,"课程号","总周数","周次","学生男","学生女","学生人数","教师男","教师女","实习起始时间","实习终止时间","实习场所","实训课程/实习单位","实习内容与要求","带队教师姓名、联系方式、邮箱","经费预算","说明或备用方案"]
["示例","2025春","机械工程学院","人工智能","化18-123","生产实习",{"$f":"C4&F4","v":"机械工程学院生产实习"},{"$f":"VLOOKUP(G4,数据2!C:D,2,FALSE)","v":"ENV320"},3,"17-19周",43,28,71,1,1,"2024-06-13","2024-07-01","教培实训课程","炼油系统仿真操作"]
["示例","2025秋","机械工程学院","机械类","安181","专业实习",{"$f":"C5&F5","v":"机械工程学院专业实习"},{"$f":"VLOOKUP(G5,数据2!C:D,2,FALSE)","v":"MEE320"},1,"18周",13,14,27,1,1,"2024-06-20","2024-06-24","教培实训课程","热工（CFB炉）仿真操作"]
[null,null,"新材料与化工学院","化学工程与工艺(双培)",{"$nulls":3},{"$f":"VLOOKUP(G6,数据2!C:D,2,FALSE)","v":{"$error":"#N/A"}}]
[{"$nulls":7},{"$f":"VLOOKUP(G7,数据2!C:D,2,FALSE)","v":{"$error":"#N/A"}}]
[{"$nulls":6},"",{"$f":"VLOOKUP(G8,数据2!C:D,2,FALSE)","v":{"$error":"#N/A"}}]
[{"$nulls":6},"",{"$f":"VLOOKUP(G9,数据2!C:D,2,FALSE)","v":{"$error":"#N/A"}}]
[{"$nulls":6},"",{"$f":"VLOOKUP(G10,数据2!C:D,2,FALSE)","v":{"$error":"#N/A"}}]
[{"$nulls":6},"",{"$f":"VLOOKUP(G11,数据2!C:D,2,FALSE)","v":{"$error":"#N/A"}}]
[{"$nulls":6},"",{"$f":"VLOOKUP(G12,数据2!C:D,2,FALSE)","v":{"$error":"#N/A"}}]
[{"$nulls":6},"",{"$f":"VLOOKUP(G13,数据2!C:D,2,FALSE)","v":{"$error":"#N/A"}}]
[{"$nulls":6},"",{"$f":"VLOOKUP(G14,数据2!C:D,2,FALSE)","v":{"$error":"#N/A"}}]
[{"$nulls":6},"",{"$f":"VLOOKUP(G15,数据2!C:D,2,FALSE)","v":{"$error":"#N/A"}}]
[{"$nulls":6},"",{"$f":"VLOOKUP(G16,数据2!C:D,2,FALSE)","v":{"$error":"#N/A"}}]
[{"$nulls":6},"",{"$f":"VLOOKUP(G17,数据2!C:D,2,FALSE)","v":{"$error":"#N/A"}}]
[{"$nulls":6},"",{"$f":"VLOOKUP(G18,数据2!C:D,2,FALSE)","v":{"$error":"#N/A"}}]
[{"$nulls":6},"",{"$f":"VLOOKUP(G19,数据2!C:D,2,FALSE)","v":{"$error":"#N/A"}}]
[{"$nulls":6},"",{"$f":"VLOOKUP(G20,数据2!C:D,2,FALSE)","v":{"$error":"#N/A"}}]
[{"$nulls":6},"",{"$f":"VLOOKUP(G21,数据2!C:D,2,FALSE)","v":{"$error":"#N/A"}}]
[{"$nulls":6},"",{"$f":"VLOOKUP(G22,数据2!C:D,2,FALSE)","v":{"$error":"#N/A"}}]
[{"$nulls":6},"",{"$f":"VLOOKUP(G23,数据2!C:D,2,FALSE)","v":{"$error":"#N/A"}}]
[{"$nulls":6},"",{"$f":"VLOOKUP(G24,数据2!C:D,2,FALSE)","v":{"$error":"#N/A"}}]
[{"$nulls":6},"",{"$f":"VLOOKUP(G25,数据2!C:D,2,FALSE)","v":{"$error":"#N/A"}}]
[{"$nulls":6},"",{"$f":"VLOOKUP(G26,数据2!C:D,2,FALSE)","v":{"$error":"#N/A"}}]
[{"$nulls":6},"",{"$f":"VLOOKUP(G27,数据2!C:D,2,FALSE)","v":{"$error":"#N/A"}}]
[{"$nulls":6},"",{"$f":"VLOOKUP(G28,数据2!C:D,2,FALSE)","v":{"$error":"#N/A"}}]
[{"$nulls":6},"",{"$f":"VLOOKUP(G29,数据2!C:D,2,FALSE)","v":{"$error":"#N/A"}}]
[{"$nulls":6},"",{"$f":"VLOOKUP(G30,数据2!C:D,2,FALSE)","v":{"$error":"#N/A"}}]
[{"$nulls":6},"",{"$f":"VLOOKUP(G31,数据2!C:D,2,FALSE)","v":{"$error":"#N/A"}}]
[{"$nulls":6},"",{"$f":"VLOOKUP(G32,数据2!C:D,2,FALSE)","v":{"$error":"#N/A"}}]
[{"$nulls":6},"",{"$f":"VLOOKUP(G33,数据2!C:D,2,FALSE)","v":{"$error":"#N/A"}}]
[{"$nulls":6},"",{"$f":"VLOOKUP(G34,数据2!C:D,2,FALSE)","v":{"$error":"#N/A"}}]
[{"$nulls":6},"",{"$f":"VLOOKUP(G35,数据2!C:D,2,FALSE)","v":{"$error":"#N/A"}}]
[{"$nulls":6},"",{"$f":"VLOOKUP(G36,数据2!C:D,2,FALSE)","v":{"$error":"#N/A"}}]
[{"$nulls":6},"",{"$f":"VLOOKUP(G37,数据2!C:D,2,FALSE)","v":{"$error":"#N/A"}}]
[{"$nulls":6},"",{"$f":"VLOOKUP(G38,数据2!C:D,2,FALSE)","v":{"$error":"#N/A"}}]
[{"$nulls":6},"",{"$f":"VLOOKUP(G39,数据2!C:D,2,FALSE)","v":{"$error":"#N/A"}}]
[{"$nulls":6},"",{"$f":"VLOOKUP(G40,数据2!C:D,2,FALSE)","v":{"$error":"#N/A"}}]
[{"$nulls":6},"",{"$f":"VLOOKUP(G41,数据2!C:D,2,FALSE)","v":{"$error":"#N/A"}}]
[{"$nulls":6},"",{"$f":"VLOOKUP(G42,数据2!C:D,2,FALSE)","v":{"$error":"#N/A"}}]
[{"$nulls":6},"",{"$f":"VLOOKUP(G43,数据2!C:D,2,FALSE)","v":{"$error":"#N/A"}}]
[{"$nulls":6},"",{"$f":"VLOOKUP(G44,数据2!C:D,2,FALSE)","v":{"$error":"#N/A"}}]
[{"$nulls":6},"",{"$f":"VLOOKUP(G45,数据2!C:D,2,FALSE)","v":{"$error":"#N/A"}}]
[{"$nulls":6},"",{"$f":"VLOOKUP(G46,数据2!C:D,2,FALSE)","v":{"$error":"#N/A"}}]
[{"$nulls":6},"",{"$f":"VLOOKUP(G47,数据2!C:D,2,FALSE)","v":{"$error":"#N/A"}}]
[{"$nulls":6},"",{"$f":"VLOOKUP(G48,数据2!C:D,2,FALSE)","v":{"$error":"#N/A"}}]
[{"$nulls":6},"",{"$f":"VLOOKUP(G49,数据2!C:D,2,FALSE)","v":{"$error":"#N/A"}}]
[{"$nulls":6},"",{"$f":"VLOOKUP(G50,数据2!C:D,2,FALSE)","v":{"$error":"#N/A"}}]
[{"$nulls":6},"",{"$f":"VLOOKUP(G51,数据2!C:D,2,FALSE)","v":{"$error":"#N/A"}}]
[{"$nulls":6},"",{"$f":"VLOOKUP(G52,数据2!C:D,2,FALSE)","v":{"$error":"#N/A"}}]
[{"$nulls":6},"",{"$f":"VLOOKUP(G53,数据2!C:D,2,FALSE)","v":{"$error":"#N/A"}}]
[{"$nulls":6},"",{"$f":"VLOOKUP(G54,数据2!C:D,2,FALSE)","v":{"$error":"#N/A"}}]
[{"$nulls":6},"",{"$f":"VLOOKUP(G55,数据2!C:D,2,FALSE)","v":{"$error":"#N/A"}}]
[{"$nulls":6},"",{"$f":"VLOOKUP(G56,数据2!C:D,2,FALSE)","v":{"$error":"#N/A"}}]
[{"$nulls":6},"",{"$f":"VLOOKUP(G57,数据2!C:D,2,FALSE)","v":{"$error":"#N/A"}}]
[{"$nulls":6},"",{"$f":"VLOOKUP(G58,数据2!C:D,2,FALSE)","v":{"$error":"#N/A"}}]
[{"$nulls":6},"",{"$f":"VLOOKUP(G59,数据2!C:D,2,FALSE)","v":{"$error":"#N/A"}}]
[{"$nulls":6},"",{"$f":"VLOOKUP(G60,数据2!C:D,2,FALSE)","v":{"$error":"#N/A"}}]
[{"$nulls":6},"",{"$f":"VLOOKUP(G61,数据2!C:D,2,FALSE)","v":{"$error":"#N/A"}}]
[{"$nulls":6},"",{"$f":"VLOOKUP(G62,数据2!C:D,2,FALSE)","v":{"$error":"#N/A"}}]
[{"$nulls":6},"",{"$f":"VLOOKUP(G63,数据2!C:D,2,FALSE)","v":{"$error":"#N/A"}}]
[{"$nulls":6},"",{"$f":"VLOOKUP(G64,数据2!C:D,2,FALSE)","v":{"$error":"#N/A"}}]
[{"$nulls":6},"",{"$f":"VLOOKUP(G65,数据2!C:D,2,FALSE)","v":{"$error":"#N/A"}}]
[{"$nulls":6},"",{"$f":"VLOOKUP(G66,数据2!C:D,2,FALSE)","v":{"$error":"#N/A"}}]
[{"$nulls":6},"",{"$f":"VLOOKUP(G67,数据2!C:D,2,FALSE)","v":{"$error":"#N/A"}}]
[{"$nulls":6},"",{"$f":"VLOOKUP(G68,数据2!C:D,2,FALSE)","v":{"$error":"#N/A"}}]
[{"$nulls":6},{"$f":"C69&F69","v":""},{"$f":"VLOOKUP(G69,数据2!C:D,2,FALSE)","v":{"$error":"#N/A"}}]
[{"$nulls":6},"",{"$f":"VLOOKUP(G70,数据2!C:D,2,FALSE)","v":{"$error":"#N/A"}}]
[{"$nulls":6},"",{"$f":"VLOOKUP(G71,数据2!C:D,2,FALSE)","v":{"$error":"#N/A"}}]
[{"$nulls":6},"",{"$f":"VLOOKUP(G72,数据2!C:D,2,FALSE)","v":{"$error":"#N/A"}}]
[{"$nulls":6},"",{"$f":"VLOOKUP(G73,数据2!C:D,2,FALSE)","v":{"$error":"#N/A"}}]
[{"$nulls":6},"",{"$f":"VLOOKUP(G74,数据2!C:D,2,FALSE)","v":{"$error":"#N/A"}}]
[{"$nulls":6},"",{"$f":"VLOOKUP(G75,数据2!C:D,2,FALSE)","v":{"$error":"#N/A"}}]
[{"$nulls":6},"",{"$f":"VLOOKUP(G76,数据2!C:D,2,FALSE)","v":{"$error":"#N/A"}}]
[{"$nulls":6},"",{"$f":"VLOOKUP(G77,数据2!C:D,2,FALSE)","v":{"$error":"#N/A"}}]
[{"$nulls":6},"",{"$f":"VLOOKUP(G78,数据2!C:D,2,FALSE)","v":{"$error":"#N/A"}}]
[{"$nulls":6},"",{"$f":"VLOOKUP(G79,数据2!C:D,2,FALSE)","v":{"$error":"#N/A"}}]
[{"$nulls":6},"",{"$f":"VLOOKUP(G80,数据2!C:D,2,FALSE)","v":{"$error":"#N/A"}}]
[{"$nulls":6},"",{"$f":"VLOOKUP(G81,数据2!C:D,2,FALSE)","v":{"$error":"#N/A"}}]
[{"$nulls":6},"",{"$f":"VLOOKUP(G82,数据2!C:D,2,FALSE)","v":{"$error":"#N/A"}}]
[{"$nulls":6},"",{"$f":"VLOOKUP(G83,数据2!C:D,2,FALSE)","v":{"$error":"#N/A"}}]
[{"$nulls":6},"",{"$f":"VLOOKUP(G84,数据2!C:D,2,FALSE)","v":{"$error":"#N/A"}}]
[{"$nulls":6},"",{"$f":"VLOOKUP(G85,数据2!C:D,2,FALSE)","v":{"$error":"#N/A"}}]
[{"$nulls":6},"",{"$f":"VLOOKUP(G86,数据2!C:D,2,FALSE)","v":{"$error":"#N/A"}}]
[{"$nulls":6},"",{"$f":"VLOOKUP(G87,数据2!C:D,2,FALSE)","v":{"$error":"#N/A"}}]
[{"$nulls":6},"",{"$f":"VLOOKUP(G88,数据2!C:D,2,FALSE)","v":{"$error":"#N/A"}}]
[{"$nulls":6},"",{"$f":"VLOOKUP(G89,数据2!C:D,2,FALSE)","v":{"$error":"#N/A"}}]
[{"$nulls":6},"",{"$f":"VLOOKUP(G90,数据2!C:D,2,FALSE)","v":{"$error":"#N/A"}}]
[{"$nulls":6},"",{"$f":"VLOOKUP(G91,数据2!C:D,2,FALSE)","v":{"$error":"#N/A"}}]
[{"$nulls":6},"",{"$f":"VLOOKUP(G92,数据2!C:D,2,FALSE)","v":{"$error":"#N/A"}}]
[{"$nulls":6},"",{"$f":"VLOOKUP(G93,数据2!C:D,2,FALSE)","v":{"$error":"#N/A"}}]
[{"$nulls":6},"",{"$f":"VLOOKUP(G94,数据2!C:D,2,FALSE)","v":{"$error":"#N/A"}}]
[{"$nulls":6},"",{"$f":"VLOOKUP(G95,数据2!C:D,2,FALSE)","v":{"$error":"#N/A"}}]
[{"$nulls":6},"",{"$f":"VLOOKUP(G96,数据2!C:D,2,FALSE)","v":{"$error":"#N/A"}}]
[{"$nulls":6},"",{"$f":"VLOOKUP(G97,数据2!C:D,2,FALSE)","v":{"$error":"#N/A"}}]
[{"$nulls":6},"",{"$f":"VLOOKUP(G98,数据2!C:D,2,FALSE)","v":{"$error":"#N/A"}}]
[{"$nulls":6},"",{"$f":"VLOOKUP(G99,数据2!C:D,2,FALSE)","v":{"$error":"#N/A"}}]
[{"$nulls":6},"",{"$f":"VLOOKUP(G100,数据2!C:D,2,FALSE)","v":{"$error":"#N/A"}}]
[{"$nulls":6},"",{"$f":"VLOOKUP(G101,数据2!C:D,2,FALSE)","v":{"$error":"#N/A"}}]
[{"$nulls":6},"",{"$f":"VLOOKUP(G102,数据2!C:D,2,FALSE)","v":{"$error":"#N/A"}}]
[{"$nulls":6},"",{"$f":"VLOOKUP(G103,数据2!C:D,2,FALSE)","v":{"$error":"#N/A"}}]
[{"$nulls":6},"",{"$f":"VLOOKUP(G104,数据2!C:D,2,FALSE)","v":{"$error":"#N/A"}}]
[{"$nulls":6},"",{"$f":"VLOOKUP(G105,数据2!C:D,2,FALSE)","v":{"$error":"#N/A"}}]
[{"$nulls":6},"",{"$f":"VLOOKUP(G106,数据2!C:D,2,FALSE)","v":{"$error":"#N/A"}}]
[{"$nulls":6},"",{"$f":"VLOOKUP(G107,数据2!C:D,2,FALSE)","v":{"$error":"#N/A"}}]
[{"$nulls":6},"",{"$f":"VLOOKUP(G108,数据2!C:D,2,FALSE)","v":{"$error":"#N/A"}}]
[{"$nulls":6},"",{"$f":"VLOOKUP(G109,数据2!C:D,2,FALSE)","v":{"$error":"#N/A"}}]
[{"$nulls":6},"",{"$f":"VLOOKUP(G110,数据2!C:D,2,FALSE)","v":{"$error":"#N/A"}}]
[{"$nulls":6},"",{"$f":"VLOOKUP(G111,数据2!C:D,2,FALSE)","v":{"$error":"#N/A"}}]
[{"$nulls":6},"",{"$f":"VLOOKUP(G112,数据2!C:D,2,FALSE)","v":{"$error":"#N/A"}}]
[{"$nulls":6},"",{"$f":"VLOOKUP(G113,数据2!C:D,2,FALSE)","v":{"$error":"#N/A"}}]
[{"$nulls":6},"",{"$f":"VLOOKUP(G114,数据2!C:D,2,FALSE)","v":{"$error":"#N/A"}}]
[{"$nulls":6},"",{"$f":"VLOOKUP(G115,数据2!C:D,2,FALSE)","v":{"$error":"#N/A"}}]
[{"$nulls":6},"",{"$f":"VLOOKUP(G116,数据2!C:D,2,FALSE)","v":{"$error":"#N/A"}}]
[{"$nulls":6},"",{"$f":"VLOOKUP(G117,数据2!C:D,2,FALSE)","v":{"$error":"#N/A"}}]
[{"$nulls":6},"",{"$f":"VLOOKUP(G118,数据2!C:D,2,FALSE)","v":{"$error":"#N/A"}}]
[{"$nulls":6},"",{"$f":"VLOOKUP(G119,数据2!C:D,2,FALSE)","v":{"$error":"#N/A"}}]
[{"$nulls":6},"",{"$f":"VLOOKUP(G120,数据2!C:D,2,FALSE)","v":{"$error":"#N/A"}}]
[{"$nulls":6},"",{"$f":"VLOOKUP(G121,数据2!C:D,2,FALSE)","v":{"$error":"#N/A"}}]
[{"$nulls":6},"",{"$f":"VLOOKUP(G122,数据2!C:D,2,FALSE)","v":{"$error":"#N/A"}}]
[{"$nulls":6},"",{"$f":"VLOOKUP(G123,数据2!C:D,2,FALSE)","v":{"$error":"#N/A"}}]
[{"$nulls":6},"",{"$f":"VLOOKUP(G124,数据2!C:D,2,FALSE)","v":{"$error":"#N/A"}}]
[{"$nulls":6},"",{"$f":"VLOOKUP(G125,数据2!C:D,2,FALSE)","v":{"$error":"#N/A"}}]
[{"$nulls":6},"",{"$f":"VLOOKUP(G126,数据2!C:D,2,FALSE)","v":{"$error":"#N/A"}}]
[{"$nulls":6},"",{"$f":"VLOOKUP(G127,数据2!C:D,2,FALSE)","v":{"$error":"#N/A"}}]
[{"$nulls":6},"",{"$f":"VLOOKUP(G128,数据2!C:D,2,FALSE)","v":{"$error":"#N/A"}}]
[{"$nulls":6},"",{"$f":"VLOOKUP(G129,数据2!C:D,2,FALSE)","v":{"$error":"#N/A"}}]
[{"$nulls":6},"",{"$f":"VLOOKUP(G130,数据2!C:D,2,FALSE)","v":{"$error":"#N/A"}}]
[{"$nulls":6},"",{"$f":"VLOOKUP(G131,数据2!C:D,2,FALSE)","v":{"$error":"#N/A"}}]
[{"$nulls":6},"",{"$f":"VLOOKUP(G132,数据2!C:D,2,FALSE)","v":{"$error":"#N/A"}}]
[{"$nulls":6},{"$f":"C133&F133","v":""},{"$f":"VLOOKUP(G133,数据2!C:D,2,FALSE)","v":{"$error":"#N/A"}}]
[{"$nulls":6},"",{"$f":"VLOOKUP(G134,数据2!C:D,2,FALSE)","v":{"$error":"#N/A"}}]
[{"$nulls":6},"",{"$f":"VLOOKUP(G135,数据2!C:D,2,FALSE)","v":{"$error":"#N/A"}}]
[{"$nulls":6},"",{"$f":"VLOOKUP(G136,数据2!C:D,2,FALSE)","v":{"$error":"#N/A"}}]
[{"$nulls":6},"",{"$f":"VLOOKUP(G137,数据2!C:D,2,FALSE)","v":{"$error":"#N/A"}}]
[{"$nulls":6},"",{"$f":"VLOOKUP(G138,数据2!C:D,2,FALSE)","v":{"$error":"#N/A"}}]
[{"$nulls":6},"",{"$f":"VLOOKUP(G139,数据2!C:D,2,FALSE)","v":{"$error":"#N/A"}}]
[{"$nulls":6},"",{"$f":"VLOOKUP(G140,数据2!C:D,2,FALSE)","v":{"$error":"#N/A"}}]
[{"$nulls":6},"",{"$f":"VLOOKUP(G141,数据2!C:D,2,FALSE)","v":{"$error":"#N/A"}}]
[{"$nulls":6},"",{"$f":"VLOOKUP(G142,数据2!C:D,2,FALSE)","v":{"$error":"#N/A"}}]
[{"$nulls":6},"",{"$f":"VLOOKUP(G143,数据2!C:D,2,FALSE)","v":{"$error":"#N/A"}}]
[{"$nulls":6},"",{"$f":"VLOOKUP(G144,数据2!C:D,2,FALSE)","v":{"$error":"#N/A"}}]
[{"$nulls":6},"",{"$f":"VLOOKUP(G145,数据2!C:D,2,FALSE)","v":{"$error":"#N/A"}}]
[{"$nulls":6},"",{"$f":"VLOOKUP(G146,数据2!C:D,2,FALSE)","v":{"$error":"#N/A"}}]
[{"$nulls":6},"",{"$f":"VLOOKUP(G147,数据2!C:D,2,FALSE)","v":{"$error":"#N/A"}}]
[{"$nulls":6},"",{"$f":"VLOOKUP(G148,数据2!C:D,2,FALSE)","v":{"$error":"#N/A"}}]
[{"$nulls":6},"",{"$f":"VLOOKUP(G149,数据2!C:D,2,FALSE)","v":{"$error":"#N/A"}}]
[{"$nulls":6},"",{"$f":"VLOOKUP(G150,数据2!C:D,2,FALSE)","v":{"$error":"#N/A"}}]
[{"$nulls":6},"",{"$f":"VLOOKUP(G151,数据2!C:D,2,FALSE)","v":{"$error":"#N/A"}}]
[{"$nulls":6},"",{"$f":"VLOOKUP(G152,数据2!C:D,2,FALSE)","v":{"$error":"#N/A"}}]
[{"$nulls":6},"",{"$f":"VLOOKUP(G153,数据2!C:D,2,FALSE)","v":{"$error":"#N/A"}}]
[{"$nulls":6},"",{"$f":"VLOOKUP(G154,数据2!C:D,2,FALSE)","v":{"$error":"#N/A"}}]
[{"$nulls":6},"",{"$f":"VLOOKUP(G155,数据2!C:D,2,FALSE)","v":{"$error":"#N/A"}}]
[{"$nulls":6},"",{"$f":"VLOOKUP(G156,数据2!C:D,2,FALSE)","v":{"$error":"#N/A"}}]
[{"$nulls":6},"",{"$f":"VLOOKUP(G157,数据2!C:D,2,FALSE)","v":{"$error":"#N/A"}}]
[{"$nulls":6},"",{"$f":"VLOOKUP(G158,数据2!C:D,2,FALSE)","v":{"$error":"#N/A"}}]
[{"$nulls":6},"",{"$f":"VLOOKUP(G159,数据2!C:D,2,FALSE)","v":{"$error":"#N/A"}}]
[{"$nulls":6},"",{"$f":"VLOOKUP(G160,数据2!C:D,2,FALSE)","v":{"$error":"#N/A"}}]
[{"$nulls":6},"",{"$f":"VLOOKUP(G161,数据2!C:D,2,FALSE)","v":{"$error":"#N/A"}}]
[{"$nulls":6},"",{"$f":"VLOOKUP(G162,数据2!C:D,2,FALSE)","v":{"$error":"#N/A"}}]
[{"$nulls":6},"",{"$f":"VLOOKUP(G163,数据2!C:D,2,FALSE)","v":{"$error":"#N/A"}}]
[{"$nulls":6},"",{"$f":"VLOOKUP(G164,数据2!C:D,2,FALSE)","v":{"$error":"#N/A"}}]
[{"$nulls":6},"",{"$f":"VLOOKUP(G165,数据2!C:D,2,FALSE)","v":{"$error":"#N/A"}}]
[{"$nulls":6},"",{"$f":"VLOOKUP(G166,数据2!C:D,2,FALSE)","v":{"$error":"#N/A"}}]
[{"$nulls":6},"",{"$f":"VLOOKUP(G167,数据2!C:D,2,FALSE)","v":{"$error":"#N/A"}}]
[{"$nulls":6},"",{"$f":"VLOOKUP(G168,数据2!C:D,2,FALSE)","v":{"$error":"#N/A"}}]
[{"$nulls":6},"",{"$f":"VLOOKUP(G169,数据2!C:D,2,FALSE)","v":{"$error":"#N/A"}}]
[{"$nulls":6},"",{"$f":"VLOOKUP(G170,数据2!C:D,2,FALSE)","v":{"$error":"#N/A"}}]
[{"$nulls":6},"",{"$f":"VLOOKUP(G171,数据2!C:D,2,FALSE)","v":{"$error":"#N/A"}}]
[{"$nulls":6},"",{"$f":"VLOOKUP(G172,数据2!C:D,2,FALSE)","v":{"$error":"#N/A"}}]
[{"$nulls":6},"",{"$f":"VLOOKUP(G173,数据2!C:D,2,FALSE)","v":{"$error":"#N/A"}}]
[{"$nulls":6},"",{"$f":"VLOOKUP(G174,数据2!C:D,2,FALSE)","v":{"$error":"#N/A"}}]
[{"$nulls":6},"",{"$f":"VLOOKUP(G175,数据2!C:D,2,FALSE)","v":{"$error":"#N/A"}}]
[{"$nulls":6},"",{"$f":"VLOOKUP(G176,数据2!C:D,2,FALSE)","v":{"$error":"#N/A"}}]
[{"$nulls":6},"",{"$f":"VLOOKUP(G177,数据2!C:D,2,FALSE)","v":{"$error":"#N/A"}}]
[{"$nulls":6},"",{"$f":"VLOOKUP(G178,数据2!C:D,2,FALSE)","v":{"$error":"#N/A"}}]
[{"$nulls":6},"",{"$f":"VLOOKUP(G179,数据2!C:D,2,FALSE)","v":{"$error":"#N/A"}}]
[{"$nulls":6},"",{"$f":"VLOOKUP(G180,数据2!C:D,2,FALSE)","v":{"$error":"#N/A"}}]
[{"$nulls":6},"",{"$f":"VLOOKUP(G181,数据2!C:D,2,FALSE)","v":{"$error":"#N/A"}}]
[{"$nulls":6},"",{"$f":"VLOOKUP(G182,数据2!C:D,2,FALSE)","v":{"$error":"#N/A"}}]
[{"$nulls":6},"",{"$f":"VLOOKUP(G183,数据2!C:D,2,FALSE)","v":{"$error":"#N/A"}}]
[{"$nulls":6},"",{"$f":"VLOOKUP(G184,数据2!C:D,2,FALSE)","v":{"$error":"#N/A"}}]
[{"$nulls":6},"",{"$f":"VLOOKUP(G185,数据2!C:D,2,FALSE)","v":{"$error":"#N/A"}}]
[{"$nulls":6},"",{"$f":"VLOOKUP(G186,数据2!C:D,2,FALSE)","v":{"$error":"#N/A"}}]
[{"$nulls":6},"",{"$f":"VLOOKUP(G187,数据2!C:D,2,FALSE)","v":{"$error":"#N/A"}}]
[{"$nulls":6},"",{"$f":"VLOOKUP(G188,数据2!C:D,2,FALSE)","v":{"$error":"#N/A"}}]
[{"$nulls":6},"",{"$f":"VLOOKUP(G189,数据2!C:D,2,FALSE)","v":{"$error":"#N/A"}}]
[{"$nulls":6},"",{"$f":"VLOOKUP(G190,数据2!C:D,2,FALSE)","v":{"$error":"#N/A"}}]
[{"$nulls":6},"",{"$f":"VLOOKUP(G191,数据2!C:D,2,FALSE)","v":{"$error":"#N/A"}}]
[{"$nulls":6},"",{"$f":"VLOOKUP(G192,数据2!C:D,2,FALSE)","v":{"$error":"#N/A"}}]
[{"$nulls":6},"",{"$f":"VLOOKUP(G193,数据2!C:D,2,FALSE)","v":{"$error":"#N/A"}}]
[{"$nulls":6},"",{"$f":"VLOOKUP(G194,数据2!C:D,2,FALSE)","v":{"$error":"#N/A"}}]
[{"$nulls":6},"",{"$f":"VLOOKUP(G195,数据2!C:D,2,FALSE)","v":{"$error":"#N/A"}}]
[{"$nulls":6},"",{"$f":"VLOOKUP(G196,数据2!C:D,2,FALSE)","v":{"$error":"#N/A"}}]
[{"$nulls":6},{"$f":"C197&F197","v":""},{"$f":"VLOOKUP(G197,数据2!C:D,2,FALSE)","v":{"$error":"#N/A"}}]
[{"$nulls":6},"",{"$f":"VLOOKUP(G198,数据2!C:D,2,FALSE)","v":{"$error":"#N/A"}}]
[{"$nulls":6},"",{"$f":"VLOOKUP(G199,数据2!C:D,2,FALSE)","v":{"$error":"#N/A"}}]
[{"$nulls":6},"",{"$f":"VLOOKUP(G200,数据2!C:D,2,FALSE)","v":{"$error":"#N/A"}}]
[{"$nulls":6},"",{"$f":"VLOOKUP(G201,数据2!C:D,2,FALSE)","v":{"$error":"#N/A"}}]
[{"$nulls":6},"",{"$f":"VLOOKUP(G202,数据2!C:D,2,FALSE)","v":{"$error":"#N/A"}}]
[{"$nulls":6},"",{"$f":"VLOOKUP(G203,数据2!C:D,2,FALSE)","v":{"$error":"#N/A"}}]
[{"$nulls":6},"",{"$f":"VLOOKUP(G204,数据2!C:D,2,FALSE)","v":{"$error":"#N/A"}}]
[{"$nulls":6},"",{"$f":"VLOOKUP(G205,数据2!C:D,2,FALSE)","v":{"$error":"#N/A"}}]
[{"$nulls":6},"",{"$f":"VLOOKUP(G206,数据2!C:D,2,FALSE)","v":{"$error":"#N/A"}}]
[{"$nulls":6},"",{"$f":"VLOOKUP(G207,数据2!C:D,2,FALSE)","v":{"$error":"#N/A"}}]
[{"$nulls":6},"",{"$f":"VLOOKUP(G208,数据2!C:D,2,FALSE)","v":{"$error":"#N/A"}}]
[{"$nulls":6},"",{"$f":"VLOOKUP(G209,数据2!C:D,2,FALSE)","v":{"$error":"#N/A"}}]
[{"$nulls":6},"",{"$f":"VLOOKUP(G210,数据2!C:D,2,FALSE)","v":{"$error":"#N/A"}}]
[{"$nulls":6},"",{"$f":"VLOOKUP(G211,数据2!C:D,2,FALSE)","v":{"$error":"#N/A"}}]
[{"$nulls":6},"",{"$f":"VLOOKUP(G212,数据2!C:D,2,FALSE)","v":{"$error":"#N/A"}}]
[{"$nulls":6},"",{"$f":"VLOOKUP(G213,数据2!C:D,2,FALSE)","v":{"$error":"#N/A"}}]
[{"$nulls":6},"",{"$f":"VLOOKUP(G214,数据2!C:D,2,FALSE)","v":{"$error":"#N/A"}}]
[{"$nulls":6},"",{"$f":"VLOOKUP(G215,数据2!C:D,2,FALSE)","v":{"$error":"#N/A"}}]
[{"$nulls":6},"",{"$f":"VLOOKUP(G216,数据2!C:D,2,FALSE)","v":{"$error":"#N/A"}}]
[{"$nulls":6},"",{"$f":"VLOOKUP(G217,数据2!C:D,2,FALSE)","v":{"$error":"#N/A"}}]
[{"$nulls":6},"",{"$f":"VLOOKUP(G218,数据2!C:D,2,FALSE)","v":{"$error":"#N/A"}}]
[{"$nulls":6},"",{"$f":"VLOOKUP(G219,数据2!C:D,2,FALSE)","v":{"$error":"#N/A"}}]
[{"$nulls":6},"",{"$f":"VLOOKUP(G220,数据2!C:D,2,FALSE)","v":{"$error":"#N/A"}}]
[{"$nulls":6},"",{"$f":"VLOOKUP(G221,数据2!C:D,2,FALSE)","v":{"$error":"#N/A"}}]
[{"$nulls":6},"",{"$f":"VLOOKUP(G222,数据2!C:D,2,FALSE)","v":{"$error":"#N/A"}}]
[{"$nulls":6},"",{"$f":"VLOOKUP(G223,数据2!C:D,2,FALSE)","v":{"$error":"#N/A"}}]
[{"$nulls":6},"",{"$f":"VLOOKUP(G224,数据2!C:D,2,FALSE)","v":{"$error":"#N/A"}}]
[{"$nulls":6},"",{"$f":"VLOOKUP(G225,数据2!C:D,2,FALSE)","v":{"$error":"#N/A"}}]
[{"$nulls":6},"",{"$f":"VLOOKUP(G226,数据2!C:D,2,FALSE)","v":{"$error":"#N/A"}}]
[{"$nulls":6},"",{"$f":"VLOOKUP(G227,数据2!C:D,2,FALSE)","v":{"$error":"#N/A"}}]
[{"$nulls":6},"",{"$f":"VLOOKUP(G228,数据2!C:D,2,FALSE)","v":{"$error":"#N/A"}}]
[{"$nulls":6},"",{"$f":"VLOOKUP(G229,数据2!C:D,2,FALSE)","v":{"$error":"#N/A"}}]
[{"$nulls":6},"",{"$f":"VLOOKUP(G230,数据2!C:D,2,FALSE)","v":{"$error":"#N/A"}}]
[{"$nulls":6},"",{"$f":"VLOOKUP(G231,数据2!C:D,2,FALSE)","v":{"$error":"#N/A"}}]
[{"$nulls":6},"",{"$f":"VLOOKUP(G232,数据2!C:D,2,FALSE)","v":{"$error":"#N/A"}}]
[{"$nulls":6},"",{"$f":"VLOOKUP(G233,数据2!C:D,2,FALSE)","v":{"$error":"#N/A"}}]
[{"$nulls":6},"",{"$f":"VLOOKUP(G234,数据2!C:D,2,FALSE)","v":{"$error":"#N/A"}}]
[{"$nulls":6},"",{"$f":"VLOOKUP(G235,数据2!C:D,2,FALSE)","v":{"$error":"#N/A"}}]
[{"$nulls":6},"",{"$f":"VLOOKUP(G236,数据2!C:D,2,FALSE)","v":{"$error":"#N/A"}}]
[{"$nulls":6},"",{"$f":"VLOOKUP(G237,数据2!C:D,2,FALSE)","v":{"$error":"#N/A"}}]
[{"$nulls":6},"",{"$f":"VLOOKUP(G238,数据2!C:D,2,FALSE)","v":{"$error":"#N/A"}}]
[{"$nulls":6},"",{"$f":"VLOOKUP(G239,数据2!C:D,2,FALSE)","v":{"$error":"#N/A"}}]
[{"$nulls":6},"",{"$f":"VLOOKUP(G240,数据2!C:D,2,FALSE)","v":{"$error":"#N/A"}}]
[{"$nulls":6},"",{"$f":"VLOOKUP(G241,数据2!C:D,2,FALSE)","v":{"$error":"#N/A"}}]
[{"$nulls":6},"",{"$f":"VLOOKUP(G242,数据2!C:D,2,FALSE)","v":{"$error":"#N/A"}}]
[{"$nulls":6},"",{"$f":"VLOOKUP(G243,数据2!C:D,2,FALSE)","v":{"$error":"#N/A"}}]
[{"$nulls":6},"",{"$f":"VLOOKUP(G244,数据2!C:D,2,FALSE)","v":{"$error":"#N/A"}}]
[{"$nulls":6},"",{"$f":"VLOOKUP(G245,数据2!C:D,2,FALSE)","v":{"$error":"#N/A"}}]
[{"$nulls":6},"",{"$f":"VLOOKUP(G246,数据2!C:D,2,FALSE)","v":{"$error":"#N/A"}}]
[{"$nulls":6},"",{"$f":"VLOOKUP(G247,数据2!C:D,2,FALSE)","v":{"$error":"#N/A"}}]
[{"$nulls":6},"",{"$f":"VLOOKUP(G248,数据2!C:D,2,FALSE)","v":{"$error":"#N/A"}}]
[{"$nulls":6},"",{"$f":"VLOOKUP(G249,数据2!C:D,2,FALSE)","v":{"$error":"#N/A"}}]
[{"$nulls":6},"",{"$f":"VLOOKUP(G250,数据2!C:D,2,FALSE)","v":{"$error":"#N/A"}}]
[{"$nulls":6},"",{"$f":"VLOOKUP(G251,数据2!C:D,2,FALSE)","v":{"$error":"#N/A"}}]
[{"$nulls":6},"",{"$f":"VLOOKUP(G252,数据2!C:D,2,FALSE)","v":{"$error":"#N/A"}}]
[{"$nulls":6},"",{"$f":"VLOOKUP(G253,数据2!C:D,2,FALSE)","v":{"$error":"#N/A"}}]
[{"$nulls":6},"",{"$f":"VLOOKUP(G254,数据2!C:D,2,FALSE)","v":{"$error":"#N/A"}}]
[{"$nulls":6},"",{"$f":"VLOOKUP(G255,数据2!C:D,2,FALSE)","v":{"$error":"#N/A"}}]
[{"$nulls":6},"",{"$f":"VLOOKUP(G256,数据2!C:D,2,FALSE)","v":{"$error":"#N/A"}}]
[{"$nulls":6},"",{"$f":"VLOOKUP(G257,数据2!C:D,2,FALSE)","v":{"$error":"#N/A"}}]
[{"$nulls":6},"",{"$f":"VLOOKUP(G258,数据2!C:D,2,FALSE)","v":{"$error":"#N/A"}}]
[{"$nulls":6},"",{"$f":"VLOOKUP(G259,数据2!C:D,2,FALSE)","v":{"$error":"#N/A"}}]
[{"$nulls":6},"",{"$f":"VLOOKUP(G260,数据2!C:D,2,FALSE)","v":{"$error":"#N/A"}}]
[{"$nulls":6},{"$f":"C261&F261","v":""},{"$f":"VLOOKUP(G261,数据2!C:D,2,FALSE)","v":{"$error":"#N/A"}}]
[{"$nulls":6},"",{"$f":"VLOOKUP(G262,数据2!C:D,2,FALSE)","v":{"$error":"#N/A"}}]
[{"$nulls":6},"",{"$f":"VLOOKUP(G263,数据2!C:D,2,FALSE)","v":{"$error":"#N/A"}}]
[{"$nulls":6},"",{"$f":"VLOOKUP(G264,数据2!C:D,2,FALSE)","v":{"$error":"#N/A"}}]
[{"$nulls":6},"",{"$f":"VLOOKUP(G265,数据2!C:D,2,FALSE)","v":{"$error":"#N/A"}}]
[{"$nulls":6},"",{"$f":"VLOOKUP(G266,数据2!C:D,2,FALSE)","v":{"$error":"#N/A"}}]
[{"$nulls":6},"",{"$f":"VLOOKUP(G267,数据2!C:D,2,FALSE)","v":{"$error":"#N/A"}}]
[{"$nulls":6},"",{"$f":"VLOOKUP(G268,数据2!C:D,2,FALSE)","v":{"$error":"#N/A"}}]
[{"$nulls":6},"",{"$f":"VLOOKUP(G269,数据2!C:D,2,FALSE)","v":{"$error":"#N/A"}}]
[{"$nulls":6},"",{"$f":"VLOOKUP(G270,数据2!C:D,2,FALSE)","v":{"$error":"#N/A"}}]
[{"$nulls":6},"",{"$f":"VLOOKUP(G271,数据2!C:D,2,FALSE)","v":{"$error":"#N/A"}}]
[{"$nulls":6},"",{"$f":"VLOOKUP(G272,数据2!C:D,2,FALSE)","v":{"$error":"#N/A"}}]
[{"$nulls":6},"",{"$f":"VLOOKUP(G273,数据2!C:D,2,FALSE)","v":{"$error":"#N/A"}}]
[{"$nulls":6},"",{"$f":"VLOOKUP(G274,数据2!C:D,2,FALSE)","v":{"$error":"#N/A"}}]
[{"$nulls":6},"",{"$f":"VLOOKUP(G275,数据2!C:D,2,FALSE)","v":{"$error":"#N/A"}}]
[{"$nulls":6},"",{"$f":"VLOOKUP(G276,数据2!C:D,2,FALSE)","v":{"$error":"#N/A"}}]
[{"$nulls":6},"",{"$f":"VLOOKUP(G277,数据2!C:D,2,FALSE)","v":{"$error":"#N/A"}}]
[{"$nulls":6},"",{"$f":"VLOOKUP(G278,数据2!C:D,2,FALSE)","v":{"$error":"#N/A"}}]
[{"$nulls":6},"",{"$f":"VLOOKUP(G279,数据2!C:D,2,FALSE)","v":{"$error":"#N/A"}}]
[{"$nulls":6},"",{"$f":"VLOOKUP(G280,数据2!C:D,2,FALSE)","v":{"$error":"#N/A"}}]
[{"$nulls":6},"",{"$f":"VLOOKUP(G281,数据2!C:D,2,FALSE)","v":{"$error":"#N/A"}}]
[{"$nulls":6},"",{"$f":"VLOOKUP(G282,数据2!C:D,2,FALSE)","v":{"$error":"#N/A"}}]
[{"$nulls":6},"",{"$f":"VLOOKUP(G283,数据2!C:D,2,FALSE)","v":{"$error":"#N/A"}}]
[{"$nulls":6},"",{"$f":"VLOOKUP(G284,数据2!C:D,2,FALSE)","v":{"$error":"#N/A"}}]
[{"$nulls":6},"",{"$f":"VLOOKUP(G285,数据2!C:D,2,FALSE)","v":{"$error":"#N/A"}}]
[{"$nulls":6},"",{"$f":"VLOOKUP(G286,数据2!C:D,2,FALSE)","v":{"$error":"#N/A"}}]
[{"$nulls":6},"",{"$f":"VLOOKUP(G287,数据2!C:D,2,FALSE)","v":{"$error":"#N/A"}}]
[{"$nulls":6},"",{"$f":"VLOOKUP(G288,数据2!C:D,2,FALSE)","v":{"$error":"#N/A"}}]
[{"$nulls":6},"",{"$f":"VLOOKUP(G289,数据2!C:D,2,FALSE)","v":{"$error":"#N/A"}}]
[{"$nulls":6},"",{"$f":"VLOOKUP(G290,数据2!C:D,2,FALSE)","v":{"$error":"#N/A"}}]
[{"$nulls":6},"",{"$f":"VLOOKUP(G291,数据2!C:D,2,FALSE)","v":{"$error":"#N/A"}}]
[{"$nulls":6},"",{"$f":"VLOOKUP(G292,数据2!C:D,2,FALSE)","v":{"$error":"#N/A"}}]
[{"$nulls":6},"",{"$f":"VLOOKUP(G293,数据2!C:D,2,FALSE)","v":{"$error":"#N/A"}}]
[{"$nulls":6},"",{"$f":"VLOOKUP(G294,数据2!C:D,2,FALSE)","v":{"$error":"#N/A"}}]
[{"$nulls":6},"",{"$f":"VLOOKUP(G295,数据2!C:D,2,FALSE)","v":{"$error":"#N/A"}}]
[{"$nulls":6},"",{"$f":"VLOOKUP(G296,数据2!C:D,2,FALSE)","v":{"$error":"#N/A"}}]
[{"$nulls":6},"",{"$f":"VLOOKUP(G297,数据2!C:D,2,FALSE)","v":{"$error":"#N/A"}}]
[{"$nulls":6},"",{"$f":"VLOOKUP(G298,数据2!C:D,2,FALSE)","v":{"$error":"#N/A"}}]
[{"$nulls":6},"",{"$f":"VLOOKUP(G299,数据2!C:D,2,FALSE)","v":{"$error":"#N/A"}}]
[{"$nulls":6},"",{"$f":"VLOOKUP(G300,数据2!C:D,2,FALSE)","v":{"$error":"#N/A"}}]
[{"$nulls":6},"",{"$f":"VLOOKUP(G301,数据2!C:D,2,FALSE)","v":{"$error":"#N/A"}}]
[{"$nulls":6},"",{"$f":"VLOOKUP(G302,数据2!C:D,2,FALSE)","v":{"$error":"#N/A"}}]
[{"$nulls":6},"",{"$f":"VLOOKUP(G303,数据2!C:D,2,FALSE)","v":{"$error":"#N/A"}}]
[{"$nulls":6},"",{"$f":"VLOOKUP(G304,数据2!C:D,2,FALSE)","v":{"$error":"#N/A"}}]
[{"$nulls":6},"",{"$f":"VLOOKUP(G305,数据2!C:D,2,FALSE)","v":{"$error":"#N/A"}}]
[{"$nulls":6},"",{"$f":"VLOOKUP(G306,数据2!C:D,2,FALSE)","v":{"$error":"#N/A"}}]
[{"$nulls":6},"",{"$f":"VLOOKUP(G307,数据2!C:D,2,FALSE)","v":{"$error":"#N/A"}}]
[{"$nulls":6},"",{"$f":"VLOOKUP(G308,数据2!C:D,2,FALSE)","v":{"$error":"#N/A"}}]
[{"$nulls":6},"",{"$f":"VLOOKUP(G309,数据2!C:D,2,FALSE)","v":{"$error":"#N/A"}}]
[{"$nulls":6},"",{"$f":"VLOOKUP(G310,数据2!C:D,2,FALSE)","v":{"$error":"#N/A"}}]
[{"$nulls":6},"",{"$f":"VLOOKUP(G311,数据2!C:D,2,FALSE)","v":{"$error":"#N/A"}}]
[{"$nulls":6},"",{"$f":"VLOOKUP(G312,数据2!C:D,2,FALSE)","v":{"$error":"#N/A"}}]
[{"$nulls":6},"",{"$f":"VLOOKUP(G313,数据2!C:D,2,FALSE)","v":{"$error":"#N/A"}}]
[{"$nulls":6},"",{"$f":"VLOOKUP(G314,数据2!C:D,2,FALSE)","v":{"$error":"#N/A"}}]
[{"$nulls":6},"",{"$f":"VLOOKUP(G315,数据2!C:D,2,FALSE)","v":{"$error":"#N/A"}}]
[{"$nulls":6},"",{"$f":"VLOOKUP(G316,数据2!C:D,2,FALSE)","v":{"$error":"#N/A"}}]
[{"$nulls":6},"",{"$f":"VLOOKUP(G317,数据2!C:D,2,FALSE)","v":{"$error":"#N/A"}}]
[{"$nulls":6},"",{"$f":"VLOOKUP(G318,数据2!C:D,2,FALSE)","v":{"$error":"#N/A"}}]
[{"$nulls":6},"",{"$f":"VLOOKUP(G319,数据2!C:D,2,FALSE)","v":{"$error":"#N/A"}}]
[{"$nulls":6},"",{"$f":"VLOOKUP(G320,数据2!C:D,2,FALSE)","v":{"$error":"#N/A"}}]
[{"$nulls":6},"",{"$f":"VLOOKUP(G321,数据2!C:D,2,FALSE)","v":{"$error":"#N/A"}}]
[{"$nulls":6},"",{"$f":"VLOOKUP(G322,数据2!C:D,2,FALSE)","v":{"$error":"#N/A"}}]
[{"$nulls":6},"",{"$f":"VLOOKUP(G323,数据2!C:D,2,FALSE)","v":{"$error":"#N/A"}}]
[{"$nulls":6},"",{"$f":"VLOOKUP(G324,数据2!C:D,2,FALSE)","v":{"$error":"#N/A"}}]
[{"$nulls":6},{"$f":"C325&F325","v":""},{"$f":"VLOOKUP(G325,数据2!C:D,2,FALSE)","v":{"$error":"#N/A"}}]
[{"$nulls":6},"",{"$f":"VLOOKUP(G326,数据2!C:D,2,FALSE)","v":{"$error":"#N/A"}}]
[{"$nulls":6},"",{"$f":"VLOOKUP(G327,数据2!C:D,2,FALSE)","v":{"$error":"#N/A"}}]
[{"$nulls":6},"",{"$f":"VLOOKUP(G328,数据2!C:D,2,FALSE)","v":{"$error":"#N/A"}}]
[{"$nulls":6},"",{"$f":"VLOOKUP(G329,数据2!C:D,2,FALSE)","v":{"$error":"#N/A"}}]
[{"$nulls":6},"",{"$f":"VLOOKUP(G330,数据2!C:D,2,FALSE)","v":{"$error":"#N/A"}}]
[{"$nulls":6},"",{"$f":"VLOOKUP(G331,数据2!C:D,2,FALSE)","v":{"$error":"#N/A"}}]
[{"$nulls":6},"",{"$f":"VLOOKUP(G332,数据2!C:D,2,FALSE)","v":{"$error":"#N/A"}}]
[{"$nulls":6},"",{"$f":"VLOOKUP(G333,数据2!C:D,2,FALSE)","v":{"$error":"#N/A"}}]
[{"$nulls":6},"",{"$f":"VLOOKUP(G334,数据2!C:D,2,FALSE)","v":{"$error":"#N/A"}}]
[{"$nulls":6},"",{"$f":"VLOOKUP(G335,数据2!C:D,2,FALSE)","v":{"$error":"#N/A"}}]
[{"$nulls":6},"",{"$f":"VLOOKUP(G336,数据2!C:D,2,FALSE)","v":{"$error":"#N/A"}}]
[{"$nulls":6},"",{"$f":"VLOOKUP(G337,数据2!C:D,2,FALSE)","v":{"$error":"#N/A"}}]
[{"$nulls":6},"",{"$f":"VLOOKUP(G338,数据2!C:D,2,FALSE)","v":{"$error":"#N/A"}}]
[{"$nulls":6},"",{"$f":"VLOOKUP(G339,数据2!C:D,2,FALSE)","v":{"$error":"#N/A"}}]
[{"$nulls":6},"",{"$f":"VLOOKUP(G340,数据2!C:D,2,FALSE)","v":{"$error":"#N/A"}}]
[{"$nulls":6},"",{"$f":"VLOOKUP(G341,数据2!C:D,2,FALSE)","v":{"$error":"#N/A"}}]
[{"$nulls":6},"",{"$f":"VLOOKUP(G342,数据2!C:D,2,FALSE)","v":{"$error":"#N/A"}}]
[{"$nulls":6},"",{"$f":"VLOOKUP(G343,数据2!C:D,2,FALSE)","v":{"$error":"#N/A"}}]
[{"$nulls":6},"",{"$f":"VLOOKUP(G344,数据2!C:D,2,FALSE)","v":{"$error":"#N/A"}}]
[{"$nulls":6},"",{"$f":"VLOOKUP(G345,数据2!C:D,2,FALSE)","v":{"$error":"#N/A"}}]
[{"$nulls":6},"",{"$f":"VLOOKUP(G346,数据2!C:D,2,FALSE)","v":{"$error":"#N/A"}}]
[{"$nulls":6},"",{"$f":"VLOOKUP(G347,数据2!C:D,2,FALSE)","v":{"$error":"#N/A"}}]
[{"$nulls":6},"",{"$f":"VLOOKUP(G348,数据2!C:D,2,FALSE)","v":{"$error":"#N/A"}}]
[{"$nulls":6},"",{"$f":"VLOOKUP(G349,数据2!C:D,2,FALSE)","v":{"$error":"#N/A"}}]
[{"$nulls":6},"",{"$f":"VLOOKUP(G350,数据2!C:D,2,FALSE)","v":{"$error":"#N/A"}}]
[{"$nulls":6},"",{"$f":"VLOOKUP(G351,数据2!C:D,2,FALSE)","v":{"$error":"#N/A"}}]
[{"$nulls":6},"",{"$f":"VLOOKUP(G352,数据2!C:D,2,FALSE)","v":{"$error":"#N/A"}}]
[{"$nulls":6},"",{"$f":"VLOOKUP(G353,数据2!C:D,2,FALSE)","v":{"$error":"#N/A"}}]
[{"$nulls":6},"",{"$f":"VLOOKUP(G354,数据2!C:D,2,FALSE)","v":{"$error":"#N/A"}}]
[{"$nulls":6},"",{"$f":"VLOOKUP(G355,数据2!C:D,2,FALSE)","v":{"$error":"#N/A"}}]
[{"$nulls":6},"",{"$f":"VLOOKUP(G356,数据2!C:D,2,FALSE)","v":{"$error":"#N/A"}}]
[{"$nulls":6},"",{"$f":"VLOOKUP(G357,数据2!C:D,2,FALSE)","v":{"$error":"#N/A"}}]
[{"$nulls":6},"",{"$f":"VLOOKUP(G358,数据2!C:D,2,FALSE)","v":{"$error":"#N/A"}}]
[{"$nulls":6},"",{"$f":"VLOOKUP(G359,数据2!C:D,2,FALSE)","v":{"$error":"#N/A"}}]
[{"$nulls":6},"",{"$f":"VLOOKUP(G360,数据2!C:D,2,FALSE)","v":{"$error":"#N/A"}}]
[{"$nulls":6},"",{"$f":"VLOOKUP(G361,数据2!C:D,2,FALSE)","v":{"$error":"#N/A"}}]
[{"$nulls":6},"",{"$f":"VLOOKUP(G362,数据2!C:D,2,FALSE)","v":{"$error":"#N/A"}}]
[{"$nulls":6},"",{"$f":"VLOOKUP(G363,数据2!C:D,2,FALSE)","v":{"$error":"#N/A"}}]
[{"$nulls":6},"",{"$f":"VLOOKUP(G364,数据2!C:D,2,FALSE)","v":{"$error":"#N/A"}}]
[{"$nulls":6},"",{"$f":"VLOOKUP(G365,数据2!C:D,2,FALSE)","v":{"$error":"#N/A"}}]
[{"$nulls":6},"",{"$f":"VLOOKUP(G366,数据2!C:D,2,FALSE)","v":{"$error":"#N/A"}}]
[{"$nulls":6},"",{"$f":"VLOOKUP(G367,数据2!C:D,2,FALSE)","v":{"$error":"#N/A"}}]
[{"$nulls":6},"",{"$f":"VLOOKUP(G368,数据2!C:D,2,FALSE)","v":{"$error":"#N/A"}}]
[{"$nulls":6},"",{"$f":"VLOOKUP(G369,数据2!C:D,2,FALSE)","v":{"$error":"#N/A"}}]
[{"$nulls":6},"",{"$f":"VLOOKUP(G370,数据2!C:D,2,FALSE)","v":{"$error":"#N/A"}}]
[{"$nulls":6},"",{"$f":"VLOOKUP(G371,数据2!C:D,2,FALSE)","v":{"$error":"#N/A"}}]
[{"$nulls":6},"",{"$f":"VLOOKUP(G372,数据2!C:D,2,FALSE)","v":{"$error":"#N/A"}}]
[{"$nulls":6},"",{"$f":"VLOOKUP(G373,数据2!C:D,2,FALSE)","v":{"$error":"#N/A"}}]
[{"$nulls":6},"",{"$f":"VLOOKUP(G374,数据2!C:D,2,FALSE)","v":{"$error":"#N/A"}}]
[{"$nulls":6},"",{"$f":"VLOOKUP(G375,数据2!C:D,2,FALSE)","v":{"$error":"#N/A"}}]
[{"$nulls":6},"",{"$f":"VLOOKUP(G376,数据2!C:D,2,FALSE)","v":{"$error":"#N/A"}}]
[{"$nulls":6},"",{"$f":"VLOOKUP(G377,数据2!C:D,2,FALSE)","v":{"$error":"#N/A"}}]
[{"$nulls":6},"",{"$f":"VLOOKUP(G378,数据2!C:D,2,FALSE)","v":{"$error":"#N/A"}}]
[{"$nulls":6},"",{"$f":"VLOOKUP(G379,数据2!C:D,2,FALSE)","v":{"$error":"#N/A"}}]
[{"$nulls":6},"",{"$f":"VLOOKUP(G380,数据2!C:D,2,FALSE)","v":{"$error":"#N/A"}}]
[{"$nulls":6},"",{"$f":"VLOOKUP(G381,数据2!C:D,2,FALSE)","v":{"$error":"#N/A"}}]
[{"$nulls":6},"",{"$f":"VLOOKUP(G382,数据2!C:D,2,FALSE)","v":{"$error":"#N/A"}}]
[{"$nulls":6},"",{"$f":"VLOOKUP(G383,数据2!C:D,2,FALSE)","v":{"$error":"#N/A"}}]
[{"$nulls":6},"",{"$f":"VLOOKUP(G384,数据2!C:D,2,FALSE)","v":{"$error":"#N/A"}}]
[{"$nulls":6},"",{"$f":"VLOOKUP(G385,数据2!C:D,2,FALSE)","v":{"$error":"#N/A"}}]
[{"$nulls":6},"",{"$f":"VLOOKUP(G386,数据2!C:D,2,FALSE)","v":{"$error":"#N/A"}}]
[{"$nulls":6},"",{"$f":"VLOOKUP(G387,数据2!C:D,2,FALSE)","v":{"$error":"#N/A"}}]
[{"$nulls":6},"",{"$f":"VLOOKUP(G388,数据2!C:D,2,FALSE)","v":{"$error":"#N/A"}}]
[{"$nulls":6},{"$f":"C389&F389","v":""},{"$f":"VLOOKUP(G389,数据2!C:D,2,FALSE)","v":{"$error":"#N/A"}}]
[{"$nulls":6},"",{"$f":"VLOOKUP(G390,数据2!C:D,2,FALSE)","v":{"$error":"#N/A"}}]
[{"$nulls":6},"",{"$f":"VLOOKUP(G391,数据2!C:D,2,FALSE)","v":{"$error":"#N/A"}}]
[{"$nulls":6},"",{"$f":"VLOOKUP(G392,数据2!C:D,2,FALSE)","v":{"$error":"#N/A"}}]
[{"$nulls":6},"",{"$f":"VLOOKUP(G393,数据2!C:D,2,FALSE)","v":{"$error":"#N/A"}}]
[{"$nulls":6},"",{"$f":"VLOOKUP(G394,数据2!C:D,2,FALSE)","v":{"$error":"#N/A"}}]
[{"$nulls":6},"",{"$f":"VLOOKUP(G395,数据2!C:D,2,FALSE)","v":{"$error":"#N/A"}}]
[{"$nulls":6},"",{"$f":"VLOOKUP(G396,数据2!C:D,2,FALSE)","v":{"$error":"#N/A"}}]
[{"$nulls":6},"",{"$f":"VLOOKUP(G397,数据2!C:D,2,FALSE)","v":{"$error":"#N/A"}}]
[{"$nulls":6},"",{"$f":"VLOOKUP(G398,数据2!C:D,2,FALSE)","v":{"$error":"#N/A"}}]
[{"$nulls":6},"",{"$f":"VLOOKUP(G399,数据2!C:D,2,FALSE)","v":{"$error":"#N/A"}}]
[{"$nulls":6},"",{"$f":"VLOOKUP(G400,数据2!C:D,2,FALSE)","v":{"$error":"#N/A"}}]
[{"$nulls":6},"",{"$f":"VLOOKUP(G401,数据2!C:D,2,FALSE)","v":{"$error":"#N/A"}}]
[{"$nulls":6},"",{"$f":"VLOOKUP(G402,数据2!C:D,2,FALSE)","v":{"$error":"#N/A"}}]
[{"$nulls":6},"",{"$f":"VLOOKUP(G403,数据2!C:D,2,FALSE)","v":{"$error":"#N/A"}}]
[{"$nulls":6},"",{"$f":"VLOOKUP(G404,数据2!C:D,2,FALSE)","v":{"$error":"#N/A"}}]
[{"$nulls":6},"",{"$f":"VLOOKUP(G405,数据2!C:D,2,FALSE)","v":{"$error":"#N/A"}}]
[{"$nulls":6},"",{"$f":"VLOOKUP(G406,数据2!C:D,2,FALSE)","v":{"$error":"#N/A"}}]
[{"$nulls":6},"",{"$f":"VLOOKUP(G407,数据2!C:D,2,FALSE)","v":{"$error":"#N/A"}}]
[{"$nulls":6},"",{"$f":"VLOOKUP(G408,数据2!C:D,2,FALSE)","v":{"$error":"#N/A"}}]
[{"$nulls":6},"",{"$f":"VLOOKUP(G409,数据2!C:D,2,FALSE)","v":{"$error":"#N/A"}}]
[{"$nulls":6},"",{"$f":"VLOOKUP(G410,数据2!C:D,2,FALSE)","v":{"$error":"#N/A"}}]
[{"$nulls":6},"",{"$f":"VLOOKUP(G411,数据2!C:D,2,FALSE)","v":{"$error":"#N/A"}}]
[{"$nulls":6},"",{"$f":"VLOOKUP(G412,数据2!C:D,2,FALSE)","v":{"$error":"#N/A"}}]
[{"$nulls":6},"",{"$f":"VLOOKUP(G413,数据2!C:D,2,FALSE)","v":{"$error":"#N/A"}}]
[{"$nulls":6},"",{"$f":"VLOOKUP(G414,数据2!C:D,2,FALSE)","v":{"$error":"#N/A"}}]
[{"$nulls":6},"",{"$f":"VLOOKUP(G415,数据2!C:D,2,FALSE)","v":{"$error":"#N/A"}}]
[{"$nulls":6},"",{"$f":"VLOOKUP(G416,数据2!C:D,2,FALSE)","v":{"$error":"#N/A"}}]
[{"$nulls":6},"",{"$f":"VLOOKUP(G417,数据2!C:D,2,FALSE)","v":{"$error":"#N/A"}}]
[{"$nulls":6},"",{"$f":"VLOOKUP(G418,数据2!C:D,2,FALSE)","v":{"$error":"#N/A"}}]
[{"$nulls":6},"",{"$f":"VLOOKUP(G419,数据2!C:D,2,FALSE)","v":{"$error":"#N/A"}}]
[{"$nulls":6},"",{"$f":"VLOOKUP(G420,数据2!C:D,2,FALSE)","v":{"$error":"#N/A"}}]
[{"$nulls":6},"",{"$f":"VLOOKUP(G421,数据2!C:D,2,FALSE)","v":{"$error":"#N/A"}}]
[{"$nulls":6},"",{"$f":"VLOOKUP(G422,数据2!C:D,2,FALSE)","v":{"$error":"#N/A"}}]
[{"$nulls":6},"",{"$f":"VLOOKUP(G423,数据2!C:D,2,FALSE)","v":{"$error":"#N/A"}}]
[{"$nulls":6},"",{"$f":"VLOOKUP(G424,数据2!C:D,2,FALSE)","v":{"$error":"#N/A"}}]
[{"$nulls":6},"",{"$f":"VLOOKUP(G425,数据2!C:D,2,FALSE)","v":{"$error":"#N/A"}}]
[{"$nulls":6},"",{"$f":"VLOOKUP(G426,数据2!C:D,2,FALSE)","v":{"$error":"#N/A"}}]
[{"$nulls":6},"",{"$f":"VLOOKUP(G427,数据2!C:D,2,FALSE)","v":{"$error":"#N/A"}}]
[{"$nulls":6},"",{"$f":"VLOOKUP(G428,数据2!C:D,2,FALSE)","v":{"$error":"#N/A"}}]
[{"$nulls":6},"",{"$f":"VLOOKUP(G429,数据2!C:D,2,FALSE)","v":{"$error":"#N/A"}}]
[{"$nulls":6},"",{"$f":"VLOOKUP(G430,数据2!C:D,2,FALSE)","v":{"$error":"#N/A"}}]
[{"$nulls":6},"",{"$f":"VLOOKUP(G431,数据2!C:D,2,FALSE)","v":{"$error":"#N/A"}}]
[{"$nulls":6},"",{"$f":"VLOOKUP(G432,数据2!C:D,2,FALSE)","v":{"$error":"#N/A"}}]
[{"$nulls":6},"",{"$f":"VLOOKUP(G433,数据2!C:D,2,FALSE)","v":{"$error":"#N/A"}}]
[{"$nulls":6},"",{"$f":"VLOOKUP(G434,数据2!C:D,2,FALSE)","v":{"$error":"#N/A"}}]
[{"$nulls":6},"",{"$f":"VLOOKUP(G435,数据2!C:D,2,FALSE)","v":{"$error":"#N/A"}}]
[{"$nulls":6},"",{"$f":"VLOOKUP(G436,数据2!C:D,2,FALSE)","v":{"$error":"#N/A"}}]
[{"$nulls":6},"",{"$f":"VLOOKUP(G437,数据2!C:D,2,FALSE)","v":{"$error":"#N/A"}}]
[{"$nulls":6},"",{"$f":"VLOOKUP(G438,数据2!C:D,2,FALSE)","v":{"$error":"#N/A"}}]
[{"$nulls":6},"",{"$f":"VLOOKUP(G439,数据2!C:D,2,FALSE)","v":{"$error":"#N/A"}}]
[{"$nulls":6},"",{"$f":"VLOOKUP(G440,数据2!C:D,2,FALSE)","v":{"$error":"#N/A"}}]
[{"$nulls":6},"",{"$f":"VLOOKUP(G441,数据2!C:D,2,FALSE)","v":{"$error":"#N/A"}}]
[{"$nulls":6},"",{"$f":"VLOOKUP(G442,数据2!C:D,2,FALSE)","v":{"$error":"#N/A"}}]
[{"$nulls":6},"",{"$f":"VLOOKUP(G443,数据2!C:D,2,FALSE)","v":{"$error":"#N/A"}}]
[{"$nulls":6},"",{"$f":"VLOOKUP(G444,数据2!C:D,2,FALSE)","v":{"$error":"#N/A"}}]
[{"$nulls":6},"",{"$f":"VLOOKUP(G445,数据2!C:D,2,FALSE)","v":{"$error":"#N/A"}}]
[{"$nulls":6},"",{"$f":"VLOOKUP(G446,数据2!C:D,2,FALSE)","v":{"$error":"#N/A"}}]
[{"$nulls":6},"",{"$f":"VLOOKUP(G447,数据2!C:D,2,FALSE)","v":{"$error":"#N/A"}}]
[{"$nulls":6},"",{"$f":"VLOOKUP(G448,数据2!C:D,2,FALSE)","v":{"$error":"#N/A"}}]
[{"$nulls":6},"",{"$f":"VLOOKUP(G449,数据2!C:D,2,FALSE)","v":{"$error":"#N/A"}}]
[{"$nulls":6},"",{"$f":"VLOOKUP(G450,数据2!C:D,2,FALSE)","v":{"$error":"#N/A"}}]
[{"$nulls":6},"",{"$f":"VLOOKUP(G451,数据2!C:D,2,FALSE)","v":{"$error":"#N/A"}}]
[{"$nulls":6},"",{"$f":"VLOOKUP(G452,数据2!C:D,2,FALSE)","v":{"$error":"#N/A"}}]
[{"$nulls":6},{"$f":"C453&F453","v":""},{"$f":"VLOOKUP(G453,数据2!C:D,2,FALSE)","v":{"$error":"#N/A"}}]
[{"$nulls":6},"",{"$f":"VLOOKUP(G454,数据2!C:D,2,FALSE)","v":{"$error":"#N/A"}}]
[{"$nulls":6},"",{"$f":"VLOOKUP(G455,数据2!C:D,2,FALSE)","v":{"$error":"#N/A"}}]
[{"$nulls":6},"",{"$f":"VLOOKUP(G456,数据2!C:D,2,FALSE)","v":{"$error":"#N/A"}}]
[{"$nulls":6},"",{"$f":"VLOOKUP(G457,数据2!C:D,2,FALSE)","v":{"$error":"#N/A"}}]
[{"$nulls":6},"",{"$f":"VLOOKUP(G458,数据2!C:D,2,FALSE)","v":{"$error":"#N/A"}}]
[{"$nulls":6},"",{"$f":"VLOOKUP(G459,数据2!C:D,2,FALSE)","v":{"$error":"#N/A"}}]
[{"$nulls":6},"",{"$f":"VLOOKUP(G460,数据2!C:D,2,FALSE)","v":{"$error":"#N/A"}}]
[{"$nulls":6},"",{"$f":"VLOOKUP(G461,数据2!C:D,2,FALSE)","v":{"$error":"#N/A"}}]
[{"$nulls":6},"",{"$f":"VLOOKUP(G462,数据2!C:D,2,FALSE)","v":{"$error":"#N/A"}}]
[{"$nulls":6},"",{"$f":"VLOOKUP(G463,数据2!C:D,2,FALSE)","v":{"$error":"#N/A"}}]
[{"$nulls":6},"",{"$f":"VLOOKUP(G464,数据2!C:D,2,FALSE)","v":{"$error":"#N/A"}}]
[{"$nulls":6},"",{"$f":"VLOOKUP(G465,数据2!C:D,2,FALSE)","v":{"$error":"#N/A"}}]
[{"$nulls":6},"",{"$f":"VLOOKUP(G466,数据2!C:D,2,FALSE)","v":{"$error":"#N/A"}}]
[{"$nulls":6},"",{"$f":"VLOOKUP(G467,数据2!C:D,2,FALSE)","v":{"$error":"#N/A"}}]
[{"$nulls":6},"",{"$f":"VLOOKUP(G468,数据2!C:D,2,FALSE)","v":{"$error":"#N/A"}}]
[{"$nulls":6},"",{"$f":"VLOOKUP(G469,数据2!C:D,2,FALSE)","v":{"$error":"#N/A"}}]
[{"$nulls":6},"",{"$f":"VLOOKUP(G470,数据2!C:D,2,FALSE)","v":{"$error":"#N/A"}}]
[{"$nulls":6},"",{"$f":"VLOOKUP(G471,数据2!C:D,2,FALSE)","v":{"$error":"#N/A"}}]
[{"$nulls":6},"",{"$f":"VLOOKUP(G472,数据2!C:D,2,FALSE)","v":{"$error":"#N/A"}}]
[{"$nulls":6},"",{"$f":"VLOOKUP(G473,数据2!C:D,2,FALSE)","v":{"$error":"#N/A"}}]
[{"$nulls":6},"",{"$f":"VLOOKUP(G474,数据2!C:D,2,FALSE)","v":{"$error":"#N/A"}}]
[{"$nulls":6},"",{"$f":"VLOOKUP(G475,数据2!C:D,2,FALSE)","v":{"$error":"#N/A"}}]
[{"$nulls":6},"",{"$f":"VLOOKUP(G476,数据2!C:D,2,FALSE)","v":{"$error":"#N/A"}}]
[{"$nulls":6},"",{"$f":"VLOOKUP(G477,数据2!C:D,2,FALSE)","v":{"$error":"#N/A"}}]
[{"$nulls":6},"",{"$f":"VLOOKUP(G478,数据2!C:D,2,FALSE)","v":{"$error":"#N/A"}}]
[{"$nulls":6},"",{"$f":"VLOOKUP(G479,数据2!C:D,2,FALSE)","v":{"$error":"#N/A"}}]
[{"$nulls":6},"",{"$f":"VLOOKUP(G480,数据2!C:D,2,FALSE)","v":{"$error":"#N/A"}}]
[{"$nulls":6},"",{"$f":"VLOOKUP(G481,数据2!C:D,2,FALSE)","v":{"$error":"#N/A"}}]
[{"$nulls":6},"",{"$f":"VLOOKUP(G482,数据2!C:D,2,FALSE)","v":{"$error":"#N/A"}}]
[{"$nulls":6},"",{"$f":"VLOOKUP(G483,数据2!C:D,2,FALSE)","v":{"$error":"#N/A"}}]
[{"$nulls":6},"",{"$f":"VLOOKUP(G484,数据2!C:D,2,FALSE)","v":{"$error":"#N/A"}}]
[{"$nulls":6},"",{"$f":"VLOOKUP(G485,数据2!C:D,2,FALSE)","v":{"$error":"#N/A"}}]
[{"$nulls":6},"",{"$f":"VLOOKUP(G486,数据2!C:D,2,FALSE)","v":{"$error":"#N/A"}}]
[{"$nulls":6},"",{"$f":"VLOOKUP(G487,数据2!C:D,2,FALSE)","v":{"$error":"#N/A"}}]
[{"$nulls":6},"",{"$f":"VLOOKUP(G488,数据2!C:D,2,FALSE)","v":{"$error":"#N/A"}}]
[{"$nulls":6},"",{"$f":"VLOOKUP(G489,数据2!C:D,2,FALSE)","v":{"$error":"#N/A"}}]
[{"$nulls":6},"",{"$f":"VLOOKUP(G490,数据2!C:D,2,FALSE)","v":{"$error":"#N/A"}}]
[{"$nulls":6},"",{"$f":"VLOOKUP(G491,数据2!C:D,2,FALSE)","v":{"$error":"#N/A"}}]
[{"$nulls":6},"",{"$f":"VLOOKUP(G492,数据2!C:D,2,FALSE)","v":{"$error":"#N/A"}}]
[{"$nulls":6},"",{"$f":"VLOOKUP(G493,数据2!C:D,2,FALSE)","v":{"$error":"#N/A"}}]
[{"$nulls":6},"",{"$f":"VLOOKUP(G494,数据2!C:D,2,FALSE)","v":{"$error":"#N/A"}}]
[{"$nulls":6},"",{"$f":"VLOOKUP(G495,数据2!C:D,2,FALSE)","v":{"$error":"#N/A"}}]
[{"$nulls":6},"",{"$f":"VLOOKUP(G496,数据2!C:D,2,FALSE)","v":{"$error":"#N/A"}}]
[{"$nulls":6},"",{"$f":"VLOOKUP(G497,数据2!C:D,2,FALSE)","v":{"$error":"#N/A"}}]
[{"$nulls":6},"",{"$f":"VLOOKUP(G498,数据2!C:D,2,FALSE)","v":{"$error":"#N/A"}}]
[{"$nulls":6},"",{"$f":"VLOOKUP(G499,数据2!C:D,2,FALSE)","v":{"$error":"#N/A"}}]
[{"$nulls":6},"",{"$f":"VLOOKUP(G500,数据2!C:D,2,FALSE)","v":{"$error":"#N/A"}}]
[{"$nulls":6},"",{"$f":"VLOOKUP(G501,数据2!C:D,2,FALSE)","v":{"$error":"#N/A"}}]
[{"$nulls":6},"",{"$f":"VLOOKUP(G502,数据2!C:D,2,FALSE)","v":{"$error":"#N/A"}}]
[{"$nulls":6},"",{"$f":"VLOOKUP(G503,数据2!C:D,2,FALSE)","v":{"$error":"#N/A"}}]
[{"$nulls":6},"",{"$f":"VLOOKUP(G504,数据2!C:D,2,FALSE)","v":{"$error":"#N/A"}}]
[{"$nulls":6},"",{"$f":"VLOOKUP(G505,数据2!C:D,2,FALSE)","v":{"$error":"#N/A"}}]
[{"$nulls":6},"",{"$f":"VLOOKUP(G506,数据2!C:D,2,FALSE)","v":{"$error":"#N/A"}}]
[{"$nulls":6},"",{"$f":"VLOOKUP(G507,数据2!C:D,2,FALSE)","v":{"$error":"#N/A"}}]
[{"$nulls":6},"",{"$f":"VLOOKUP(G508,数据2!C:D,2,FALSE)","v":{"$error":"#N/A"}}]
[{"$nulls":6},"",{"$f":"VLOOKUP(G509,数据2!C:D,2,FALSE)","v":{"$error":"#N/A"}}]
[{"$nulls":6},"",{"$f":"VLOOKUP(G510,数据2!C:D,2,FALSE)","v":{"$error":"#N/A"}}]
[{"$nulls":6},"",{"$f":"VLOOKUP(G511,数据2!C:D,2,FALSE)","v":{"$error":"#N/A"}}]
[{"$nulls":6},"",{"$f":"VLOOKUP(G512,数据2!C:D,2,FALSE)","v":{"$error":"#N/A"}}]
[{"$nulls":6},"",{"$f":"VLOOKUP(G513,数据2!C:D,2,FALSE)","v":{"$error":"#N/A"}}]
[{"$nulls":6},"",{"$f":"VLOOKUP(G514,数据2!C:D,2,FALSE)","v":{"$error":"#N/A"}}]
[{"$nulls":6},"",{"$f":"VLOOKUP(G515,数据2!C:D,2,FALSE)","v":{"$error":"#N/A"}}]
[{"$nulls":6},"",{"$f":"VLOOKUP(G516,数据2!C:D,2,FALSE)","v":{"$error":"#N/A"}}]
[{"$nulls":6},{"$f":"C517&F517","v":""},{"$f":"VLOOKUP(G517,数据2!C:D,2,FALSE)","v":{"$error":"#N/A"}}]
[{"$nulls":6},"",{"$f":"VLOOKUP(G518,数据2!C:D,2,FALSE)","v":{"$error":"#N/A"}}]
[{"$nulls":6},"",{"$f":"VLOOKUP(G519,数据2!C:D,2,FALSE)","v":{"$error":"#N/A"}}]
[{"$nulls":6},"",{"$f":"VLOOKUP(G520,数据2!C:D,2,FALSE)","v":{"$error":"#N/A"}}]
[{"$nulls":6},"",{"$f":"VLOOKUP(G521,数据2!C:D,2,FALSE)","v":{"$error":"#N/A"}}]
[{"$nulls":6},"",{"$f":"VLOOKUP(G522,数据2!C:D,2,FALSE)","v":{"$error":"#N/A"}}]
[{"$nulls":6},"",{"$f":"VLOOKUP(G523,数据2!C:D,2,FALSE)","v":{"$error":"#N/A"}}]
[{"$nulls":6},"",{"$f":"VLOOKUP(G524,数据2!C:D,2,FALSE)","v":{"$error":"#N/A"}}]
[{"$nulls":6},"",{"$f":"VLOOKUP(G525,数据2!C:D,2,FALSE)","v":{"$error":"#N/A"}}]
[{"$nulls":6},"",{"$f":"VLOOKUP(G526,数据2!C:D,2,FALSE)","v":{"$error":"#N/A"}}]
[{"$nulls":6},"",{"$f":"VLOOKUP(G527,数据2!C:D,2,FALSE)","v":{"$error":"#N/A"}}]
[{"$nulls":6},"",{"$f":"VLOOKUP(G528,数据2!C:D,2,FALSE)","v":{"$error":"#N/A"}}]
[{"$nulls":7},{"$f":"VLOOKUP(G529,数据2!C:D,2,FALSE)","v":{"$error":"#N/A"}}]
[{"$nulls":7},{"$f":"VLOOKUP(G530,数据2!C:D,2,FALSE)","v":{"$error":"#N/A"}}]
[{"$nulls":7},{"$f":"VLOOKUP(G531,数据2!C:D,2,FALSE)","v":{"$error":"#N/A"}}]
[{"$nulls":7},{"$f":"VLOOKUP(G532,数据2!C:D,2,FALSE)","v":{"$error":"#N/A"}}]
[{"$nulls":7},{"$f":"VLOOKUP(G533,数据2!C:D,2,FALSE)","v":{"$error":"#N/A"}}]
[{"$nulls":7},{"$f":"VLOOKUP(G534,数据2!C:D,2,FALSE)","v":{"$error":"#N/A"}}]
[{"$nulls":7},{"$f":"VLOOKUP(G535,数据2!C:D,2,FALSE)","v":{"$error":"#N/A"}}]
[{"$nulls":7},{"$f":"VLOOKUP(G536,数据2!C:D,2,FALSE)","v":{"$error":"#N/A"}}]
[{"$nulls":7},{"$f":"VLOOKUP(G537,数据2!C:D,2,FALSE)","v":{"$error":"#N/A"}}]
[{"$nulls":7},{"$f":"VLOOKUP(G538,数据2!C:D,2,FALSE)","v":{"$error":"#N/A"}}]
[{"$nulls":7},{"$f":"VLOOKUP(G539,数据2!C:D,2,FALSE)","v":{"$error":"#N/A"}}]
[{"$nulls":7},{"$f":"VLOOKUP(G540,数据2!C:D,2,FALSE)","v":{"$error":"#N/A"}}]
[{"$nulls":7},{"$f":"VLOOKUP(G541,数据2!C:D,2,FALSE)","v":{"$error":"#N/A"}}]
[{"$nulls":7},{"$f":"VLOOKUP(G542,数据2!C:D,2,FALSE)","v":{"$error":"#N/A"}}]
[{"$nulls":7},{"$f":"VLOOKUP(G543,数据2!C:D,2,FALSE)","v":{"$error":"#N/A"}}]
[{"$nulls":7},{"$f":"VLOOKUP(G544,数据2!C:D,2,FALSE)","v":{"$error":"#N/A"}}]
[{"$nulls":7},{"$f":"VLOOKUP(G545,数据2!C:D,2,FALSE)","v":{"$error":"#N/A"}}]
[{"$nulls":7},{"$f":"VLOOKUP(G546,数据2!C:D,2,FALSE)","v":{"$error":"#N/A"}}]
[{"$nulls":7},{"$f":"VLOOKUP(G547,数据2!C:D,2,FALSE)","v":{"$error":"#N/A"}}]
[{"$nulls":7},{"$f":"VLOOKUP(G548,数据2!C:D,2,FALSE)","v":{"$error":"#N/A"}}]
[{"$nulls":7},{"$f":"VLOOKUP(G549,数据2!C:D,2,FALSE)","v":{"$error":"#N/A"}}]
[{"$nulls":7},{"$f":"VLOOKUP(G550,数据2!C:D,2,FALSE)","v":{"$error":"#N/A"}}]
[{"$nulls":7},{"$f":"VLOOKUP(G551,数据2!C:D,2,FALSE)","v":{"$error":"#N/A"}}]
[{"$nulls":7},{"$f":"VLOOKUP(G552,数据2!C:D,2,FALSE)","v":{"$error":"#N/A"}}]
[{"$nulls":7},{"$f":"VLOOKUP(G553,数据2!C:D,2,FALSE)","v":{"$error":"#N/A"}}]
[{"$nulls":7},{"$f":"VLOOKUP(G554,数据2!C:D,2,FALSE)","v":{"$error":"#N/A"}}]
[{"$nulls":7},{"$f":"VLOOKUP(G555,数据2!C:D,2,FALSE)","v":{"$error":"#N/A"}}]
[{"$nulls":7},{"$f":"VLOOKUP(G556,数据2!C:D,2,FALSE)","v":{"$error":"#N/A"}}]
[{"$nulls":7},{"$f":"VLOOKUP(G557,数据2!C:D,2,FALSE)","v":{"$error":"#N/A"}}]
[{"$nulls":7},{"$f":"VLOOKUP(G558,数据2!C:D,2,FALSE)","v":{"$error":"#N/A"}}]
[{"$nulls":7},{"$f":"VLOOKUP(G559,数据2!C:D,2,FALSE)","v":{"$error":"#N/A"}}]
[{"$nulls":7},{"$f":"VLOOKUP(G560,数据2!C:D,2,FALSE)","v":{"$error":"#N/A"}}]
[{"$nulls":7},{"$f":"VLOOKUP(G561,数据2!C:D,2,FALSE)","v":{"$error":"#N/A"}}]
[{"$nulls":7},{"$f":"VLOOKUP(G562,数据2!C:D,2,FALSE)","v":{"$error":"#N/A"}}]
[{"$nulls":7},{"$f":"VLOOKUP(G563,数据2!C:D,2,FALSE)","v":{"$error":"#N/A"}}]
[{"$nulls":7},{"$f":"VLOOKUP(G564,数据2!C:D,2,FALSE)","v":{"$error":"#N/A"}}]
[{"$nulls":7},{"$f":"VLOOKUP(G565,数据2!C:D,2,FALSE)","v":{"$error":"#N/A"}}]
[{"$nulls":7},{"$f":"VLOOKUP(G566,数据2!C:D,2,FALSE)","v":{"$error":"#N/A"}}]
[{"$nulls":7},{"$f":"VLOOKUP(G567,数据2!C:D,2,FALSE)","v":{"$error":"#N/A"}}]
[{"$nulls":7},{"$f":"VLOOKUP(G568,数据2!C:D,2,FALSE)","v":{"$error":"#N/A"}}]
[{"$nulls":7},{"$f":"VLOOKUP(G569,数据2!C:D,2,FALSE)","v":{"$error":"#N/A"}}]
[{"$nulls":7},{"$f":"VLOOKUP(G570,数据2!C:D,2,FALSE)","v":{"$error":"#N/A"}}]
[{"$nulls":7},{"$f":"VLOOKUP(G571,数据2!C:D,2,FALSE)","v":{"$error":"#N/A"}}]
[{"$nulls":7},{"$f":"VLOOKUP(G572,数据2!C:D,2,FALSE)","v":{"$error":"#N/A"}}]
[{"$nulls":7},{"$f":"VLOOKUP(G573,数据2!C:D,2,FALSE)","v":{"$error":"#N/A"}}]
[{"$nulls":7},{"$f":"VLOOKUP(G574,数据2!C:D,2,FALSE)","v":{"$error":"#N/A"}}]
[{"$nulls":7},{"$f":"VLOOKUP(G575,数据2!C:D,2,FALSE)","v":{"$error":"#N/A"}}]
[{"$nulls":7},{"$f":"VLOOKUP(G576,数据2!C:D,2,FALSE)","v":{"$error":"#N/A"}}]
[{"$nulls":7},{"$f":"VLOOKUP(G577,数据2!C:D,2,FALSE)","v":{"$error":"#N/A"}}]
[{"$nulls":7},{"$f":"VLOOKUP(G578,数据2!C:D,2,FALSE)","v":{"$error":"#N/A"}}]
[{"$nulls":7},{"$f":"VLOOKUP(G579,数据2!C:D,2,FALSE)","v":{"$error":"#N/A"}}]
[{"$nulls":7},{"$f":"VLOOKUP(G580,数据2!C:D,2,FALSE)","v":{"$error":"#N/A"}}]
[{"$nulls":7},{"$f":"VLOOKUP(G581,数据2!C:D,2,FALSE)","v":{"$error":"#N/A"}}]
[{"$nulls":7},{"$f":"VLOOKUP(G582,数据2!C:D,2,FALSE)","v":{"$error":"#N/A"}}]
[{"$nulls":7},{"$f":"VLOOKUP(G583,数据2!C:D,2,FALSE)","v":{"$error":"#N/A"}}]
[{"$nulls":7},{"$f":"VLOOKUP(G584,数据2!C:D,2,FALSE)","v":{"$error":"#N/A"}}]
[{"$nulls":7},{"$f":"VLOOKUP(G585,数据2!C:D,2,FALSE)","v":{"$error":"#N/A"}}]
[{"$nulls":7},{"$f":"VLOOKUP(G586,数据2!C:D,2,FALSE)","v":{"$error":"#N/A"}}]
[{"$nulls":7},{"$f":"VLOOKUP(G587,数据2!C:D,2,FALSE)","v":{"$error":"#N/A"}}]
[{"$nulls":7},{"$f":"VLOOKUP(G588,数据2!C:D,2,FALSE)","v":{"$error":"#N/A"}}]
[{"$nulls":7},{"$f":"VLOOKUP(G589,数据2!C:D,2,FALSE)","v":{"$error":"#N/A"}}]
[{"$nulls":7},{"$f":"VLOOKUP(G590,数据2!C:D,2,FALSE)","v":{"$error":"#N/A"}}]
[{"$nulls":7},{"$f":"VLOOKUP(G591,数据2!C:D,2,FALSE)","v":{"$error":"#N/A"}}]
[{"$nulls":7},{"$f":"VLOOKUP(G592,数据2!C:D,2,FALSE)","v":{"$error":"#N/A"}}]
[{"$nulls":7},{"$f":"VLOOKUP(G593,数据2!C:D,2,FALSE)","v":{"$error":"#N/A"}}]
[{"$nulls":7},{"$f":"VLOOKUP(G594,数据2!C:D,2,FALSE)","v":{"$error":"#N/A"}}]
[{"$nulls":7},{"$f":"VLOOKUP(G595,数据2!C:D,2,FALSE)","v":{"$error":"#N/A"}}]
[{"$nulls":7},{"$f":"VLOOKUP(G596,数据2!C:D,2,FALSE)","v":{"$error":"#N/A"}}]
[{"$nulls":7},{"$f":"VLOOKUP(G597,数据2!C:D,2,FALSE)","v":{"$error":"#N/A"}}]
[{"$nulls":7},{"$f":"VLOOKUP(G598,数据2!C:D,2,FALSE)","v":{"$error":"#N/A"}}]
[{"$nulls":7},{"$f":"VLOOKUP(G599,数据2!C:D,2,FALSE)","v":{"$error":"#N/A"}}]
[{"$nulls":7},{"$f":"VLOOKUP(G600,数据2!C:D,2,FALSE)","v":{"$error":"#N/A"}}]
[{"$nulls":7},{"$f":"VLOOKUP(G601,数据2!C:D,2,FALSE)","v":{"$error":"#N/A"}}]
[{"$nulls":7},{"$f":"VLOOKUP(G602,数据2!C:D,2,FALSE)","v":{"$error":"#N/A"}}]
[{"$nulls":7},{"$f":"VLOOKUP(G603,数据2!C:D,2,FALSE)","v":{"$error":"#N/A"}}]
[{"$nulls":7},{"$f":"VLOOKUP(G604,数据2!C:D,2,FALSE)","v":{"$error":"#N/A"}}]
[{"$nulls":7},{"$f":"VLOOKUP(G605,数据2!C:D,2,FALSE)","v":{"$error":"#N/A"}}]
[{"$nulls":7},{"$f":"VLOOKUP(G606,数据2!C:D,2,FALSE)","v":{"$error":"#N/A"}}]
[{"$nulls":7},{"$f":"VLOOKUP(G607,数据2!C:D,2,FALSE)","v":{"$error":"#N/A"}}]
[{"$nulls":7},{"$f":"VLOOKUP(G608,数据2!C:D,2,FALSE)","v":{"$error":"#N/A"}}]
[{"$nulls":7},{"$f":"VLOOKUP(G609,数据2!C:D,2,FALSE)","v":{"$error":"#N/A"}}]
[{"$nulls":7},{"$f":"VLOOKUP(G610,数据2!C:D,2,FALSE)","v":{"$error":"#N/A"}}]
[{"$nulls":7},{"$f":"VLOOKUP(G611,数据2!C:D,2,FALSE)","v":{"$error":"#N/A"}}]
[{"$nulls":7},{"$f":"VLOOKUP(G612,数据2!C:D,2,FALSE)","v":{"$error":"#N/A"}}]
[{"$nulls":7},{"$f":"VLOOKUP(G613,数据2!C:D,2,FALSE)","v":{"$error":"#N/A"}}]
[{"$nulls":7},{"$f":"VLOOKUP(G614,数据2!C:D,2,FALSE)","v":{"$error":"#N/A"}}]
[{"$nulls":7},{"$f":"VLOOKUP(G615,数据2!C:D,2,FALSE)","v":{"$error":"#N/A"}}]
[{"$nulls":7},{"$f":"VLOOKUP(G616,数据2!C:D,2,FALSE)","v":{"$error":"#N/A"}}]
[{"$nulls":7},{"$f":"VLOOKUP(G617,数据2!C:D,2,FALSE)","v":{"$error":"#N/A"}}]
[{"$nulls":7},{"$f":"VLOOKUP(G618,数据2!C:D,2,FALSE)","v":{"$error":"#N/A"}}]
[{"$nulls":7},{"$f":"VLOOKUP(G619,数据2!C:D,2,FALSE)","v":{"$error":"#N/A"}}]
[{"$nulls":7},{"$f":"VLOOKUP(G620,数据2!C:D,2,FALSE)","v":{"$error":"#N/A"}}]
[{"$nulls":7},{"$f":"VLOOKUP(G621,数据2!C:D,2,FALSE)","v":{"$error":"#N/A"}}]
[{"$nulls":7},{"$f":"VLOOKUP(G622,数据2!C:D,2,FALSE)","v":{"$error":"#N/A"}}]
[{"$nulls":7},{"$f":"VLOOKUP(G623,数据2!C:D,2,FALSE)","v":{"$error":"#N/A"}}]
[{"$nulls":7},{"$f":"VLOOKUP(G624,数据2!C:D,2,FALSE)","v":{"$error":"#N/A"}}]
[{"$nulls":7},{"$f":"VLOOKUP(G625,数据2!C:D,2,FALSE)","v":{"$error":"#N/A"}}]
[{"$nulls":7},{"$f":"VLOOKUP(G626,数据2!C:D,2,FALSE)","v":{"$error":"#N/A"}}]
[{"$nulls":7},{"$f":"VLOOKUP(G627,数据2!C:D,2,FALSE)","v":{"$error":"#N/A"}}]
[{"$nulls":7},{"$f":"VLOOKUP(G628,数据2!C:D,2,FALSE)","v":{"$error":"#N/A"}}]
[{"$nulls":7},{"$f":"VLOOKUP(G629,数据2!C:D,2,FALSE)","v":{"$error":"#N/A"}}]
[{"$nulls":7},{"$f":"VLOOKUP(G630,数据2!C:D,2,FALSE)","v":{"$error":"#N/A"}}]
[{"$nulls":7},{"$f":"VLOOKUP(G631,数据2!C:D,2,FALSE)","v":{"$error":"#N/A"}}]
[{"$nulls":7},{"$f":"VLOOKUP(G632,数据2!C:D,2,FALSE)","v":{"$error":"#N/A"}}]
[{"$nulls":7},{"$f":"VLOOKUP(G633,数据2!C:D,2,FALSE)","v":{"$error":"#N/A"}}]
[{"$nulls":7},{"$f":"VLOOKUP(G634,数据2!C:D,2,FALSE)","v":{"$error":"#N/A"}}]
[{"$nulls":7},{"$f":"VLOOKUP(G635,数据2!C:D,2,FALSE)","v":{"$error":"#N/A"}}]
[{"$nulls":7},{"$f":"VLOOKUP(G636,数据2!C:D,2,FALSE)","v":{"$error":"#N/A"}}]
[{"$nulls":7},{"$f":"VLOOKUP(G637,数据2!C:D,2,FALSE)","v":{"$error":"#N/A"}}]
[{"$nulls":7},{"$f":"VLOOKUP(G638,数据2!C:D,2,FALSE)","v":{"$error":"#N/A"}}]
[{"$nulls":7},{"$f":"VLOOKUP(G639,数据2!C:D,2,FALSE)","v":{"$error":"#N/A"}}]
[{"$nulls":7},{"$f":"VLOOKUP(G640,数据2!C:D,2,FALSE)","v":{"$error":"#N/A"}}]
[{"$nulls":7},{"$f":"VLOOKUP(G641,数据2!C:D,2,FALSE)","v":{"$error":"#N/A"}}]
[{"$nulls":7},{"$f":"VLOOKUP(G642,数据2!C:D,2,FALSE)","v":{"$error":"#N/A"}}]
[{"$nulls":7},{"$f":"VLOOKUP(G643,数据2!C:D,2,FALSE)","v":{"$error":"#N/A"}}]
[{"$nulls":7},{"$f":"VLOOKUP(G644,数据2!C:D,2,FALSE)","v":{"$error":"#N/A"}}]
[{"$nulls":7},{"$f":"VLOOKUP(G645,数据2!C:D,2,FALSE)","v":{"$error":"#N/A"}}]
[{"$nulls":7},{"$f":"VLOOKUP(G646,数据2!C:D,2,FALSE)","v":{"$error":"#N/A"}}]
[{"$nulls":7},{"$f":"VLOOKUP(G647,数据2!C:D,2,FALSE)","v":{"$error":"#N/A"}}]
[{"$nulls":7},{"$f":"VLOOKUP(G648,数据2!C:D,2,FALSE)","v":{"$error":"#N/A"}}]
[{"$nulls":7},{"$f":"VLOOKUP(G649,数据2!C:D,2,FALSE)","v":{"$error":"#N/A"}}]
[{"$nulls":7},{"$f":"VLOOKUP(G650,数据2!C:D,2,FALSE)","v":{"$error":"#N/A"}}]
[{"$nulls":7},{"$f":"VLOOKUP(G651,数据2!C:D,2,FALSE)","v":{"$error":"#N/A"}}]
[{"$nulls":7},{"$f":"VLOOKUP(G652,数据2!C:D,2,FALSE)","v":{"$error":"#N/A"}}]
[{"$nulls":7},{"$f":"VLOOKUP(G653,数据2!C:D,2,FALSE)","v":{"$error":"#N/A"}}]
[{"$nulls":7},{"$f":"VLOOKUP(G654,数据2!C:D,2,FALSE)","v":{"$error":"#N/A"}}]
[{"$nulls":7},{"$f":"VLOOKUP(G655,数据2!C:D,2,FALSE)","v":{"$error":"#N/A"}}]
[{"$nulls":7},{"$f":"VLOOKUP(G656,数据2!C:D,2,FALSE)","v":{"$error":"#N/A"}}]
[{"$nulls":7},{"$f":"VLOOKUP(G657,数据2!C:D,2,FALSE)","v":{"$error":"#N/A"}}]
[{"$nulls":7},{"$f":"VLOOKUP(G658,数据2!C:D,2,FALSE)","v":{"$error":"#N/A"}}]
[{"$nulls":7},{"$f":"VLOOKUP(G659,数据2!C:D,2,FALSE)","v":{"$error":"#N/A"}}]
[{"$nulls":7},{"$f":"VLOOKUP(G660,数据2!C:D,2,FALSE)","v":{"$error":"#N/A"}}]
[{"$nulls":7},{"$f":"VLOOKUP(G661,数据2!C:D,2,FALSE)","v":{"$error":"#N/A"}}]
[{"$nulls":7},{"$f":"VLOOKUP(G662,数据2!C:D,2,FALSE)","v":{"$error":"#N/A"}}]
[{"$nulls":7},{"$f":"VLOOKUP(G663,数据2!C:D,2,FALSE)","v":{"$error":"#N/A"}}]
[{"$nulls":7},{"$f":"VLOOKUP(G664,数据2!C:D,2,FALSE)","v":{"$error":"#N/A"}}]
[{"$nulls":7},{"$f":"VLOOKUP(G665,数据2!C:D,2,FALSE)","v":{"$error":"#N/A"}}]
[{"$nulls":7},{"$f":"VLOOKUP(G666,数据2!C:D,2,FALSE)","v":{"$error":"#N/A"}}]
[{"$nulls":7},{"$f":"VLOOKUP(G667,数据2!C:D,2,FALSE)","v":{"$error":"#N/A"}}]
[{"$nulls":7},{"$f":"VLOOKUP(G668,数据2!C:D,2,FALSE)","v":{"$error":"#N/A"}}]
[{"$nulls":7},{"$f":"VLOOKUP(G669,数据2!C:D,2,FALSE)","v":{"$error":"#N/A"}}]
[{"$nulls":7},{"$f":"VLOOKUP(G670,数据2!C:D,2,FALSE)","v":{"$error":"#N/A"}}]
[{"$nulls":7},{"$f":"VLOOKUP(G671,数据2!C:D,2,FALSE)","v":{"$error":"#N/A"}}]
[{"$nulls":7},{"$f":"VLOOKUP(G672,数据2!C:D,2,FALSE)","v":{"$error":"#N/A"}}]
[{"$nulls":7},{"$f":"VLOOKUP(G673,数据2!C:D,2,FALSE)","v":{"$error":"#N/A"}}]
[{"$nulls":7},{"$f":"VLOOKUP(G674,数据2!C:D,2,FALSE)","v":{"$error":"#N/A"}}]
[{"$nulls":7},{"$f":"VLOOKUP(G675,数据2!C:D,2,FALSE)","v":{"$error":"#N/A"}}]
[{"$nulls":7},{"$f":"VLOOKUP(G676,数据2!C:D,2,FALSE)","v":{"$error":"#N/A"}}]
[{"$nulls":7},{"$f":"VLOOKUP(G677,数据2!C:D,2,FALSE)","v":{"$error":"#N/A"}}]
[{"$nulls":7},{"$f":"VLOOKUP(G678,数据2!C:D,2,FALSE)","v":{"$error":"#N/A"}}]
[{"$nulls":7},{"$f":"VLOOKUP(G679,数据2!C:D,2,FALSE)","v":{"$error":"#N/A"}}]
[{"$nulls":7},{"$f":"VLOOKUP(G680,数据2!C:D,2,FALSE)","v":{"$error":"#N/A"}}]
[{"$nulls":7},{"$f":"VLOOKUP(G681,数据2!C:D,2,FALSE)","v":{"$error":"#N/A"}}]
[{"$nulls":7},{"$f":"VLOOKUP(G682,数据2!C:D,2,FALSE)","v":{"$error":"#N/A"}}]
[{"$nulls":7},{"$f":"VLOOKUP(G683,数据2!C:D,2,FALSE)","v":{"$error":"#N/A"}}]
[{"$nulls":7},{"$f":"VLOOKUP(G684,数据2!C:D,2,FALSE)","v":{"$error":"#N/A"}}]
[{"$nulls":7},{"$f":"VLOOKUP(G685,数据2!C:D,2,FALSE)","v":{"$error":"#N/A"}}]
[{"$nulls":7},{"$f":"VLOOKUP(G686,数据2!C:D,2,FALSE)","v":{"$error":"#N/A"}}]
[{"$nulls":7},{"$f":"VLOOKUP(G687,数据2!C:D,2,FALSE)","v":{"$error":"#N/A"}}]
[{"$nulls":7},{"$f":"VLOOKUP(G688,数据2!C:D,2,FALSE)","v":{"$error":"#N/A"}}]
[{"$nulls":7},{"$f":"VLOOKUP(G689,数据2!C:D,2,FALSE)","v":{"$error":"#N/A"}}]
[{"$nulls":7},{"$f":"VLOOKUP(G690,数据2!C:D,2,FALSE)","v":{"$error":"#N/A"}}]
[{"$nulls":7},{"$f":"VLOOKUP(G691,数据2!C:D,2,FALSE)","v":{"$error":"#N/A"}}]
[{"$nulls":7},{"$f":"VLOOKUP(G692,数据2!C:D,2,FALSE)","v":{"$error":"#N/A"}}]
[{"$nulls":7},{"$f":"VLOOKUP(G693,数据2!C:D,2,FALSE)","v":{"$error":"#N/A"}}]
[{"$nulls":7},{"$f":"VLOOKUP(G694,数据2!C:D,2,FALSE)","v":{"$error":"#N/A"}}]
[{"$nulls":7},{"$f":"VLOOKUP(G695,数据2!C:D,2,FALSE)","v":{"$error":"#N/A"}}]
[{"$nulls":7},{"$f":"VLOOKUP(G696,数据2!C:D,2,FALSE)","v":{"$error":"#N/A"}}]
[{"$nulls":7},{"$f":"VLOOKUP(G697,数据2!C:D,2,FALSE)","v":{"$error":"#N/A"}}]
[{"$nulls":7},{"$f":"VLOOKUP(G698,数据2!C:D,2,FALSE)","v":{"$error":"#N/A"}}]
[{"$nulls":7},{"$f":"VLOOKUP(G699,数据2!C:D,2,FALSE)","v":{"$error":"#N/A"}}]
[{"$nulls":7},{"$f":"VLOOKUP(G700,数据2!C:D,2,FALSE)","v":{"$error":"#N/A"}}]
[{"$nulls":7},{"$f":"VLOOKUP(G701,数据2!C:D,2,FALSE)","v":{"$error":"#N/A"}}]
[{"$nulls":7},{"$f":"VLOOKUP(G702,数据2!C:D,2,FALSE)","v":{"$error":"#N/A"}}]
[{"$nulls":7},{"$f":"VLOOKUP(G703,数据2!C:D,2,FALSE)","v":{"$error":"#N/A"}}]
[{"$nulls":7},{"$f":"VLOOKUP(G704,数据2!C:D,2,FALSE)","v":{"$error":"#N/A"}}]
[{"$nulls":7},{"$f":"VLOOKUP(G705,数据2!C:D,2,FALSE)","v":{"$error":"#N/A"}}]
[{"$nulls":7},{"$f":"VLOOKUP(G706,数据2!C:D,2,FALSE)","v":{"$error":"#N/A"}}]
[{"$nulls":7},{"$f":"VLOOKUP(G707,数据2!C:D,2,FALSE)","v":{"$error":"#N/A"}}]
[{"$nulls":7},{"$f":"VLOOKUP(G708,数据2!C:D,2,FALSE)","v":{"$error":"#N/A"}}]
[{"$nulls":7},{"$f":"VLOOKUP(G709,数据2!C:D,2,FALSE)","v":{"$error":"#N/A"}}]
[{"$nulls":7},{"$f":"VLOOKUP(G710,数据2!C:D,2,FALSE)","v":{"$error":"#N/A"}}]
[{"$nulls":7},{"$f":"VLOOKUP(G711,数据2!C:D,2,FALSE)","v":{"$error":"#N/A"}}]
[{"$nulls":7},{"$f":"VLOOKUP(G712,数据2!C:D,2,FALSE)","v":{"$error":"#N/A"}}]
[{"$nulls":7},{"$f":"VLOOKUP(G713,数据2!C:D,2,FALSE)","v":{"$error":"#N/A"}}]
[{"$nulls":7},{"$f":"VLOOKUP(G714,数据2!C:D,2,FALSE)","v":{"$error":"#N/A"}}]
[{"$nulls":7},{"$f":"VLOOKUP(G715,数据2!C:D,2,FALSE)","v":{"$error":"#N/A"}}]
[{"$nulls":7},{"$f":"VLOOKUP(G716,数据2!C:D,2,FALSE)","v":{"$error":"#N/A"}}]
[{"$nulls":7},{"$f":"VLOOKUP(G717,数据2!C:D,2,FALSE)","v":{"$error":"#N/A"}}]
[{"$nulls":7},{"$f":"VLOOKUP(G718,数据2!C:D,2,FALSE)","v":{"$error":"#N/A"}}]
[{"$nulls":7},{"$f":"VLOOKUP(G719,数据2!C:D,2,FALSE)","v":{"$error":"#N/A"}}]
[{"$nulls":7},{"$f":"VLOOKUP(G720,数据2!C:D,2,FALSE)","v":{"$error":"#N/A"}}]
[{"$nulls":7},{"$f":"VLOOKUP(G721,数据2!C:D,2,FALSE)","v":{"$error":"#N/A"}}]
[{"$nulls":7},{"$f":"VLOOKUP(G722,数据2!C:D,2,FALSE)","v":{"$error":"#N/A"}}]
[{"$nulls":7},{"$f":"VLOOKUP(G723,数据2!C:D,2,FALSE)","v":{"$error":"#N/A"}}]
[{"$nulls":7},{"$f":"VLOOKUP(G724,数据2!C:D,2,FALSE)","v":{"$error":"#N/A"}}]
[{"$nulls":7},{"$f":"VLOOKUP(G725,数据2!C:D,2,FALSE)","v":{"$error":"#N/A"}}]
[{"$nulls":7},{"$f":"VLOOKUP(G726,数据2!C:D,2,FALSE)","v":{"$error":"#N/A"}}]
[{"$nulls":7},{"$f":"VLOOKUP(G727,数据2!C:D,2,FALSE)","v":{"$error":"#N/A"}}]
[{"$nulls":7},{"$f":"VLOOKUP(G728,数据2!C:D,2,FALSE)","v":{"$error":"#N/A"}}]
[{"$nulls":7},{"$f":"VLOOKUP(G729,数据2!C:D,2,FALSE)","v":{"$error":"#N/A"}}]
[{"$nulls":7},{"$f":"VLOOKUP(G730,数据2!C:D,2,FALSE)","v":{"$error":"#N/A"}}]
[{"$nulls":7},{"$f":"VLOOKUP(G731,数据2!C:D,2,FALSE)","v":{"$error":"#N/A"}}]
[{"$nulls":7},{"$f":"VLOOKUP(G732,数据2!C:D,2,FALSE)","v":{"$error":"#N/A"}}]
[{"$nulls":7},{"$f":"VLOOKUP(G733,数据2!C:D,2,FALSE)","v":{"$error":"#N/A"}}]
[{"$nulls":7},{"$f":"VLOOKUP(G734,数据2!C:D,2,FALSE)","v":{"$error":"#N/A"}}]
[{"$nulls":7},{"$f":"VLOOKUP(G735,数据2!C:D,2,FALSE)","v":{"$error":"#N/A"}}]
[{"$nulls":7},{"$f":"VLOOKUP(G736,数据2!C:D,2,FALSE)","v":{"$error":"#N/A"}}]
[{"$nulls":7},{"$f":"VLOOKUP(G737,数据2!C:D,2,FALSE)","v":{"$error":"#N/A"}}]
[{"$nulls":7},{"$f":"VLOOKUP(G738,数据2!C:D,2,FALSE)","v":{"$error":"#N/A"}}]
[{"$nulls":7},{"$f":"VLOOKUP(G739,数据2!C:D,2,FALSE)","v":{"$error":"#N/A"}}]
[{"$nulls":7},{"$f":"VLOOKUP(G740,数据2!C:D,2,FALSE)","v":{"$error":"#N/A"}}]
[{"$nulls":7},{"$f":"VLOOKUP(G741,数据2!C:D,2,FALSE)","v":{"$error":"#N/A"}}]
[{"$nulls":7},{"$f":"VLOOKUP(G742,数据2!C:D,2,FALSE)","v":{"$error":"#N/A"}}]
[{"$nulls":7},{"$f":"VLOOKUP(G743,数据2!C:D,2,FALSE)","v":{"$error":"#N/A"}}]
[{"$nulls":7},{"$f":"VLOOKUP(G744,数据2!C:D,2,FALSE)","v":{"$error":"#N/A"}}]
[{"$nulls":7},{"$f":"VLOOKUP(G745,数据2!C:D,2,FALSE)","v":{"$error":"#N/A"}}]
[{"$nulls":7},{"$f":"VLOOKUP(G746,数据2!C:D,2,FALSE)","v":{"$error":"#N/A"}}]
[{"$nulls":7},{"$f":"VLOOKUP(G747,数据2!C:D,2,FALSE)","v":{"$error":"#N/A"}}]
[{"$nulls":7},{"$f":"VLOOKUP(G748,数据2!C:D,2,FALSE)","v":{"$error":"#N/A"}}]
[{"$nulls":7},{"$f":"VLOOKUP(G749,数据2!C:D,2,FALSE)","v":{"$error":"#N/A"}}]
[{"$nulls":7},{"$f":"VLOOKUP(G750,数据2!C:D,2,FALSE)","v":{"$error":"#N/A"}}]
[{"$nulls":7},{"$f":"VLOOKUP(G751,数据2!C:D,2,FALSE)","v":{"$error":"#N/A"}}]
[{"$nulls":7},{"$f":"VLOOKUP(G752,数据2!C:D,2,FALSE)","v":{"$error":"#N/A"}}]
[{"$nulls":7},{"$f":"VLOOKUP(G753,数据2!C:D,2,FALSE)","v":{"$error":"#N/A"}}]
[{"$nulls":7},{"$f":"VLOOKUP(G754,数据2!C:D,2,FALSE)","v":{"$error":"#N/A"}}]
[{"$nulls":7},{"$f":"VLOOKUP(G755,数据2!C:D,2,FALSE)","v":{"$error":"#N/A"}}]
[{"$nulls":7},{"$f":"VLOOKUP(G756,数据2!C:D,2,FALSE)","v":{"$error":"#N/A"}}]
[{"$nulls":7},{"$f":"VLOOKUP(G757,数据2!C:D,2,FALSE)","v":{"$error":"#N/A"}}]
[{"$nulls":7},{"$f":"VLOOKUP(G758,数据2!C:D,2,FALSE)","v":{"$error":"#N/A"}}]
[{"$nulls":7},{"$f":"VLOOKUP(G759,数据2!C:D,2,FALSE)","v":{"$error":"#N/A"}}]
[{"$nulls":7},{"$f":"VLOOKUP(G760,数据2!C:D,2,FALSE)","v":{"$error":"#N/A"}}]
[{"$nulls":7},{"$f":"VLOOKUP(G761,数据2!C:D,2,FALSE)","v":{"$error":"#N/A"}}]
[{"$nulls":7},{"$f":"VLOOKUP(G762,数据2!C:D,2,FALSE)","v":{"$error":"#N/A"}}]
[{"$nulls":7},{"$f":"VLOOKUP(G763,数据2!C:D,2,FALSE)","v":{"$error":"#N/A"}}]
[{"$nulls":7},{"$f":"VLOOKUP(G764,数据2!C:D,2,FALSE)","v":{"$error":"#N/A"}}]
[{"$nulls":7},{"$f":"VLOOKUP(G765,数据2!C:D,2,FALSE)","v":{"$error":"#N/A"}}]
[{"$nulls":7},{"$f":"VLOOKUP(G766,数据2!C:D,2,FALSE)","v":{"$error":"#N/A"}}]
[{"$nulls":7},{"$f":"VLOOKUP(G767,数据2!C:D,2,FALSE)","v":{"$error":"#N/A"}}]
[{"$nulls":7},{"$f":"VLOOKUP(G768,数据2!C:D,2,FALSE)","v":{"$error":"#N/A"}}]
[{"$nulls":7},{"$f":"VLOOKUP(G769,数据2!C:D,2,FALSE)","v":{"$error":"#N/A"}}]
[{"$nulls":7},{"$f":"VLOOKUP(G770,数据2!C:D,2,FALSE)","v":{"$error":"#N/A"}}]
[{"$nulls":7},{"$f":"VLOOKUP(G771,数据2!C:D,2,FALSE)","v":{"$error":"#N/A"}}]
[{"$nulls":7},{"$f":"VLOOKUP(G772,数据2!C:D,2,FALSE)","v":{"$error":"#N/A"}}]
[{"$nulls":7},{"$f":"VLOOKUP(G773,数据2!C:D,2,FALSE)","v":{"$error":"#N/A"}}]
[{"$nulls":7},{"$f":"VLOOKUP(G774,数据2!C:D,2,FALSE)","v":{"$error":"#N/A"}}]
[{"$nulls":7},{"$f":"VLOOKUP(G775,数据2!C:D,2,FALSE)","v":{"$error":"#N/A"}}]
[{"$nulls":7},{"$f":"VLOOKUP(G776,数据2!C:D,2,FALSE)","v":{"$error":"#N/A"}}]
[{"$nulls":7},{"$f":"VLOOKUP(G777,数据2!C:D,2,FALSE)","v":{"$error":"#N/A"}}]
[{"$nulls":7},{"$f":"VLOOKUP(G778,数据2!C:D,2,FALSE)","v":{"$error":"#N/A"}}]
[{"$nulls":7},{"$f":"VLOOKUP(G779,数据2!C:D,2,FALSE)","v":{"$error":"#N/A"}}]
[{"$nulls":7},{"$f":"VLOOKUP(G780,数据2!C:D,2,FALSE)","v":{"$error":"#N/A"}}]
[{"$nulls":7},{"$f":"VLOOKUP(G781,数据2!C:D,2,FALSE)","v":{"$error":"#N/A"}}]
[{"$nulls":7},{"$f":"VLOOKUP(G782,数据2!C:D,2,FALSE)","v":{"$error":"#N/A"}}]
[{"$nulls":7},{"$f":"VLOOKUP(G783,数据2!C:D,2,FALSE)","v":{"$error":"#N/A"}}]
[{"$nulls":7},{"$f":"VLOOKUP(G784,数据2!C:D,2,FALSE)","v":{"$error":"#N/A"}}]
[{"$nulls":7},{"$f":"VLOOKUP(G785,数据2!C:D,2,FALSE)","v":{"$error":"#N/A"}}]
[{"$nulls":7},{"$f":"VLOOKUP(G786,数据2!C:D,2,FALSE)","v":{"$error":"#N/A"}}]
[{"$nulls":7},{"$f":"VLOOKUP(G787,数据2!C:D,2,FALSE)","v":{"$error":"#N/A"}}]
[{"$nulls":7},{"$f":"VLOOKUP(G788,数据2!C:D,2,FALSE)","v":{"$error":"#N/A"}}]
[{"$nulls":7},{"$f":"VLOOKUP(G789,数据2!C:D,2,FALSE)","v":{"$error":"#N/A"}}]
[{"$nulls":7},{"$f":"VLOOKUP(G790,数据2!C:D,2,FALSE)","v":{"$error":"#N/A"}}]
[{"$nulls":7},{"$f":"VLOOKUP(G791,数据2!C:D,2,FALSE)","v":{"$error":"#N/A"}}]
[{"$nulls":7},{"$f":"VLOOKUP(G792,数据2!C:D,2,FALSE)","v":{"$error":"#N/A"}}]
[{"$nulls":7},{"$f":"VLOOKUP(G793,数据2!C:D,2,FALSE)","v":{"$error":"#N/A"}}]
[{"$nulls":7},{"$f":"VLOOKUP(G794,数据2!C:D,2,FALSE)","v":{"$error":"#N/A"}}]
[{"$nulls":7},{"$f":"VLOOKUP(G795,数据2!C:D,2,FALSE)","v":{"$error":"#N/A"}}]
[{"$nulls":7},{"$f":"VLOOKUP(G796,数据2!C:D,2,FALSE)","v":{"$error":"#N/A"}}]
[{"$nulls":7},{"$f":"VLOOKUP(G797,数据2!C:D,2,FALSE)","v":{"$error":"#N/A"}}]
[{"$nulls":7},{"$f":"VLOOKUP(G798,数据2!C:D,2,FALSE)","v":{"$error":"#N/A"}}]
[{"$nulls":7},{"$f":"VLOOKUP(G799,数据2!C:D,2,FALSE)","v":{"$error":"#N/A"}}]
[{"$nulls":7},{"$f":"VLOOKUP(G800,数据2!C:D,2,FALSE)","v":{"$error":"#N/A"}}]
[{"$nulls":7},{"$f":"VLOOKUP(G801,数据2!C:D,2,FALSE)","v":{"$error":"#N/A"}}]
[{"$nulls":7},{"$f":"VLOOKUP(G802,数据2!C:D,2,FALSE)","v":{"$error":"#N/A"}}]
[{"$nulls":7},{"$f":"VLOOKUP(G803,数据2!C:D,2,FALSE)","v":{"$error":"#N/A"}}]
[{"$nulls":7},{"$f":"VLOOKUP(G804,数据2!C:D,2,FALSE)","v":{"$error":"#N/A"}}]
[{"$nulls":7},{"$f":"VLOOKUP(G805,数据2!C:D,2,FALSE)","v":{"$error":"#N/A"}}]
[{"$nulls":7},{"$f":"VLOOKUP(G806,数据2!C:D,2,FALSE)","v":{"$error":"#N/A"}}]
[{"$nulls":7},{"$f":"VLOOKUP(G807,数据2!C:D,2,FALSE)","v":{"$error":"#N/A"}}]
[{"$nulls":7},{"$f":"VLOOKUP(G808,数据2!C:D,2,FALSE)","v":{"$error":"#N/A"}}]
[{"$nulls":7},{"$f":"VLOOKUP(G809,数据2!C:D,2,FALSE)","v":{"$error":"#N/A"}}]
[{"$nulls":7},{"$f":"VLOOKUP(G810,数据2!C:D,2,FALSE)","v":{"$error":"#N/A"}}]
[{"$nulls":7},{"$f":"VLOOKUP(G811,数据2!C:D,2,FALSE)","v":{"$error":"#N/A"}}]
[{"$nulls":7},{"$f":"VLOOKUP(G812,数据2!C:D,2,FALSE)","v":{"$error":"#N/A"}}]
[{"$nulls":7},{"$f":"VLOOKUP(G813,数据2!C:D,2,FALSE)","v":{"$error":"#N/A"}}]
[{"$nulls":7},{"$f":"VLOOKUP(G814,数据2!C:D,2,FALSE)","v":{"$error":"#N/A"}}]
[{"$nulls":7},{"$f":"VLOOKUP(G815,数据2!C:D,2,FALSE)","v":{"$error":"#N/A"}}]
[{"$nulls":7},{"$f":"VLOOKUP(G816,数据2!C:D,2,FALSE)","v":{"$error":"#N/A"}}]
[{"$nulls":7},{"$f":"VLOOKUP(G817,数据2!C:D,2,FALSE)","v":{"$error":"#N/A"}}]
[{"$nulls":7},{"$f":"VLOOKUP(G818,数据2!C:D,2,FALSE)","v":{"$error":"#N/A"}}]
[{"$nulls":7},{"$f":"VLOOKUP(G819,数据2!C:D,2,FALSE)","v":{"$error":"#N/A"}}]
[{"$nulls":7},{"$f":"VLOOKUP(G820,数据2!C:D,2,FALSE)","v":{"$error":"#N/A"}}]
[{"$nulls":7},{"$f":"VLOOKUP(G821,数据2!C:D,2,FALSE)","v":{"$error":"#N/A"}}]
[{"$nulls":7},{"$f":"VLOOKUP(G822,数据2!C:D,2,FALSE)","v":{"$error":"#N/A"}}]
[{"$nulls":7},{"$f":"VLOOKUP(G823,数据2!C:D,2,FALSE)","v":{"$error":"#N/A"}}]
[{"$nulls":7},{"$f":"VLOOKUP(G824,数据2!C:D,2,FALSE)","v":{"$error":"#N/A"}}]
[{"$nulls":7},{"$f":"VLOOKUP(G825,数据2!C:D,2,FALSE)","v":{"$error":"#N/A"}}]
[{"$nulls":7},{"$f":"VLOOKUP(G826,数据2!C:D,2,FALSE)","v":{"$error":"#N/A"}}]
[{"$nulls":7},{"$f":"VLOOKUP(G827,数据2!C:D,2,FALSE)","v":{"$error":"#N/A"}}]
[{"$nulls":7},{"$f":"VLOOKUP(G828,数据2!C:D,2,FALSE)","v":{"$error":"#N/A"}}]
[{"$nulls":7},{"$f":"VLOOKUP(G829,数据2!C:D,2,FALSE)","v":{"$error":"#N/A"}}]
[{"$nulls":7},{"$f":"VLOOKUP(G830,数据2!C:D,2,FALSE)","v":{"$error":"#N/A"}}]
[{"$nulls":7},{"$f":"VLOOKUP(G831,数据2!C:D,2,FALSE)","v":{"$error":"#N/A"}}]
[{"$nulls":7},{"$f":"VLOOKUP(G832,数据2!C:D,2,FALSE)","v":{"$error":"#N/A"}}]
[{"$nulls":7},{"$f":"VLOOKUP(G833,数据2!C:D,2,FALSE)","v":{"$error":"#N/A"}}]
[{"$nulls":7},{"$f":"VLOOKUP(G834,数据2!C:D,2,FALSE)","v":{"$error":"#N/A"}}]
[{"$nulls":7},{"$f":"VLOOKUP(G835,数据2!C:D,2,FALSE)","v":{"$error":"#N/A"}}]
[{"$nulls":7},{"$f":"VLOOKUP(G836,数据2!C:D,2,FALSE)","v":{"$error":"#N/A"}}]
[{"$nulls":7},{"$f":"VLOOKUP(G837,数据2!C:D,2,FALSE)","v":{"$error":"#N/A"}}]
[{"$nulls":7},{"$f":"VLOOKUP(G838,数据2!C:D,2,FALSE)","v":{"$error":"#N/A"}}]
[{"$nulls":7},{"$f":"VLOOKUP(G839,数据2!C:D,2,FALSE)","v":{"$error":"#N/A"}}]
[{"$nulls":7},{"$f":"VLOOKUP(G840,数据2!C:D,2,FALSE)","v":{"$error":"#N/A"}}]
[{"$nulls":7},{"$f":"VLOOKUP(G841,数据2!C:D,2,FALSE)","v":{"$error":"#N/A"}}]
[{"$nulls":7},{"$f":"VLOOKUP(G842,数据2!C:D,2,FALSE)","v":{"$error":"#N/A"}}]
[{"$nulls":7},{"$f":"VLOOKUP(G843,数据2!C:D,2,FALSE)","v":{"$error":"#N/A"}}]
[{"$nulls":7},{"$f":"VLOOKUP(G844,数据2!C:D,2,FALSE)","v":{"$error":"#N/A"}}]
[{"$nulls":7},{"$f":"VLOOKUP(G845,数据2!C:D,2,FALSE)","v":{"$error":"#N/A"}}]
[{"$nulls":7},{"$f":"VLOOKUP(G846,数据2!C:D,2,FALSE)","v":{"$error":"#N/A"}}]
[{"$nulls":7},{"$f":"VLOOKUP(G847,数据2!C:D,2,FALSE)","v":{"$error":"#N/A"}}]
[{"$nulls":7},{"$f":"VLOOKUP(G848,数据2!C:D,2,FALSE)","v":{"$error":"#N/A"}}]
[{"$nulls":7},{"$f":"VLOOKUP(G849,数据2!C:D,2,FALSE)","v":{"$error":"#N/A"}}]
[{"$nulls":7},{"$f":"VLOOKUP(G850,数据2!C:D,2,FALSE)","v":{"$error":"#N/A"}}]
[{"$nulls":7},{"$f":"VLOOKUP(G851,数据2!C:D,2,FALSE)","v":{"$error":"#N/A"}}]
[{"$nulls":7},{"$f":"VLOOKUP(G852,数据2!C:D,2,FALSE)","v":{"$error":"#N/A"}}]
[{"$nulls":7},{"$f":"VLOOKUP(G853,数据2!C:D,2,FALSE)","v":{"$error":"#N/A"}}]
[{"$nulls":7},{"$f":"VLOOKUP(G854,数据2!C:D,2,FALSE)","v":{"$error":"#N/A"}}]
[{"$nulls":7},{"$f":"VLOOKUP(G855,数据2!C:D,2,FALSE)","v":{"$error":"#N/A"}}]
[{"$nulls":7},{"$f":"VLOOKUP(G856,数据2!C:D,2,FALSE)","v":{"$error":"#N/A"}}]
[{"$nulls":7},{"$f":"VLOOKUP(G857,数据2!C:D,2,FALSE)","v":{"$error":"#N/A"}}]
[{"$nulls":7},{"$f":"VLOOKUP(G858,数据2!C:D,2,FALSE)","v":{"$error":"#N/A"}}]
[{"$nulls":7},{"$f":"VLOOKUP(G859,数据2!C:D,2,FALSE)","v":{"$error":"#N/A"}}]
[{"$nulls":7},{"$f":"VLOOKUP(G860,数据2!C:D,2,FALSE)","v":{"$error":"#N/A"}}]
[{"$nulls":7},{"$f":"VLOOKUP(G861,数据2!C:D,2,FALSE)","v":{"$error":"#N/A"}}]
[{"$nulls":7},{"$f":"VLOOKUP(G862,数据2!C:D,2,FALSE)","v":{"$error":"#N/A"}}]
[{"$nulls":7},{"$f":"VLOOKUP(G863,数据2!C:D,2,FALSE)","v":{"$error":"#N/A"}}]
[{"$nulls":7},{"$f":"VLOOKUP(G864,数据2!C:D,2,FALSE)","v":{"$error":"#N/A"}}]
[{"$nulls":7},{"$f":"VLOOKUP(G865,数据2!C:D,2,FALSE)","v":{"$error":"#N/A"}}]
[{"$nulls":7},{"$f":"VLOOKUP(G866,数据2!C:D,2,FALSE)","v":{"$error":"#N/A"}}]
[{"$nulls":7},{"$f":"VLOOKUP(G867,数据2!C:D,2,FALSE)","v":{"$error":"#N/A"}}]
[{"$nulls":7},{"$f":"VLOOKUP(G868,数据2!C:D,2,FALSE)","v":{"$error":"#N/A"}}]
[{"$nulls":7},{"$f":"VLOOKUP(G869,数据2!C:D,2,FALSE)","v":{"$error":"#N/A"}}]
[{"$nulls":7},{"$f":"VLOOKUP(G870,数据2!C:D,2,FALSE)","v":{"$error":"#N/A"}}]
[{"$nulls":7},{"$f":"VLOOKUP(G871,数据2!C:D,2,FALSE)","v":{"$error":"#N/A"}}]
[{"$nulls":7},{"$f":"VLOOKUP(G872,数据2!C:D,2,FALSE)","v":{"$error":"#N/A"}}]
[{"$nulls":7},{"$f":"VLOOKUP(G873,数据2!C:D,2,FALSE)","v":{"$error":"#N/A"}}]
[{"$nulls":7},{"$f":"VLOOKUP(G874,数据2!C:D,2,FALSE)","v":{"$error":"#N/A"}}]
[{"$nulls":7},{"$f":"VLOOKUP(G875,数据2!C:D,2,FALSE)","v":{"$error":"#N/A"}}]
[{"$nulls":7},{"$f":"VLOOKUP(G876,数据2!C:D,2,FALSE)","v":{"$error":"#N/A"}}]
[{"$nulls":7},{"$f":"VLOOKUP(G877,数据2!C:D,2,FALSE)","v":{"$error":"#N/A"}}]
[{"$nulls":7},{"$f":"VLOOKUP(G878,数据2!C:D,2,FALSE)","v":{"$error":"#N/A"}}]
[{"$nulls":7},{"$f":"VLOOKUP(G879,数据2!C:D,2,FALSE)","v":{"$error":"#N/A"}}]
[{"$nulls":7},{"$f":"VLOOKUP(G880,数据2!C:D,2,FALSE)","v":{"$error":"#N/A"}}]
[{"$nulls":7},{"$f":"VLOOKUP(G881,数据2!C:D,2,FALSE)","v":{"$error":"#N/A"}}]
[{"$nulls":7},{"$f":"VLOOKUP(G882,数据2!C:D,2,FALSE)","v":{"$error":"#N/A"}}]
[{"$nulls":7},{"$f":"VLOOKUP(G883,数据2!C:D,2,FALSE)","v":{"$error":"#N/A"}}]
[{"$nulls":7},{"$f":"VLOOKUP(G884,数据2!C:D,2,FALSE)","v":{"$error":"#N/A"}}]
[{"$nulls":7},{"$f":"VLOOKUP(G885,数据2!C:D,2,FALSE)","v":{"$error":"#N/A"}}]
[{"$nulls":7},{"$f":"VLOOKUP(G886,数据2!C:D,2,FALSE)","v":{"$error":"#N/A"}}]
[{"$nulls":7},{"$f":"VLOOKUP(G887,数据2!C:D,2,FALSE)","v":{"$error":"#N/A"}}]
[{"$nulls":7},{"$f":"VLOOKUP(G888,数据2!C:D,2,FALSE)","v":{"$error":"#N/A"}}]
[{"$nulls":7},{"$f":"VLOOKUP(G889,数据2!C:D,2,FALSE)","v":{"$error":"#N/A"}}]
[{"$nulls":7},{"$f":"VLOOKUP(G890,数据2!C:D,2,FALSE)","v":{"$error":"#N/A"}}]
[{"$nulls":7},{"$f":"VLOOKUP(G891,数据2!C:D,2,FALSE)","v":{"$error":"#N/A"}}]
[{"$nulls":7},{"$f":"VLOOKUP(G892,数据2!C:D,2,FALSE)","v":{"$error":"#N/A"}}]
[{"$nulls":7},{"$f":"VLOOKUP(G893,数据2!C:D,2,FALSE)","v":{"$error":"#N/A"}}]
[{"$nulls":7},{"$f":"VLOOKUP(G894,数据2!C:D,2,FALSE)","v":{"$error":"#N/A"}}]
[{"$nulls":7},{"$f":"VLOOKUP(G895,数据2!C:D,2,FALSE)","v":{"$error":"#N/A"}}]
[{"$nulls":7},{"$f":"VLOOKUP(G896,数据2!C:D,2,FALSE)","v":{"$error":"#N/A"}}]
[{"$nulls":7},{"$f":"VLOOKUP(G897,数据2!C:D,2,FALSE)","v":{"$error":"#N/A"}}]
[{"$nulls":7},{"$f":"VLOOKUP(G898,数据2!C:D,2,FALSE)","v":{"$error":"#N/A"}}]
[{"$nulls":7},{"$f":"VLOOKUP(G899,数据2!C:D,2,FALSE)","v":{"$error":"#N/A"}}]
[{"$nulls":7},{"$f":"VLOOKUP(G900,数据2!C:D,2,FALSE)","v":{"$error":"#N/A"}}]
[{"$nulls":7},{"$f":"VLOOKUP(G901,数据2!C:D,2,FALSE)","v":{"$error":"#N/A"}}]
[{"$nulls":7},{"$f":"VLOOKUP(G902,数据2!C:D,2,FALSE)","v":{"$error":"#N/A"}}]
[{"$nulls":7},{"$f":"VLOOKUP(G903,数据2!C:D,2,FALSE)","v":{"$error":"#N/A"}}]
[{"$nulls":7},{"$f":"VLOOKUP(G904,数据2!C:D,2,FALSE)","v":{"$error":"#N/A"}}]
[{"$nulls":7},{"$f":"VLOOKUP(G905,数据2!C:D,2,FALSE)","v":{"$error":"#N/A"}}]
[{"$nulls":7},{"$f":"VLOOKUP(G906,数据2!C:D,2,FALSE)","v":{"$error":"#N/A"}}]
[{"$nulls":7},{"$f":"VLOOKUP(G907,数据2!C:D,2,FALSE)","v":{"$error":"#N/A"}}]
[{"$nulls":7},{"$f":"VLOOKUP(G908,数据2!C:D,2,FALSE)","v":{"$error":"#N/A"}}]
[{"$nulls":7},{"$f":"VLOOKUP(G909,数据2!C:D,2,FALSE)","v":{"$error":"#N/A"}}]
[{"$nulls":7},{"$f":"VLOOKUP(G910,数据2!C:D,2,FALSE)","v":{"$error":"#N/A"}}]
[{"$nulls":7},{"$f":"VLOOKUP(G911,数据2!C:D,2,FALSE)","v":{"$error":"#N/A"}}]
[{"$nulls":7},{"$f":"VLOOKUP(G912,数据2!C:D,2,FALSE)","v":{"$error":"#N/A"}}]
[{"$nulls":7},{"$f":"VLOOKUP(G913,数据2!C:D,2,FALSE)","v":{"$error":"#N/A"}}]
[{"$nulls":7},{"$f":"VLOOKUP(G914,数据2!C:D,2,FALSE)","v":{"$error":"#N/A"}}]
[{"$nulls":7},{"$f":"VLOOKUP(G915,数据2!C:D,2,FALSE)","v":{"$error":"#N/A"}}]
[{"$nulls":7},{"$f":"VLOOKUP(G916,数据2!C:D,2,FALSE)","v":{"$error":"#N/A"}}]
[{"$nulls":7},{"$f":"VLOOKUP(G917,数据2!C:D,2,FALSE)","v":{"$error":"#N/A"}}]
[{"$nulls":7},{"$f":"VLOOKUP(G918,数据2!C:D,2,FALSE)","v":{"$error":"#N/A"}}]
[{"$nulls":7},{"$f":"VLOOKUP(G919,数据2!C:D,2,FALSE)","v":{"$error":"#N/A"}}]
[{"$nulls":7},{"$f":"VLOOKUP(G920,数据2!C:D,2,FALSE)","v":{"$error":"#N/A"}}]
[{"$nulls":7},{"$f":"VLOOKUP(G921,数据2!C:D,2,FALSE)","v":{"$error":"#N/A"}}]
[{"$nulls":7},{"$f":"VLOOKUP(G922,数据2!C:D,2,FALSE)","v":{"$error":"#N/A"}}]
[{"$nulls":7},{"$f":"VLOOKUP(G923,数据2!C:D,2,FALSE)","v":{"$error":"#N/A"}}]
[{"$nulls":7},{"$f":"VLOOKUP(G924,数据2!C:D,2,FALSE)","v":{"$error":"#N/A"}}]
[{"$nulls":7},{"$f":"VLOOKUP(G925,数据2!C:D,2,FALSE)","v":{"$error":"#N/A"}}]
[{"$nulls":7},{"$f":"VLOOKUP(G926,数据2!C:D,2,FALSE)","v":{"$error":"#N/A"}}]
[{"$nulls":7},{"$f":"VLOOKUP(G927,数据2!C:D,2,FALSE)","v":{"$error":"#N/A"}}]
[{"$nulls":7},{"$f":"VLOOKUP(G928,数据2!C:D,2,FALSE)","v":{"$error":"#N/A"}}]
[{"$nulls":7},{"$f":"VLOOKUP(G929,数据2!C:D,2,FALSE)","v":{"$error":"#N/A"}}]
[{"$nulls":7},{"$f":"VLOOKUP(G930,数据2!C:D,2,FALSE)","v":{"$error":"#N/A"}}]
[{"$nulls":7},{"$f":"VLOOKUP(G931,数据2!C:D,2,FALSE)","v":{"$error":"#N/A"}}]
[{"$nulls":7},{"$f":"VLOOKUP(G932,数据2!C:D,2,FALSE)","v":{"$error":"#N/A"}}]
[{"$nulls":7},{"$f":"VLOOKUP(G933,数据2!C:D,2,FALSE)","v":{"$error":"#N/A"}}]
[{"$nulls":7},{"$f":"VLOOKUP(G934,数据2!C:D,2,FALSE)","v":{"$error":"#N/A"}}]
[{"$nulls":7},{"$f":"VLOOKUP(G935,数据2!C:D,2,FALSE)","v":{"$error":"#N/A"}}]
[{"$nulls":7},{"$f":"VLOOKUP(G936,数据2!C:D,2,FALSE)","v":{"$error":"#N/A"}}]
[{"$nulls":7},{"$f":"VLOOKUP(G937,数据2!C:D,2,FALSE)","v":{"$error":"#N/A"}}]
[{"$nulls":7},{"$f":"VLOOKUP(G938,数据2!C:D,2,FALSE)","v":{"$error":"#N/A"}}]
[{"$nulls":7},{"$f":"VLOOKUP(G939,数据2!C:D,2,FALSE)","v":{"$error":"#N/A"}}]
[{"$nulls":7},{"$f":"VLOOKUP(G940,数据2!C:D,2,FALSE)","v":{"$error":"#N/A"}}]
[{"$nulls":7},{"$f":"VLOOKUP(G941,数据2!C:D,2,FALSE)","v":{"$error":"#N/A"}}]
[{"$nulls":7},{"$f":"VLOOKUP(G942,数据2!C:D,2,FALSE)","v":{"$error":"#N/A"}}]
[{"$nulls":7},{"$f":"VLOOKUP(G943,数据2!C:D,2,FALSE)","v":{"$error":"#N/A"}}]
[{"$nulls":7},{"$f":"VLOOKUP(G944,数据2!C:D,2,FALSE)","v":{"$error":"#N/A"}}]
[{"$nulls":7},{"$f":"VLOOKUP(G945,数据2!C:D,2,FALSE)","v":{"$error":"#N/A"}}]
[{"$nulls":7},{"$f":"VLOOKUP(G946,数据2!C:D,2,FALSE)","v":{"$error":"#N/A"}}]
[{"$nulls":7},{"$f":"VLOOKUP(G947,数据2!C:D,2,FALSE)","v":{"$error":"#N/A"}}]
[{"$nulls":7},{"$f":"VLOOKUP(G948,数据2!C:D,2,FALSE)","v":{"$error":"#N/A"}}]
[{"$nulls":7},{"$f":"VLOOKUP(G949,数据2!C:D,2,FALSE)","v":{"$error":"#N/A"}}]
[{"$nulls":7},{"$f":"VLOOKUP(G950,数据2!C:D,2,FALSE)","v":{"$error":"#N/A"}}]
[{"$nulls":7},{"$f":"VLOOKUP(G951,数据2!C:D,2,FALSE)","v":{"$error":"#N/A"}}]
[{"$nulls":7},{"$f":"VLOOKUP(G952,数据2!C:D,2,FALSE)","v":{"$error":"#N/A"}}]
[{"$nulls":7},{"$f":"VLOOKUP(G953,数据2!C:D,2,FALSE)","v":{"$error":"#N/A"}}]
[{"$nulls":7},{"$f":"VLOOKUP(G954,数据2!C:D,2,FALSE)","v":{"$error":"#N/A"}}]
[{"$nulls":7},{"$f":"VLOOKUP(G955,数据2!C:D,2,FALSE)","v":{"$error":"#N/A"}}]
[{"$nulls":7},{"$f":"VLOOKUP(G956,数据2!C:D,2,FALSE)","v":{"$error":"#N/A"}}]
[{"$nulls":7},{"$f":"VLOOKUP(G957,数据2!C:D,2,FALSE)","v":{"$error":"#N/A"}}]
[{"$nulls":7},{"$f":"VLOOKUP(G958,数据2!C:D,2,FALSE)","v":{"$error":"#N/A"}}]
[{"$nulls":7},{"$f":"VLOOKUP(G959,数据2!C:D,2,FALSE)","v":{"$error":"#N/A"}}]
[{"$nulls":7},{"$f":"VLOOKUP(G960,数据2!C:D,2,FALSE)","v":{"$error":"#N/A"}}]
[{"$nulls":7},{"$f":"VLOOKUP(G961,数据2!C:D,2,FALSE)","v":{"$error":"#N/A"}}]
[{"$nulls":7},{"$f":"VLOOKUP(G962,数据2!C:D,2,FALSE)","v":{"$error":"#N/A"}}]
[{"$nulls":7},{"$f":"VLOOKUP(G963,数据2!C:D,2,FALSE)","v":{"$error":"#N/A"}}]
[{"$nulls":7},{"$f":"VLOOKUP(G964,数据2!C:D,2,FALSE)","v":{"$error":"#N/A"}}]
[{"$nulls":7},{"$f":"VLOOKUP(G965,数据2!C:D,2,FALSE)","v":{"$error":"#N/A"}}]
[{"$nulls":7},{"$f":"VLOOKUP(G966,数据2!C:D,2,FALSE)","v":{"$error":"#N/A"}}]
[{"$nulls":7},{"$f":"VLOOKUP(G967,数据2!C:D,2,FALSE)","v":{"$error":"#N/A"}}]
[{"$nulls":7},{"$f":"VLOOKUP(G968,数据2!C:D,2,FALSE)","v":{"$error":"#N/A"}}]
[{"$nulls":7},{"$f":"VLOOKUP(G969,数据2!C:D,2,FALSE)","v":{"$error":"#N/A"}}]
[{"$nulls":7},{"$f":"VLOOKUP(G970,数据2!C:D,2,FALSE)","v":{"$error":"#N/A"}}]
[{"$nulls":7},{"$f":"VLOOKUP(G971,数据2!C:D,2,FALSE)","v":{"$error":"#N/A"}}]
[{"$nulls":7},{"$f":"VLOOKUP(G972,数据2!C:D,2,FALSE)","v":{"$error":"#N/A"}}]
[{"$nulls":7},{"$f":"VLOOKUP(G973,数据2!C:D,2,FALSE)","v":{"$error":"#N/A"}}]
[{"$nulls":7},{"$f":"VLOOKUP(G974,数据2!C:D,2,FALSE)","v":{"$error":"#N/A"}}]
[{"$nulls":7},{"$f":"VLOOKUP(G975,数据2!C:D,2,FALSE)","v":{"$error":"#N/A"}}]
[{"$nulls":7},{"$f":"VLOOKUP(G976,数据2!C:D,2,FALSE)","v":{"$error":"#N/A"}}]
[{"$nulls":7},{"$f":"VLOOKUP(G977,数据2!C:D,2,FALSE)","v":{"$error":"#N/A"}}]
[{"$nulls":7},{"$f":"VLOOKUP(G978,数据2!C:D,2,FALSE)","v":{"$error":"#N/A"}}]
[{"$nulls":7},{"$f":"VLOOKUP(G979,数据2!C:D,2,FALSE)","v":{"$error":"#N/A"}}]
[{"$nulls":7},{"$f":"VLOOKUP(G980,数据2!C:D,2,FALSE)","v":{"$error":"#N/A"}}]
[{"$nulls":7},{"$f":"VLOOKUP(G981,数据2!C:D,2,FALSE)","v":{"$error":"#N/A"}}]
[{"$nulls":7},{"$f":"VLOOKUP(G982,数据2!C:D,2,FALSE)","v":{"$error":"#N/A"}}]
[{"$nulls":7},{"$f":"VLOOKUP(G983,数据2!C:D,2,FALSE)","v":{"$error":"#N/A"}}]
[{"$nulls":7},{"$f":"VLOOKUP(G984,数据2!C:D,2,FALSE)","v":{"$error":"#N/A"}}]
[{"$nulls":7},{"$f":"VLOOKUP(G985,数据2!C:D,2,FALSE)","v":{"$error":"#N/A"}}]
[{"$nulls":7},{"$f":"VLOOKUP(G986,数据2!C:D,2,FALSE)","v":{"$error":"#N/A"}}]
[{"$nulls":7},{"$f":"VLOOKUP(G987,数据2!C:D,2,FALSE)","v":{"$error":"#N/A"}}]
[{"$nulls":7},{"$f":"VLOOKUP(G988,数据2!C:D,2,FALSE)","v":{"$error":"#N/A"}}]
[{"$nulls":7},{"$f":"VLOOKUP(G989,数据2!C:D,2,FALSE)","v":{"$error":"#N/A"}}]
[{"$nulls":7},{"$f":"VLOOKUP(G990,数据2!C:D,2,FALSE)","v":{"$error":"#N/A"}}]
[{"$nulls":7},{"$f":"VLOOKUP(G991,数据2!C:D,2,FALSE)","v":{"$error":"#N/A"}}]
[{"$nulls":7},{"$f":"VLOOKUP(G992,数据2!C:D,2,FALSE)","v":{"$error":"#N/A"}}]
[{"$nulls":7},{"$f":"VLOOKUP(G993,数据2!C:D,2,FALSE)","v":{"$error":"#N/A"}}]
[{"$nulls":7},{"$f":"VLOOKUP(G994,数据2!C:D,2,FALSE)","v":{"$error":"#N/A"}}]
[{"$nulls":7},{"$f":"VLOOKUP(G995,数据2!C:D,2,FALSE)","v":{"$error":"#N/A"}}]
[{"$nulls":7},{"$f":"VLOOKUP(G996,数据2!C:D,2,FALSE)","v":{"$error":"#N/A"}}]
[{"$nulls":7},{"$f":"VLOOKUP(G997,数据2!C:D,2,FALSE)","v":{"$error":"#N/A"}}]
[{"$nulls":7},{"$f":"VLOOKUP(G998,数据2!C:D,2,FALSE)","v":{"$error":"#N/A"}}]
[{"$nulls":7},{"$f":"VLOOKUP(G999,数据2!C:D,2,FALSE)","v":{"$error":"#N/A"}}]
[{"$nulls":7},{"$f":"VLOOKUP(G1000,数据2!C:D,2,FALSE)","v":{"$error":"#N/A"}}]
[{"$nulls":7},{"$f":"VLOOKUP(G1001,数据2!C:D,2,FALSE)","v":{"$error":"#N/A"}}]
[{"$nulls":7},{"$f":"VLOOKUP(G1002,数据2!C:D,2,FALSE)","v":{"$error":"#N/A"}}]
[{"$nulls":7},{"$f":"VLOOKUP(G1003,数据2!C:D,2,FALSE)","v":{"$error":"#N/A"}}]
[{"$nulls":7},{"$f":"VLOOKUP(G1004,数据2!C:D,2,FALSE)","v":{"$error":"#N/A"}}]
[{"$nulls":7},{"$f":"VLOOKUP(G1005,数据2!C:D,2,FALSE)","v":{"$error":"#N/A"}}]
[{"$nulls":7},{"$f":"VLOOKUP(G1006,数据2!C:D,2,FALSE)","v":{"$error":"#N/A"}}]
[{"$nulls":7},{"$f":"VLOOKUP(G1007,数据2!C:D,2,FALSE)","v":{"$error":"#N/A"}}]
[{"$nulls":7},{"$f":"VLOOKUP(G1008,数据2!C:D,2,FALSE)","v":{"$error":"#N/A"}}]
[{"$nulls":7},{"$f":"VLOOKUP(G1009,数据2!C:D,2,FALSE)","v":{"$error":"#N/A"}}]
[{"$nulls":7},{"$f":"VLOOKUP(G1010,数据2!C:D,2,FALSE)","v":{"$error":"#N/A"}}]
[{"$nulls":7},{"$f":"VLOOKUP(G1011,数据2!C:D,2,FALSE)","v":{"$error":"#N/A"}}]
[{"$nulls":7},{"$f":"VLOOKUP(G1012,数据2!C:D,2,FALSE)","v":{"$error":"#N/A"}}]
[{"$nulls":7},{"$f":"VLOOKUP(G1013,数据2!C:D,2,FALSE)","v":{"$error":"#N/A"}}]
[{"$nulls":7},{"$f":"VLOOKUP(G1014,数据2!C:D,2,FALSE)","v":{"$error":"#N/A"}}]
[{"$nulls":7},{"$f":"VLOOKUP(G1015,数据2!C:D,2,FALSE)","v":{"$error":"#N/A"}}]
[{"$nulls":7},{"$f":"VLOOKUP(G1016,数据2!C:D,2,FALSE)","v":{"$error":"#N/A"}}]
[{"$nulls":7},{"$f":"VLOOKUP(G1017,数据2!C:D,2,FALSE)","v":{"$error":"#N/A"}}]
[{"$nulls":7},{"$f":"VLOOKUP(G1018,数据2!C:D,2,FALSE)","v":{"$error":"#N/A"}}]
[{"$nulls":7},{"$f":"VLOOKUP(G1019,数据2!C:D,2,FALSE)","v":{"$error":"#N/A"}}]
[{"$nulls":7},{"$f":"VLOOKUP(G1020,数据2!C:D,2,FALSE)","v":{"$error":"#N/A"}}]
[{"$nulls":7},{"$f":"VLOOKUP(G1021,数据2!C:D,2,FALSE)","v":{"$error":"#N/A"}}]
[{"$nulls":7},{"$f":"VLOOKUP(G1022,数据2!C:D,2,FALSE)","v":{"$error":"#N/A"}}]
[{"$nulls":7},{"$f":"VLOOKUP(G1023,数据2!C:D,2,FALSE)","v":{"$error":"#N/A"}}]
[{"$nulls":7},{"$f":"VLOOKUP(G1024,数据2!C:D,2,FALSE)","v":{"$error":"#N/A"}}]
[{"$nulls":7},{"$f":"VLOOKUP(G1025,数据2!C:D,2,FALSE)","v":{"$error":"#N/A"}}]
[{"$nulls":7},{"$f":"VLOOKUP(G1026,数据2!C:D,2,FALSE)","v":{"$error":"#N/A"}}]
[{"$nulls":7},{"$f":"VLOOKUP(G1027,数据2!C:D,2,FALSE)","v":{"$error":"#N/A"}}]
[{"$nulls":7},{"$f":"VLOOKUP(G1028,数据2!C:D,2,FALSE)","v":{"$error":"#N/A"}}]
[{"$nulls":7},{"$f":"VLOOKUP(G1029,数据2!C:D,2,FALSE)","v":{"$error":"#N/A"}}]
[{"$nulls":7},{"$f":"VLOOKUP(G1030,数据2!C:D,2,FALSE)","v":{"$error":"#N/A"}}]
[{"$nulls":7},{"$f":"VLOOKUP(G1031,数据2!C:D,2,FALSE)","v":{"$error":"#N/A"}}]
[{"$nulls":7},{"$f":"VLOOKUP(G1032,数据2!C:D,2,FALSE)","v":{"$error":"#N/A"}}]
[{"$nulls":7},{"$f":"VLOOKUP(G1033,数据2!C:D,2,FALSE)","v":{"$error":"#N/A"}}]
[{"$nulls":7},{"$f":"VLOOKUP(G1034,数据2!C:D,2,FALSE)","v":{"$error":"#N/A"}}]
[{"$nulls":7},{"$f":"VLOOKUP(G1035,数据2!C:D,2,FALSE)","v":{"$error":"#N/A"}}]
[{"$nulls":7},{"$f":"VLOOKUP(G1036,数据2!C:D,2,FALSE)","v":{"$error":"#N/A"}}]
[{"$nulls":7},{"$f":"VLOOKUP(G1037,数据2!C:D,2,FALSE)","v":{"$error":"#N/A"}}]
[{"$nulls":7},{"$f":"VLOOKUP(G1038,数据2!C:D,2,FALSE)","v":{"$error":"#N/A"}}]
[{"$nulls":7},{"$f":"VLOOKUP(G1039,数据2!C:D,2,FALSE)","v":{"$error":"#N/A"}}]
[{"$nulls":7},{"$f":"VLOOKUP(G1040,数据2!C:D,2,FALSE)","v":{"$error":"#N/A"}}]
[{"$nulls":7},{"$f":"VLOOKUP(G1041,数据2!C:D,2,FALSE)","v":{"$error":"#N/A"}}]
[{"$nulls":7},{"$f":"VLOOKUP(G1042,数据2!C:D,2,FALSE)","v":{"$error":"#N/A"}}]
[{"$nulls":7},{"$f":"VLOOKUP(G1043,数据2!C:D,2,FALSE)","v":{"$error":"#N/A"}}]
[{"$nulls":7},{"$f":"VLOOKUP(G1044,数据2!C:D,2,FALSE)","v":{"$error":"#N/A"}}]
[{"$nulls":7},{"$f":"VLOOKUP(G1045,数据2!C:D,2,FALSE)","v":{"$error":"#N/A"}}]
[{"$nulls":7},{"$f":"VLOOKUP(G1046,数据2!C:D,2,FALSE)","v":{"$error":"#N/A"}}]
[{"$nulls":7},{"$f":"VLOOKUP(G1047,数据2!C:D,2,FALSE)","v":{"$error":"#N/A"}}]
[{"$nulls":7},{"$f":"VLOOKUP(G1048,数据2!C:D,2,FALSE)","v":{"$error":"#N/A"}}]
[{"$nulls":7},{"$f":"VLOOKUP(G1049,数据2!C:D,2,FALSE)","v":{"$error":"#N/A"}}]
[{"$nulls":7},{"$f":"VLOOKUP(G1050,数据2!C:D,2,FALSE)","v":{"$error":"#N/A"}}]
[{"$nulls":7},{"$f":"VLOOKUP(G1051,数据2!C:D,2,FALSE)","v":{"$error":"#N/A"}}]
[{"$nulls":7},{"$f":"VLOOKUP(G1052,数据2!C:D,2,FALSE)","v":{"$error":"#N/A"}}]
[{"$nulls":7},{"$f":"VLOOKUP(G1053,数据2!C:D,2,FALSE)","v":{"$error":"#N/A"}}]
[{"$nulls":7},{"$f":"VLOOKUP(G1054,数据2!C:D,2,FALSE)","v":{"$error":"#N/A"}}]
[{"$nulls":7},{"$f":"VLOOKUP(G1055,数据2!C:D,2,FALSE)","v":{"$error":"#N/A"}}]
[{"$nulls":7},{"$f":"VLOOKUP(G1056,数据2!C:D,2,FALSE)","v":{"$error":"#N/A"}}]
[{"$nulls":7},{"$f":"VLOOKUP(G1057,数据2!C:D,2,FALSE)","v":{"$error":"#N/A"}}]
[{"$nulls":7},{"$f":"VLOOKUP(G1058,数据2!C:D,2,FALSE)","v":{"$error":"#N/A"}}]
[{"$nulls":7},{"$f":"VLOOKUP(G1059,数据2!C:D,2,FALSE)","v":{"$error":"#N/A"}}]
[{"$nulls":7},{"$f":"VLOOKUP(G1060,数据2!C:D,2,FALSE)","v":{"$error":"#N/A"}}]
[{"$nulls":7},{"$f":"VLOOKUP(G1061,数据2!C:D,2,FALSE)","v":{"$error":"#N/A"}}]
[{"$nulls":7},{"$f":"VLOOKUP(G1062,数据2!C:D,2,FALSE)","v":{"$error":"#N/A"}}]
[{"$nulls":7},{"$f":"VLOOKUP(G1063,数据2!C:D,2,FALSE)","v":{"$error":"#N/A"}}]
[{"$nulls":7},{"$f":"VLOOKUP(G1064,数据2!C:D,2,FALSE)","v":{"$error":"#N/A"}}]
[{"$nulls":7},{"$f":"VLOOKUP(G1065,数据2!C:D,2,FALSE)","v":{"$error":"#N/A"}}]
[{"$nulls":7},{"$f":"VLOOKUP(G1066,数据2!C:D,2,FALSE)","v":{"$error":"#N/A"}}]
[{"$nulls":7},{"$f":"VLOOKUP(G1067,数据2!C:D,2,FALSE)","v":{"$error":"#N/A"}}]
[{"$nulls":7},{"$f":"VLOOKUP(G1068,数据2!C:D,2,FALSE)","v":{"$error":"#N/A"}}]
[{"$nulls":7},{"$f":"VLOOKUP(G1069,数据2!C:D,2,FALSE)","v":{"$error":"#N/A"}}]
[{"$nulls":7},{"$f":"VLOOKUP(G1070,数据2!C:D,2,FALSE)","v":{"$error":"#N/A"}}]
[{"$nulls":7},{"$f":"VLOOKUP(G1071,数据2!C:D,2,FALSE)","v":{"$error":"#N/A"}}]
[{"$nulls":7},{"$f":"VLOOKUP(G1072,数据2!C:D,2,FALSE)","v":{"$error":"#N/A"}}]
[{"$nulls":7},{"$f":"VLOOKUP(G1073,数据2!C:D,2,FALSE)","v":{"$error":"#N/A"}}]
[{"$nulls":7},{"$f":"VLOOKUP(G1074,数据2!C:D,2,FALSE)","v":{"$error":"#N/A"}}]
[{"$nulls":7},{"$f":"VLOOKUP(G1075,数据2!C:D,2,FALSE)","v":{"$error":"#N/A"}}]
[{"$nulls":7},{"$f":"VLOOKUP(G1076,数据2!C:D,2,FALSE)","v":{"$error":"#N/A"}}]
[{"$nulls":7},{"$f":"VLOOKUP(G1077,数据2!C:D,2,FALSE)","v":{"$error":"#N/A"}}]
[{"$nulls":7},{"$f":"VLOOKUP(G1078,数据2!C:D,2,FALSE)","v":{"$error":"#N/A"}}]
[{"$nulls":7},{"$f":"VLOOKUP(G1079,数据2!C:D,2,FALSE)","v":{"$error":"#N/A"}}]
[{"$nulls":7},{"$f":"VLOOKUP(G1080,数据2!C:D,2,FALSE)","v":{"$error":"#N/A"}}]
[{"$nulls":7},{"$f":"VLOOKUP(G1081,数据2!C:D,2,FALSE)","v":{"$error":"#N/A"}}]
[{"$nulls":7},{"$f":"VLOOKUP(G1082,数据2!C:D,2,FALSE)","v":{"$error":"#N/A"}}]
[{"$nulls":7},{"$f":"VLOOKUP(G1083,数据2!C:D,2,FALSE)","v":{"$error":"#N/A"}}]
[{"$nulls":7},{"$f":"VLOOKUP(G1084,数据2!C:D,2,FALSE)","v":{"$error":"#N/A"}}]
[{"$nulls":7},{"$f":"VLOOKUP(G1085,数据2!C:D,2,FALSE)","v":{"$error":"#N/A"}}]
[{"$nulls":7},{"$f":"VLOOKUP(G1086,数据2!C:D,2,FALSE)","v":{"$error":"#N/A"}}]
[{"$nulls":7},{"$f":"VLOOKUP(G1087,数据2!C:D,2,FALSE)","v":{"$error":"#N/A"}}]
[{"$nulls":7},{"$f":"VLOOKUP(G1088,数据2!C:D,2,FALSE)","v":{"$error":"#N/A"}}]
[{"$nulls":7},{"$f":"VLOOKUP(G1089,数据2!C:D,2,FALSE)","v":{"$error":"#N/A"}}]
[{"$nulls":7},{"$f":"VLOOKUP(G1090,数据2!C:D,2,FALSE)","v":{"$error":"#N/A"}}]
[{"$nulls":7},{"$f":"VLOOKUP(G1091,数据2!C:D,2,FALSE)","v":{"$error":"#N/A"}}]
[{"$nulls":7},{"$f":"VLOOKUP(G1092,数据2!C:D,2,FALSE)","v":{"$error":"#N/A"}}]
[{"$nulls":7},{"$f":"VLOOKUP(G1093,数据2!C:D,2,FALSE)","v":{"$error":"#N/A"}}]
[{"$nulls":7},{"$f":"VLOOKUP(G1094,数据2!C:D,2,FALSE)","v":{"$error":"#N/A"}}]
[{"$nulls":7},{"$f":"VLOOKUP(G1095,数据2!C:D,2,FALSE)","v":{"$error":"#N/A"}}]
[{"$nulls":7},{"$f":"VLOOKUP(G1096,数据2!C:D,2,FALSE)","v":{"$error":"#N/A"}}]
[{"$nulls":7},{"$f":"VLOOKUP(G1097,数据2!C:D,2,FALSE)","v":{"$error":"#N/A"}}]
[{"$nulls":7},{"$f":"VLOOKUP(G1098,数据2!C:D,2,FALSE)","v":{"$error":"#N/A"}}]
[{"$nulls":7},{"$f":"VLOOKUP(G1099,数据2!C:D,2,FALSE)","v":{"$error":"#N/A"}}]
[{"$nulls":7},{"$f":"VLOOKUP(G1100,数据2!C:D,2,FALSE)","v":{"$error":"#N/A"}}]
[{"$nulls":7},{"$f":"VLOOKUP(G1101,数据2!C:D,2,FALSE)","v":{"$error":"#N/A"}}]
[{"$nulls":7},{"$f":"VLOOKUP(G1102,数据2!C:D,2,FALSE)","v":{"$error":"#N/A"}}]
[{"$nulls":7},{"$f":"VLOOKUP(G1103,数据2!C:D,2,FALSE)","v":{"$error":"#N/A"}}]
[{"$nulls":7},{"$f":"VLOOKUP(G1104,数据2!C:D,2,FALSE)","v":{"$error":"#N/A"}}]
[{"$nulls":7},{"$f":"VLOOKUP(G1105,数据2!C:D,2,FALSE)","v":{"$error":"#N/A"}}]
[{"$nulls":7},{"$f":"VLOOKUP(G1106,数据2!C:D,2,FALSE)","v":{"$error":"#N/A"}}]
[{"$nulls":7},{"$f":"VLOOKUP(G1107,数据2!C:D,2,FALSE)","v":{"$error":"#N/A"}}]
[{"$nulls":7},{"$f":"VLOOKUP(G1108,数据2!C:D,2,FALSE)","v":{"$error":"#N/A"}}]
[{"$nulls":7},{"$f":"VLOOKUP(G1109,数据2!C:D,2,FALSE)","v":{"$error":"#N/A"}}]
[{"$nulls":7},{"$f":"VLOOKUP(G1110,数据2!C:D,2,FALSE)","v":{"$error":"#N/A"}}]
[{"$nulls":7},{"$f":"VLOOKUP(G1111,数据2!C:D,2,FALSE)","v":{"$error":"#N/A"}}]
[{"$nulls":7},{"$f":"VLOOKUP(G1112,数据2!C:D,2,FALSE)","v":{"$error":"#N/A"}}]
[{"$nulls":7},{"$f":"VLOOKUP(G1113,数据2!C:D,2,FALSE)","v":{"$error":"#N/A"}}]
[{"$nulls":7},{"$f":"VLOOKUP(G1114,数据2!C:D,2,FALSE)","v":{"$error":"#N/A"}}]
[{"$nulls":7},{"$f":"VLOOKUP(G1115,数据2!C:D,2,FALSE)","v":{"$error":"#N/A"}}]
[{"$nulls":7},{"$f":"VLOOKUP(G1116,数据2!C:D,2,FALSE)","v":{"$error":"#N/A"}}]
[{"$nulls":7},{"$f":"VLOOKUP(G1117,数据2!C:D,2,FALSE)","v":{"$error":"#N/A"}}]
[{"$nulls":7},{"$f":"VLOOKUP(G1118,数据2!C:D,2,FALSE)","v":{"$error":"#N/A"}}]
[{"$nulls":7},{"$f":"VLOOKUP(G1119,数据2!C:D,2,FALSE)","v":{"$error":"#N/A"}}]
[{"$nulls":7},{"$f":"VLOOKUP(G1120,数据2!C:D,2,FALSE)","v":{"$error":"#N/A"}}]
[{"$nulls":7},{"$f":"VLOOKUP(G1121,数据2!C:D,2,FALSE)","v":{"$error":"#N/A"}}]
[{"$nulls":7},{"$f":"VLOOKUP(G1122,数据2!C:D,2,FALSE)","v":{"$error":"#N/A"}}]
[{"$nulls":7},{"$f":"VLOOKUP(G1123,数据2!C:D,2,FALSE)","v":{"$error":"#N/A"}}]
[{"$nulls":7},{"$f":"VLOOKUP(G1124,数据2!C:D,2,FALSE)","v":{"$error":"#N/A"}}]
[{"$nulls":7},{"$f":"VLOOKUP(G1125,数据2!C:D,2,FALSE)","v":{"$error":"#N/A"}}]
[{"$nulls":7},{"$f":"VLOOKUP(G1126,数据2!C:D,2,FALSE)","v":{"$error":"#N/A"}}]
[{"$nulls":7},{"$f":"VLOOKUP(G1127,数据2!C:D,2,FALSE)","v":{"$error":"#N/A"}}]
[{"$nulls":7},{"$f":"VLOOKUP(G1128,数据2!C:D,2,FALSE)","v":{"$error":"#N/A"}}]
[{"$nulls":7},{"$f":"VLOOKUP(G1129,数据2!C:D,2,FALSE)","v":{"$error":"#N/A"}}]
[{"$nulls":7},{"$f":"VLOOKUP(G1130,数据2!C:D,2,FALSE)","v":{"$error":"#N/A"}}]
[{"$nulls":7},{"$f":"VLOOKUP(G1131,数据2!C:D,2,FALSE)","v":{"$error":"#N/A"}}]
[{"$nulls":7},{"$f":"VLOOKUP(G1132,数据2!C:D,2,FALSE)","v":{"$error":"#N/A"}}]
[{"$nulls":7},{"$f":"VLOOKUP(G1133,数据2!C:D,2,FALSE)","v":{"$error":"#N/A"}}]
[{"$nulls":7},{"$f":"VLOOKUP(G1134,数据2!C:D,2,FALSE)","v":{"$error":"#N/A"}}]
[{"$nulls":7},{"$f":"VLOOKUP(G1135,数据2!C:D,2,FALSE)","v":{"$error":"#N/A"}}]
[{"$nulls":7},{"$f":"VLOOKUP(G1136,数据2!C:D,2,FALSE)","v":{"$error":"#N/A"}}]
[{"$nulls":7},{"$f":"VLOOKUP(G1137,数据2!C:D,2,FALSE)","v":{"$error":"#N/A"}}]
[{"$nulls":7},{"$f":"VLOOKUP(G1138,数据2!C:D,2,FALSE)","v":{"$error":"#N/A"}}]
[{"$nulls":7},{"$f":"VLOOKUP(G1139,数据2!C:D,2,FALSE)","v":{"$error":"#N/A"}}]
[{"$nulls":7},{"$f":"VLOOKUP(G1140,数据2!C:D,2,FALSE)","v":{"$error":"#N/A"}}]
[{"$nulls":7},{"$f":"VLOOKUP(G1141,数据2!C:D,2,FALSE)","v":{"$error":"#N/A"}}]
[{"$nulls":7},{"$f":"VLOOKUP(G1142,数据2!C:D,2,FALSE)","v":{"$error":"#N/A"}}]
[{"$nulls":7},{"$f":"VLOOKUP(G1143,数据2!C:D,2,FALSE)","v":{"$error":"#N/A"}}]
[{"$nulls":7},{"$f":"VLOOKUP(G1144,数据2!C:D,2,FALSE)","v":{"$error":"#N/A"}}]
[{"$nulls":7},{"$f":"VLOOKUP(G1145,数据2!C:D,2,FALSE)","v":{"$error":"#N/A"}}]
[{"$nulls":7},{"$f":"VLOOKUP(G1146,数据2!C:D,2,FALSE)","v":{"$error":"#N/A"}}]
[{"$nulls":7},{"$f":"VLOOKUP(G1147,数据2!C:D,2,FALSE)","v":{"$error":"#N/A"}}]
[{"$nulls":7},{"$f":"VLOOKUP(G1148,数据2!C:D,2,FALSE)","v":{"$error":"#N/A"}}]
[{"$nulls":7},{"$f":"VLOOKUP(G1149,数据2!C:D,2,FALSE)","v":{"$error":"#N/A"}}]
[{"$nulls":7},{"$f":"VLOOKUP(G1150,数据2!C:D,2,FALSE)","v":{"$error":"#N/A"}}]
[{"$nulls":7},{"$f":"VLOOKUP(G1151,数据2!C:D,2,FALSE)","v":{"$error":"#N/A"}}]
[{"$nulls":7},{"$f":"VLOOKUP(G1152,数据2!C:D,2,FALSE)","v":{"$error":"#N/A"}}]
[{"$nulls":7},{"$f":"VLOOKUP(G1153,数据2!C:D,2,FALSE)","v":{"$error":"#N/A"}}]
[{"$nulls":7},{"$f":"VLOOKUP(G1154,数据2!C:D,2,FALSE)","v":{"$error":"#N/A"}}]
[{"$nulls":7},{"$f":"VLOOKUP(G1155,数据2!C:D,2,FALSE)","v":{"$error":"#N/A"}}]
[{"$nulls":7},{"$f":"VLOOKUP(G1156,数据2!C:D,2,FALSE)","v":{"$error":"#N/A"}}]
[{"$nulls":7},{"$f":"VLOOKUP(G1157,数据2!C:D,2,FALSE)","v":{"$error":"#N/A"}}]
[{"$nulls":7},{"$f":"VLOOKUP(G1158,数据2!C:D,2,FALSE)","v":{"$error":"#N/A"}}]
[{"$nulls":7},{"$f":"VLOOKUP(G1159,数据2!C:D,2,FALSE)","v":{"$error":"#N/A"}}]
[{"$nulls":7},{"$f":"VLOOKUP(G1160,数据2!C:D,2,FALSE)","v":{"$error":"#N/A"}}]
[{"$nulls":7},{"$f":"VLOOKUP(G1161,数据2!C:D,2,FALSE)","v":{"$error":"#N/A"}}]
[{"$nulls":7},{"$f":"VLOOKUP(G1162,数据2!C:D,2,FALSE)","v":{"$error":"#N/A"}}]
[{"$nulls":7},{"$f":"VLOOKUP(G1163,数据2!C:D,2,FALSE)","v":{"$error":"#N/A"}}]
[{"$nulls":7},{"$f":"VLOOKUP(G1164,数据2!C:D,2,FALSE)","v":{"$error":"#N/A"}}]
[{"$nulls":7},{"$f":"VLOOKUP(G1165,数据2!C:D,2,FALSE)","v":{"$error":"#N/A"}}]
[{"$nulls":7},{"$f":"VLOOKUP(G1166,数据2!C:D,2,FALSE)","v":{"$error":"#N/A"}}]
[{"$nulls":7},{"$f":"VLOOKUP(G1167,数据2!C:D,2,FALSE)","v":{"$error":"#N/A"}}]
[{"$nulls":7},{"$f":"VLOOKUP(G1168,数据2!C:D,2,FALSE)","v":{"$error":"#N/A"}}]
[{"$nulls":7},{"$f":"VLOOKUP(G1169,数据2!C:D,2,FALSE)","v":{"$error":"#N/A"}}]
[{"$nulls":7},{"$f":"VLOOKUP(G1170,数据2!C:D,2,FALSE)","v":{"$error":"#N/A"}}]
[{"$nulls":7},{"$f":"VLOOKUP(G1171,数据2!C:D,2,FALSE)","v":{"$error":"#N/A"}}]
[{"$nulls":7},{"$f":"VLOOKUP(G1172,数据2!C:D,2,FALSE)","v":{"$error":"#N/A"}}]
[{"$nulls":7},{"$f":"VLOOKUP(G1173,数据2!C:D,2,FALSE)","v":{"$error":"#N/A"}}]
[{"$nulls":7},{"$f":"VLOOKUP(G1174,数据2!C:D,2,FALSE)","v":{"$error":"#N/A"}}]
[{"$nulls":7},{"$f":"VLOOKUP(G1175,数据2!C:D,2,FALSE)","v":{"$error":"#N/A"}}]
[{"$nulls":7},{"$f":"VLOOKUP(G1176,数据2!C:D,2,FALSE)","v":{"$error":"#N/A"}}]
[{"$nulls":7},{"$f":"VLOOKUP(G1177,数据2!C:D,2,FALSE)","v":{"$error":"#N/A"}}]
[{"$nulls":7},{"$f":"VLOOKUP(G1178,数据2!C:D,2,FALSE)","v":{"$error":"#N/A"}}]
[{"$nulls":7},{"$f":"VLOOKUP(G1179,数据2!C:D,2,FALSE)","v":{"$error":"#N/A"}}]
[{"$nulls":7},{"$f":"VLOOKUP(G1180,数据2!C:D,2,FALSE)","v":{"$error":"#N/A"}}]
[{"$nulls":7},{"$f":"VLOOKUP(G1181,数据2!C:D,2,FALSE)","v":{"$error":"#N/A"}}]
[{"$nulls":7},{"$f":"VLOOKUP(G1182,数据2!C:D,2,FALSE)","v":{"$error":"#N/A"}}]
[{"$nulls":7},{"$f":"VLOOKUP(G1183,数据2!C:D,2,FALSE)","v":{"$error":"#N/A"}}]
[{"$nulls":7},{"$f":"VLOOKUP(G1184,数据2!C:D,2,FALSE)","v":{"$error":"#N/A"}}]
[{"$nulls":7},{"$f":"VLOOKUP(G1185,数据2!C:D,2,FALSE)","v":{"$error":"#N/A"}}]
[{"$nulls":7},{"$f":"VLOOKUP(G1186,数据2!C:D,2,FALSE)","v":{"$error":"#N/A"}}]
[{"$nulls":7},{"$f":"VLOOKUP(G1187,数据2!C:D,2,FALSE)","v":{"$error":"#N/A"}}]
[{"$nulls":7},{"$f":"VLOOKUP(G1188,数据2!C:D,2,FALSE)","v":{"$error":"#N/A"}}]
[{"$nulls":7},{"$f":"VLOOKUP(G1189,数据2!C:D,2,FALSE)","v":{"$error":"#N/A"}}]
[{"$nulls":7},{"$f":"VLOOKUP(G1190,数据2!C:D,2,FALSE)","v":{"$error":"#N/A"}}]
[{"$nulls":7},{"$f":"VLOOKUP(G1191,数据2!C:D,2,FALSE)","v":{"$error":"#N/A"}}]
[{"$nulls":7},{"$f":"VLOOKUP(G1192,数据2!C:D,2,FALSE)","v":{"$error":"#N/A"}}]
[{"$nulls":7},{"$f":"VLOOKUP(G1193,数据2!C:D,2,FALSE)","v":{"$error":"#N/A"}}]
[{"$nulls":7},{"$f":"VLOOKUP(G1194,数据2!C:D,2,FALSE)","v":{"$error":"#N/A"}}]
[{"$nulls":7},{"$f":"VLOOKUP(G1195,数据2!C:D,2,FALSE)","v":{"$error":"#N/A"}}]
[{"$nulls":7},{"$f":"VLOOKUP(G1196,数据2!C:D,2,FALSE)","v":{"$error":"#N/A"}}]
[{"$nulls":7},{"$f":"VLOOKUP(G1197,数据2!C:D,2,FALSE)","v":{"$error":"#N/A"}}]
[{"$nulls":7},{"$f":"VLOOKUP(G1198,数据2!C:D,2,FALSE)","v":{"$error":"#N/A"}}]
[{"$nulls":7},{"$f":"VLOOKUP(G1199,数据2!C:D,2,FALSE)","v":{"$error":"#N/A"}}]
[{"$nulls":7},{"$f":"VLOOKUP(G1200,数据2!C:D,2,FALSE)","v":{"$error":"#N/A"}}]
[{"$nulls":7},{"$f":"VLOOKUP(G1201,数据2!C:D,2,FALSE)","v":{"$error":"#N/A"}}]
[{"$nulls":7},{"$f":"VLOOKUP(G1202,数据2!C:D,2,FALSE)","v":{"$error":"#N/A"}}]
[{"$nulls":7},{"$f":"VLOOKUP(G1203,数据2!C:D,2,FALSE)","v":{"$error":"#N/A"}}]
[{"$nulls":7},{"$f":"VLOOKUP(G1204,数据2!C:D,2,FALSE)","v":{"$error":"#N/A"}}]
[{"$nulls":7},{"$f":"VLOOKUP(G1205,数据2!C:D,2,FALSE)","v":{"$error":"#N/A"}}]
[{"$nulls":7},{"$f":"VLOOKUP(G1206,数据2!C:D,2,FALSE)","v":{"$error":"#N/A"}}]
[{"$nulls":7},{"$f":"VLOOKUP(G1207,数据2!C:D,2,FALSE)","v":{"$error":"#N/A"}}]
[{"$nulls":7},{"$f":"VLOOKUP(G1208,数据2!C:D,2,FALSE)","v":{"$error":"#N/A"}}]
[{"$nulls":7},{"$f":"VLOOKUP(G1209,数据2!C:D,2,FALSE)","v":{"$error":"#N/A"}}]
[{"$nulls":7},{"$f":"VLOOKUP(G1210,数据2!C:D,2,FALSE)","v":{"$error":"#N/A"}}]
[{"$nulls":7},{"$f":"VLOOKUP(G1211,数据2!C:D,2,FALSE)","v":{"$error":"#N/A"}}]
[{"$nulls":7},{"$f":"VLOOKUP(G1212,数据2!C:D,2,FALSE)","v":{"$error":"#N/A"}}]
[{"$nulls":7},{"$f":"VLOOKUP(G1213,数据2!C:D,2,FALSE)","v":{"$error":"#N/A"}}]
[{"$nulls":7},{"$f":"VLOOKUP(G1214,数据2!C:D,2,FALSE)","v":{"$error":"#N/A"}}]
[{"$nulls":7},{"$f":"VLOOKUP(G1215,数据2!C:D,2,FALSE)","v":{"$error":"#N/A"}}]
[{"$nulls":7},{"$f":"VLOOKUP(G1216,数据2!C:D,2,FALSE)","v":{"$error":"#N/A"}}]
[{"$nulls":7},{"$f":"VLOOKUP(G1217,数据2!C:D,2,FALSE)","v":{"$error":"#N/A"}}]
[{"$nulls":7},{"$f":"VLOOKUP(G1218,数据2!C:D,2,FALSE)","v":{"$error":"#N/A"}}]
[{"$nulls":7},{"$f":"VLOOKUP(G1219,数据2!C:D,2,FALSE)","v":{"$error":"#N/A"}}]
[{"$nulls":7},{"$f":"VLOOKUP(G1220,数据2!C:D,2,FALSE)","v":{"$error":"#N/A"}}]
[{"$nulls":7},{"$f":"VLOOKUP(G1221,数据2!C:D,2,FALSE)","v":{"$error":"#N/A"}}]
[{"$nulls":7},{"$f":"VLOOKUP(G1222,数据2!C:D,2,FALSE)","v":{"$error":"#N/A"}}]
[{"$nulls":7},{"$f":"VLOOKUP(G1223,数据2!C:D,2,FALSE)","v":{"$error":"#N/A"}}]
[{"$nulls":7},{"$f":"VLOOKUP(G1224,数据2!C:D,2,FALSE)","v":{"$error":"#N/A"}}]
[{"$nulls":7},{"$f":"VLOOKUP(G1225,数据2!C:D,2,FALSE)","v":{"$error":"#N/A"}}]
[{"$nulls":7},{"$f":"VLOOKUP(G1226,数据2!C:D,2,FALSE)","v":{"$error":"#N/A"}}]
[{"$nulls":7},{"$f":"VLOOKUP(G1227,数据2!C:D,2,FALSE)","v":{"$error":"#N/A"}}]
[{"$nulls":7},{"$f":"VLOOKUP(G1228,数据2!C:D,2,FALSE)","v":{"$error":"#N/A"}}]
[{"$nulls":7},{"$f":"VLOOKUP(G1229,数据2!C:D,2,FALSE)","v":{"$error":"#N/A"}}]
[{"$nulls":7},{"$f":"VLOOKUP(G1230,数据2!C:D,2,FALSE)","v":{"$error":"#N/A"}}]
[{"$nulls":7},{"$f":"VLOOKUP(G1231,数据2!C:D,2,FALSE)","v":{"$error":"#N/A"}}]
[{"$nulls":7},{"$f":"VLOOKUP(G1232,数据2!C:D,2,FALSE)","v":{"$error":"#N/A"}}]
[{"$nulls":7},{"$f":"VLOOKUP(G1233,数据2!C:D,2,FALSE)","v":{"$error":"#N/A"}}]
[{"$nulls":7},{"$f":"VLOOKUP(G1234,数据2!C:D,2,FALSE)","v":{"$error":"#N/A"}}]
[{"$nulls":7},{"$f":"VLOOKUP(G1235,数据2!C:D,2,FALSE)","v":{"$error":"#N/A"}}]
[{"$nulls":7},{"$f":"VLOOKUP(G1236,数据2!C:D,2,FALSE)","v":{"$error":"#N/A"}}]
[{"$nulls":7},{"$f":"VLOOKUP(G1237,数据2!C:D,2,FALSE)","v":{"$error":"#N/A"}}]
[{"$nulls":7},{"$f":"VLOOKUP(G1238,数据2!C:D,2,FALSE)","v":{"$error":"#N/A"}}]
[{"$nulls":7},{"$f":"VLOOKUP(G1239,数据2!C:D,2,FALSE)","v":{"$error":"#N/A"}}]
[{"$nulls":7},{"$f":"VLOOKUP(G1240,数据2!C:D,2,FALSE)","v":{"$error":"#N/A"}}]
[{"$nulls":7},{"$f":"VLOOKUP(G1241,数据2!C:D,2,FALSE)","v":{"$error":"#N/A"}}]
[{"$nulls":7},{"$f":"VLOOKUP(G1242,数据2!C:D,2,FALSE)","v":{"$error":"#N/A"}}]
[{"$nulls":7},{"$f":"VLOOKUP(G1243,数据2!C:D,2,FALSE)","v":{"$error":"#N/A"}}]
[{"$nulls":7},{"$f":"VLOOKUP(G1244,数据2!C:D,2,FALSE)","v":{"$error":"#N/A"}}]
[{"$nulls":7},{"$f":"VLOOKUP(G1245,数据2!C:D,2,FALSE)","v":{"$error":"#N/A"}}]
[{"$nulls":7},{"$f":"VLOOKUP(G1246,数据2!C:D,2,FALSE)","v":{"$error":"#N/A"}}]
[{"$nulls":7},{"$f":"VLOOKUP(G1247,数据2!C:D,2,FALSE)","v":{"$error":"#N/A"}}]
[{"$nulls":7},{"$f":"VLOOKUP(G1248,数据2!C:D,2,FALSE)","v":{"$error":"#N/A"}}]
[{"$nulls":7},{"$f":"VLOOKUP(G1249,数据2!C:D,2,FALSE)","v":{"$error":"#N/A"}}]
[{"$nulls":7},{"$f":"VLOOKUP(G1250,数据2!C:D,2,FALSE)","v":{"$error":"#N/A"}}]
[{"$nulls":7},{"$f":"VLOOKUP(G1251,数据2!C:D,2,FALSE)","v":{"$error":"#N/A"}}]
[{"$nulls":7},{"$f":"VLOOKUP(G1252,数据2!C:D,2,FALSE)","v":{"$error":"#N/A"}}]
[{"$nulls":7},{"$f":"VLOOKUP(G1253,数据2!C:D,2,FALSE)","v":{"$error":"#N/A"}}]
[{"$nulls":7},{"$f":"VLOOKUP(G1254,数据2!C:D,2,FALSE)","v":{"$error":"#N/A"}}]
[{"$nulls":7},{"$f":"VLOOKUP(G1255,数据2!C:D,2,FALSE)","v":{"$error":"#N/A"}}]
[{"$nulls":7},{"$f":"VLOOKUP(G1256,数据2!C:D,2,FALSE)","v":{"$error":"#N/A"}}]
[{"$nulls":7},{"$f":"VLOOKUP(G1257,数据2!C:D,2,FALSE)","v":{"$error":"#N/A"}}]
[{"$nulls":7},{"$f":"VLOOKUP(G1258,数据2!C:D,2,FALSE)","v":{"$error":"#N/A"}}]
[{"$nulls":7},{"$f":"VLOOKUP(G1259,数据2!C:D,2,FALSE)","v":{"$error":"#N/A"}}]
[{"$nulls":7},{"$f":"VLOOKUP(G1260,数据2!C:D,2,FALSE)","v":{"$error":"#N/A"}}]
[{"$nulls":7},{"$f":"VLOOKUP(G1261,数据2!C:D,2,FALSE)","v":{"$error":"#N/A"}}]
[{"$nulls":7},{"$f":"VLOOKUP(G1262,数据2!C:D,2,FALSE)","v":{"$error":"#N/A"}}]
[{"$nulls":7},{"$f":"VLOOKUP(G1263,数据2!C:D,2,FALSE)","v":{"$error":"#N/A"}}]
[{"$nulls":7},{"$f":"VLOOKUP(G1264,数据2!C:D,2,FALSE)","v":{"$error":"#N/A"}}]
[{"$nulls":7},{"$f":"VLOOKUP(G1265,数据2!C:D,2,FALSE)","v":{"$error":"#N/A"}}]
[{"$nulls":7},{"$f":"VLOOKUP(G1266,数据2!C:D,2,FALSE)","v":{"$error":"#N/A"}}]
[{"$nulls":7},{"$f":"VLOOKUP(G1267,数据2!C:D,2,FALSE)","v":{"$error":"#N/A"}}]
[{"$nulls":7},{"$f":"VLOOKUP(G1268,数据2!C:D,2,FALSE)","v":{"$error":"#N/A"}}]
[{"$nulls":7},{"$f":"VLOOKUP(G1269,数据2!C:D,2,FALSE)","v":{"$error":"#N/A"}}]
[{"$nulls":7},{"$f":"VLOOKUP(G1270,数据2!C:D,2,FALSE)","v":{"$error":"#N/A"}}]
[{"$nulls":7},{"$f":"VLOOKUP(G1271,数据2!C:D,2,FALSE)","v":{"$error":"#N/A"}}]
[{"$nulls":7},{"$f":"VLOOKUP(G1272,数据2!C:D,2,FALSE)","v":{"$error":"#N/A"}}]
[{"$nulls":7},{"$f":"VLOOKUP(G1273,数据2!C:D,2,FALSE)","v":{"$error":"#N/A"}}]
[{"$nulls":7},{"$f":"VLOOKUP(G1274,数据2!C:D,2,FALSE)","v":{"$error":"#N/A"}}]
[{"$nulls":7},{"$f":"VLOOKUP(G1275,数据2!C:D,2,FALSE)","v":{"$error":"#N/A"}}]
[{"$nulls":7},{"$f":"VLOOKUP(G1276,数据2!C:D,2,FALSE)","v":{"$error":"#N/A"}}]
[{"$nulls":7},{"$f":"VLOOKUP(G1277,数据2!C:D,2,FALSE)","v":{"$error":"#N/A"}}]
[{"$nulls":7},{"$f":"VLOOKUP(G1278,数据2!C:D,2,FALSE)","v":{"$error":"#N/A"}}]
[{"$nulls":7},{"$f":"VLOOKUP(G1279,数据2!C:D,2,FALSE)","v":{"$error":"#N/A"}}]
[{"$nulls":7},{"$f":"VLOOKUP(G1280,数据2!C:D,2,FALSE)","v":{"$error":"#N/A"}}]
[{"$nulls":7},{"$f":"VLOOKUP(G1281,数据2!C:D,2,FALSE)","v":{"$error":"#N/A"}}]
[{"$nulls":7},{"$f":"VLOOKUP(G1282,数据2!C:D,2,FALSE)","v":{"$error":"#N/A"}}]
[{"$nulls":7},{"$f":"VLOOKUP(G1283,数据2!C:D,2,FALSE)","v":{"$error":"#N/A"}}]
[{"$nulls":7},{"$f":"VLOOKUP(G1284,数据2!C:D,2,FALSE)","v":{"$error":"#N/A"}}]
[{"$nulls":7},{"$f":"VLOOKUP(G1285,数据2!C:D,2,FALSE)","v":{"$error":"#N/A"}}]
[{"$nulls":7},{"$f":"VLOOKUP(G1286,数据2!C:D,2,FALSE)","v":{"$error":"#N/A"}}]
[{"$nulls":7},{"$f":"VLOOKUP(G1287,数据2!C:D,2,FALSE)","v":{"$error":"#N/A"}}]
[{"$nulls":7},{"$f":"VLOOKUP(G1288,数据2!C:D,2,FALSE)","v":{"$error":"#N/A"}}]
[{"$nulls":7},{"$f":"VLOOKUP(G1289,数据2!C:D,2,FALSE)","v":{"$error":"#N/A"}}]
[{"$nulls":7},{"$f":"VLOOKUP(G1290,数据2!C:D,2,FALSE)","v":{"$error":"#N/A"}}]
[{"$nulls":7},{"$f":"VLOOKUP(G1291,数据2!C:D,2,FALSE)","v":{"$error":"#N/A"}}]
[{"$nulls":7},{"$f":"VLOOKUP(G1292,数据2!C:D,2,FALSE)","v":{"$error":"#N/A"}}]
[{"$nulls":7},{"$f":"VLOOKUP(G1293,数据2!C:D,2,FALSE)","v":{"$error":"#N/A"}}]
[{"$nulls":7},{"$f":"VLOOKUP(G1294,数据2!C:D,2,FALSE)","v":{"$error":"#N/A"}}]
[{"$nulls":7},{"$f":"VLOOKUP(G1295,数据2!C:D,2,FALSE)","v":{"$error":"#N/A"}}]
[{"$nulls":7},{"$f":"VLOOKUP(G1296,数据2!C:D,2,FALSE)","v":{"$error":"#N/A"}}]
[{"$nulls":7},{"$f":"VLOOKUP(G1297,数据2!C:D,2,FALSE)","v":{"$error":"#N/A"}}]
[{"$nulls":7},{"$f":"VLOOKUP(G1298,数据2!C:D,2,FALSE)","v":{"$error":"#N/A"}}]
[{"$nulls":7},{"$f":"VLOOKUP(G1299,数据2!C:D,2,FALSE)","v":{"$error":"#N/A"}}]
[{"$nulls":7},{"$f":"VLOOKUP(G1300,数据2!C:D,2,FALSE)","v":{"$error":"#N/A"}}]
[{"$nulls":7},{"$f":"VLOOKUP(G1301,数据2!C:D,2,FALSE)","v":{"$error":"#N/A"}}]
[{"$nulls":7},{"$f":"VLOOKUP(G1302,数据2!C:D,2,FALSE)","v":{"$error":"#N/A"}}]
[{"$nulls":7},{"$f":"VLOOKUP(G1303,数据2!C:D,2,FALSE)","v":{"$error":"#N/A"}}]
[{"$nulls":7},{"$f":"VLOOKUP(G1304,数据2!C:D,2,FALSE)","v":{"$error":"#N/A"}}]
[{"$nulls":7},{"$f":"VLOOKUP(G1305,数据2!C:D,2,FALSE)","v":{"$error":"#N/A"}}]
[{"$nulls":7},{"$f":"VLOOKUP(G1306,数据2!C:D,2,FALSE)","v":{"$error":"#N/A"}}]
[{"$nulls":7},{"$f":"VLOOKUP(G1307,数据2!C:D,2,FALSE)","v":{"$error":"#N/A"}}]
[{"$nulls":7},{"$f":"VLOOKUP(G1308,数据2!C:D,2,FALSE)","v":{"$error":"#N/A"}}]
[{"$nulls":7},{"$f":"VLOOKUP(G1309,数据2!C:D,2,FALSE)","v":{"$error":"#N/A"}}]
[{"$nulls":7},{"$f":"VLOOKUP(G1310,数据2!C:D,2,FALSE)","v":{"$error":"#N/A"}}]
[{"$nulls":7},{"$f":"VLOOKUP(G1311,数据2!C:D,2,FALSE)","v":{"$error":"#N/A"}}]
[{"$nulls":7},{"$f":"VLOOKUP(G1312,数据2!C:D,2,FALSE)","v":{"$error":"#N/A"}}]
[{"$nulls":7},{"$f":"VLOOKUP(G1313,数据2!C:D,2,FALSE)","v":{"$error":"#N/A"}}]
[{"$nulls":7},{"$f":"VLOOKUP(G1314,数据2!C:D,2,FALSE)","v":{"$error":"#N/A"}}]
[{"$nulls":7},{"$f":"VLOOKUP(G1315,数据2!C:D,2,FALSE)","v":{"$error":"#N/A"}}]
[{"$nulls":7},{"$f":"VLOOKUP(G1316,数据2!C:D,2,FALSE)","v":{"$error":"#N/A"}}]
[{"$nulls":7},{"$f":"VLOOKUP(G1317,数据2!C:D,2,FALSE)","v":{"$error":"#N/A"}}]
[{"$nulls":7},{"$f":"VLOOKUP(G1318,数据2!C:D,2,FALSE)","v":{"$error":"#N/A"}}]
[{"$nulls":7},{"$f":"VLOOKUP(G1319,数据2!C:D,2,FALSE)","v":{"$error":"#N/A"}}]
[{"$nulls":7},{"$f":"VLOOKUP(G1320,数据2!C:D,2,FALSE)","v":{"$error":"#N/A"}}]
[{"$nulls":7},{"$f":"VLOOKUP(G1321,数据2!C:D,2,FALSE)","v":{"$error":"#N/A"}}]
[{"$nulls":7},{"$f":"VLOOKUP(G1322,数据2!C:D,2,FALSE)","v":{"$error":"#N/A"}}]
[{"$nulls":7},{"$f":"VLOOKUP(G1323,数据2!C:D,2,FALSE)","v":{"$error":"#N/A"}}]
[{"$nulls":7},{"$f":"VLOOKUP(G1324,数据2!C:D,2,FALSE)","v":{"$error":"#N/A"}}]
[{"$nulls":7},{"$f":"VLOOKUP(G1325,数据2!C:D,2,FALSE)","v":{"$error":"#N/A"}}]
[{"$nulls":7},{"$f":"VLOOKUP(G1326,数据2!C:D,2,FALSE)","v":{"$error":"#N/A"}}]
[{"$nulls":7},{"$f":"VLOOKUP(G1327,数据2!C:D,2,FALSE)","v":{"$error":"#N/A"}}]
[{"$nulls":7},{"$f":"VLOOKUP(G1328,数据2!C:D,2,FALSE)","v":{"$error":"#N/A"}}]
[{"$nulls":7},{"$f":"VLOOKUP(G1329,数据2!C:D,2,FALSE)","v":{"$error":"#N/A"}}]
[{"$nulls":7},{"$f":"VLOOKUP(G1330,数据2!C:D,2,FALSE)","v":{"$error":"#N/A"}}]
[{"$nulls":7},{"$f":"VLOOKUP(G1331,数据2!C:D,2,FALSE)","v":{"$error":"#N/A"}}]
[{"$nulls":7},{"$f":"VLOOKUP(G1332,数据2!C:D,2,FALSE)","v":{"$error":"#N/A"}}]
[{"$nulls":7},{"$f":"VLOOKUP(G1333,数据2!C:D,2,FALSE)","v":{"$error":"#N/A"}}]
[{"$nulls":7},{"$f":"VLOOKUP(G1334,数据2!C:D,2,FALSE)","v":{"$error":"#N/A"}}]
[{"$nulls":7},{"$f":"VLOOKUP(G1335,数据2!C:D,2,FALSE)","v":{"$error":"#N/A"}}]
[{"$nulls":7},{"$f":"VLOOKUP(G1336,数据2!C:D,2,FALSE)","v":{"$error":"#N/A"}}]
[{"$nulls":7},{"$f":"VLOOKUP(G1337,数据2!C:D,2,FALSE)","v":{"$error":"#N/A"}}]
[{"$nulls":7},{"$f":"VLOOKUP(G1338,数据2!C:D,2,FALSE)","v":{"$error":"#N/A"}}]
[{"$nulls":7},{"$f":"VLOOKUP(G1339,数据2!C:D,2,FALSE)","v":{"$error":"#N/A"}}]
[{"$nulls":7},{"$f":"VLOOKUP(G1340,数据2!C:D,2,FALSE)","v":{"$error":"#N/A"}}]
[{"$nulls":7},{"$f":"VLOOKUP(G1341,数据2!C:D,2,FALSE)","v":{"$error":"#N/A"}}]
[{"$nulls":7},{"$f":"VLOOKUP(G1342,数据2!C:D,2,FALSE)","v":{"$error":"#N/A"}}]
[{"$nulls":7},{"$f":"VLOOKUP(G1343,数据2!C:D,2,FALSE)","v":{"$error":"#N/A"}}]
[{"$nulls":7},{"$f":"VLOOKUP(G1344,数据2!C:D,2,FALSE)","v":{"$error":"#N/A"}}]
[{"$nulls":7},{"$f":"VLOOKUP(G1345,数据2!C:D,2,FALSE)","v":{"$error":"#N/A"}}]
[{"$nulls":7},{"$f":"VLOOKUP(G1346,数据2!C:D,2,FALSE)","v":{"$error":"#N/A"}}]
[{"$nulls":7},{"$f":"VLOOKUP(G1347,数据2!C:D,2,FALSE)","v":{"$error":"#N/A"}}]
[{"$nulls":7},{"$f":"VLOOKUP(G1348,数据2!C:D,2,FALSE)","v":{"$error":"#N/A"}}]
[{"$nulls":7},{"$f":"VLOOKUP(G1349,数据2!C:D,2,FALSE)","v":{"$error":"#N/A"}}]
[{"$nulls":7},{"$f":"VLOOKUP(G1350,数据2!C:D,2,FALSE)","v":{"$error":"#N/A"}}]
[{"$nulls":7},{"$f":"VLOOKUP(G1351,数据2!C:D,2,FALSE)","v":{"$error":"#N/A"}}]
[{"$nulls":7},{"$f":"VLOOKUP(G1352,数据2!C:D,2,FALSE)","v":{"$error":"#N/A"}}]
[{"$nulls":7},{"$f":"VLOOKUP(G1353,数据2!C:D,2,FALSE)","v":{"$error":"#N/A"}}]
[{"$nulls":7},{"$f":"VLOOKUP(G1354,数据2!C:D,2,FALSE)","v":{"$error":"#N/A"}}]
[{"$nulls":7},{"$f":"VLOOKUP(G1355,数据2!C:D,2,FALSE)","v":{"$error":"#N/A"}}]
[{"$nulls":7},{"$f":"VLOOKUP(G1356,数据2!C:D,2,FALSE)","v":{"$error":"#N/A"}}]
[{"$nulls":7},{"$f":"VLOOKUP(G1357,数据2!C:D,2,FALSE)","v":{"$error":"#N/A"}}]
[{"$nulls":7},{"$f":"VLOOKUP(G1358,数据2!C:D,2,FALSE)","v":{"$error":"#N/A"}}]
[{"$nulls":7},{"$f":"VLOOKUP(G1359,数据2!C:D,2,FALSE)","v":{"$error":"#N/A"}}]
[{"$nulls":7},{"$f":"VLOOKUP(G1360,数据2!C:D,2,FALSE)","v":{"$error":"#N/A"}}]
[{"$nulls":7},{"$f":"VLOOKUP(G1361,数据2!C:D,2,FALSE)","v":{"$error":"#N/A"}}]
[{"$nulls":7},{"$f":"VLOOKUP(G1362,数据2!C:D,2,FALSE)","v":{"$error":"#N/A"}}]
[{"$nulls":7},{"$f":"VLOOKUP(G1363,数据2!C:D,2,FALSE)","v":{"$error":"#N/A"}}]
[{"$nulls":7},{"$f":"VLOOKUP(G1364,数据2!C:D,2,FALSE)","v":{"$error":"#N/A"}}]
[{"$nulls":7},{"$f":"VLOOKUP(G1365,数据2!C:D,2,FALSE)","v":{"$error":"#N/A"}}]
[{"$nulls":7},{"$f":"VLOOKUP(G1366,数据2!C:D,2,FALSE)","v":{"$error":"#N/A"}}]
[{"$nulls":7},{"$f":"VLOOKUP(G1367,数据2!C:D,2,FALSE)","v":{"$error":"#N/A"}}]
[{"$nulls":7},{"$f":"VLOOKUP(G1368,数据2!C:D,2,FALSE)","v":{"$error":"#N/A"}}]
[{"$nulls":7},{"$f":"VLOOKUP(G1369,数据2!C:D,2,FALSE)","v":{"$error":"#N/A"}}]
[{"$nulls":7},{"$f":"VLOOKUP(G1370,数据2!C:D,2,FALSE)","v":{"$error":"#N/A"}}]
[{"$nulls":7},{"$f":"VLOOKUP(G1371,数据2!C:D,2,FALSE)","v":{"$error":"#N/A"}}]
[{"$nulls":7},{"$f":"VLOOKUP(G1372,数据2!C:D,2,FALSE)","v":{"$error":"#N/A"}}]
[{"$nulls":7},{"$f":"VLOOKUP(G1373,数据2!C:D,2,FALSE)","v":{"$error":"#N/A"}}]
[{"$nulls":7},{"$f":"VLOOKUP(G1374,数据2!C:D,2,FALSE)","v":{"$error":"#N/A"}}]
[{"$nulls":7},{"$f":"VLOOKUP(G1375,数据2!C:D,2,FALSE)","v":{"$error":"#N/A"}}]
[{"$nulls":7},{"$f":"VLOOKUP(G1376,数据2!C:D,2,FALSE)","v":{"$error":"#N/A"}}]
[{"$nulls":7},{"$f":"VLOOKUP(G1377,数据2!C:D,2,FALSE)","v":{"$error":"#N/A"}}]
[{"$nulls":7},{"$f":"VLOOKUP(G1378,数据2!C:D,2,FALSE)","v":{"$error":"#N/A"}}]
[{"$nulls":7},{"$f":"VLOOKUP(G1379,数据2!C:D,2,FALSE)","v":{"$error":"#N/A"}}]
[{"$nulls":7},{"$f":"VLOOKUP(G1380,数据2!C:D,2,FALSE)","v":{"$error":"#N/A"}}]
[{"$nulls":7},{"$f":"VLOOKUP(G1381,数据2!C:D,2,FALSE)","v":{"$error":"#N/A"}}]
[{"$nulls":7},{"$f":"VLOOKUP(G1382,数据2!C:D,2,FALSE)","v":{"$error":"#N/A"}}]
[{"$nulls":7},{"$f":"VLOOKUP(G1383,数据2!C:D,2,FALSE)","v":{"$error":"#N/A"}}]
[{"$nulls":7},{"$f":"VLOOKUP(G1384,数据2!C:D,2,FALSE)","v":{"$error":"#N/A"}}]
[{"$nulls":7},{"$f":"VLOOKUP(G1385,数据2!C:D,2,FALSE)","v":{"$error":"#N/A"}}]
[{"$nulls":7},{"$f":"VLOOKUP(G1386,数据2!C:D,2,FALSE)","v":{"$error":"#N/A"}}]
[{"$nulls":7},{"$f":"VLOOKUP(G1387,数据2!C:D,2,FALSE)","v":{"$error":"#N/A"}}]
[{"$nulls":7},{"$f":"VLOOKUP(G1388,数据2!C:D,2,FALSE)","v":{"$error":"#N/A"}}]
[{"$nulls":7},{"$f":"VLOOKUP(G1389,数据2!C:D,2,FALSE)","v":{"$error":"#N/A"}}]
[{"$nulls":7},{"$f":"VLOOKUP(G1390,数据2!C:D,2,FALSE)","v":{"$error":"#N/A"}}]
[{"$nulls":7},{"$f":"VLOOKUP(G1391,数据2!C:D,2,FALSE)","v":{"$error":"#N/A"}}]
[{"$nulls":7},{"$f":"VLOOKUP(G1392,数据2!C:D,2,FALSE)","v":{"$error":"#N/A"}}]
[{"$nulls":7},{"$f":"VLOOKUP(G1393,数据2!C:D,2,FALSE)","v":{"$error":"#N/A"}}]
[{"$nulls":7},{"$f":"VLOOKUP(G1394,数据2!C:D,2,FALSE)","v":{"$error":"#N/A"}}]
[{"$nulls":7},{"$f":"VLOOKUP(G1395,数据2!C:D,2,FALSE)","v":{"$error":"#N/A"}}]
[{"$nulls":7},{"$f":"VLOOKUP(G1396,数据2!C:D,2,FALSE)","v":{"$error":"#N/A"}}]
[{"$nulls":7},{"$f":"VLOOKUP(G1397,数据2!C:D,2,FALSE)","v":{"$error":"#N/A"}}]
[{"$nulls":7},{"$f":"VLOOKUP(G1398,数据2!C:D,2,FALSE)","v":{"$error":"#N/A"}}]
[{"$nulls":7},{"$f":"VLOOKUP(G1399,数据2!C:D,2,FALSE)","v":{"$error":"#N/A"}}]
[{"$nulls":7},{"$f":"VLOOKUP(G1400,数据2!C:D,2,FALSE)","v":{"$error":"#N/A"}}]
[{"$nulls":7},{"$f":"VLOOKUP(G1401,数据2!C:D,2,FALSE)","v":{"$error":"#N/A"}}]
[{"$nulls":7},{"$f":"VLOOKUP(G1402,数据2!C:D,2,FALSE)","v":{"$error":"#N/A"}}]
[{"$nulls":7},{"$f":"VLOOKUP(G1403,数据2!C:D,2,FALSE)","v":{"$error":"#N/A"}}]
[{"$nulls":7},{"$f":"VLOOKUP(G1404,数据2!C:D,2,FALSE)","v":{"$error":"#N/A"}}]
[{"$nulls":7},{"$f":"VLOOKUP(G1405,数据2!C:D,2,FALSE)","v":{"$error":"#N/A"}}]
[{"$nulls":7},{"$f":"VLOOKUP(G1406,数据2!C:D,2,FALSE)","v":{"$error":"#N/A"}}]
[{"$nulls":7},{"$f":"VLOOKUP(G1407,数据2!C:D,2,FALSE)","v":{"$error":"#N/A"}}]
[{"$nulls":7},{"$f":"VLOOKUP(G1408,数据2!C:D,2,FALSE)","v":{"$error":"#N/A"}}]
[{"$nulls":7},{"$f":"VLOOKUP(G1409,数据2!C:D,2,FALSE)","v":{"$error":"#N/A"}}]
[{"$nulls":7},{"$f":"VLOOKUP(G1410,数据2!C:D,2,FALSE)","v":{"$error":"#N/A"}}]
[{"$nulls":7},{"$f":"VLOOKUP(G1411,数据2!C:D,2,FALSE)","v":{"$error":"#N/A"}}]
[{"$nulls":7},{"$f":"VLOOKUP(G1412,数据2!C:D,2,FALSE)","v":{"$error":"#N/A"}}]
[{"$nulls":7},{"$f":"VLOOKUP(G1413,数据2!C:D,2,FALSE)","v":{"$error":"#N/A"}}]
[{"$nulls":7},{"$f":"VLOOKUP(G1414,数据2!C:D,2,FALSE)","v":{"$error":"#N/A"}}]
[{"$nulls":7},{"$f":"VLOOKUP(G1415,数据2!C:D,2,FALSE)","v":{"$error":"#N/A"}}]
[{"$nulls":7},{"$f":"VLOOKUP(G1416,数据2!C:D,2,FALSE)","v":{"$error":"#N/A"}}]
[{"$nulls":7},{"$f":"VLOOKUP(G1417,数据2!C:D,2,FALSE)","v":{"$error":"#N/A"}}]
[{"$nulls":7},{"$f":"VLOOKUP(G1418,数据2!C:D,2,FALSE)","v":{"$error":"#N/A"}}]
[{"$nulls":7},{"$f":"VLOOKUP(G1419,数据2!C:D,2,FALSE)","v":{"$error":"#N/A"}}]
[{"$nulls":7},{"$f":"VLOOKUP(G1420,数据2!C:D,2,FALSE)","v":{"$error":"#N/A"}}]
[{"$nulls":7},{"$f":"VLOOKUP(G1421,数据2!C:D,2,FALSE)","v":{"$error":"#N/A"}}]
[{"$nulls":7},{"$f":"VLOOKUP(G1422,数据2!C:D,2,FALSE)","v":{"$error":"#N/A"}}]
[{"$nulls":7},{"$f":"VLOOKUP(G1423,数据2!C:D,2,FALSE)","v":{"$error":"#N/A"}}]
[{"$nulls":7},{"$f":"VLOOKUP(G1424,数据2!C:D,2,FALSE)","v":{"$error":"#N/A"}}]
[{"$nulls":7},{"$f":"VLOOKUP(G1425,数据2!C:D,2,FALSE)","v":{"$error":"#N/A"}}]
[{"$nulls":7},{"$f":"VLOOKUP(G1426,数据2!C:D,2,FALSE)","v":{"$error":"#N/A"}}]
[{"$nulls":7},{"$f":"VLOOKUP(G1427,数据2!C:D,2,FALSE)","v":{"$error":"#N/A"}}]
[{"$nulls":7},{"$f":"VLOOKUP(G1428,数据2!C:D,2,FALSE)","v":{"$error":"#N/A"}}]
[{"$nulls":7},{"$f":"VLOOKUP(G1429,数据2!C:D,2,FALSE)","v":{"$error":"#N/A"}}]
[{"$nulls":7},{"$f":"VLOOKUP(G1430,数据2!C:D,2,FALSE)","v":{"$error":"#N/A"}}]
[{"$nulls":7},{"$f":"VLOOKUP(G1431,数据2!C:D,2,FALSE)","v":{"$error":"#N/A"}}]
[{"$nulls":7},{"$f":"VLOOKUP(G1432,数据2!C:D,2,FALSE)","v":{"$error":"#N/A"}}]
[{"$nulls":7},{"$f":"VLOOKUP(G1433,数据2!C:D,2,FALSE)","v":{"$error":"#N/A"}}]
[{"$nulls":7},{"$f":"VLOOKUP(G1434,数据2!C:D,2,FALSE)","v":{"$error":"#N/A"}}]
[{"$nulls":7},{"$f":"VLOOKUP(G1435,数据2!C:D,2,FALSE)","v":{"$error":"#N/A"}}]
[{"$nulls":7},{"$f":"VLOOKUP(G1436,数据2!C:D,2,FALSE)","v":{"$error":"#N/A"}}]
[{"$nulls":7},{"$f":"VLOOKUP(G1437,数据2!C:D,2,FALSE)","v":{"$error":"#N/A"}}]
[{"$nulls":7},{"$f":"VLOOKUP(G1438,数据2!C:D,2,FALSE)","v":{"$error":"#N/A"}}]
[{"$nulls":7},{"$f":"VLOOKUP(G1439,数据2!C:D,2,FALSE)","v":{"$error":"#N/A"}}]
[{"$nulls":7},{"$f":"VLOOKUP(G1440,数据2!C:D,2,FALSE)","v":{"$error":"#N/A"}}]
[{"$nulls":7},{"$f":"VLOOKUP(G1441,数据2!C:D,2,FALSE)","v":{"$error":"#N/A"}}]
[{"$nulls":7},{"$f":"VLOOKUP(G1442,数据2!C:D,2,FALSE)","v":{"$error":"#N/A"}}]
[{"$nulls":7},{"$f":"VLOOKUP(G1443,数据2!C:D,2,FALSE)","v":{"$error":"#N/A"}}]
[{"$nulls":7},{"$f":"VLOOKUP(G1444,数据2!C:D,2,FALSE)","v":{"$error":"#N/A"}}]
[{"$nulls":7},{"$f":"VLOOKUP(G1445,数据2!C:D,2,FALSE)","v":{"$error":"#N/A"}}]
[{"$nulls":7},{"$f":"VLOOKUP(G1446,数据2!C:D,2,FALSE)","v":{"$error":"#N/A"}}]
[{"$nulls":7},{"$f":"VLOOKUP(G1447,数据2!C:D,2,FALSE)","v":{"$error":"#N/A"}}]
[{"$nulls":7},{"$f":"VLOOKUP(G1448,数据2!C:D,2,FALSE)","v":{"$error":"#N/A"}}]
[{"$nulls":7},{"$f":"VLOOKUP(G1449,数据2!C:D,2,FALSE)","v":{"$error":"#N/A"}}]
[{"$nulls":7},{"$f":"VLOOKUP(G1450,数据2!C:D,2,FALSE)","v":{"$error":"#N/A"}}]
[{"$nulls":7},{"$f":"VLOOKUP(G1451,数据2!C:D,2,FALSE)","v":{"$error":"#N/A"}}]
[{"$nulls":7},{"$f":"VLOOKUP(G1452,数据2!C:D,2,FALSE)","v":{"$error":"#N/A"}}]
[{"$nulls":7},{"$f":"VLOOKUP(G1453,数据2!C:D,2,FALSE)","v":{"$error":"#N/A"}}]
[{"$nulls":7},{"$f":"VLOOKUP(G1454,数据2!C:D,2,FALSE)","v":{"$error":"#N/A"}}]
[{"$nulls":7},{"$f":"VLOOKUP(G1455,数据2!C:D,2,FALSE)","v":{"$error":"#N/A"}}]
[{"$nulls":7},{"$f":"VLOOKUP(G1456,数据2!C:D,2,FALSE)","v":{"$error":"#N/A"}}]
[{"$nulls":7},{"$f":"VLOOKUP(G1457,数据2!C:D,2,FALSE)","v":{"$error":"#N/A"}}]
[{"$nulls":7},{"$f":"VLOOKUP(G1458,数据2!C:D,2,FALSE)","v":{"$error":"#N/A"}}]
[{"$nulls":7},{"$f":"VLOOKUP(G1459,数据2!C:D,2,FALSE)","v":{"$error":"#N/A"}}]
[{"$nulls":7},{"$f":"VLOOKUP(G1460,数据2!C:D,2,FALSE)","v":{"$error":"#N/A"}}]
[{"$nulls":7},{"$f":"VLOOKUP(G1461,数据2!C:D,2,FALSE)","v":{"$error":"#N/A"}}]
[{"$nulls":7},{"$f":"VLOOKUP(G1462,数据2!C:D,2,FALSE)","v":{"$error":"#N/A"}}]
[{"$nulls":7},{"$f":"VLOOKUP(G1463,数据2!C:D,2,FALSE)","v":{"$error":"#N/A"}}]
[{"$nulls":7},{"$f":"VLOOKUP(G1464,数据2!C:D,2,FALSE)","v":{"$error":"#N/A"}}]
[{"$nulls":7},{"$f":"VLOOKUP(G1465,数据2!C:D,2,FALSE)","v":{"$error":"#N/A"}}]
[{"$nulls":7},{"$f":"VLOOKUP(G1466,数据2!C:D,2,FALSE)","v":{"$error":"#N/A"}}]
[{"$nulls":7},{"$f":"VLOOKUP(G1467,数据2!C:D,2,FALSE)","v":{"$error":"#N/A"}}]
[{"$nulls":7},{"$f":"VLOOKUP(G1468,数据2!C:D,2,FALSE)","v":{"$error":"#N/A"}}]
[{"$nulls":7},{"$f":"VLOOKUP(G1469,数据2!C:D,2,FALSE)","v":{"$error":"#N/A"}}]
[{"$nulls":7},{"$f":"VLOOKUP(G1470,数据2!C:D,2,FALSE)","v":{"$error":"#N/A"}}]
[{"$nulls":7},{"$f":"VLOOKUP(G1471,数据2!C:D,2,FALSE)","v":{"$error":"#N/A"}}]
[{"$nulls":7},{"$f":"VLOOKUP(G1472,数据2!C:D,2,FALSE)","v":{"$error":"#N/A"}}]
[{"$nulls":7},{"$f":"VLOOKUP(G1473,数据2!C:D,2,FALSE)","v":{"$error":"#N/A"}}]
[{"$nulls":7},{"$f":"VLOOKUP(G1474,数据2!C:D,2,FALSE)","v":{"$error":"#N/A"}}]
[{"$nulls":7},{"$f":"VLOOKUP(G1475,数据2!C:D,2,FALSE)","v":{"$error":"#N/A"}}]
[{"$nulls":7},{"$f":"VLOOKUP(G1476,数据2!C:D,2,FALSE)","v":{"$error":"#N/A"}}]
[{"$nulls":7},{"$f":"VLOOKUP(G1477,数据2!C:D,2,FALSE)","v":{"$error":"#N/A"}}]
[{"$nulls":7},{"$f":"VLOOKUP(G1478,数据2!C:D,2,FALSE)","v":{"$error":"#N/A"}}]
[{"$nulls":7},{"$f":"VLOOKUP(G1479,数据2!C:D,2,FALSE)","v":{"$error":"#N/A"}}]
[{"$nulls":7},{"$f":"VLOOKUP(G1480,数据2!C:D,2,FALSE)","v":{"$error":"#N/A"}}]
[{"$nulls":7},{"$f":"VLOOKUP(G1481,数据2!C:D,2,FALSE)","v":{"$error":"#N/A"}}]
[{"$nulls":7},{"$f":"VLOOKUP(G1482,数据2!C:D,2,FALSE)","v":{"$error":"#N/A"}}]
[{"$nulls":7},{"$f":"VLOOKUP(G1483,数据2!C:D,2,FALSE)","v":{"$error":"#N/A"}}]
[{"$nulls":7},{"$f":"VLOOKUP(G1484,数据2!C:D,2,FALSE)","v":{"$error":"#N/A"}}]
[{"$nulls":7},{"$f":"VLOOKUP(G1485,数据2!C:D,2,FALSE)","v":{"$error":"#N/A"}}]
[{"$nulls":7},{"$f":"VLOOKUP(G1486,数据2!C:D,2,FALSE)","v":{"$error":"#N/A"}}]
[{"$nulls":7},{"$f":"VLOOKUP(G1487,数据2!C:D,2,FALSE)","v":{"$error":"#N/A"}}]
[{"$nulls":7},{"$f":"VLOOKUP(G1488,数据2!C:D,2,FALSE)","v":{"$error":"#N/A"}}]
[{"$nulls":7},{"$f":"VLOOKUP(G1489,数据2!C:D,2,FALSE)","v":{"$error":"#N/A"}}]
[{"$nulls":7},{"$f":"VLOOKUP(G1490,数据2!C:D,2,FALSE)","v":{"$error":"#N/A"}}]
[{"$nulls":7},{"$f":"VLOOKUP(G1491,数据2!C:D,2,FALSE)","v":{"$error":"#N/A"}}]
[{"$nulls":7},{"$f":"VLOOKUP(G1492,数据2!C:D,2,FALSE)","v":{"$error":"#N/A"}}]
[{"$nulls":7},{"$f":"VLOOKUP(G1493,数据2!C:D,2,FALSE)","v":{"$error":"#N/A"}}]
[{"$nulls":7},{"$f":"VLOOKUP(G1494,数据2!C:D,2,FALSE)","v":{"$error":"#N/A"}}]
[{"$nulls":7},{"$f":"VLOOKUP(G1495,数据2!C:D,2,FALSE)","v":{"$error":"#N/A"}}]
[{"$nulls":7},{"$f":"VLOOKUP(G1496,数据2!C:D,2,FALSE)","v":{"$error":"#N/A"}}]
[{"$nulls":7},{"$f":"VLOOKUP(G1497,数据2!C:D,2,FALSE)","v":{"$error":"#N/A"}}]
[{"$nulls":7},{"$f":"VLOOKUP(G1498,数据2!C:D,2,FALSE)","v":{"$error":"#N/A"}}]
[{"$nulls":7},{"$f":"VLOOKUP(G1499,数据2!C:D,2,FALSE)","v":{"$error":"#N/A"}}]
[{"$nulls":7},{"$f":"VLOOKUP(G1500,数据2!C:D,2,FALSE)","v":{"$error":"#N/A"}}]
[{"$nulls":7},{"$f":"VLOOKUP(G1501,数据2!C:D,2,FALSE)","v":{"$error":"#N/A"}}]
[{"$nulls":7},{"$f":"VLOOKUP(G1502,数据2!C:D,2,FALSE)","v":{"$error":"#N/A"}}]
[{"$nulls":7},{"$f":"VLOOKUP(G1503,数据2!C:D,2,FALSE)","v":{"$error":"#N/A"}}]
[{"$nulls":7},{"$f":"VLOOKUP(G1504,数据2!C:D,2,FALSE)","v":{"$error":"#N/A"}}]
[{"$nulls":7},{"$f":"VLOOKUP(G1505,数据2!C:D,2,FALSE)","v":{"$error":"#N/A"}}]
[{"$nulls":7},{"$f":"VLOOKUP(G1506,数据2!C:D,2,FALSE)","v":{"$error":"#N/A"}}]
[{"$nulls":7},{"$f":"VLOOKUP(G1507,数据2!C:D,2,FALSE)","v":{"$error":"#N/A"}}]
[{"$nulls":7},{"$f":"VLOOKUP(G1508,数据2!C:D,2,FALSE)","v":{"$error":"#N/A"}}]
[{"$nulls":7},{"$f":"VLOOKUP(G1509,数据2!C:D,2,FALSE)","v":{"$error":"#N/A"}}]

{"sheet":"2025年实习计划--其他","index":1,"n_rows":1303,"n_cols":24,"rows_kept":1303,"merged":[[0,0,0,23],[1,0,1,23]]}
["北京石油化工学院2025年度实习计划表---其他实习(非燕化实习均填此表）"]
["1、请各位老师在绿色区域直接选择下拉菜单中的选项，无需手动输入\n2、请各位老师在填写“实习起始/终止时间”两列时，按2025/12/06格式输入日期"]
["序号","学期","院系","专业","班级","实践环节课程名称",null,"课程号","总周数","周次","学生男","学生女","学生人数","教师人数","教师男","教师女","实习起始时间","实习终止时间","实习类型","实习单位名称/场所","实习目的、内容与要求","带队教师姓名、联系方式、邮箱","经费预算","说明或备用方案"]
["示例","2025春","机械工程学院","人工智能","化18-123","认识实习",{"$f":"C4&F4","v":"机械工程学院认识实习"},{"$f":"VLOOKUP(G4,数据2!C:D,2,FALSE)","v":"EPE204"},3,"17-19周",43,28,71,null,1,1,"2024-06-13","2024-07-01","校内"]
[null,null,"安全工程学院","安全工程",{"$nulls":3},{"$f":"VLOOKUP(G5,数据2!C:D,2,FALSE)","v":{"$error":"#N/A"}},{"$nulls":10},"校外"]
[null,null,"新材料与化工学院","应用化学",null,null,{"$f":"C6&F6","v":"新材料与化工学院"},{"$f":"VLOOKUP(G6,数据2!C:D,2,FALSE)","v":{"$error":"#N/A"}}]
[null,null,"经济管理学院",{"$nulls":3},"经济管理学院",{"$f":"VLOOKUP(G7,数据2!C:D,2,FALSE)","v":{"$error":"#N/A"}}]
[{"$nulls":6},"",{"$f":"VLOOKUP(G8,数据2!C:D,2,FALSE)","v":{"$error":"#N/A"}}]
[{"$nulls":6},"",{"$f":"VLOOKUP(G9,数据2!C:D,2,FALSE)","v":{"$error":"#N/A"}}]
[{"$nulls":6},"",{"$f":"VLOOKUP(G10,数据2!C:D,2,FALSE)","v":{"$error":"#N/A"}}]
[{"$nulls":6},"",{"$f":"VLOOKUP(G11,数据2!C:D,2,FALSE)","v":{"$error":"#N/A"}}]
[{"$nulls":6},"",{"$f":"VLOOKUP(G12,数据2!C:D,2,FALSE)","v":{"$error":"#N/A"}}]
[{"$nulls":6},"",{"$f":"VLOOKUP(G13,数据2!C:D,2,FALSE)","v":{"$error":"#N/A"}}]
[{"$nulls":6},"",{"$f":"VLOOKUP(G14,数据2!C:D,2,FALSE)","v":{"$error":"#N/A"}}]
[{"$nulls":6},"",{"$f":"VLOOKUP(G15,数据2!C:D,2,FALSE)","v":{"$error":"#N/A"}}]
[{"$nulls":6},"",{"$f":"VLOOKUP(G16,数据2!C:D,2,FALSE)","v":{"$error":"#N/A"}}]
[{"$nulls":6},"",{"$f":"VLOOKUP(G17,数据2!C:D,2,FALSE)","v":{"$error":"#N/A"}}]
[{"$nulls":6},"",{"$f":"VLOOKUP(G18,数据2!C:D,2,FALSE)","v":{"$error":"#N/A"}}]
[{"$nulls":6},"",{"$f":"VLOOKUP(G19,数据2!C:D,2,FALSE)","v":{"$error":"#N/A"}}]
[{"$nulls":6},"",{"$f":"VLOOKUP(G20,数据2!C:D,2,FALSE)","v":{"$error":"#N/A"}}]
[{"$nulls":6},"",{"$f":"VLOOKUP(G21,数据2!C:D,2,FALSE)","v":{"$error":"#N/A"}}]
[{"$nulls":6},"",{"$f":"VLOOKUP(G22,数据2!C:D,2,FALSE)","v":{"$error":"#N/A"}}]
[{"$nulls":6},"",{"$f":"VLOOKUP(G23,数据2!C:D,2,FALSE)","v":{"$error":"#N/A"}}]
[{"$nulls":6},"",{"$f":"VLOOKUP(G24,数据2!C:D,2,FALSE)","v":{"$error":"#N/A"}}]
[{"$nulls":6},"",{"$f":"VLOOKUP(G25,数据2!C:D,2,FALSE)","v":{"$error":"#N/A"}}]
[{"$nulls":6},"",{"$f":"VLOOKUP(G26,数据2!C:D,2,FALSE)","v":{"$error":"#N/A"}}]
[{"$nulls":6},"",{"$f":"VLOOKUP(G27,数据2!C:D,2,FALSE)","v":{"$error":"#N/A"}}]
[{"$nulls":6},"",{"$f":"VLOOKUP(G28,数据2!C:D,2,FALSE)","v":{"$error":"#N/A"}}]
[{"$nulls":6},"",{"$f":"VLOOKUP(G29,数据2!C:D,2,FALSE)","v":{"$error":"#N/A"}}]
[{"$nulls":6},"",{"$f":"VLOOKUP(G30,数据2!C:D,2,FALSE)","v":{"$error":"#N/A"}}]
[{"$nulls":6},"",{"$f":"VLOOKUP(G31,数据2!C:D,2,FALSE)","v":{"$error":"#N/A"}}]
[{"$nulls":6},"",{"$f":"VLOOKUP(G32,数据2!C:D,2,FALSE)","v":{"$error":"#N/A"}}]
[{"$nulls":6},"",{"$f":"VLOOKUP(G33,数据2!C:D,2,FALSE)","v":{"$error":"#N/A"}}]
[{"$nulls":6},"",{"$f":"VLOOKUP(G34,数据2!C:D,2,FALSE)","v":{"$error":"#N/A"}}]
[{"$nulls":6},"",{"$f":"VLOOKUP(G35,数据2!C:D,2,FALSE)","v":{"$error":"#N/A"}}]
[{"$nulls":6},"",{"$f":"VLOOKUP(G36,数据2!C:D,2,FALSE)","v":{"$error":"#N/A"}}]
[{"$nulls":6},"",{"$f":"VLOOKUP(G37,数据2!C:D,2,FALSE)","v":{"$error":"#N/A"}}]
[{"$nulls":6},"",{"$f":"VLOOKUP(G38,数据2!C:D,2,FALSE)","v":{"$error":"#N/A"}}]
[{"$nulls":6},"",{"$f":"VLOOKUP(G39,数据2!C:D,2,FALSE)","v":{"$error":"#N/A"}}]
[{"$nulls":6},"",{"$f":"VLOOKUP(G40,数据2!C:D,2,FALSE)","v":{"$error":"#N/A"}}]
[{"$nulls":6},"",{"$f":"VLOOKUP(G41,数据2!C:D,2,FALSE)","v":{"$error":"#N/A"}}]
[{"$nulls":6},"",{"$f":"VLOOKUP(G42,数据2!C:D,2,FALSE)","v":{"$error":"#N/A"}}]
[{"$nulls":6},"",{"$f":"VLOOKUP(G43,数据2!C:D,2,FALSE)","v":{"$error":"#N/A"}}]
[{"$nulls":6},"",{"$f":"VLOOKUP(G44,数据2!C:D,2,FALSE)","v":{"$error":"#N/A"}}]
[{"$nulls":6},"",{"$f":"VLOOKUP(G45,数据2!C:D,2,FALSE)","v":{"$error":"#N/A"}}]
[{"$nulls":6},"",{"$f":"VLOOKUP(G46,数据2!C:D,2,FALSE)","v":{"$error":"#N/A"}}]
[{"$nulls":6},"",{"$f":"VLOOKUP(G47,数据2!C:D,2,FALSE)","v":{"$error":"#N/A"}}]
[{"$nulls":6},"",{"$f":"VLOOKUP(G48,数据2!C:D,2,FALSE)","v":{"$error":"#N/A"}}]
[{"$nulls":6},"",{"$f":"VLOOKUP(G49,数据2!C:D,2,FALSE)","v":{"$error":"#N/A"}}]
[{"$nulls":6},"",{"$f":"VLOOKUP(G50,数据2!C:D,2,FALSE)","v":{"$error":"#N/A"}}]
[{"$nulls":6},"",{"$f":"VLOOKUP(G51,数据2!C:D,2,FALSE)","v":{"$error":"#N/A"}}]
[{"$nulls":6},"",{"$f":"VLOOKUP(G52,数据2!C:D,2,FALSE)","v":{"$error":"#N/A"}}]
[{"$nulls":6},"",{"$f":"VLOOKUP(G53,数据2!C:D,2,FALSE)","v":{"$error":"#N/A"}}]
[{"$nulls":6},"",{"$f":"VLOOKUP(G54,数据2!C:D,2,FALSE)","v":{"$error":"#N/A"}}]
[{"$nulls":6},"",{"$f":"VLOOKUP(G55,数据2!C:D,2,FALSE)","v":{"$error":"#N/A"}}]
[{"$nulls":6},"",{"$f":"VLOOKUP(G56,数据2!C:D,2,FALSE)","v":{"$error":"#N/A"}}]
[{"$nulls":6},"",{"$f":"VLOOKUP(G57,数据2!C:D,2,FALSE)","v":{"$error":"#N/A"}}]
[{"$nulls":6},"",{"$f":"VLOOKUP(G58,数据2!C:D,2,FALSE)","v":{"$error":"#N/A"}}]
[{"$nulls":6},"",{"$f":"VLOOKUP(G59,数据2!C:D,2,FALSE)","v":{"$error":"#N/A"}}]
[{"$nulls":6},"",{"$f":"VLOOKUP(G60,数据2!C:D,2,FALSE)","v":{"$error":"#N/A"}}]
[{"$nulls":6},"",{"$f":"VLOOKUP(G61,数据2!C:D,2,FALSE)","v":{"$error":"#N/A"}}]
[{"$nulls":6},"",{"$f":"VLOOKUP(G62,数据2!C:D,2,FALSE)","v":{"$error":"#N/A"}}]
[{"$nulls":6},"",{"$f":"VLOOKUP(G63,数据2!C:D,2,FALSE)","v":{"$error":"#N/A"}}]
[{"$nulls":6},"",{"$f":"VLOOKUP(G64,数据2!C:D,2,FALSE)","v":{"$error":"#N/A"}}]
[{"$nulls":6},"",{"$f":"VLOOKUP(G65,数据2!C:D,2,FALSE)","v":{"$error":"#N/A"}}]
[{"$nulls":6},"",{"$f":"VLOOKUP(G66,数据2!C:D,2,FALSE)","v":{"$error":"#N/A"}}]
[{"$nulls":6},"",{"$f":"VLOOKUP(G67,数据2!C:D,2,FALSE)","v":{"$error":"#N/A"}}]
[{"$nulls":6},"",{"$f":"VLOOKUP(G68,数据2!C:D,2,FALSE)","v":{"$error":"#N/A"}}]
[{"$nulls":6},{"$f":"C69&F69","v":""},{"$f":"VLOOKUP(G69,数据2!C:D,2,FALSE)","v":{"$error":"#N/A"}}]
[{"$nulls":6},"",{"$f":"VLOOKUP(G70,数据2!C:D,2,FALSE)","v":{"$error":"#N/A"}}]
[{"$nulls":6},"",{"$f":"VLOOKUP(G71,数据2!C:D,2,FALSE)","v":{"$error":"#N/A"}}]
[{"$nulls":6},"",{"$f":"VLOOKUP(G72,数据2!C:D,2,FALSE)","v":{"$error":"#N/A"}}]
[{"$nulls":6},"",{"$f":"VLOOKUP(G73,数据2!C:D,2,FALSE)","v":{"$error":"#N/A"}}]
[{"$nulls":6},"",{"$f":"VLOOKUP(G74,数据2!C:D,2,FALSE)","v":{"$error":"#N/A"}}]
[{"$nulls":6},"",{"$f":"VLOOKUP(G75,数据2!C:D,2,FALSE)","v":{"$error":"#N/A"}}]
[{"$nulls":6},"",{"$f":"VLOOKUP(G76,数据2!C:D,2,FALSE)","v":{"$error":"#N/A"}}]
[{"$nulls":6},"",{"$f":"VLOOKUP(G77,数据2!C:D,2,FALSE)","v":{"$error":"#N/A"}}]
[{"$nulls":6},"",{"$f":"VLOOKUP(G78,数据2!C:D,2,FALSE)","v":{"$error":"#N/A"}}]
[{"$nulls":6},"",{"$f":"VLOOKUP(G79,数据2!C:D,2,FALSE)","v":{"$error":"#N/A"}}]
[{"$nulls":6},"",{"$f":"VLOOKUP(G80,数据2!C:D,2,FALSE)","v":{"$error":"#N/A"}}]
[{"$nulls":6},"",{"$f":"VLOOKUP(G81,数据2!C:D,2,FALSE)","v":{"$error":"#N/A"}}]
[{"$nulls":6},"",{"$f":"VLOOKUP(G82,数据2!C:D,2,FALSE)","v":{"$error":"#N/A"}}]
[{"$nulls":6},"",{"$f":"VLOOKUP(G83,数据2!C:D,2,FALSE)","v":{"$error":"#N/A"}}]
[{"$nulls":6},"",{"$f":"VLOOKUP(G84,数据2!C:D,2,FALSE)","v":{"$error":"#N/A"}}]
[{"$nulls":6},"",{"$f":"VLOOKUP(G85,数据2!C:D,2,FALSE)","v":{"$error":"#N/A"}}]
[{"$nulls":6},"",{"$f":"VLOOKUP(G86,数据2!C:D,2,FALSE)","v":{"$error":"#N/A"}}]
[{"$nulls":6},"",{"$f":"VLOOKUP(G87,数据2!C:D,2,FALSE)","v":{"$error":"#N/A"}}]
[{"$nulls":6},"",{"$f":"VLOOKUP(G88,数据2!C:D,2,FALSE)","v":{"$error":"#N/A"}}]
[{"$nulls":6},"",{"$f":"VLOOKUP(G89,数据2!C:D,2,FALSE)","v":{"$error":"#N/A"}}]
[{"$nulls":6},"",{"$f":"VLOOKUP(G90,数据2!C:D,2,FALSE)","v":{"$error":"#N/A"}}]
[{"$nulls":6},"",{"$f":"VLOOKUP(G91,数据2!C:D,2,FALSE)","v":{"$error":"#N/A"}}]
[{"$nulls":6},"",{"$f":"VLOOKUP(G92,数据2!C:D,2,FALSE)","v":{"$error":"#N/A"}}]
[{"$nulls":6},"",{"$f":"VLOOKUP(G93,数据2!C:D,2,FALSE)","v":{"$error":"#N/A"}}]
[{"$nulls":6},"",{"$f":"VLOOKUP(G94,数据2!C:D,2,FALSE)","v":{"$error":"#N/A"}}]
[{"$nulls":6},"",{"$f":"VLOOKUP(G95,数据2!C:D,2,FALSE)","v":{"$error":"#N/A"}}]
[{"$nulls":6},"",{"$f":"VLOOKUP(G96,数据2!C:D,2,FALSE)","v":{"$error":"#N/A"}}]
[{"$nulls":6},"",{"$f":"VLOOKUP(G97,数据2!C:D,2,FALSE)","v":{"$error":"#N/A"}}]
[{"$nulls":6},"",{"$f":"VLOOKUP(G98,数据2!C:D,2,FALSE)","v":{"$error":"#N/A"}}]
[{"$nulls":6},"",{"$f":"VLOOKUP(G99,数据2!C:D,2,FALSE)","v":{"$error":"#N/A"}}]
[{"$nulls":6},"",{"$f":"VLOOKUP(G100,数据2!C:D,2,FALSE)","v":{"$error":"#N/A"}}]
[{"$nulls":6},"",{"$f":"VLOOKUP(G101,数据2!C:D,2,FALSE)","v":{"$error":"#N/A"}}]
[{"$nulls":6},"",{"$f":"VLOOKUP(G102,数据2!C:D,2,FALSE)","v":{"$error":"#N/A"}}]
[{"$nulls":6},"",{"$f":"VLOOKUP(G103,数据2!C:D,2,FALSE)","v":{"$error":"#N/A"}}]
[{"$nulls":6},"",{"$f":"VLOOKUP(G104,数据2!C:D,2,FALSE)","v":{"$error":"#N/A"}}]
[{"$nulls":6},"",{"$f":"VLOOKUP(G105,数据2!C:D,2,FALSE)","v":{"$error":"#N/A"}}]
[{"$nulls":6},"",{"$f":"VLOOKUP(G106,数据2!C:D,2,FALSE)","v":{"$error":"#N/A"}}]
[{"$nulls":6},"",{"$f":"VLOOKUP(G107,数据2!C:D,2,FALSE)","v":{"$error":"#N/A"}}]
[{"$nulls":6},"",{"$f":"VLOOKUP(G108,数据2!C:D,2,FALSE)","v":{"$error":"#N/A"}}]
[{"$nulls":6},"",{"$f":"VLOOKUP(G109,数据2!C:D,2,FALSE)","v":{"$error":"#N/A"}}]
[{"$nulls":6},"",{"$f":"VLOOKUP(G110,数据2!C:D,2,FALSE)","v":{"$error":"#N/A"}}]
[{"$nulls":6},"",{"$f":"VLOOKUP(G111,数据2!C:D,2,FALSE)","v":{"$error":"#N/A"}}]
[{"$nulls":6},"",{"$f":"VLOOKUP(G112,数据2!C:D,2,FALSE)","v":{"$error":"#N/A"}}]
[{"$nulls":6},"",{"$f":"VLOOKUP(G113,数据2!C:D,2,FALSE)","v":{"$error":"#N/A"}}]
[{"$nulls":6},"",{"$f":"VLOOKUP(G114,数据2!C:D,2,FALSE)","v":{"$error":"#N/A"}}]
[{"$nulls":6},"",{"$f":"VLOOKUP(G115,数据2!C:D,2,FALSE)","v":{"$error":"#N/A"}}]
[{"$nulls":6},"",{"$f":"VLOOKUP(G116,数据2!C:D,2,FALSE)","v":{"$error":"#N/A"}}]
[{"$nulls":6},"",{"$f":"VLOOKUP(G117,数据2!C:D,2,FALSE)","v":{"$error":"#N/A"}}]
[{"$nulls":6},"",{"$f":"VLOOKUP(G118,数据2!C:D,2,FALSE)","v":{"$error":"#N/A"}}]
[{"$nulls":6},"",{"$f":"VLOOKUP(G119,数据2!C:D,2,FALSE)","v":{"$error":"#N/A"}}]
[{"$nulls":6},"",{"$f":"VLOOKUP(G120,数据2!C:D,2,FALSE)","v":{"$error":"#N/A"}}]
[{"$nulls":6},"",{"$f":"VLOOKUP(G121,数据2!C:D,2,FALSE)","v":{"$error":"#N/A"}}]
[{"$nulls":6},"",{"$f":"VLOOKUP(G122,数据2!C:D,2,FALSE)","v":{"$error":"#N/A"}}]
[{"$nulls":6},"",{"$f":"VLOOKUP(G123,数据2!C:D,2,FALSE)","v":{"$error":"#N/A"}}]
[{"$nulls":6},"",{"$f":"VLOOKUP(G124,数据2!C:D,2,FALSE)","v":{"$error":"#N/A"}}]
[{"$nulls":6},"",{"$f":"VLOOKUP(G125,数据2!C:D,2,FALSE)","v":{"$error":"#N/A"}}]
[{"$nulls":6},"",{"$f":"VLOOKUP(G126,数据2!C:D,2,FALSE)","v":{"$error":"#N/A"}}]
[{"$nulls":6},"",{"$f":"VLOOKUP(G127,数据2!C:D,2,FALSE)","v":{"$error":"#N/A"}}]
[{"$nulls":6},"",{"$f":"VLOOKUP(G128,数据2!C:D,2,FALSE)","v":{"$error":"#N/A"}}]
[{"$nulls":6},"",{"$f":"VLOOKUP(G129,数据2!C:D,2,FALSE)","v":{"$error":"#N/A"}}]
[{"$nulls":6},"",{"$f":"VLOOKUP(G130,数据2!C:D,2,FALSE)","v":{"$error":"#N/A"}}]
[{"$nulls":6},"",{"$f":"VLOOKUP(G131,数据2!C:D,2,FALSE)","v":{"$error":"#N/A"}}]
[{"$nulls":6},"",{"$f":"VLOOKUP(G132,数据2!C:D,2,FALSE)","v":{"$error":"#N/A"}}]
[{"$nulls":6},{"$f":"C133&F133","v":""},{"$f":"VLOOKUP(G133,数据2!C:D,2,FALSE)","v":{"$error":"#N/A"}}]
[{"$nulls":6},"",{"$f":"VLOOKUP(G134,数据2!C:D,2,FALSE)","v":{"$error":"#N/A"}}]
[{"$nulls":6},"",{"$f":"VLOOKUP(G135,数据2!C:D,2,FALSE)","v":{"$error":"#N/A"}}]
[{"$nulls":6},"",{"$f":"VLOOKUP(G136,数据2!C:D,2,FALSE)","v":{"$error":"#N/A"}}]
[{"$nulls":6},"",{"$f":"VLOOKUP(G137,数据2!C:D,2,FALSE)","v":{"$error":"#N/A"}}]
[{"$nulls":6},"",{"$f":"VLOOKUP(G138,数据2!C:D,2,FALSE)","v":{"$error":"#N/A"}}]
[{"$nulls":6},"",{"$f":"VLOOKUP(G139,数据2!C:D,2,FALSE)","v":{"$error":"#N/A"}}]
[{"$nulls":6},"",{"$f":"VLOOKUP(G140,数据2!C:D,2,FALSE)","v":{"$error":"#N/A"}}]
[{"$nulls":6},"",{"$f":"VLOOKUP(G141,数据2!C:D,2,FALSE)","v":{"$error":"#N/A"}}]
[{"$nulls":6},"",{"$f":"VLOOKUP(G142,数据2!C:D,2,FALSE)","v":{"$error":"#N/A"}}]
[{"$nulls":6},"",{"$f":"VLOOKUP(G143,数据2!C:D,2,FALSE)","v":{"$error":"#N/A"}}]
[{"$nulls":6},"",{"$f":"VLOOKUP(G144,数据2!C:D,2,FALSE)","v":{"$error":"#N/A"}}]
[{"$nulls":6},"",{"$f":"VLOOKUP(G145,数据2!C:D,2,FALSE)","v":{"$error":"#N/A"}}]
[{"$nulls":6},"",{"$f":"VLOOKUP(G146,数据2!C:D,2,FALSE)","v":{"$error":"#N/A"}}]
[{"$nulls":6},"",{"$f":"VLOOKUP(G147,数据2!C:D,2,FALSE)","v":{"$error":"#N/A"}}]
[{"$nulls":6},"",{"$f":"VLOOKUP(G148,数据2!C:D,2,FALSE)","v":{"$error":"#N/A"}}]
[{"$nulls":6},"",{"$f":"VLOOKUP(G149,数据2!C:D,2,FALSE)","v":{"$error":"#N/A"}}]
[{"$nulls":6},"",{"$f":"VLOOKUP(G150,数据2!C:D,2,FALSE)","v":{"$error":"#N/A"}}]
[{"$nulls":6},"",{"$f":"VLOOKUP(G151,数据2!C:D,2,FALSE)","v":{"$error":"#N/A"}}]
[{"$nulls":6},"",{"$f":"VLOOKUP(G152,数据2!C:D,2,FALSE)","v":{"$error":"#N/A"}}]
[{"$nulls":6},"",{"$f":"VLOOKUP(G153,数据2!C:D,2,FALSE)","v":{"$error":"#N/A"}}]
[{"$nulls":6},"",{"$f":"VLOOKUP(G154,数据2!C:D,2,FALSE)","v":{"$error":"#N/A"}}]
[{"$nulls":6},"",{"$f":"VLOOKUP(G155,数据2!C:D,2,FALSE)","v":{"$error":"#N/A"}}]
[{"$nulls":6},"",{"$f":"VLOOKUP(G156,数据2!C:D,2,FALSE)","v":{"$error":"#N/A"}}]
[{"$nulls":6},"",{"$f":"VLOOKUP(G157,数据2!C:D,2,FALSE)","v":{"$error":"#N/A"}}]
[{"$nulls":6},"",{"$f":"VLOOKUP(G158,数据2!C:D,2,FALSE)","v":{"$error":"#N/A"}}]
[{"$nulls":6},"",{"$f":"VLOOKUP(G159,数据2!C:D,2,FALSE)","v":{"$error":"#N/A"}}]
[{"$nulls":6},"",{"$f":"VLOOKUP(G160,数据2!C:D,2,FALSE)","v":{"$error":"#N/A"}}]
[{"$nulls":6},"",{"$f":"VLOOKUP(G161,数据2!C:D,2,FALSE)","v":{"$error":"#N/A"}}]
[{"$nulls":6},"",{"$f":"VLOOKUP(G162,数据2!C:D,2,FALSE)","v":{"$error":"#N/A"}}]
[{"$nulls":6},"",{"$f":"VLOOKUP(G163,数据2!C:D,2,FALSE)","v":{"$error":"#N/A"}}]
[{"$nulls":6},"",{"$f":"VLOOKUP(G164,数据2!C:D,2,FALSE)","v":{"$error":"#N/A"}}]
[{"$nulls":6},"",{"$f":"VLOOKUP(G165,数据2!C:D,2,FALSE)","v":{"$error":"#N/A"}}]
[{"$nulls":6},"",{"$f":"VLOOKUP(G166,数据2!C:D,2,FALSE)","v":{"$error":"#N/A"}}]
[{"$nulls":6},"",{"$f":"VLOOKUP(G167,数据2!C:D,2,FALSE)","v":{"$error":"#N/A"}}]
[{"$nulls":6},"",{"$f":"VLOOKUP(G168,数据2!C:D,2,FALSE)","v":{"$error":"#N/A"}}]
[{"$nulls":6},"",{"$f":"VLOOKUP(G169,数据2!C:D,2,FALSE)","v":{"$error":"#N/A"}}]
[{"$nulls":6},"",{"$f":"VLOOKUP(G170,数据2!C:D,2,FALSE)","v":{"$error":"#N/A"}}]
[{"$nulls":6},"",{"$f":"VLOOKUP(G171,数据2!C:D,2,FALSE)","v":{"$error":"#N/A"}}]
[{"$nulls":6},"",{"$f":"VLOOKUP(G172,数据2!C:D,2,FALSE)","v":{"$error":"#N/A"}}]
[{"$nulls":6},"",{"$f":"VLOOKUP(G173,数据2!C:D,2,FALSE)","v":{"$error":"#N/A"}}]
[{"$nulls":6},"",{"$f":"VLOOKUP(G174,数据2!C:D,2,FALSE)","v":{"$error":"#N/A"}}]
[{"$nulls":6},"",{"$f":"VLOOKUP(G175,数据2!C:D,2,FALSE)","v":{"$error":"#N/A"}}]
[{"$nulls":6},"",{"$f":"VLOOKUP(G176,数据2!C:D,2,FALSE)","v":{"$error":"#N/A"}}]
[{"$nulls":6},"",{"$f":"VLOOKUP(G177,数据2!C:D,2,FALSE)","v":{"$error":"#N/A"}}]
[{"$nulls":6},"",{"$f":"VLOOKUP(G178,数据2!C:D,2,FALSE)","v":{"$error":"#N/A"}}]
[{"$nulls":6},"",{"$f":"VLOOKUP(G179,数据2!C:D,2,FALSE)","v":{"$error":"#N/A"}}]
[{"$nulls":6},"",{"$f":"VLOOKUP(G180,数据2!C:D,2,FALSE)","v":{"$error":"#N/A"}}]
[{"$nulls":6},"",{"$f":"VLOOKUP(G181,数据2!C:D,2,FALSE)","v":{"$error":"#N/A"}}]
[{"$nulls":6},"",{"$f":"VLOOKUP(G182,数据2!C:D,2,FALSE)","v":{"$error":"#N/A"}}]
[{"$nulls":6},"",{"$f":"VLOOKUP(G183,数据2!C:D,2,FALSE)","v":{"$error":"#N/A"}}]
[{"$nulls":6},"",{"$f":"VLOOKUP(G184,数据2!C:D,2,FALSE)","v":{"$error":"#N/A"}}]
[{"$nulls":6},"",{"$f":"VLOOKUP(G185,数据2!C:D,2,FALSE)","v":{"$error":"#N/A"}}]
[{"$nulls":6},"",{"$f":"VLOOKUP(G186,数据2!C:D,2,FALSE)","v":{"$error":"#N/A"}}]
[{"$nulls":6},"",{"$f":"VLOOKUP(G187,数据2!C:D,2,FALSE)","v":{"$error":"#N/A"}}]
[{"$nulls":6},"",{"$f":"VLOOKUP(G188,数据2!C:D,2,FALSE)","v":{"$error":"#N/A"}}]
[{"$nulls":6},"",{"$f":"VLOOKUP(G189,数据2!C:D,2,FALSE)","v":{"$error":"#N/A"}}]
[{"$nulls":6},"",{"$f":"VLOOKUP(G190,数据2!C:D,2,FALSE)","v":{"$error":"#N/A"}}]
[{"$nulls":6},"",{"$f":"VLOOKUP(G191,数据2!C:D,2,FALSE)","v":{"$error":"#N/A"}}]
[{"$nulls":6},"",{"$f":"VLOOKUP(G192,数据2!C:D,2,FALSE)","v":{"$error":"#N/A"}}]
[{"$nulls":6},"",{"$f":"VLOOKUP(G193,数据2!C:D,2,FALSE)","v":{"$error":"#N/A"}}]
[{"$nulls":6},"",{"$f":"VLOOKUP(G194,数据2!C:D,2,FALSE)","v":{"$error":"#N/A"}}]
[{"$nulls":6},"",{"$f":"VLOOKUP(G195,数据2!C:D,2,FALSE)","v":{"$error":"#N/A"}}]
[{"$nulls":6},"",{"$f":"VLOOKUP(G196,数据2!C:D,2,FALSE)","v":{"$error":"#N/A"}}]
[{"$nulls":6},{"$f":"C197&F197","v":""},{"$f":"VLOOKUP(G197,数据2!C:D,2,FALSE)","v":{"$error":"#N/A"}}]
[{"$nulls":6},"",{"$f":"VLOOKUP(G198,数据2!C:D,2,FALSE)","v":{"$error":"#N/A"}}]
[{"$nulls":6},"",{"$f":"VLOOKUP(G199,数据2!C:D,2,FALSE)","v":{"$error":"#N/A"}}]
[{"$nulls":6},"",{"$f":"VLOOKUP(G200,数据2!C:D,2,FALSE)","v":{"$error":"#N/A"}}]
[{"$nulls":6},"",{"$f":"VLOOKUP(G201,数据2!C:D,2,FALSE)","v":{"$error":"#N/A"}}]
[{"$nulls":6},"",{"$f":"VLOOKUP(G202,数据2!C:D,2,FALSE)","v":{"$error":"#N/A"}}]
[{"$nulls":6},"",{"$f":"VLOOKUP(G203,数据2!C:D,2,FALSE)","v":{"$error":"#N/A"}}]
[{"$nulls":6},"",{"$f":"VLOOKUP(G204,数据2!C:D,2,FALSE)","v":{"$error":"#N/A"}}]
[{"$nulls":6},"",{"$f":"VLOOKUP(G205,数据2!C:D,2,FALSE)","v":{"$error":"#N/A"}}]
[{"$nulls":6},"",{"$f":"VLOOKUP(G206,数据2!C:D,2,FALSE)","v":{"$error":"#N/A"}}]
[{"$nulls":6},"",{"$f":"VLOOKUP(G207,数据2!C:D,2,FALSE)","v":{"$error":"#N/A"}}]
[{"$nulls":6},"",{"$f":"VLOOKUP(G208,数据2!C:D,2,FALSE)","v":{"$error":"#N/A"}}]
[{"$nulls":6},"",{"$f":"VLOOKUP(G209,数据2!C:D,2,FALSE)","v":{"$error":"#N/A"}}]
[{"$nulls":6},"",{"$f":"VLOOKUP(G210,数据2!C:D,2,FALSE)","v":{"$error":"#N/A"}}]
[{"$nulls":6},"",{"$f":"VLOOKUP(G211,数据2!C:D,2,FALSE)","v":{"$error":"#N/A"}}]
[{"$nulls":6},"",{"$f":"VLOOKUP(G212,数据2!C:D,2,FALSE)","v":{"$error":"#N/A"}}]
[{"$nulls":6},"",{"$f":"VLOOKUP(G213,数据2!C:D,2,FALSE)","v":{"$error":"#N/A"}}]
[{"$nulls":6},"",{"$f":"VLOOKUP(G214,数据2!C:D,2,FALSE)","v":{"$error":"#N/A"}}]
[{"$nulls":6},"",{"$f":"VLOOKUP(G215,数据2!C:D,2,FALSE)","v":{"$error":"#N/A"}}]
[{"$nulls":6},"",{"$f":"VLOOKUP(G216,数据2!C:D,2,FALSE)","v":{"$error":"#N/A"}}]
[{"$nulls":6},"",{"$f":"VLOOKUP(G217,数据2!C:D,2,FALSE)","v":{"$error":"#N/A"}}]
[{"$nulls":6},"",{"$f":"VLOOKUP(G218,数据2!C:D,2,FALSE)","v":{"$error":"#N/A"}}]
[{"$nulls":6},"",{"$f":"VLOOKUP(G219,数据2!C:D,2,FALSE)","v":{"$error":"#N/A"}}]
[{"$nulls":6},"",{"$f":"VLOOKUP(G220,数据2!C:D,2,FALSE)","v":{"$error":"#N/A"}}]
[{"$nulls":6},"",{"$f":"VLOOKUP(G221,数据2!C:D,2,FALSE)","v":{"$error":"#N/A"}}]
[{"$nulls":6},"",{"$f":"VLOOKUP(G222,数据2!C:D,2,FALSE)","v":{"$error":"#N/A"}}]
[{"$nulls":6},"",{"$f":"VLOOKUP(G223,数据2!C:D,2,FALSE)","v":{"$error":"#N/A"}}]
[{"$nulls":6},"",{"$f":"VLOOKUP(G224,数据2!C:D,2,FALSE)","v":{"$error":"#N/A"}}]
[{"$nulls":6},"",{"$f":"VLOOKUP(G225,数据2!C:D,2,FALSE)","v":{"$error":"#N/A"}}]
[{"$nulls":6},"",{"$f":"VLOOKUP(G226,数据2!C:D,2,FALSE)","v":{"$error":"#N/A"}}]
[{"$nulls":6},"",{"$f":"VLOOKUP(G227,数据2!C:D,2,FALSE)","v":{"$error":"#N/A"}}]
[{"$nulls":6},"",{"$f":"VLOOKUP(G228,数据2!C:D,2,FALSE)","v":{"$error":"#N/A"}}]
[{"$nulls":6},"",{"$f":"VLOOKUP(G229,数据2!C:D,2,FALSE)","v":{"$error":"#N/A"}}]
[{"$nulls":6},"",{"$f":"VLOOKUP(G230,数据2!C:D,2,FALSE)","v":{"$error":"#N/A"}}]
[{"$nulls":6},"",{"$f":"VLOOKUP(G231,数据2!C:D,2,FALSE)","v":{"$error":"#N/A"}}]
[{"$nulls":6},"",{"$f":"VLOOKUP(G232,数据2!C:D,2,FALSE)","v":{"$error":"#N/A"}}]
[{"$nulls":6},"",{"$f":"VLOOKUP(G233,数据2!C:D,2,FALSE)","v":{"$error":"#N/A"}}]
[{"$nulls":6},"",{"$f":"VLOOKUP(G234,数据2!C:D,2,FALSE)","v":{"$error":"#N/A"}}]
[{"$nulls":6},"",{"$f":"VLOOKUP(G235,数据2!C:D,2,FALSE)","v":{"$error":"#N/A"}}]
[{"$nulls":6},"",{"$f":"VLOOKUP(G236,数据2!C:D,2,FALSE)","v":{"$error":"#N/A"}}]
[{"$nulls":6},"",{"$f":"VLOOKUP(G237,数据2!C:D,2,FALSE)","v":{"$error":"#N/A"}}]
[{"$nulls":6},"",{"$f":"VLOOKUP(G238,数据2!C:D,2,FALSE)","v":{"$error":"#N/A"}}]
[{"$nulls":6},"",{"$f":"VLOOKUP(G239,数据2!C:D,2,FALSE)","v":{"$error":"#N/A"}}]
[{"$nulls":6},"",{"$f":"VLOOKUP(G240,数据2!C:D,2,FALSE)","v":{"$error":"#N/A"}}]
[{"$nulls":6},"",{"$f":"VLOOKUP(G241,数据2!C:D,2,FALSE)","v":{"$error":"#N/A"}}]
[{"$nulls":6},"",{"$f":"VLOOKUP(G242,数据2!C:D,2,FALSE)","v":{"$error":"#N/A"}}]
[{"$nulls":6},"",{"$f":"VLOOKUP(G243,数据2!C:D,2,FALSE)","v":{"$error":"#N/A"}}]
[{"$nulls":6},"",{"$f":"VLOOKUP(G244,数据2!C:D,2,FALSE)","v":{"$error":"#N/A"}}]
[{"$nulls":6},"",{"$f":"VLOOKUP(G245,数据2!C:D,2,FALSE)","v":{"$error":"#N/A"}}]
[{"$nulls":6},"",{"$f":"VLOOKUP(G246,数据2!C:D,2,FALSE)","v":{"$error":"#N/A"}}]
[{"$nulls":6},"",{"$f":"VLOOKUP(G247,数据2!C:D,2,FALSE)","v":{"$error":"#N/A"}}]
[{"$nulls":6},"",{"$f":"VLOOKUP(G248,数据2!C:D,2,FALSE)","v":{"$error":"#N/A"}}]
[{"$nulls":6},"",{"$f":"VLOOKUP(G249,数据2!C:D,2,FALSE)","v":{"$error":"#N/A"}}]
[{"$nulls":6},"",{"$f":"VLOOKUP(G250,数据2!C:D,2,FALSE)","v":{"$error":"#N/A"}}]
[{"$nulls":6},"",{"$f":"VLOOKUP(G251,数据2!C:D,2,FALSE)","v":{"$error":"#N/A"}}]
[{"$nulls":6},"",{"$f":"VLOOKUP(G252,数据2!C:D,2,FALSE)","v":{"$error":"#N/A"}}]
[{"$nulls":6},"",{"$f":"VLOOKUP(G253,数据2!C:D,2,FALSE)","v":{"$error":"#N/A"}}]
[{"$nulls":6},"",{"$f":"VLOOKUP(G254,数据2!C:D,2,FALSE)","v":{"$error":"#N/A"}}]
[{"$nulls":6},"",{"$f":"VLOOKUP(G255,数据2!C:D,2,FALSE)","v":{"$error":"#N/A"}}]
[{"$nulls":6},"",{"$f":"VLOOKUP(G256,数据2!C:D,2,FALSE)","v":{"$error":"#N/A"}}]
[{"$nulls":6},"",{"$f":"VLOOKUP(G257,数据2!C:D,2,FALSE)","v":{"$error":"#N/A"}}]
[{"$nulls":6},"",{"$f":"VLOOKUP(G258,数据2!C:D,2,FALSE)","v":{"$error":"#N/A"}}]
[{"$nulls":6},"",{"$f":"VLOOKUP(G259,数据2!C:D,2,FALSE)","v":{"$error":"#N/A"}}]
[{"$nulls":6},"",{"$f":"VLOOKUP(G260,数据2!C:D,2,FALSE)","v":{"$error":"#N/A"}}]
[{"$nulls":6},{"$f":"C261&F261","v":""},{"$f":"VLOOKUP(G261,数据2!C:D,2,FALSE)","v":{"$error":"#N/A"}}]
[{"$nulls":6},"",{"$f":"VLOOKUP(G262,数据2!C:D,2,FALSE)","v":{"$error":"#N/A"}}]
[{"$nulls":6},"",{"$f":"VLOOKUP(G263,数据2!C:D,2,FALSE)","v":{"$error":"#N/A"}}]
[{"$nulls":6},"",{"$f":"VLOOKUP(G264,数据2!C:D,2,FALSE)","v":{"$error":"#N/A"}}]
[{"$nulls":6},"",{"$f":"VLOOKUP(G265,数据2!C:D,2,FALSE)","v":{"$error":"#N/A"}}]
[{"$nulls":6},"",{"$f":"VLOOKUP(G266,数据2!C:D,2,FALSE)","v":{"$error":"#N/A"}}]
[{"$nulls":6},"",{"$f":"VLOOKUP(G267,数据2!C:D,2,FALSE)","v":{"$error":"#N/A"}}]
[{"$nulls":6},"",{"$f":"VLOOKUP(G268,数据2!C:D,2,FALSE)","v":{"$error":"#N/A"}}]
[{"$nulls":6},"",{"$f":"VLOOKUP(G269,数据2!C:D,2,FALSE)","v":{"$error":"#N/A"}}]
[{"$nulls":6},"",{"$f":"VLOOKUP(G270,数据2!C:D,2,FALSE)","v":{"$error":"#N/A"}}]
[{"$nulls":6},"",{"$f":"VLOOKUP(G271,数据2!C:D,2,FALSE)","v":{"$error":"#N/A"}}]
[{"$nulls":6},"",{"$f":"VLOOKUP(G272,数据2!C:D,2,FALSE)","v":{"$error":"#N/A"}}]
[{"$nulls":6},"",{"$f":"VLOOKUP(G273,数据2!C:D,2,FALSE)","v":{"$error":"#N/A"}}]
[{"$nulls":6},"",{"$f":"VLOOKUP(G274,数据2!C:D,2,FALSE)","v":{"$error":"#N/A"}}]
[{"$nulls":6},"",{"$f":"VLOOKUP(G275,数据2!C:D,2,FALSE)","v":{"$error":"#N/A"}}]
[{"$nulls":6},"",{"$f":"VLOOKUP(G276,数据2!C:D,2,FALSE)","v":{"$error":"#N/A"}}]
[{"$nulls":6},"",{"$f":"VLOOKUP(G277,数据2!C:D,2,FALSE)","v":{"$error":"#N/A"}}]
[{"$nulls":6},"",{"$f":"VLOOKUP(G278,数据2!C:D,2,FALSE)","v":{"$error":"#N/A"}}]
[{"$nulls":6},"",{"$f":"VLOOKUP(G279,数据2!C:D,2,FALSE)","v":{"$error":"#N/A"}}]
[{"$nulls":6},"",{"$f":"VLOOKUP(G280,数据2!C:D,2,FALSE)","v":{"$error":"#N/A"}}]
[{"$nulls":6},"",{"$f":"VLOOKUP(G281,数据2!C:D,2,FALSE)","v":{"$error":"#N/A"}}]
[{"$nulls":6},"",{"$f":"VLOOKUP(G282,数据2!C:D,2,FALSE)","v":{"$error":"#N/A"}}]
[{"$nulls":6},"",{"$f":"VLOOKUP(G283,数据2!C:D,2,FALSE)","v":{"$error":"#N/A"}}]
[{"$nulls":6},"",{"$f":"VLOOKUP(G284,数据2!C:D,2,FALSE)","v":{"$error":"#N/A"}}]
[{"$nulls":6},"",{"$f":"VLOOKUP(G285,数据2!C:D,2,FALSE)","v":{"$error":"#N/A"}}]
[{"$nulls":6},"",{"$f":"VLOOKUP(G286,数据2!C:D,2,FALSE)","v":{"$error":"#N/A"}}]
[{"$nulls":6},"",{"$f":"VLOOKUP(G287,数据2!C:D,2,FALSE)","v":{"$error":"#N/A"}}]
[{"$nulls":6},"",{"$f":"VLOOKUP(G288,数据2!C:D,2,FALSE)","v":{"$error":"#N/A"}}]
[{"$nulls":6},"",{"$f":"VLOOKUP(G289,数据2!C:D,2,FALSE)","v":{"$error":"#N/A"}}]
[{"$nulls":6},"",{"$f":"VLOOKUP(G290,数据2!C:D,2,FALSE)","v":{"$error":"#N/A"}}]
[{"$nulls":6},"",{"$f":"VLOOKUP(G291,数据2!C:D,2,FALSE)","v":{"$error":"#N/A"}}]
[{"$nulls":6},"",{"$f":"VLOOKUP(G292,数据2!C:D,2,FALSE)","v":{"$error":"#N/A"}}]
[{"$nulls":6},"",{"$f":"VLOOKUP(G293,数据2!C:D,2,FALSE)","v":{"$error":"#N/A"}}]
[{"$nulls":6},"",{"$f":"VLOOKUP(G294,数据2!C:D,2,FALSE)","v":{"$error":"#N/A"}}]
[{"$nulls":6},"",{"$f":"VLOOKUP(G295,数据2!C:D,2,FALSE)","v":{"$error":"#N/A"}}]
[{"$nulls":6},"",{"$f":"VLOOKUP(G296,数据2!C:D,2,FALSE)","v":{"$error":"#N/A"}}]
[{"$nulls":6},"",{"$f":"VLOOKUP(G297,数据2!C:D,2,FALSE)","v":{"$error":"#N/A"}}]
[{"$nulls":6},"",{"$f":"VLOOKUP(G298,数据2!C:D,2,FALSE)","v":{"$error":"#N/A"}}]
[{"$nulls":6},"",{"$f":"VLOOKUP(G299,数据2!C:D,2,FALSE)","v":{"$error":"#N/A"}}]
[{"$nulls":6},"",{"$f":"VLOOKUP(G300,数据2!C:D,2,FALSE)","v":{"$error":"#N/A"}}]
[{"$nulls":6},"",{"$f":"VLOOKUP(G301,数据2!C:D,2,FALSE)","v":{"$error":"#N/A"}}]
[{"$nulls":6},"",{"$f":"VLOOKUP(G302,数据2!C:D,2,FALSE)","v":{"$error":"#N/A"}}]
[{"$nulls":6},"",{"$f":"VLOOKUP(G303,数据2!C:D,2,FALSE)","v":{"$error":"#N/A"}}]
[{"$nulls":6},"",{"$f":"VLOOKUP(G304,数据2!C:D,2,FALSE)","v":{"$error":"#N/A"}}]
[{"$nulls":6},"",{"$f":"VLOOKUP(G305,数据2!C:D,2,FALSE)","v":{"$error":"#N/A"}}]
[{"$nulls":6},"",{"$f":"VLOOKUP(G306,数据2!C:D,2,FALSE)","v":{"$error":"#N/A"}}]
[{"$nulls":6},"",{"$f":"VLOOKUP(G307,数据2!C:D,2,FALSE)","v":{"$error":"#N/A"}}]
[{"$nulls":6},"",{"$f":"VLOOKUP(G308,数据2!C:D,2,FALSE)","v":{"$error":"#N/A"}}]
[{"$nulls":6},"",{"$f":"VLOOKUP(G309,数据2!C:D,2,FALSE)","v":{"$error":"#N/A"}}]
[{"$nulls":6},"",{"$f":"VLOOKUP(G310,数据2!C:D,2,FALSE)","v":{"$error":"#N/A"}}]
[{"$nulls":6},"",{"$f":"VLOOKUP(G311,数据2!C:D,2,FALSE)","v":{"$error":"#N/A"}}]
[{"$nulls":6},"",{"$f":"VLOOKUP(G312,数据2!C:D,2,FALSE)","v":{"$error":"#N/A"}}]
[{"$nulls":6},"",{"$f":"VLOOKUP(G313,数据2!C:D,2,FALSE)","v":{"$error":"#N/A"}}]
[{"$nulls":6},"",{"$f":"VLOOKUP(G314,数据2!C:D,2,FALSE)","v":{"$error":"#N/A"}}]
[{"$nulls":6},"",{"$f":"VLOOKUP(G315,数据2!C:D,2,FALSE)","v":{"$error":"#N/A"}}]
[{"$nulls":6},"",{"$f":"VLOOKUP(G316,数据2!C:D,2,FALSE)","v":{"$error":"#N/A"}}]
[{"$nulls":6},"",{"$f":"VLOOKUP(G317,数据2!C:D,2,FALSE)","v":{"$error":"#N/A"}}]
[{"$nulls":6},"",{"$f":"VLOOKUP(G318,数据2!C:D,2,FALSE)","v":{"$error":"#N/A"}}]
[{"$nulls":6},"",{"$f":"VLOOKUP(G319,数据2!C:D,2,FALSE)","v":{"$error":"#N/A"}}]
[{"$nulls":6},"",{"$f":"VLOOKUP(G320,数据2!C:D,2,FALSE)","v":{"$error":"#N/A"}}]
[{"$nulls":6},"",{"$f":"VLOOKUP(G321,数据2!C:D,2,FALSE)","v":{"$error":"#N/A"}}]
[{"$nulls":6},"",{"$f":"VLOOKUP(G322,数据2!C:D,2,FALSE)","v":{"$error":"#N/A"}}]
[{"$nulls":6},"",{"$f":"VLOOKUP(G323,数据2!C:D,2,FALSE)","v":{"$error":"#N/A"}}]
[{"$nulls":6},"",{"$f":"VLOOKUP(G324,数据2!C:D,2,FALSE)","v":{"$error":"#N/A"}}]
[{"$nulls":6},{"$f":"C325&F325","v":""},{"$f":"VLOOKUP(G325,数据2!C:D,2,FALSE)","v":{"$error":"#N/A"}}]
[{"$nulls":6},"",{"$f":"VLOOKUP(G326,数据2!C:D,2,FALSE)","v":{"$error":"#N/A"}}]
[{"$nulls":6},"",{"$f":"VLOOKUP(G327,数据2!C:D,2,FALSE)","v":{"$error":"#N/A"}}]
[{"$nulls":6},"",{"$f":"VLOOKUP(G328,数据2!C:D,2,FALSE)","v":{"$error":"#N/A"}}]
[{"$nulls":6},"",{"$f":"VLOOKUP(G329,数据2!C:D,2,FALSE)","v":{"$error":"#N/A"}}]
[{"$nulls":6},"",{"$f":"VLOOKUP(G330,数据2!C:D,2,FALSE)","v":{"$error":"#N/A"}}]
[{"$nulls":6},"",{"$f":"VLOOKUP(G331,数据2!C:D,2,FALSE)","v":{"$error":"#N/A"}}]
[{"$nulls":6},"",{"$f":"VLOOKUP(G332,数据2!C:D,2,FALSE)","v":{"$error":"#N/A"}}]
[{"$nulls":6},"",{"$f":"VLOOKUP(G333,数据2!C:D,2,FALSE)","v":{"$error":"#N/A"}}]
[{"$nulls":6},"",{"$f":"VLOOKUP(G334,数据2!C:D,2,FALSE)","v":{"$error":"#N/A"}}]
[{"$nulls":6},"",{"$f":"VLOOKUP(G335,数据2!C:D,2,FALSE)","v":{"$error":"#N/A"}}]
[{"$nulls":6},"",{"$f":"VLOOKUP(G336,数据2!C:D,2,FALSE)","v":{"$error":"#N/A"}}]
[{"$nulls":6},"",{"$f":"VLOOKUP(G337,数据2!C:D,2,FALSE)","v":{"$error":"#N/A"}}]
[{"$nulls":6},"",{"$f":"VLOOKUP(G338,数据2!C:D,2,FALSE)","v":{"$error":"#N/A"}}]
[{"$nulls":6},"",{"$f":"VLOOKUP(G339,数据2!C:D,2,FALSE)","v":{"$error":"#N/A"}}]
[{"$nulls":6},"",{"$f":"VLOOKUP(G340,数据2!C:D,2,FALSE)","v":{"$error":"#N/A"}}]
[{"$nulls":6},"",{"$f":"VLOOKUP(G341,数据2!C:D,2,FALSE)","v":{"$error":"#N/A"}}]
[{"$nulls":6},"",{"$f":"VLOOKUP(G342,数据2!C:D,2,FALSE)","v":{"$error":"#N/A"}}]
[{"$nulls":6},"",{"$f":"VLOOKUP(G343,数据2!C:D,2,FALSE)","v":{"$error":"#N/A"}}]
[{"$nulls":6},"",{"$f":"VLOOKUP(G344,数据2!C:D,2,FALSE)","v":{"$error":"#N/A"}}]
[{"$nulls":6},"",{"$f":"VLOOKUP(G345,数据2!C:D,2,FALSE)","v":{"$error":"#N/A"}}]
[{"$nulls":6},"",{"$f":"VLOOKUP(G346,数据2!C:D,2,FALSE)","v":{"$error":"#N/A"}}]
[{"$nulls":6},"",{"$f":"VLOOKUP(G347,数据2!C:D,2,FALSE)","v":{"$error":"#N/A"}}]
[{"$nulls":6},"",{"$f":"VLOOKUP(G348,数据2!C:D,2,FALSE)","v":{"$error":"#N/A"}}]
[{"$nulls":6},"",{"$f":"VLOOKUP(G349,数据2!C:D,2,FALSE)","v":{"$error":"#N/A"}}]
[{"$nulls":6},"",{"$f":"VLOOKUP(G350,数据2!C:D,2,FALSE)","v":{"$error":"#N/A"}}]
[{"$nulls":6},"",{"$f":"VLOOKUP(G351,数据2!C:D,2,FALSE)","v":{"$error":"#N/A"}}]
[{"$nulls":6},"",{"$f":"VLOOKUP(G352,数据2!C:D,2,FALSE)","v":{"$error":"#N/A"}}]
[{"$nulls":6},"",{"$f":"VLOOKUP(G353,数据2!C:D,2,FALSE)","v":{"$error":"#N/A"}}]
[{"$nulls":6},"",{"$f":"VLOOKUP(G354,数据2!C:D,2,FALSE)","v":{"$error":"#N/A"}}]
[{"$nulls":6},"",{"$f":"VLOOKUP(G355,数据2!C:D,2,FALSE)","v":{"$error":"#N/A"}}]
[{"$nulls":6},"",{"$f":"VLOOKUP(G356,数据2!C:D,2,FALSE)","v":{"$error":"#N/A"}}]
[{"$nulls":6},"",{"$f":"VLOOKUP(G357,数据2!C:D,2,FALSE)","v":{"$error":"#N/A"}}]
[{"$nulls":6},"",{"$f":"VLOOKUP(G358,数据2!C:D,2,FALSE)","v":{"$error":"#N/A"}}]
[{"$nulls":6},"",{"$f":"VLOOKUP(G359,数据2!C:D,2,FALSE)","v":{"$error":"#N/A"}}]
[{"$nulls":6},"",{"$f":"VLOOKUP(G360,数据2!C:D,2,FALSE)","v":{"$error":"#N/A"}}]
[{"$nulls":6},"",{"$f":"VLOOKUP(G361,数据2!C:D,2,FALSE)","v":{"$error":"#N/A"}}]
[{"$nulls":6},"",{"$f":"VLOOKUP(G362,数据2!C:D,2,FALSE)","v":{"$error":"#N/A"}}]
[{"$nulls":6},"",{"$f":"VLOOKUP(G363,数据2!C:D,2,FALSE)","v":{"$error":"#N/A"}}]
[{"$nulls":6},"",{"$f":"VLOOKUP(G364,数据2!C:D,2,FALSE)","v":{"$error":"#N/A"}}]
[{"$nulls":6},"",{"$f":"VLOOKUP(G365,数据2!C:D,2,FALSE)","v":{"$error":"#N/A"}}]
[{"$nulls":6},"",{"$f":"VLOOKUP(G366,数据2!C:D,2,FALSE)","v":{"$error":"#N/A"}}]
[{"$nulls":6},"",{"$f":"VLOOKUP(G367,数据2!C:D,2,FALSE)","v":{"$error":"#N/A"}}]
[{"$nulls":6},"",{"$f":"VLOOKUP(G368,数据2!C:D,2,FALSE)","v":{"$error":"#N/A"}}]
[{"$nulls":6},"",{"$f":"VLOOKUP(G369,数据2!C:D,2,FALSE)","v":{"$error":"#N/A"}}]
[{"$nulls":6},"",{"$f":"VLOOKUP(G370,数据2!C:D,2,FALSE)","v":{"$error":"#N/A"}}]
[{"$nulls":6},"",{"$f":"VLOOKUP(G371,数据2!C:D,2,FALSE)","v":{"$error":"#N/A"}}]
[{"$nulls":6},"",{"$f":"VLOOKUP(G372,数据2!C:D,2,FALSE)","v":{"$error":"#N/A"}}]
[{"$nulls":6},"",{"$f":"VLOOKUP(G373,数据2!C:D,2,FALSE)","v":{"$error":"#N/A"}}]
[{"$nulls":6},"",{"$f":"VLOOKUP(G374,数据2!C:D,2,FALSE)","v":{"$error":"#N/A"}}]
[{"$nulls":6},"",{"$f":"VLOOKUP(G375,数据2!C:D,2,FALSE)","v":{"$error":"#N/A"}}]
[{"$nulls":6},"",{"$f":"VLOOKUP(G376,数据2!C:D,2,FALSE)","v":{"$error":"#N/A"}}]
[{"$nulls":6},"",{"$f":"VLOOKUP(G377,数据2!C:D,2,FALSE)","v":{"$error":"#N/A"}}]
[{"$nulls":6},"",{"$f":"VLOOKUP(G378,数据2!C:D,2,FALSE)","v":{"$error":"#N/A"}}]
[{"$nulls":6},"",{"$f":"VLOOKUP(G379,数据2!C:D,2,FALSE)","v":{"$error":"#N/A"}}]
[{"$nulls":6},"",{"$f":"VLOOKUP(G380,数据2!C:D,2,FALSE)","v":{"$error":"#N/A"}}]
[{"$nulls":6},"",{"$f":"VLOOKUP(G381,数据2!C:D,2,FALSE)","v":{"$error":"#N/A"}}]
[{"$nulls":6},"",{"$f":"VLOOKUP(G382,数据2!C:D,2,FALSE)","v":{"$error":"#N/A"}}]
[{"$nulls":6},"",{"$f":"VLOOKUP(G383,数据2!C:D,2,FALSE)","v":{"$error":"#N/A"}}]
[{"$nulls":6},"",{"$f":"VLOOKUP(G384,数据2!C:D,2,FALSE)","v":{"$error":"#N/A"}}]
[{"$nulls":6},"",{"$f":"VLOOKUP(G385,数据2!C:D,2,FALSE)","v":{"$error":"#N/A"}}]
[{"$nulls":6},"",{"$f":"VLOOKUP(G386,数据2!C:D,2,FALSE)","v":{"$error":"#N/A"}}]
[{"$nulls":6},"",{"$f":"VLOOKUP(G387,数据2!C:D,2,FALSE)","v":{"$error":"#N/A"}}]
[{"$nulls":6},"",{"$f":"VLOOKUP(G388,数据2!C:D,2,FALSE)","v":{"$error":"#N/A"}}]
[{"$nulls":6},{"$f":"C389&F389","v":""},{"$f":"VLOOKUP(G389,数据2!C:D,2,FALSE)","v":{"$error":"#N/A"}}]
[{"$nulls":6},"",{"$f":"VLOOKUP(G390,数据2!C:D,2,FALSE)","v":{"$error":"#N/A"}}]
[{"$nulls":6},"",{"$f":"VLOOKUP(G391,数据2!C:D,2,FALSE)","v":{"$error":"#N/A"}}]
[{"$nulls":6},"",{"$f":"VLOOKUP(G392,数据2!C:D,2,FALSE)","v":{"$error":"#N/A"}}]
[{"$nulls":6},"",{"$f":"VLOOKUP(G393,数据2!C:D,2,FALSE)","v":{"$error":"#N/A"}}]
[{"$nulls":6},"",{"$f":"VLOOKUP(G394,数据2!C:D,2,FALSE)","v":{"$error":"#N/A"}}]
[{"$nulls":6},"",{"$f":"VLOOKUP(G395,数据2!C:D,2,FALSE)","v":{"$error":"#N/A"}}]
[{"$nulls":6},"",{"$f":"VLOOKUP(G396,数据2!C:D,2,FALSE)","v":{"$error":"#N/A"}}]
[{"$nulls":6},"",{"$f":"VLOOKUP(G397,数据2!C:D,2,FALSE)","v":{"$error":"#N/A"}}]
[{"$nulls":6},"",{"$f":"VLOOKUP(G398,数据2!C:D,2,FALSE)","v":{"$error":"#N/A"}}]
[{"$nulls":6},"",{"$f":"VLOOKUP(G399,数据2!C:D,2,FALSE)","v":{"$error":"#N/A"}}]
[{"$nulls":6},"",{"$f":"VLOOKUP(G400,数据2!C:D,2,FALSE)","v":{"$error":"#N/A"}}]
[{"$nulls":6},"",{"$f":"VLOOKUP(G401,数据2!C:D,2,FALSE)","v":{"$error":"#N/A"}}]
[{"$nulls":6},"",{"$f":"VLOOKUP(G402,数据2!C:D,2,FALSE)","v":{"$error":"#N/A"}}]
[{"$nulls":6},"",{"$f":"VLOOKUP(G403,数据2!C:D,2,FALSE)","v":{"$error":"#N/A"}}]
[{"$nulls":6},"",{"$f":"VLOOKUP(G404,数据2!C:D,2,FALSE)","v":{"$error":"#N/A"}}]
[{"$nulls":6},"",{"$f":"VLOOKUP(G405,数据2!C:D,2,FALSE)","v":{"$error":"#N/A"}}]
[{"$nulls":6},"",{"$f":"VLOOKUP(G406,数据2!C:D,2,FALSE)","v":{"$error":"#N/A"}}]
[{"$nulls":6},"",{"$f":"VLOOKUP(G407,数据2!C:D,2,FALSE)","v":{"$error":"#N/A"}}]
[{"$nulls":6},"",{"$f":"VLOOKUP(G408,数据2!C:D,2,FALSE)","v":{"$error":"#N/A"}}]
[{"$nulls":6},"",{"$f":"VLOOKUP(G409,数据2!C:D,2,FALSE)","v":{"$error":"#N/A"}}]
[{"$nulls":6},"",{"$f":"VLOOKUP(G410,数据2!C:D,2,FALSE)","v":{"$error":"#N/A"}}]
[{"$nulls":6},"",{"$f":"VLOOKUP(G411,数据2!C:D,2,FALSE)","v":{"$error":"#N/A"}}]
[{"$nulls":6},"",{"$f":"VLOOKUP(G412,数据2!C:D,2,FALSE)","v":{"$error":"#N/A"}}]
[{"$nulls":6},"",{"$f":"VLOOKUP(G413,数据2!C:D,2,FALSE)","v":{"$error":"#N/A"}}]
[{"$nulls":6},"",{"$f":"VLOOKUP(G414,数据2!C:D,2,FALSE)","v":{"$error":"#N/A"}}]
[{"$nulls":6},"",{"$f":"VLOOKUP(G415,数据2!C:D,2,FALSE)","v":{"$error":"#N/A"}}]
[{"$nulls":6},"",{"$f":"VLOOKUP(G416,数据2!C:D,2,FALSE)","v":{"$error":"#N/A"}}]
[{"$nulls":6},"",{"$f":"VLOOKUP(G417,数据2!C:D,2,FALSE)","v":{"$error":"#N/A"}}]
[{"$nulls":6},"",{"$f":"VLOOKUP(G418,数据2!C:D,2,FALSE)","v":{"$error":"#N/A"}}]
[{"$nulls":6},"",{"$f":"VLOOKUP(G419,数据2!C:D,2,FALSE)","v":{"$error":"#N/A"}}]
[{"$nulls":6},"",{"$f":"VLOOKUP(G420,数据2!C:D,2,FALSE)","v":{"$error":"#N/A"}}]
[{"$nulls":6},"",{"$f":"VLOOKUP(G421,数据2!C:D,2,FALSE)","v":{"$error":"#N/A"}}]
[{"$nulls":6},"",{"$f":"VLOOKUP(G422,数据2!C:D,2,FALSE)","v":{"$error":"#N/A"}}]
[{"$nulls":6},"",{"$f":"VLOOKUP(G423,数据2!C:D,2,FALSE)","v":{"$error":"#N/A"}}]
[{"$nulls":6},"",{"$f":"VLOOKUP(G424,数据2!C:D,2,FALSE)","v":{"$error":"#N/A"}}]
[{"$nulls":6},"",{"$f":"VLOOKUP(G425,数据2!C:D,2,FALSE)","v":{"$error":"#N/A"}}]
[{"$nulls":6},"",{"$f":"VLOOKUP(G426,数据2!C:D,2,FALSE)","v":{"$error":"#N/A"}}]
[{"$nulls":6},"",{"$f":"VLOOKUP(G427,数据2!C:D,2,FALSE)","v":{"$error":"#N/A"}}]
[{"$nulls":6},"",{"$f":"VLOOKUP(G428,数据2!C:D,2,FALSE)","v":{"$error":"#N/A"}}]
[{"$nulls":6},"",{"$f":"VLOOKUP(G429,数据2!C:D,2,FALSE)","v":{"$error":"#N/A"}}]
[{"$nulls":6},"",{"$f":"VLOOKUP(G430,数据2!C:D,2,FALSE)","v":{"$error":"#N/A"}}]
[{"$nulls":6},"",{"$f":"VLOOKUP(G431,数据2!C:D,2,FALSE)","v":{"$error":"#N/A"}}]
[{"$nulls":6},"",{"$f":"VLOOKUP(G432,数据2!C:D,2,FALSE)","v":{"$error":"#N/A"}}]
[{"$nulls":6},"",{"$f":"VLOOKUP(G433,数据2!C:D,2,FALSE)","v":{"$error":"#N/A"}}]
[{"$nulls":6},"",{"$f":"VLOOKUP(G434,数据2!C:D,2,FALSE)","v":{"$error":"#N/A"}}]
[{"$nulls":6},"",{"$f":"VLOOKUP(G435,数据2!C:D,2,FALSE)","v":{"$error":"#N/A"}}]
[{"$nulls":6},"",{"$f":"VLOOKUP(G436,数据2!C:D,2,FALSE)","v":{"$error":"#N/A"}}]
[{"$nulls":6},"",{"$f":"VLOOKUP(G437,数据2!C:D,2,FALSE)","v":{"$error":"#N/A"}}]
[{"$nulls":6},"",{"$f":"VLOOKUP(G438,数据2!C:D,2,FALSE)","v":{"$error":"#N/A"}}]
[{"$nulls":6},"",{"$f":"VLOOKUP(G439,数据2!C:D,2,FALSE)","v":{"$error":"#N/A"}}]
[{"$nulls":6},"",{"$f":"VLOOKUP(G440,数据2!C:D,2,FALSE)","v":{"$error":"#N/A"}}]
[{"$nulls":6},"",{"$f":"VLOOKUP(G441,数据2!C:D,2,FALSE)","v":{"$error":"#N/A"}}]
[{"$nulls":6},"",{"$f":"VLOOKUP(G442,数据2!C:D,2,FALSE)","v":{"$error":"#N/A"}}]
[{"$nulls":6},"",{"$f":"VLOOKUP(G443,数据2!C:D,2,FALSE)","v":{"$error":"#N/A"}}]
[{"$nulls":6},"",{"$f":"VLOOKUP(G444,数据2!C:D,2,FALSE)","v":{"$error":"#N/A"}}]
[{"$nulls":6},"",{"$f":"VLOOKUP(G445,数据2!C:D,2,FALSE)","v":{"$error":"#N/A"}}]
[{"$nulls":6},"",{"$f":"VLOOKUP(G446,数据2!C:D,2,FALSE)","v":{"$error":"#N/A"}}]
[{"$nulls":6},"",{"$f":"VLOOKUP(G447,数据2!C:D,2,FALSE)","v":{"$error":"#N/A"}}]
[{"$nulls":6},"",{"$f":"VLOOKUP(G448,数据2!C:D,2,FALSE)","v":{"$error":"#N/A"}}]
[{"$nulls":6},"",{"$f":"VLOOKUP(G449,数据2!C:D,2,FALSE)","v":{"$error":"#N/A"}}]
[{"$nulls":6},"",{"$f":"VLOOKUP(G450,数据2!C:D,2,FALSE)","v":{"$error":"#N/A"}}]
[{"$nulls":6},"",{"$f":"VLOOKUP(G451,数据2!C:D,2,FALSE)","v":{"$error":"#N/A"}}]
[{"$nulls":6},"",{"$f":"VLOOKUP(G452,数据2!C:D,2,FALSE)","v":{"$error":"#N/A"}}]
[{"$nulls":6},{"$f":"C453&F453","v":""},{"$f":"VLOOKUP(G453,数据2!C:D,2,FALSE)","v":{"$error":"#N/A"}}]
[{"$nulls":6},"",{"$f":"VLOOKUP(G454,数据2!C:D,2,FALSE)","v":{"$error":"#N/A"}}]
[{"$nulls":6},"",{"$f":"VLOOKUP(G455,数据2!C:D,2,FALSE)","v":{"$error":"#N/A"}}]
[{"$nulls":6},"",{"$f":"VLOOKUP(G456,数据2!C:D,2,FALSE)","v":{"$error":"#N/A"}}]
[{"$nulls":6},"",{"$f":"VLOOKUP(G457,数据2!C:D,2,FALSE)","v":{"$error":"#N/A"}}]
[{"$nulls":6},"",{"$f":"VLOOKUP(G458,数据2!C:D,2,FALSE)","v":{"$error":"#N/A"}}]
[{"$nulls":6},"",{"$f":"VLOOKUP(G459,数据2!C:D,2,FALSE)","v":{"$error":"#N/A"}}]
[{"$nulls":6},"",{"$f":"VLOOKUP(G460,数据2!C:D,2,FALSE)","v":{"$error":"#N/A"}}]
[{"$nulls":6},"",{"$f":"VLOOKUP(G461,数据2!C:D,2,FALSE)","v":{"$error":"#N/A"}}]
[{"$nulls":6},"",{"$f":"VLOOKUP(G462,数据2!C:D,2,FALSE)","v":{"$error":"#N/A"}}]
[{"$nulls":6},"",{"$f":"VLOOKUP(G463,数据2!C:D,2,FALSE)","v":{"$error":"#N/A"}}]
[{"$nulls":6},"",{"$f":"VLOOKUP(G464,数据2!C:D,2,FALSE)","v":{"$error":"#N/A"}}]
[{"$nulls":6},"",{"$f":"VLOOKUP(G465,数据2!C:D,2,FALSE)","v":{"$error":"#N/A"}}]
[{"$nulls":6},"",{"$f":"VLOOKUP(G466,数据2!C:D,2,FALSE)","v":{"$error":"#N/A"}}]
[{"$nulls":6},"",{"$f":"VLOOKUP(G467,数据2!C:D,2,FALSE)","v":{"$error":"#N/A"}}]
[{"$nulls":6},"",{"$f":"VLOOKUP(G468,数据2!C:D,2,FALSE)","v":{"$error":"#N/A"}}]
[{"$nulls":6},"",{"$f":"VLOOKUP(G469,数据2!C:D,2,FALSE)","v":{"$error":"#N/A"}}]
[{"$nulls":6},"",{"$f":"VLOOKUP(G470,数据2!C:D,2,FALSE)","v":{"$error":"#N/A"}}]
[{"$nulls":6},"",{"$f":"VLOOKUP(G471,数据2!C:D,2,FALSE)","v":{"$error":"#N/A"}}]
[{"$nulls":6},"",{"$f":"VLOOKUP(G472,数据2!C:D,2,FALSE)","v":{"$error":"#N/A"}}]
[{"$nulls":6},"",{"$f":"VLOOKUP(G473,数据2!C:D,2,FALSE)","v":{"$error":"#N/A"}}]
[{"$nulls":6},"",{"$f":"VLOOKUP(G474,数据2!C:D,2,FALSE)","v":{"$error":"#N/A"}}]
[{"$nulls":6},"",{"$f":"VLOOKUP(G475,数据2!C:D,2,FALSE)","v":{"$error":"#N/A"}}]
[{"$nulls":6},"",{"$f":"VLOOKUP(G476,数据2!C:D,2,FALSE)","v":{"$error":"#N/A"}}]
[{"$nulls":6},"",{"$f":"VLOOKUP(G477,数据2!C:D,2,FALSE)","v":{"$error":"#N/A"}}]
[{"$nulls":6},"",{"$f":"VLOOKUP(G478,数据2!C:D,2,FALSE)","v":{"$error":"#N/A"}}]
[{"$nulls":6},"",{"$f":"VLOOKUP(G479,数据2!C:D,2,FALSE)","v":{"$error":"#N/A"}}]
[{"$nulls":6},"",{"$f":"VLOOKUP(G480,数据2!C:D,2,FALSE)","v":{"$error":"#N/A"}}]
[{"$nulls":6},"",{"$f":"VLOOKUP(G481,数据2!C:D,2,FALSE)","v":{"$error":"#N/A"}}]
[{"$nulls":6},"",{"$f":"VLOOKUP(G482,数据2!C:D,2,FALSE)","v":{"$error":"#N/A"}}]
[{"$nulls":6},"",{"$f":"VLOOKUP(G483,数据2!C:D,2,FALSE)","v":{"$error":"#N/A"}}]
[{"$nulls":6},"",{"$f":"VLOOKUP(G484,数据2!C:D,2,FALSE)","v":{"$error":"#N/A"}}]
[{"$nulls":6},"",{"$f":"VLOOKUP(G485,数据2!C:D,2,FALSE)","v":{"$error":"#N/A"}}]
[{"$nulls":6},"",{"$f":"VLOOKUP(G486,数据2!C:D,2,FALSE)","v":{"$error":"#N/A"}}]
[{"$nulls":6},"",{"$f":"VLOOKUP(G487,数据2!C:D,2,FALSE)","v":{"$error":"#N/A"}}]
[{"$nulls":6},"",{"$f":"VLOOKUP(G488,数据2!C:D,2,FALSE)","v":{"$error":"#N/A"}}]
[{"$nulls":6},"",{"$f":"VLOOKUP(G489,数据2!C:D,2,FALSE)","v":{"$error":"#N/A"}}]
[{"$nulls":6},"",{"$f":"VLOOKUP(G490,数据2!C:D,2,FALSE)","v":{"$error":"#N/A"}}]
[{"$nulls":6},"",{"$f":"VLOOKUP(G491,数据2!C:D,2,FALSE)","v":{"$error":"#N/A"}}]
[{"$nulls":6},"",{"$f":"VLOOKUP(G492,数据2!C:D,2,FALSE)","v":{"$error":"#N/A"}}]
[{"$nulls":6},"",{"$f":"VLOOKUP(G493,数据2!C:D,2,FALSE)","v":{"$error":"#N/A"}}]
[{"$nulls":6},"",{"$f":"VLOOKUP(G494,数据2!C:D,2,FALSE)","v":{"$error":"#N/A"}}]
[{"$nulls":6},"",{"$f":"VLOOKUP(G495,数据2!C:D,2,FALSE)","v":{"$error":"#N/A"}}]
[{"$nulls":6},"",{"$f":"VLOOKUP(G496,数据2!C:D,2,FALSE)","v":{"$error":"#N/A"}}]
[{"$nulls":6},"",{"$f":"VLOOKUP(G497,数据2!C:D,2,FALSE)","v":{"$error":"#N/A"}}]
[{"$nulls":6},"",{"$f":"VLOOKUP(G498,数据2!C:D,2,FALSE)","v":{"$error":"#N/A"}}]
[{"$nulls":6},"",{"$f":"VLOOKUP(G499,数据2!C:D,2,FALSE)","v":{"$error":"#N/A"}}]
[{"$nulls":6},"",{"$f":"VLOOKUP(G500,数据2!C:D,2,FALSE)","v":{"$error":"#N/A"}}]
[{"$nulls":6},"",{"$f":"VLOOKUP(G501,数据2!C:D,2,FALSE)","v":{"$error":"#N/A"}}]
[{"$nulls":6},"",{"$f":"VLOOKUP(G502,数据2!C:D,2,FALSE)","v":{"$error":"#N/A"}}]
[{"$nulls":6},"",{"$f":"VLOOKUP(G503,数据2!C:D,2,FALSE)","v":{"$error":"#N/A"}}]
[{"$nulls":6},"",{"$f":"VLOOKUP(G504,数据2!C:D,2,FALSE)","v":{"$error":"#N/A"}}]
[{"$nulls":6},"",{"$f":"VLOOKUP(G505,数据2!C:D,2,FALSE)","v":{"$error":"#N/A"}}]
[{"$nulls":6},"",{"$f":"VLOOKUP(G506,数据2!C:D,2,FALSE)","v":{"$error":"#N/A"}}]
[{"$nulls":6},"",{"$f":"VLOOKUP(G507,数据2!C:D,2,FALSE)","v":{"$error":"#N/A"}}]
[{"$nulls":6},"",{"$f":"VLOOKUP(G508,数据2!C:D,2,FALSE)","v":{"$error":"#N/A"}}]
[{"$nulls":6},"",{"$f":"VLOOKUP(G509,数据2!C:D,2,FALSE)","v":{"$error":"#N/A"}}]
[{"$nulls":6},"",{"$f":"VLOOKUP(G510,数据2!C:D,2,FALSE)","v":{"$error":"#N/A"}}]
[{"$nulls":6},"",{"$f":"VLOOKUP(G511,数据2!C:D,2,FALSE)","v":{"$error":"#N/A"}}]
[{"$nulls":6},"",{"$f":"VLOOKUP(G512,数据2!C:D,2,FALSE)","v":{"$error":"#N/A"}}]
[{"$nulls":6},"",{"$f":"VLOOKUP(G513,数据2!C:D,2,FALSE)","v":{"$error":"#N/A"}}]
[{"$nulls":6},"",{"$f":"VLOOKUP(G514,数据2!C:D,2,FALSE)","v":{"$error":"#N/A"}}]
[{"$nulls":6},"",{"$f":"VLOOKUP(G515,数据2!C:D,2,FALSE)","v":{"$error":"#N/A"}}]
[{"$nulls":6},"",{"$f":"VLOOKUP(G516,数据2!C:D,2,FALSE)","v":{"$error":"#N/A"}}]
[{"$nulls":6},{"$f":"C517&F517","v":""},{"$f":"VLOOKUP(G517,数据2!C:D,2,FALSE)","v":{"$error":"#N/A"}}]
[{"$nulls":6},"",{"$f":"VLOOKUP(G518,数据2!C:D,2,FALSE)","v":{"$error":"#N/A"}}]
[{"$nulls":6},"",{"$f":"VLOOKUP(G519,数据2!C:D,2,FALSE)","v":{"$error":"#N/A"}}]
[{"$nulls":6},"",{"$f":"VLOOKUP(G520,数据2!C:D,2,FALSE)","v":{"$error":"#N/A"}}]
[{"$nulls":6},"",{"$f":"VLOOKUP(G521,数据2!C:D,2,FALSE)","v":{"$error":"#N/A"}}]
[{"$nulls":6},"",{"$f":"VLOOKUP(G522,数据2!C:D,2,FALSE)","v":{"$error":"#N/A"}}]
[{"$nulls":6},"",{"$f":"VLOOKUP(G523,数据2!C:D,2,FALSE)","v":{"$error":"#N/A"}}]
[{"$nulls":6},"",{"$f":"VLOOKUP(G524,数据2!C:D,2,FALSE)","v":{"$error":"#N/A"}}]
[{"$nulls":6},"",{"$f":"VLOOKUP(G525,数据2!C:D,2,FALSE)","v":{"$error":"#N/A"}}]
[{"$nulls":6},"",{"$f":"VLOOKUP(G526,数据2!C:D,2,FALSE)","v":{"$error":"#N/A"}}]
[{"$nulls":6},"",{"$f":"VLOOKUP(G527,数据2!C:D,2,FALSE)","v":{"$error":"#N/A"}}]
[{"$nulls":6},"",{"$f":"VLOOKUP(G528,数据2!C:D,2,FALSE)","v":{"$error":"#N/A"}}]
[{"$nulls":6},"",{"$f":"VLOOKUP(G529,数据2!C:D,2,FALSE)","v":{"$error":"#N/A"}}]
[{"$nulls":6},"",{"$f":"VLOOKUP(G530,数据2!C:D,2,FALSE)","v":{"$error":"#N/A"}}]
[{"$nulls":6},"",{"$f":"VLOOKUP(G531,数据2!C:D,2,FALSE)","v":{"$error":"#N/A"}}]
[{"$nulls":6},"",{"$f":"VLOOKUP(G532,数据2!C:D,2,FALSE)","v":{"$error":"#N/A"}}]
[{"$nulls":6},"",{"$f":"VLOOKUP(G533,数据2!C:D,2,FALSE)","v":{"$error":"#N/A"}}]
[{"$nulls":6},"",{"$f":"VLOOKUP(G534,数据2!C:D,2,FALSE)","v":{"$error":"#N/A"}}]
[{"$nulls":6},"",{"$f":"VLOOKUP(G535,数据2!C:D,2,FALSE)","v":{"$error":"#N/A"}}]
[{"$nulls":6},"",{"$f":"VLOOKUP(G536,数据2!C:D,2,FALSE)","v":{"$error":"#N/A"}}]
[{"$nulls":6},"",{"$f":"VLOOKUP(G537,数据2!C:D,2,FALSE)","v":{"$error":"#N/A"}}]
[{"$nulls":6},"",{"$f":"VLOOKUP(G538,数据2!C:D,2,FALSE)","v":{"$error":"#N/A"}}]
[{"$nulls":6},"",{"$f":"VLOOKUP(G539,数据2!C:D,2,FALSE)","v":{"$error":"#N/A"}}]
[{"$nulls":6},"",{"$f":"VLOOKUP(G540,数据2!C:D,2,FALSE)","v":{"$error":"#N/A"}}]
[{"$nulls":6},"",{"$f":"VLOOKUP(G541,数据2!C:D,2,FALSE)","v":{"$error":"#N/A"}}]
[{"$nulls":6},"",{"$f":"VLOOKUP(G542,数据2!C:D,2,FALSE)","v":{"$error":"#N/A"}}]
[{"$nulls":6},"",{"$f":"VLOOKUP(G543,数据2!C:D,2,FALSE)","v":{"$error":"#N/A"}}]
[{"$nulls":6},"",{"$f":"VLOOKUP(G544,数据2!C:D,2,FALSE)","v":{"$error":"#N/A"}}]
[{"$nulls":6},"",{"$f":"VLOOKUP(G545,数据2!C:D,2,FALSE)","v":{"$error":"#N/A"}}]
[{"$nulls":6},"",{"$f":"VLOOKUP(G546,数据2!C:D,2,FALSE)","v":{"$error":"#N/A"}}]
[{"$nulls":6},"",{"$f":"VLOOKUP(G547,数据2!C:D,2,FALSE)","v":{"$error":"#N/A"}}]
[{"$nulls":6},"",{"$f":"VLOOKUP(G548,数据2!C:D,2,FALSE)","v":{"$error":"#N/A"}}]
[{"$nulls":6},"",{"$f":"VLOOKUP(G549,数据2!C:D,2,FALSE)","v":{"$error":"#N/A"}}]
[{"$nulls":6},"",{"$f":"VLOOKUP(G550,数据2!C:D,2,FALSE)","v":{"$error":"#N/A"}}]
[{"$nulls":6},"",{"$f":"VLOOKUP(G551,数据2!C:D,2,FALSE)","v":{"$error":"#N/A"}}]
[{"$nulls":6},"",{"$f":"VLOOKUP(G552,数据2!C:D,2,FALSE)","v":{"$error":"#N/A"}}]
[{"$nulls":6},"",{"$f":"VLOOKUP(G553,数据2!C:D,2,FALSE)","v":{"$error":"#N/A"}}]
[{"$nulls":6},"",{"$f":"VLOOKUP(G554,数据2!C:D,2,FALSE)","v":{"$error":"#N/A"}}]
[{"$nulls":6},"",{"$f":"VLOOKUP(G555,数据2!C:D,2,FALSE)","v":{"$error":"#N/A"}}]
[{"$nulls":6},"",{"$f":"VLOOKUP(G556,数据2!C:D,2,FALSE)","v":{"$error":"#N/A"}}]
[{"$nulls":6},"",{"$f":"VLOOKUP(G557,数据2!C:D,2,FALSE)","v":{"$error":"#N/A"}}]
[{"$nulls":6},"",{"$f":"VLOOKUP(G558,数据2!C:D,2,FALSE)","v":{"$error":"#N/A"}}]
[{"$nulls":6},"",{"$f":"VLOOKUP(G559,数据2!C:D,2,FALSE)","v":{"$error":"#N/A"}}]
[{"$nulls":6},"",{"$f":"VLOOKUP(G560,数据2!C:D,2,FALSE)","v":{"$error":"#N/A"}}]
[{"$nulls":6},"",{"$f":"VLOOKUP(G561,数据2!C:D,2,FALSE)","v":{"$error":"#N/A"}}]
[{"$nulls":6},"",{"$f":"VLOOKUP(G562,数据2!C:D,2,FALSE)","v":{"$error":"#N/A"}}]
[{"$nulls":6},"",{"$f":"VLOOKUP(G563,数据2!C:D,2,FALSE)","v":{"$error":"#N/A"}}]
[{"$nulls":6},"",{"$f":"VLOOKUP(G564,数据2!C:D,2,FALSE)","v":{"$error":"#N/A"}}]
[{"$nulls":6},"",{"$f":"VLOOKUP(G565,数据2!C:D,2,FALSE)","v":{"$error":"#N/A"}}]
[{"$nulls":6},"",{"$f":"VLOOKUP(G566,数据2!C:D,2,FALSE)","v":{"$error":"#N/A"}}]
[{"$nulls":6},"",{"$f":"VLOOKUP(G567,数据2!C:D,2,FALSE)","v":{"$error":"#N/A"}}]
[{"$nulls":6},"",{"$f":"VLOOKUP(G568,数据2!C:D,2,FALSE)","v":{"$error":"#N/A"}}]
[{"$nulls":6},"",{"$f":"VLOOKUP(G569,数据2!C:D,2,FALSE)","v":{"$error":"#N/A"}}]
[{"$nulls":6},"",{"$f":"VLOOKUP(G570,数据2!C:D,2,FALSE)","v":{"$error":"#N/A"}}]
[{"$nulls":6},"",{"$f":"VLOOKUP(G571,数据2!C:D,2,FALSE)","v":{"$error":"#N/A"}}]
[{"$nulls":6},"",{"$f":"VLOOKUP(G572,数据2!C:D,2,FALSE)","v":{"$error":"#N/A"}}]
[{"$nulls":6},"",{"$f":"VLOOKUP(G573,数据2!C:D,2,FALSE)","v":{"$error":"#N/A"}}]
[{"$nulls":6},"",{"$f":"VLOOKUP(G574,数据2!C:D,2,FALSE)","v":{"$error":"#N/A"}}]
[{"$nulls":6},"",{"$f":"VLOOKUP(G575,数据2!C:D,2,FALSE)","v":{"$error":"#N/A"}}]
[{"$nulls":6},"",{"$f":"VLOOKUP(G576,数据2!C:D,2,FALSE)","v":{"$error":"#N/A"}}]
[{"$nulls":6},"",{"$f":"VLOOKUP(G577,数据2!C:D,2,FALSE)","v":{"$error":"#N/A"}}]
[{"$nulls":6},"",{"$f":"VLOOKUP(G578,数据2!C:D,2,FALSE)","v":{"$error":"#N/A"}}]
[{"$nulls":6},"",{"$f":"VLOOKUP(G579,数据2!C:D,2,FALSE)","v":{"$error":"#N/A"}}]
[{"$nulls":6},"",{"$f":"VLOOKUP(G580,数据2!C:D,2,FALSE)","v":{"$error":"#N/A"}}]
[{"$nulls":6},{"$f":"C581&F581","v":""},{"$f":"VLOOKUP(G581,数据2!C:D,2,FALSE)","v":{"$error":"#N/A"}}]
[{"$nulls":6},"",{"$f":"VLOOKUP(G582,数据2!C:D,2,FALSE)","v":{"$error":"#N/A"}}]
[{"$nulls":6},"",{"$f":"VLOOKUP(G583,数据2!C:D,2,FALSE)","v":{"$error":"#N/A"}}]
[{"$nulls":6},"",{"$f":"VLOOKUP(G584,数据2!C:D,2,FALSE)","v":{"$error":"#N/A"}}]
[{"$nulls":6},"",{"$f":"VLOOKUP(G585,数据2!C:D,2,FALSE)","v":{"$error":"#N/A"}}]
[{"$nulls":6},"",{"$f":"VLOOKUP(G586,数据2!C:D,2,FALSE)","v":{"$error":"#N/A"}}]
[{"$nulls":6},"",{"$f":"VLOOKUP(G587,数据2!C:D,2,FALSE)","v":{"$error":"#N/A"}}]
[{"$nulls":6},"",{"$f":"VLOOKUP(G588,数据2!C:D,2,FALSE)","v":{"$error":"#N/A"}}]
[{"$nulls":6},"",{"$f":"VLOOKUP(G589,数据2!C:D,2,FALSE)","v":{"$error":"#N/A"}}]
[{"$nulls":6},"",{"$f":"VLOOKUP(G590,数据2!C:D,2,FALSE)","v":{"$error":"#N/A"}}]
[{"$nulls":6},"",{"$f":"VLOOKUP(G591,数据2!C:D,2,FALSE)","v":{"$error":"#N/A"}}]
[{"$nulls":6},"",{"$f":"VLOOKUP(G592,数据2!C:D,2,FALSE)","v":{"$error":"#N/A"}}]
[{"$nulls":6},"",{"$f":"VLOOKUP(G593,数据2!C:D,2,FALSE)","v":{"$error":"#N/A"}}]
[{"$nulls":6},"",{"$f":"VLOOKUP(G594,数据2!C:D,2,FALSE)","v":{"$error":"#N/A"}}]
[{"$nulls":6},"",{"$f":"VLOOKUP(G595,数据2!C:D,2,FALSE)","v":{"$error":"#N/A"}}]
[{"$nulls":6},"",{"$f":"VLOOKUP(G596,数据2!C:D,2,FALSE)","v":{"$error":"#N/A"}}]
[{"$nulls":6},"",{"$f":"VLOOKUP(G597,数据2!C:D,2,FALSE)","v":{"$error":"#N/A"}}]
[{"$nulls":6},"",{"$f":"VLOOKUP(G598,数据2!C:D,2,FALSE)","v":{"$error":"#N/A"}}]
[{"$nulls":6},"",{"$f":"VLOOKUP(G599,数据2!C:D,2,FALSE)","v":{"$error":"#N/A"}}]
[{"$nulls":6},"",{"$f":"VLOOKUP(G600,数据2!C:D,2,FALSE)","v":{"$error":"#N/A"}}]
[{"$nulls":6},"",{"$f":"VLOOKUP(G601,数据2!C:D,2,FALSE)","v":{"$error":"#N/A"}}]
[{"$nulls":6},"",{"$f":"VLOOKUP(G602,数据2!C:D,2,FALSE)","v":{"$error":"#N/A"}}]
[{"$nulls":6},"",{"$f":"VLOOKUP(G603,数据2!C:D,2,FALSE)","v":{"$error":"#N/A"}}]
[{"$nulls":6},"",{"$f":"VLOOKUP(G604,数据2!C:D,2,FALSE)","v":{"$error":"#N/A"}}]
[{"$nulls":6},"",{"$f":"VLOOKUP(G605,数据2!C:D,2,FALSE)","v":{"$error":"#N/A"}}]
[{"$nulls":6},"",{"$f":"VLOOKUP(G606,数据2!C:D,2,FALSE)","v":{"$error":"#N/A"}}]
[{"$nulls":6},"",{"$f":"VLOOKUP(G607,数据2!C:D,2,FALSE)","v":{"$error":"#N/A"}}]
[{"$nulls":6},"",{"$f":"VLOOKUP(G608,数据2!C:D,2,FALSE)","v":{"$error":"#N/A"}}]
[{"$nulls":6},"",{"$f":"VLOOKUP(G609,数据2!C:D,2,FALSE)","v":{"$error":"#N/A"}}]
[{"$nulls":6},"",{"$f":"VLOOKUP(G610,数据2!C:D,2,FALSE)","v":{"$error":"#N/A"}}]
[{"$nulls":6},"",{"$f":"VLOOKUP(G611,数据2!C:D,2,FALSE)","v":{"$error":"#N/A"}}]
[{"$nulls":6},"",{"$f":"VLOOKUP(G612,数据2!C:D,2,FALSE)","v":{"$error":"#N/A"}}]
[{"$nulls":6},"",{"$f":"VLOOKUP(G613,数据2!C:D,2,FALSE)","v":{"$error":"#N/A"}}]
[{"$nulls":6},"",{"$f":"VLOOKUP(G614,数据2!C:D,2,FALSE)","v":{"$error":"#N/A"}}]
[{"$nulls":6},"",{"$f":"VLOOKUP(G615,数据2!C:D,2,FALSE)","v":{"$error":"#N/A"}}]
[{"$nulls":6},"",{"$f":"VLOOKUP(G616,数据2!C:D,2,FALSE)","v":{"$error":"#N/A"}}]
[{"$nulls":6},"",{"$f":"VLOOKUP(G617,数据2!C:D,2,FALSE)","v":{"$error":"#N/A"}}]
[{"$nulls":6},"",{"$f":"VLOOKUP(G618,数据2!C:D,2,FALSE)","v":{"$error":"#N/A"}}]
[{"$nulls":6},"",{"$f":"VLOOKUP(G619,数据2!C:D,2,FALSE)","v":{"$error":"#N/A"}}]
[{"$nulls":6},"",{"$f":"VLOOKUP(G620,数据2!C:D,2,FALSE)","v":{"$error":"#N/A"}}]
[{"$nulls":6},"",{"$f":"VLOOKUP(G621,数据2!C:D,2,FALSE)","v":{"$error":"#N/A"}}]
[{"$nulls":6},"",{"$f":"VLOOKUP(G622,数据2!C:D,2,FALSE)","v":{"$error":"#N/A"}}]
[{"$nulls":6},"",{"$f":"VLOOKUP(G623,数据2!C:D,2,FALSE)","v":{"$error":"#N/A"}}]
[{"$nulls":6},"",{"$f":"VLOOKUP(G624,数据2!C:D,2,FALSE)","v":{"$error":"#N/A"}}]
[{"$nulls":6},"",{"$f":"VLOOKUP(G625,数据2!C:D,2,FALSE)","v":{"$error":"#N/A"}}]
[{"$nulls":6},"",{"$f":"VLOOKUP(G626,数据2!C:D,2,FALSE)","v":{"$error":"#N/A"}}]
[{"$nulls":6},"",{"$f":"VLOOKUP(G627,数据2!C:D,2,FALSE)","v":{"$error":"#N/A"}}]
[{"$nulls":6},"",{"$f":"VLOOKUP(G628,数据2!C:D,2,FALSE)","v":{"$error":"#N/A"}}]
[{"$nulls":6},"",{"$f":"VLOOKUP(G629,数据2!C:D,2,FALSE)","v":{"$error":"#N/A"}}]
[{"$nulls":6},"",{"$f":"VLOOKUP(G630,数据2!C:D,2,FALSE)","v":{"$error":"#N/A"}}]
[{"$nulls":6},"",{"$f":"VLOOKUP(G631,数据2!C:D,2,FALSE)","v":{"$error":"#N/A"}}]
[{"$nulls":6},"",{"$f":"VLOOKUP(G632,数据2!C:D,2,FALSE)","v":{"$error":"#N/A"}}]
[{"$nulls":6},"",{"$f":"VLOOKUP(G633,数据2!C:D,2,FALSE)","v":{"$error":"#N/A"}}]
[{"$nulls":6},"",{"$f":"VLOOKUP(G634,数据2!C:D,2,FALSE)","v":{"$error":"#N/A"}}]
[{"$nulls":6},"",{"$f":"VLOOKUP(G635,数据2!C:D,2,FALSE)","v":{"$error":"#N/A"}}]
[{"$nulls":6},"",{"$f":"VLOOKUP(G636,数据2!C:D,2,FALSE)","v":{"$error":"#N/A"}}]
[{"$nulls":6},"",{"$f":"VLOOKUP(G637,数据2!C:D,2,FALSE)","v":{"$error":"#N/A"}}]
[{"$nulls":6},"",{"$f":"VLOOKUP(G638,数据2!C:D,2,FALSE)","v":{"$error":"#N/A"}}]
[{"$nulls":6},"",{"$f":"VLOOKUP(G639,数据2!C:D,2,FALSE)","v":{"$error":"#N/A"}}]
[{"$nulls":6},"",{"$f":"VLOOKUP(G640,数据2!C:D,2,FALSE)","v":{"$error":"#N/A"}}]
[{"$nulls":6},"",{"$f":"VLOOKUP(G641,数据2!C:D,2,FALSE)","v":{"$error":"#N/A"}}]
[{"$nulls":6},"",{"$f":"VLOOKUP(G642,数据2!C:D,2,FALSE)","v":{"$error":"#N/A"}}]
[{"$nulls":6},"",{"$f":"VLOOKUP(G643,数据2!C:D,2,FALSE)","v":{"$error":"#N/A"}}]
[{"$nulls":6},"",{"$f":"VLOOKUP(G644,数据2!C:D,2,FALSE)","v":{"$error":"#N/A"}}]
[{"$nulls":6},{"$f":"C645&F645","v":""},{"$f":"VLOOKUP(G645,数据2!C:D,2,FALSE)","v":{"$error":"#N/A"}}]
[{"$nulls":6},"",{"$f":"VLOOKUP(G646,数据2!C:D,2,FALSE)","v":{"$error":"#N/A"}}]
[{"$nulls":6},"",{"$f":"VLOOKUP(G647,数据2!C:D,2,FALSE)","v":{"$error":"#N/A"}}]
[{"$nulls":6},"",{"$f":"VLOOKUP(G648,数据2!C:D,2,FALSE)","v":{"$error":"#N/A"}}]
[{"$nulls":6},"",{"$f":"VLOOKUP(G649,数据2!C:D,2,FALSE)","v":{"$error":"#N/A"}}]
[{"$nulls":6},"",{"$f":"VLOOKUP(G650,数据2!C:D,2,FALSE)","v":{"$error":"#N/A"}}]
[{"$nulls":6},"",{"$f":"VLOOKUP(G651,数据2!C:D,2,FALSE)","v":{"$error":"#N/A"}}]
[{"$nulls":6},"",{"$f":"VLOOKUP(G652,数据2!C:D,2,FALSE)","v":{"$error":"#N/A"}}]
[{"$nulls":6},"",{"$f":"VLOOKUP(G653,数据2!C:D,2,FALSE)","v":{"$error":"#N/A"}}]
[{"$nulls":6},"",{"$f":"VLOOKUP(G654,数据2!C:D,2,FALSE)","v":{"$error":"#N/A"}}]
[{"$nulls":6},"",{"$f":"VLOOKUP(G655,数据2!C:D,2,FALSE)","v":{"$error":"#N/A"}}]
[{"$nulls":6},"",{"$f":"VLOOKUP(G656,数据2!C:D,2,FALSE)","v":{"$error":"#N/A"}}]
[{"$nulls":6},"",{"$f":"VLOOKUP(G657,数据2!C:D,2,FALSE)","v":{"$error":"#N/A"}}]
[{"$nulls":6},"",{"$f":"VLOOKUP(G658,数据2!C:D,2,FALSE)","v":{"$error":"#N/A"}}]
[{"$nulls":6},"",{"$f":"VLOOKUP(G659,数据2!C:D,2,FALSE)","v":{"$error":"#N/A"}}]
[{"$nulls":6},"",{"$f":"VLOOKUP(G660,数据2!C:D,2,FALSE)","v":{"$error":"#N/A"}}]
[{"$nulls":6},"",{"$f":"VLOOKUP(G661,数据2!C:D,2,FALSE)","v":{"$error":"#N/A"}}]
[{"$nulls":6},"",{"$f":"VLOOKUP(G662,数据2!C:D,2,FALSE)","v":{"$error":"#N/A"}}]
[{"$nulls":6},"",{"$f":"VLOOKUP(G663,数据2!C:D,2,FALSE)","v":{"$error":"#N/A"}}]
[{"$nulls":6},"",{"$f":"VLOOKUP(G664,数据2!C:D,2,FALSE)","v":{"$error":"#N/A"}}]
[{"$nulls":6},"",{"$f":"VLOOKUP(G665,数据2!C:D,2,FALSE)","v":{"$error":"#N/A"}}]
[{"$nulls":6},"",{"$f":"VLOOKUP(G666,数据2!C:D,2,FALSE)","v":{"$error":"#N/A"}}]
[{"$nulls":6},"",{"$f":"VLOOKUP(G667,数据2!C:D,2,FALSE)","v":{"$error":"#N/A"}}]
[{"$nulls":6},"",{"$f":"VLOOKUP(G668,数据2!C:D,2,FALSE)","v":{"$error":"#N/A"}}]
[{"$nulls":6},"",{"$f":"VLOOKUP(G669,数据2!C:D,2,FALSE)","v":{"$error":"#N/A"}}]
[{"$nulls":6},"",{"$f":"VLOOKUP(G670,数据2!C:D,2,FALSE)","v":{"$error":"#N/A"}}]
[{"$nulls":6},"",{"$f":"VLOOKUP(G671,数据2!C:D,2,FALSE)","v":{"$error":"#N/A"}}]
[{"$nulls":6},"",{"$f":"VLOOKUP(G672,数据2!C:D,2,FALSE)","v":{"$error":"#N/A"}}]
[{"$nulls":6},"",{"$f":"VLOOKUP(G673,数据2!C:D,2,FALSE)","v":{"$error":"#N/A"}}]
[{"$nulls":6},"",{"$f":"VLOOKUP(G674,数据2!C:D,2,FALSE)","v":{"$error":"#N/A"}}]
[{"$nulls":6},"",{"$f":"VLOOKUP(G675,数据2!C:D,2,FALSE)","v":{"$error":"#N/A"}}]
[{"$nulls":6},"",{"$f":"VLOOKUP(G676,数据2!C:D,2,FALSE)","v":{"$error":"#N/A"}}]
[{"$nulls":6},"",{"$f":"VLOOKUP(G677,数据2!C:D,2,FALSE)","v":{"$error":"#N/A"}}]
[{"$nulls":6},"",{"$f":"VLOOKUP(G678,数据2!C:D,2,FALSE)","v":{"$error":"#N/A"}}]
[{"$nulls":6},"",{"$f":"VLOOKUP(G679,数据2!C:D,2,FALSE)","v":{"$error":"#N/A"}}]
[{"$nulls":6},"",{"$f":"VLOOKUP(G680,数据2!C:D,2,FALSE)","v":{"$error":"#N/A"}}]
[{"$nulls":6},"",{"$f":"VLOOKUP(G681,数据2!C:D,2,FALSE)","v":{"$error":"#N/A"}}]
[{"$nulls":6},"",{"$f":"VLOOKUP(G682,数据2!C:D,2,FALSE)","v":{"$error":"#N/A"}}]
[{"$nulls":6},"",{"$f":"VLOOKUP(G683,数据2!C:D,2,FALSE)","v":{"$error":"#N/A"}}]
[{"$nulls":6},"",{"$f":"VLOOKUP(G684,数据2!C:D,2,FALSE)","v":{"$error":"#N/A"}}]
[{"$nulls":6},"",{"$f":"VLOOKUP(G685,数据2!C:D,2,FALSE)","v":{"$error":"#N/A"}}]
[{"$nulls":6},"",{"$f":"VLOOKUP(G686,数据2!C:D,2,FALSE)","v":{"$error":"#N/A"}}]
[{"$nulls":6},"",{"$f":"VLOOKUP(G687,数据2!C:D,2,FALSE)","v":{"$error":"#N/A"}}]
[{"$nulls":6},"",{"$f":"VLOOKUP(G688,数据2!C:D,2,FALSE)","v":{"$error":"#N/A"}}]
[{"$nulls":6},"",{"$f":"VLOOKUP(G689,数据2!C:D,2,FALSE)","v":{"$error":"#N/A"}}]
[{"$nulls":6},"",{"$f":"VLOOKUP(G690,数据2!C:D,2,FALSE)","v":{"$error":"#N/A"}}]
[{"$nulls":6},"",{"$f":"VLOOKUP(G691,数据2!C:D,2,FALSE)","v":{"$error":"#N/A"}}]
[{"$nulls":6},"",{"$f":"VLOOKUP(G692,数据2!C:D,2,FALSE)","v":{"$error":"#N/A"}}]
[{"$nulls":6},"",{"$f":"VLOOKUP(G693,数据2!C:D,2,FALSE)","v":{"$error":"#N/A"}}]
[{"$nulls":6},"",{"$f":"VLOOKUP(G694,数据2!C:D,2,FALSE)","v":{"$error":"#N/A"}}]
[{"$nulls":6},"",{"$f":"VLOOKUP(G695,数据2!C:D,2,FALSE)","v":{"$error":"#N/A"}}]
[{"$nulls":6},"",{"$f":"VLOOKUP(G696,数据2!C:D,2,FALSE)","v":{"$error":"#N/A"}}]
[{"$nulls":6},"",{"$f":"VLOOKUP(G697,数据2!C:D,2,FALSE)","v":{"$error":"#N/A"}}]
[{"$nulls":6},"",{"$f":"VLOOKUP(G698,数据2!C:D,2,FALSE)","v":{"$error":"#N/A"}}]
[{"$nulls":6},"",{"$f":"VLOOKUP(G699,数据2!C:D,2,FALSE)","v":{"$error":"#N/A"}}]
[{"$nulls":6},"",{"$f":"VLOOKUP(G700,数据2!C:D,2,FALSE)","v":{"$error":"#N/A"}}]
[{"$nulls":6},"",{"$f":"VLOOKUP(G701,数据2!C:D,2,FALSE)","v":{"$error":"#N/A"}}]
[{"$nulls":6},"",{"$f":"VLOOKUP(G702,数据2!C:D,2,FALSE)","v":{"$error":"#N/A"}}]
[{"$nulls":6},"",{"$f":"VLOOKUP(G703,数据2!C:D,2,FALSE)","v":{"$error":"#N/A"}}]
[{"$nulls":6},"",{"$f":"VLOOKUP(G704,数据2!C:D,2,FALSE)","v":{"$error":"#N/A"}}]
[{"$nulls":6},"",{"$f":"VLOOKUP(G705,数据2!C:D,2,FALSE)","v":{"$error":"#N/A"}}]
[{"$nulls":6},"",{"$f":"VLOOKUP(G706,数据2!C:D,2,FALSE)","v":{"$error":"#N/A"}}]
[{"$nulls":6},"",{"$f":"VLOOKUP(G707,数据2!C:D,2,FALSE)","v":{"$error":"#N/A"}}]
[{"$nulls":6},"",{"$f":"VLOOKUP(G708,数据2!C:D,2,FALSE)","v":{"$error":"#N/A"}}]
[{"$nulls":6},{"$f":"C709&F709","v":""},{"$f":"VLOOKUP(G709,数据2!C:D,2,FALSE)","v":{"$error":"#N/A"}}]
[{"$nulls":6},"",{"$f":"VLOOKUP(G710,数据2!C:D,2,FALSE)","v":{"$error":"#N/A"}}]
[{"$nulls":6},"",{"$f":"VLOOKUP(G711,数据2!C:D,2,FALSE)","v":{"$error":"#N/A"}}]
[{"$nulls":6},"",{"$f":"VLOOKUP(G712,数据2!C:D,2,FALSE)","v":{"$error":"#N/A"}}]
[{"$nulls":6},"",{"$f":"VLOOKUP(G713,数据2!C:D,2,FALSE)","v":{"$error":"#N/A"}}]
[{"$nulls":6},"",{"$f":"VLOOKUP(G714,数据2!C:D,2,FALSE)","v":{"$error":"#N/A"}}]
[{"$nulls":6},"",{"$f":"VLOOKUP(G715,数据2!C:D,2,FALSE)","v":{"$error":"#N/A"}}]
[{"$nulls":6},"",{"$f":"VLOOKUP(G716,数据2!C:D,2,FALSE)","v":{"$error":"#N/A"}}]
[{"$nulls":6},"",{"$f":"VLOOKUP(G717,数据2!C:D,2,FALSE)","v":{"$error":"#N/A"}}]
[{"$nulls":6},"",{"$f":"VLOOKUP(G718,数据2!C:D,2,FALSE)","v":{"$error":"#N/A"}}]
[{"$nulls":6},"",{"$f":"VLOOKUP(G719,数据2!C:D,2,FALSE)","v":{"$error":"#N/A"}}]
[{"$nulls":6},"",{"$f":"VLOOKUP(G720,数据2!C:D,2,FALSE)","v":{"$error":"#N/A"}}]
[{"$nulls":6},"",{"$f":"VLOOKUP(G721,数据2!C:D,2,FALSE)","v":{"$error":"#N/A"}}]
[{"$nulls":6},"",{"$f":"VLOOKUP(G722,数据2!C:D,2,FALSE)","v":{"$error":"#N/A"}}]
[{"$nulls":6},"",{"$f":"VLOOKUP(G723,数据2!C:D,2,FALSE)","v":{"$error":"#N/A"}}]
[{"$nulls":6},"",{"$f":"VLOOKUP(G724,数据2!C:D,2,FALSE)","v":{"$error":"#N/A"}}]
[{"$nulls":6},"",{"$f":"VLOOKUP(G725,数据2!C:D,2,FALSE)","v":{"$error":"#N/A"}}]
[{"$nulls":6},"",{"$f":"VLOOKUP(G726,数据2!C:D,2,FALSE)","v":{"$error":"#N/A"}}]
[{"$nulls":6},"",{"$f":"VLOOKUP(G727,数据2!C:D,2,FALSE)","v":{"$error":"#N/A"}}]
[{"$nulls":6},"",{"$f":"VLOOKUP(G728,数据2!C:D,2,FALSE)","v":{"$error":"#N/A"}}]
[{"$nulls":6},"",{"$f":"VLOOKUP(G729,数据2!C:D,2,FALSE)","v":{"$error":"#N/A"}}]
[{"$nulls":6},"",{"$f":"VLOOKUP(G730,数据2!C:D,2,FALSE)","v":{"$error":"#N/A"}}]
[{"$nulls":6},"",{"$f":"VLOOKUP(G731,数据2!C:D,2,FALSE)","v":{"$error":"#N/A"}}]
[{"$nulls":6},"",{"$f":"VLOOKUP(G732,数据2!C:D,2,FALSE)","v":{"$error":"#N/A"}}]
[{"$nulls":6},"",{"$f":"VLOOKUP(G733,数据2!C:D,2,FALSE)","v":{"$error":"#N/A"}}]
[{"$nulls":6},"",{"$f":"VLOOKUP(G734,数据2!C:D,2,FALSE)","v":{"$error":"#N/A"}}]
[{"$nulls":6},"",{"$f":"VLOOKUP(G735,数据2!C:D,2,FALSE)","v":{"$error":"#N/A"}}]
[{"$nulls":6},"",{"$f":"VLOOKUP(G736,数据2!C:D,2,FALSE)","v":{"$error":"#N/A"}}]
[{"$nulls":6},"",{"$f":"VLOOKUP(G737,数据2!C:D,2,FALSE)","v":{"$error":"#N/A"}}]
[{"$nulls":6},"",{"$f":"VLOOKUP(G738,数据2!C:D,2,FALSE)","v":{"$error":"#N/A"}}]
[{"$nulls":6},"",{"$f":"VLOOKUP(G739,数据2!C:D,2,FALSE)","v":{"$error":"#N/A"}}]
[{"$nulls":6},"",{"$f":"VLOOKUP(G740,数据2!C:D,2,FALSE)","v":{"$error":"#N/A"}}]
[{"$nulls":6},"",{"$f":"VLOOKUP(G741,数据2!C:D,2,FALSE)","v":{"$error":"#N/A"}}]
[{"$nulls":6},"",{"$f":"VLOOKUP(G742,数据2!C:D,2,FALSE)","v":{"$error":"#N/A"}}]
[{"$nulls":6},"",{"$f":"VLOOKUP(G743,数据2!C:D,2,FALSE)","v":{"$error":"#N/A"}}]
[{"$nulls":6},"",{"$f":"VLOOKUP(G744,数据2!C:D,2,FALSE)","v":{"$error":"#N/A"}}]
[{"$nulls":6},"",{"$f":"VLOOKUP(G745,数据2!C:D,2,FALSE)","v":{"$error":"#N/A"}}]
[{"$nulls":6},"",{"$f":"VLOOKUP(G746,数据2!C:D,2,FALSE)","v":{"$error":"#N/A"}}]
[{"$nulls":6},"",{"$f":"VLOOKUP(G747,数据2!C:D,2,FALSE)","v":{"$error":"#N/A"}}]
[{"$nulls":6},"",{"$f":"VLOOKUP(G748,数据2!C:D,2,FALSE)","v":{"$error":"#N/A"}}]
[{"$nulls":6},"",{"$f":"VLOOKUP(G749,数据2!C:D,2,FALSE)","v":{"$error":"#N/A"}}]
[{"$nulls":6},"",{"$f":"VLOOKUP(G750,数据2!C:D,2,FALSE)","v":{"$error":"#N/A"}}]
[{"$nulls":6},"",{"$f":"VLOOKUP(G751,数据2!C:D,2,FALSE)","v":{"$error":"#N/A"}}]
[{"$nulls":6},"",{"$f":"VLOOKUP(G752,数据2!C:D,2,FALSE)","v":{"$error":"#N/A"}}]
[{"$nulls":6},"",{"$f":"VLOOKUP(G753,数据2!C:D,2,FALSE)","v":{"$error":"#N/A"}}]
[{"$nulls":6},"",{"$f":"VLOOKUP(G754,数据2!C:D,2,FALSE)","v":{"$error":"#N/A"}}]
[{"$nulls":6},"",{"$f":"VLOOKUP(G755,数据2!C:D,2,FALSE)","v":{"$error":"#N/A"}}]
[{"$nulls":6},"",{"$f":"VLOOKUP(G756,数据2!C:D,2,FALSE)","v":{"$error":"#N/A"}}]
[{"$nulls":6},"",{"$f":"VLOOKUP(G757,数据2!C:D,2,FALSE)","v":{"$error":"#N/A"}}]
[{"$nulls":6},"",{"$f":"VLOOKUP(G758,数据2!C:D,2,FALSE)","v":{"$error":"#N/A"}}]
[{"$nulls":6},"",{"$f":"VLOOKUP(G759,数据2!C:D,2,FALSE)","v":{"$error":"#N/A"}}]
[{"$nulls":6},"",{"$f":"VLOOKUP(G760,数据2!C:D,2,FALSE)","v":{"$error":"#N/A"}}]
[{"$nulls":6},"",{"$f":"VLOOKUP(G761,数据2!C:D,2,FALSE)","v":{"$error":"#N/A"}}]
[{"$nulls":6},"",{"$f":"VLOOKUP(G762,数据2!C:D,2,FALSE)","v":{"$error":"#N/A"}}]
[{"$nulls":6},"",{"$f":"VLOOKUP(G763,数据2!C:D,2,FALSE)","v":{"$error":"#N/A"}}]
[{"$nulls":6},"",{"$f":"VLOOKUP(G764,数据2!C:D,2,FALSE)","v":{"$error":"#N/A"}}]
[{"$nulls":6},"",{"$f":"VLOOKUP(G765,数据2!C:D,2,FALSE)","v":{"$error":"#N/A"}}]
[{"$nulls":6},"",{"$f":"VLOOKUP(G766,数据2!C:D,2,FALSE)","v":{"$error":"#N/A"}}]
[{"$nulls":6},"",{"$f":"VLOOKUP(G767,数据2!C:D,2,FALSE)","v":{"$error":"#N/A"}}]
[{"$nulls":6},"",{"$f":"VLOOKUP(G768,数据2!C:D,2,FALSE)","v":{"$error":"#N/A"}}]
[{"$nulls":6},"",{"$f":"VLOOKUP(G769,数据2!C:D,2,FALSE)","v":{"$error":"#N/A"}}]
[{"$nulls":6},"",{"$f":"VLOOKUP(G770,数据2!C:D,2,FALSE)","v":{"$error":"#N/A"}}]
[{"$nulls":6},"",{"$f":"VLOOKUP(G771,数据2!C:D,2,FALSE)","v":{"$error":"#N/A"}}]
[{"$nulls":6},"",{"$f":"VLOOKUP(G772,数据2!C:D,2,FALSE)","v":{"$error":"#N/A"}}]
[{"$nulls":6},{"$f":"C773&F773","v":""},{"$f":"VLOOKUP(G773,数据2!C:D,2,FALSE)","v":{"$error":"#N/A"}}]
[{"$nulls":6},"",{"$f":"VLOOKUP(G774,数据2!C:D,2,FALSE)","v":{"$error":"#N/A"}}]
[{"$nulls":6},"",{"$f":"VLOOKUP(G775,数据2!C:D,2,FALSE)","v":{"$error":"#N/A"}}]
[{"$nulls":6},"",{"$f":"VLOOKUP(G776,数据2!C:D,2,FALSE)","v":{"$error":"#N/A"}}]
[{"$nulls":6},"",{"$f":"VLOOKUP(G777,数据2!C:D,2,FALSE)","v":{"$error":"#N/A"}}]
[{"$nulls":6},"",{"$f":"VLOOKUP(G778,数据2!C:D,2,FALSE)","v":{"$error":"#N/A"}}]
[{"$nulls":6},"",{"$f":"VLOOKUP(G779,数据2!C:D,2,FALSE)","v":{"$error":"#N/A"}}]
[{"$nulls":6},"",{"$f":"VLOOKUP(G780,数据2!C:D,2,FALSE)","v":{"$error":"#N/A"}}]
[{"$nulls":6},"",{"$f":"VLOOKUP(G781,数据2!C:D,2,FALSE)","v":{"$error":"#N/A"}}]
[{"$nulls":6},"",{"$f":"VLOOKUP(G782,数据2!C:D,2,FALSE)","v":{"$error":"#N/A"}}]
[{"$nulls":6},"",{"$f":"VLOOKUP(G783,数据2!C:D,2,FALSE)","v":{"$error":"#N/A"}}]
[{"$nulls":6},"",{"$f":"VLOOKUP(G784,数据2!C:D,2,FALSE)","v":{"$error":"#N/A"}}]
[{"$nulls":6},"",{"$f":"VLOOKUP(G785,数据2!C:D,2,FALSE)","v":{"$error":"#N/A"}}]
[{"$nulls":6},"",{"$f":"VLOOKUP(G786,数据2!C:D,2,FALSE)","v":{"$error":"#N/A"}}]
[{"$nulls":6},"",{"$f":"VLOOKUP(G787,数据2!C:D,2,FALSE)","v":{"$error":"#N/A"}}]
[{"$nulls":6},"",{"$f":"VLOOKUP(G788,数据2!C:D,2,FALSE)","v":{"$error":"#N/A"}}]
[{"$nulls":6},"",{"$f":"VLOOKUP(G789,数据2!C:D,2,FALSE)","v":{"$error":"#N/A"}}]
[{"$nulls":6},"",{"$f":"VLOOKUP(G790,数据2!C:D,2,FALSE)","v":{"$error":"#N/A"}}]
[{"$nulls":6},"",{"$f":"VLOOKUP(G791,数据2!C:D,2,FALSE)","v":{"$error":"#N/A"}}]
[{"$nulls":6},"",{"$f":"VLOOKUP(G792,数据2!C:D,2,FALSE)","v":{"$error":"#N/A"}}]
[{"$nulls":6},"",{"$f":"VLOOKUP(G793,数据2!C:D,2,FALSE)","v":{"$error":"#N/A"}}]
[{"$nulls":6},"",{"$f":"VLOOKUP(G794,数据2!C:D,2,FALSE)","v":{"$error":"#N/A"}}]
[{"$nulls":6},"",{"$f":"VLOOKUP(G795,数据2!C:D,2,FALSE)","v":{"$error":"#N/A"}}]
[{"$nulls":6},"",{"$f":"VLOOKUP(G796,数据2!C:D,2,FALSE)","v":{"$error":"#N/A"}}]
[{"$nulls":6},"",{"$f":"VLOOKUP(G797,数据2!C:D,2,FALSE)","v":{"$error":"#N/A"}}]
[{"$nulls":6},"",{"$f":"VLOOKUP(G798,数据2!C:D,2,FALSE)","v":{"$error":"#N/A"}}]
[{"$nulls":6},"",{"$f":"VLOOKUP(G799,数据2!C:D,2,FALSE)","v":{"$error":"#N/A"}}]
[{"$nulls":6},"",{"$f":"VLOOKUP(G800,数据2!C:D,2,FALSE)","v":{"$error":"#N/A"}}]
[{"$nulls":6},"",{"$f":"VLOOKUP(G801,数据2!C:D,2,FALSE)","v":{"$error":"#N/A"}}]
[{"$nulls":6},"",{"$f":"VLOOKUP(G802,数据2!C:D,2,FALSE)","v":{"$error":"#N/A"}}]
[{"$nulls":6},"",{"$f":"VLOOKUP(G803,数据2!C:D,2,FALSE)","v":{"$error":"#N/A"}}]
[{"$nulls":6},"",{"$f":"VLOOKUP(G804,数据2!C:D,2,FALSE)","v":{"$error":"#N/A"}}]
[{"$nulls":6},"",{"$f":"VLOOKUP(G805,数据2!C:D,2,FALSE)","v":{"$error":"#N/A"}}]
[{"$nulls":6},"",{"$f":"VLOOKUP(G806,数据2!C:D,2,FALSE)","v":{"$error":"#N/A"}}]
[{"$nulls":6},"",{"$f":"VLOOKUP(G807,数据2!C:D,2,FALSE)","v":{"$error":"#N/A"}}]
[{"$nulls":6},"",{"$f":"VLOOKUP(G808,数据2!C:D,2,FALSE)","v":{"$error":"#N/A"}}]
[{"$nulls":6},"",{"$f":"VLOOKUP(G809,数据2!C:D,2,FALSE)","v":{"$error":"#N/A"}}]
[{"$nulls":6},"",{"$f":"VLOOKUP(G810,数据2!C:D,2,FALSE)","v":{"$error":"#N/A"}}]
[{"$nulls":6},"",{"$f":"VLOOKUP(G811,数据2!C:D,2,FALSE)","v":{"$error":"#N/A"}}]
[{"$nulls":6},"",{"$f":"VLOOKUP(G812,数据2!C:D,2,FALSE)","v":{"$error":"#N/A"}}]
[{"$nulls":6},"",{"$f":"VLOOKUP(G813,数据2!C:D,2,FALSE)","v":{"$error":"#N/A"}}]
[{"$nulls":6},"",{"$f":"VLOOKUP(G814,数据2!C:D,2,FALSE)","v":{"$error":"#N/A"}}]
[{"$nulls":6},"",{"$f":"VLOOKUP(G815,数据2!C:D,2,FALSE)","v":{"$error":"#N/A"}}]
[{"$nulls":6},"",{"$f":"VLOOKUP(G816,数据2!C:D,2,FALSE)","v":{"$error":"#N/A"}}]
[{"$nulls":6},"",{"$f":"VLOOKUP(G817,数据2!C:D,2,FALSE)","v":{"$error":"#N/A"}}]
[{"$nulls":6},"",{"$f":"VLOOKUP(G818,数据2!C:D,2,FALSE)","v":{"$error":"#N/A"}}]
[{"$nulls":6},"",{"$f":"VLOOKUP(G819,数据2!C:D,2,FALSE)","v":{"$error":"#N/A"}}]
[{"$nulls":6},"",{"$f":"VLOOKUP(G820,数据2!C:D,2,FALSE)","v":{"$error":"#N/A"}}]
[{"$nulls":6},"",{"$f":"VLOOKUP(G821,数据2!C:D,2,FALSE)","v":{"$error":"#N/A"}}]
[{"$nulls":6},"",{"$f":"VLOOKUP(G822,数据2!C:D,2,FALSE)","v":{"$error":"#N/A"}}]
[{"$nulls":6},"",{"$f":"VLOOKUP(G823,数据2!C:D,2,FALSE)","v":{"$error":"#N/A"}}]
[{"$nulls":6},"",{"$f":"VLOOKUP(G824,数据2!C:D,2,FALSE)","v":{"$error":"#N/A"}}]
[{"$nulls":6},"",{"$f":"VLOOKUP(G825,数据2!C:D,2,FALSE)","v":{"$error":"#N/A"}}]
[{"$nulls":6},"",{"$f":"VLOOKUP(G826,数据2!C:D,2,FALSE)","v":{"$error":"#N/A"}}]
[{"$nulls":6},"",{"$f":"VLOOKUP(G827,数据2!C:D,2,FALSE)","v":{"$error":"#N/A"}}]
[{"$nulls":6},"",{"$f":"VLOOKUP(G828,数据2!C:D,2,FALSE)","v":{"$error":"#N/A"}}]
[{"$nulls":6},"",{"$f":"VLOOKUP(G829,数据2!C:D,2,FALSE)","v":{"$error":"#N/A"}}]
[{"$nulls":6},"",{"$f":"VLOOKUP(G830,数据2!C:D,2,FALSE)","v":{"$error":"#N/A"}}]
[{"$nulls":6},"",{"$f":"VLOOKUP(G831,数据2!C:D,2,FALSE)","v":{"$error":"#N/A"}}]
[{"$nulls":6},"",{"$f":"VLOOKUP(G832,数据2!C:D,2,FALSE)","v":{"$error":"#N/A"}}]
[{"$nulls":6},"",{"$f":"VLOOKUP(G833,数据2!C:D,2,FALSE)","v":{"$error":"#N/A"}}]
[{"$nulls":6},"",{"$f":"VLOOKUP(G834,数据2!C:D,2,FALSE)","v":{"$error":"#N/A"}}]
[{"$nulls":6},"",{"$f":"VLOOKUP(G835,数据2!C:D,2,FALSE)","v":{"$error":"#N/A"}}]
[{"$nulls":6},"",{"$f":"VLOOKUP(G836,数据2!C:D,2,FALSE)","v":{"$error":"#N/A"}}]
[{"$nulls":6},{"$f":"C837&F837","v":""},{"$f":"VLOOKUP(G837,数据2!C:D,2,FALSE)","v":{"$error":"#N/A"}}]
[{"$nulls":6},"",{"$f":"VLOOKUP(G838,数据2!C:D,2,FALSE)","v":{"$error":"#N/A"}}]
[{"$nulls":6},"",{"$f":"VLOOKUP(G839,数据2!C:D,2,FALSE)","v":{"$error":"#N/A"}}]
[{"$nulls":6},"",{"$f":"VLOOKUP(G840,数据2!C:D,2,FALSE)","v":{"$error":"#N/A"}}]
[{"$nulls":6},"",{"$f":"VLOOKUP(G841,数据2!C:D,2,FALSE)","v":{"$error":"#N/A"}}]
[{"$nulls":6},"",{"$f":"VLOOKUP(G842,数据2!C:D,2,FALSE)","v":{"$error":"#N/A"}}]
[{"$nulls":6},"",{"$f":"VLOOKUP(G843,数据2!C:D,2,FALSE)","v":{"$error":"#N/A"}}]
[{"$nulls":6},"",{"$f":"VLOOKUP(G844,数据2!C:D,2,FALSE)","v":{"$error":"#N/A"}}]
[{"$nulls":6},"",{"$f":"VLOOKUP(G845,数据2!C:D,2,FALSE)","v":{"$error":"#N/A"}}]
[{"$nulls":6},"",{"$f":"VLOOKUP(G846,数据2!C:D,2,FALSE)","v":{"$error":"#N/A"}}]
[{"$nulls":6},"",{"$f":"VLOOKUP(G847,数据2!C:D,2,FALSE)","v":{"$error":"#N/A"}}]
[{"$nulls":6},"",{"$f":"VLOOKUP(G848,数据2!C:D,2,FALSE)","v":{"$error":"#N/A"}}]
[{"$nulls":6},"",{"$f":"VLOOKUP(G849,数据2!C:D,2,FALSE)","v":{"$error":"#N/A"}}]
[{"$nulls":6},"",{"$f":"VLOOKUP(G850,数据2!C:D,2,FALSE)","v":{"$error":"#N/A"}}]
[{"$nulls":6},"",{"$f":"VLOOKUP(G851,数据2!C:D,2,FALSE)","v":{"$error":"#N/A"}}]
[{"$nulls":6},"",{"$f":"VLOOKUP(G852,数据2!C:D,2,FALSE)","v":{"$error":"#N/A"}}]
[{"$nulls":6},"",{"$f":"VLOOKUP(G853,数据2!C:D,2,FALSE)","v":{"$error":"#N/A"}}]
[{"$nulls":6},"",{"$f":"VLOOKUP(G854,数据2!C:D,2,FALSE)","v":{"$error":"#N/A"}}]
[{"$nulls":6},"",{"$f":"VLOOKUP(G855,数据2!C:D,2,FALSE)","v":{"$error":"#N/A"}}]
[{"$nulls":6},"",{"$f":"VLOOKUP(G856,数据2!C:D,2,FALSE)","v":{"$error":"#N/A"}}]
[{"$nulls":6},"",{"$f":"VLOOKUP(G857,数据2!C:D,2,FALSE)","v":{"$error":"#N/A"}}]
[{"$nulls":6},"",{"$f":"VLOOKUP(G858,数据2!C:D,2,FALSE)","v":{"$error":"#N/A"}}]
[{"$nulls":6},"",{"$f":"VLOOKUP(G859,数据2!C:D,2,FALSE)","v":{"$error":"#N/A"}}]
[{"$nulls":6},"",{"$f":"VLOOKUP(G860,数据2!C:D,2,FALSE)","v":{"$error":"#N/A"}}]
[{"$nulls":6},"",{"$f":"VLOOKUP(G861,数据2!C:D,2,FALSE)","v":{"$error":"#N/A"}}]
[{"$nulls":6},"",{"$f":"VLOOKUP(G862,数据2!C:D,2,FALSE)","v":{"$error":"#N/A"}}]
[{"$nulls":6},"",{"$f":"VLOOKUP(G863,数据2!C:D,2,FALSE)","v":{"$error":"#N/A"}}]
[{"$nulls":6},"",{"$f":"VLOOKUP(G864,数据2!C:D,2,FALSE)","v":{"$error":"#N/A"}}]
[{"$nulls":6},"",{"$f":"VLOOKUP(G865,数据2!C:D,2,FALSE)","v":{"$error":"#N/A"}}]
[{"$nulls":6},"",{"$f":"VLOOKUP(G866,数据2!C:D,2,FALSE)","v":{"$error":"#N/A"}}]
[{"$nulls":6},"",{"$f":"VLOOKUP(G867,数据2!C:D,2,FALSE)","v":{"$error":"#N/A"}}]
[{"$nulls":6},"",{"$f":"VLOOKUP(G868,数据2!C:D,2,FALSE)","v":{"$error":"#N/A"}}]
[{"$nulls":6},"",{"$f":"VLOOKUP(G869,数据2!C:D,2,FALSE)","v":{"$error":"#N/A"}}]
[{"$nulls":6},"",{"$f":"VLOOKUP(G870,数据2!C:D,2,FALSE)","v":{"$error":"#N/A"}}]
[{"$nulls":6},"",{"$f":"VLOOKUP(G871,数据2!C:D,2,FALSE)","v":{"$error":"#N/A"}}]
[{"$nulls":6},"",{"$f":"VLOOKUP(G872,数据2!C:D,2,FALSE)","v":{"$error":"#N/A"}}]
[{"$nulls":6},"",{"$f":"VLOOKUP(G873,数据2!C:D,2,FALSE)","v":{"$error":"#N/A"}}]
[{"$nulls":6},"",{"$f":"VLOOKUP(G874,数据2!C:D,2,FALSE)","v":{"$error":"#N/A"}}]
[{"$nulls":6},"",{"$f":"VLOOKUP(G875,数据2!C:D,2,FALSE)","v":{"$error":"#N/A"}}]
[{"$nulls":6},"",{"$f":"VLOOKUP(G876,数据2!C:D,2,FALSE)","v":{"$error":"#N/A"}}]
[{"$nulls":6},"",{"$f":"VLOOKUP(G877,数据2!C:D,2,FALSE)","v":{"$error":"#N/A"}}]
[{"$nulls":6},"",{"$f":"VLOOKUP(G878,数据2!C:D,2,FALSE)","v":{"$error":"#N/A"}}]
[{"$nulls":6},"",{"$f":"VLOOKUP(G879,数据2!C:D,2,FALSE)","v":{"$error":"#N/A"}}]
[{"$nulls":6},"",{"$f":"VLOOKUP(G880,数据2!C:D,2,FALSE)","v":{"$error":"#N/A"}}]
[{"$nulls":6},"",{"$f":"VLOOKUP(G881,数据2!C:D,2,FALSE)","v":{"$error":"#N/A"}}]
[{"$nulls":6},"",{"$f":"VLOOKUP(G882,数据2!C:D,2,FALSE)","v":{"$error":"#N/A"}}]
[{"$nulls":6},"",{"$f":"VLOOKUP(G883,数据2!C:D,2,FALSE)","v":{"$error":"#N/A"}}]
[{"$nulls":6},"",{"$f":"VLOOKUP(G884,数据2!C:D,2,FALSE)","v":{"$error":"#N/A"}}]
[{"$nulls":6},"",{"$f":"VLOOKUP(G885,数据2!C:D,2,FALSE)","v":{"$error":"#N/A"}}]
[{"$nulls":6},"",{"$f":"VLOOKUP(G886,数据2!C:D,2,FALSE)","v":{"$error":"#N/A"}}]
[{"$nulls":6},"",{"$f":"VLOOKUP(G887,数据2!C:D,2,FALSE)","v":{"$error":"#N/A"}}]
[{"$nulls":6},"",{"$f":"VLOOKUP(G888,数据2!C:D,2,FALSE)","v":{"$error":"#N/A"}}]
[{"$nulls":6},"",{"$f":"VLOOKUP(G889,数据2!C:D,2,FALSE)","v":{"$error":"#N/A"}}]
[{"$nulls":6},"",{"$f":"VLOOKUP(G890,数据2!C:D,2,FALSE)","v":{"$error":"#N/A"}}]
[{"$nulls":6},"",{"$f":"VLOOKUP(G891,数据2!C:D,2,FALSE)","v":{"$error":"#N/A"}}]
[{"$nulls":6},"",{"$f":"VLOOKUP(G892,数据2!C:D,2,FALSE)","v":{"$error":"#N/A"}}]
[{"$nulls":6},"",{"$f":"VLOOKUP(G893,数据2!C:D,2,FALSE)","v":{"$error":"#N/A"}}]
[{"$nulls":6},"",{"$f":"VLOOKUP(G894,数据2!C:D,2,FALSE)","v":{"$error":"#N/A"}}]
[{"$nulls":6},"",{"$f":"VLOOKUP(G895,数据2!C:D,2,FALSE)","v":{"$error":"#N/A"}}]
[{"$nulls":6},"",{"$f":"VLOOKUP(G896,数据2!C:D,2,FALSE)","v":{"$error":"#N/A"}}]
[{"$nulls":6},"",{"$f":"VLOOKUP(G897,数据2!C:D,2,FALSE)","v":{"$error":"#N/A"}}]
[{"$nulls":6},"",{"$f":"VLOOKUP(G898,数据2!C:D,2,FALSE)","v":{"$error":"#N/A"}}]
[{"$nulls":6},"",{"$f":"VLOOKUP(G899,数据2!C:D,2,FALSE)","v":{"$error":"#N/A"}}]
[{"$nulls":6},"",{"$f":"VLOOKUP(G900,数据2!C:D,2,FALSE)","v":{"$error":"#N/A"}}]
[{"$nulls":6},{"$f":"C901&F901","v":""},{"$f":"VLOOKUP(G901,数据2!C:D,2,FALSE)","v":{"$error":"#N/A"}}]
[{"$nulls":6},"",{"$f":"VLOOKUP(G902,数据2!C:D,2,FALSE)","v":{"$error":"#N/A"}}]
[{"$nulls":6},"",{"$f":"VLOOKUP(G903,数据2!C:D,2,FALSE)","v":{"$error":"#N/A"}}]
[{"$nulls":6},"",{"$f":"VLOOKUP(G904,数据2!C:D,2,FALSE)","v":{"$error":"#N/A"}}]
[{"$nulls":6},"",{"$f":"VLOOKUP(G905,数据2!C:D,2,FALSE)","v":{"$error":"#N/A"}}]
[{"$nulls":6},"",{"$f":"VLOOKUP(G906,数据2!C:D,2,FALSE)","v":{"$error":"#N/A"}}]
[{"$nulls":6},"",{"$f":"VLOOKUP(G907,数据2!C:D,2,FALSE)","v":{"$error":"#N/A"}}]
[{"$nulls":6},"",{"$f":"VLOOKUP(G908,数据2!C:D,2,FALSE)","v":{"$error":"#N/A"}}]
[{"$nulls":6},"",{"$f":"VLOOKUP(G909,数据2!C:D,2,FALSE)","v":{"$error":"#N/A"}}]
[{"$nulls":6},"",{"$f":"VLOOKUP(G910,数据2!C:D,2,FALSE)","v":{"$error":"#N/A"}}]
[{"$nulls":6},"",{"$f":"VLOOKUP(G911,数据2!C:D,2,FALSE)","v":{"$error":"#N/A"}}]
[{"$nulls":6},"",{"$f":"VLOOKUP(G912,数据2!C:D,2,FALSE)","v":{"$error":"#N/A"}}]
[{"$nulls":6},"",{"$f":"VLOOKUP(G913,数据2!C:D,2,FALSE)","v":{"$error":"#N/A"}}]
[{"$nulls":6},"",{"$f":"VLOOKUP(G914,数据2!C:D,2,FALSE)","v":{"$error":"#N/A"}}]
[{"$nulls":6},"",{"$f":"VLOOKUP(G915,数据2!C:D,2,FALSE)","v":{"$error":"#N/A"}}]
[{"$nulls":6},"",{"$f":"VLOOKUP(G916,数据2!C:D,2,FALSE)","v":{"$error":"#N/A"}}]
[{"$nulls":6},"",{"$f":"VLOOKUP(G917,数据2!C:D,2,FALSE)","v":{"$error":"#N/A"}}]
[{"$nulls":6},"",{"$f":"VLOOKUP(G918,数据2!C:D,2,FALSE)","v":{"$error":"#N/A"}}]
[{"$nulls":6},"",{"$f":"VLOOKUP(G919,数据2!C:D,2,FALSE)","v":{"$error":"#N/A"}}]
[{"$nulls":6},"",{"$f":"VLOOKUP(G920,数据2!C:D,2,FALSE)","v":{"$error":"#N/A"}}]
[{"$nulls":6},"",{"$f":"VLOOKUP(G921,数据2!C:D,2,FALSE)","v":{"$error":"#N/A"}}]
[{"$nulls":6},"",{"$f":"VLOOKUP(G922,数据2!C:D,2,FALSE)","v":{"$error":"#N/A"}}]
[{"$nulls":6},"",{"$f":"VLOOKUP(G923,数据2!C:D,2,FALSE)","v":{"$error":"#N/A"}}]
[{"$nulls":6},"",{"$f":"VLOOKUP(G924,数据2!C:D,2,FALSE)","v":{"$error":"#N/A"}}]
[{"$nulls":6},"",{"$f":"VLOOKUP(G925,数据2!C:D,2,FALSE)","v":{"$error":"#N/A"}}]
[{"$nulls":6},"",{"$f":"VLOOKUP(G926,数据2!C:D,2,FALSE)","v":{"$error":"#N/A"}}]
[{"$nulls":6},"",{"$f":"VLOOKUP(G927,数据2!C:D,2,FALSE)","v":{"$error":"#N/A"}}]
[{"$nulls":6},"",{"$f":"VLOOKUP(G928,数据2!C:D,2,FALSE)","v":{"$error":"#N/A"}}]
[{"$nulls":6},"",{"$f":"VLOOKUP(G929,数据2!C:D,2,FALSE)","v":{"$error":"#N/A"}}]
[{"$nulls":6},"",{"$f":"VLOOKUP(G930,数据2!C:D,2,FALSE)","v":{"$error":"#N/A"}}]
[{"$nulls":6},"",{"$f":"VLOOKUP(G931,数据2!C:D,2,FALSE)","v":{"$error":"#N/A"}}]
[{"$nulls":6},"",{"$f":"VLOOKUP(G932,数据2!C:D,2,FALSE)","v":{"$error":"#N/A"}}]
[{"$nulls":6},"",{"$f":"VLOOKUP(G933,数据2!C:D,2,FALSE)","v":{"$error":"#N/A"}}]
[{"$nulls":6},"",{"$f":"VLOOKUP(G934,数据2!C:D,2,FALSE)","v":{"$error":"#N/A"}}]
[{"$nulls":6},"",{"$f":"VLOOKUP(G935,数据2!C:D,2,FALSE)","v":{"$error":"#N/A"}}]
[{"$nulls":6},"",{"$f":"VLOOKUP(G936,数据2!C:D,2,FALSE)","v":{"$error":"#N/A"}}]
[{"$nulls":6},"",{"$f":"VLOOKUP(G937,数据2!C:D,2,FALSE)","v":{"$error":"#N/A"}}]
[{"$nulls":6},"",{"$f":"VLOOKUP(G938,数据2!C:D,2,FALSE)","v":{"$error":"#N/A"}}]
[{"$nulls":6},"",{"$f":"VLOOKUP(G939,数据2!C:D,2,FALSE)","v":{"$error":"#N/A"}}]
[{"$nulls":6},"",{"$f":"VLOOKUP(G940,数据2!C:D,2,FALSE)","v":{"$error":"#N/A"}}]
[{"$nulls":6},"",{"$f":"VLOOKUP(G941,数据2!C:D,2,FALSE)","v":{"$error":"#N/A"}}]
[{"$nulls":6},"",{"$f":"VLOOKUP(G942,数据2!C:D,2,FALSE)","v":{"$error":"#N/A"}}]
[{"$nulls":6},"",{"$f":"VLOOKUP(G943,数据2!C:D,2,FALSE)","v":{"$error":"#N/A"}}]
[{"$nulls":6},"",{"$f":"VLOOKUP(G944,数据2!C:D,2,FALSE)","v":{"$error":"#N/A"}}]
[{"$nulls":6},"",{"$f":"VLOOKUP(G945,数据2!C:D,2,FALSE)","v":{"$error":"#N/A"}}]
[{"$nulls":6},"",{"$f":"VLOOKUP(G946,数据2!C:D,2,FALSE)","v":{"$error":"#N/A"}}]
[{"$nulls":6},"",{"$f":"VLOOKUP(G947,数据2!C:D,2,FALSE)","v":{"$error":"#N/A"}}]
[{"$nulls":6},"",{"$f":"VLOOKUP(G948,数据2!C:D,2,FALSE)","v":{"$error":"#N/A"}}]
[{"$nulls":6},"",{"$f":"VLOOKUP(G949,数据2!C:D,2,FALSE)","v":{"$error":"#N/A"}}]
[{"$nulls":6},"",{"$f":"VLOOKUP(G950,数据2!C:D,2,FALSE)","v":{"$error":"#N/A"}}]
[{"$nulls":6},"",{"$f":"VLOOKUP(G951,数据2!C:D,2,FALSE)","v":{"$error":"#N/A"}}]
[{"$nulls":6},"",{"$f":"VLOOKUP(G952,数据2!C:D,2,FALSE)","v":{"$error":"#N/A"}}]
[{"$nulls":6},"",{"$f":"VLOOKUP(G953,数据2!C:D,2,FALSE)","v":{"$error":"#N/A"}}]
[{"$nulls":6},"",{"$f":"VLOOKUP(G954,数据2!C:D,2,FALSE)","v":{"$error":"#N/A"}}]
[{"$nulls":6},"",{"$f":"VLOOKUP(G955,数据2!C:D,2,FALSE)","v":{"$error":"#N/A"}}]
[{"$nulls":6},"",{"$f":"VLOOKUP(G956,数据2!C:D,2,FALSE)","v":{"$error":"#N/A"}}]
[{"$nulls":6},"",{"$f":"VLOOKUP(G957,数据2!C:D,2,FALSE)","v":{"$error":"#N/A"}}]
[{"$nulls":6},"",{"$f":"VLOOKUP(G958,数据2!C:D,2,FALSE)","v":{"$error":"#N/A"}}]
[{"$nulls":6},"",{"$f":"VLOOKUP(G959,数据2!C:D,2,FALSE)","v":{"$error":"#N/A"}}]
[{"$nulls":6},"",{"$f":"VLOOKUP(G960,数据2!C:D,2,FALSE)","v":{"$error":"#N/A"}}]
[{"$nulls":6},"",{"$f":"VLOOKUP(G961,数据2!C:D,2,FALSE)","v":{"$error":"#N/A"}}]
[{"$nulls":6},"",{"$f":"VLOOKUP(G962,数据2!C:D,2,FALSE)","v":{"$error":"#N/A"}}]
[{"$nulls":6},"",{"$f":"VLOOKUP(G963,数据2!C:D,2,FALSE)","v":{"$error":"#N/A"}}]
[{"$nulls":6},"",{"$f":"VLOOKUP(G964,数据2!C:D,2,FALSE)","v":{"$error":"#N/A"}}]
[{"$nulls":6},{"$f":"C965&F965","v":""},{"$f":"VLOOKUP(G965,数据2!C:D,2,FALSE)","v":{"$error":"#N/A"}}]
[{"$nulls":6},"",{"$f":"VLOOKUP(G966,数据2!C:D,2,FALSE)","v":{"$error":"#N/A"}}]
[{"$nulls":6},"",{"$f":"VLOOKUP(G967,数据2!C:D,2,FALSE)","v":{"$error":"#N/A"}}]
[{"$nulls":6},"",{"$f":"VLOOKUP(G968,数据2!C:D,2,FALSE)","v":{"$error":"#N/A"}}]
[{"$nulls":6},"",{"$f":"VLOOKUP(G969,数据2!C:D,2,FALSE)","v":{"$error":"#N/A"}}]
[{"$nulls":6},"",{"$f":"VLOOKUP(G970,数据2!C:D,2,FALSE)","v":{"$error":"#N/A"}}]
[{"$nulls":6},"",{"$f":"VLOOKUP(G971,数据2!C:D,2,FALSE)","v":{"$error":"#N/A"}}]
[{"$nulls":6},"",{"$f":"VLOOKUP(G972,数据2!C:D,2,FALSE)","v":{"$error":"#N/A"}}]
[{"$nulls":6},"",{"$f":"VLOOKUP(G973,数据2!C:D,2,FALSE)","v":{"$error":"#N/A"}}]
[{"$nulls":6},"",{"$f":"VLOOKUP(G974,数据2!C:D,2,FALSE)","v":{"$error":"#N/A"}}]
[{"$nulls":6},"",{"$f":"VLOOKUP(G975,数据2!C:D,2,FALSE)","v":{"$error":"#N/A"}}]
[{"$nulls":6},"",{"$f":"VLOOKUP(G976,数据2!C:D,2,FALSE)","v":{"$error":"#N/A"}}]
[{"$nulls":6},"",{"$f":"VLOOKUP(G977,数据2!C:D,2,FALSE)","v":{"$error":"#N/A"}}]
[{"$nulls":6},"",{"$f":"VLOOKUP(G978,数据2!C:D,2,FALSE)","v":{"$error":"#N/A"}}]
[{"$nulls":6},"",{"$f":"VLOOKUP(G979,数据2!C:D,2,FALSE)","v":{"$error":"#N/A"}}]
[{"$nulls":6},"",{"$f":"VLOOKUP(G980,数据2!C:D,2,FALSE)","v":{"$error":"#N/A"}}]
[{"$nulls":6},"",{"$f":"VLOOKUP(G981,数据2!C:D,2,FALSE)","v":{"$error":"#N/A"}}]
[{"$nulls":6},"",{"$f":"VLOOKUP(G982,数据2!C:D,2,FALSE)","v":{"$error":"#N/A"}}]
[{"$nulls":6},"",{"$f":"VLOOKUP(G983,数据2!C:D,2,FALSE)","v":{"$error":"#N/A"}}]
[{"$nulls":6},"",{"$f":"VLOOKUP(G984,数据2!C:D,2,FALSE)","v":{"$error":"#N/A"}}]
[{"$nulls":6},"",{"$f":"VLOOKUP(G985,数据2!C:D,2,FALSE)","v":{"$error":"#N/A"}}]
[{"$nulls":6},"",{"$f":"VLOOKUP(G986,数据2!C:D,2,FALSE)","v":{"$error":"#N/A"}}]
[{"$nulls":6},"",{"$f":"VLOOKUP(G987,数据2!C:D,2,FALSE)","v":{"$error":"#N/A"}}]
[{"$nulls":6},"",{"$f":"VLOOKUP(G988,数据2!C:D,2,FALSE)","v":{"$error":"#N/A"}}]
[{"$nulls":6},"",{"$f":"VLOOKUP(G989,数据2!C:D,2,FALSE)","v":{"$error":"#N/A"}}]
[{"$nulls":6},"",{"$f":"VLOOKUP(G990,数据2!C:D,2,FALSE)","v":{"$error":"#N/A"}}]
[{"$nulls":6},"",{"$f":"VLOOKUP(G991,数据2!C:D,2,FALSE)","v":{"$error":"#N/A"}}]
[{"$nulls":6},"",{"$f":"VLOOKUP(G992,数据2!C:D,2,FALSE)","v":{"$error":"#N/A"}}]
[{"$nulls":6},"",{"$f":"VLOOKUP(G993,数据2!C:D,2,FALSE)","v":{"$error":"#N/A"}}]
[{"$nulls":6},"",{"$f":"VLOOKUP(G994,数据2!C:D,2,FALSE)","v":{"$error":"#N/A"}}]
[{"$nulls":6},"",{"$f":"VLOOKUP(G995,数据2!C:D,2,FALSE)","v":{"$error":"#N/A"}}]
[{"$nulls":6},"",{"$f":"VLOOKUP(G996,数据2!C:D,2,FALSE)","v":{"$error":"#N/A"}}]
[{"$nulls":6},"",{"$f":"VLOOKUP(G997,数据2!C:D,2,FALSE)","v":{"$error":"#N/A"}}]
[{"$nulls":6},"",{"$f":"VLOOKUP(G998,数据2!C:D,2,FALSE)","v":{"$error":"#N/A"}}]
[{"$nulls":6},"",{"$f":"VLOOKUP(G999,数据2!C:D,2,FALSE)","v":{"$error":"#N/A"}}]
[{"$nulls":6},"",{"$f":"VLOOKUP(G1000,数据2!C:D,2,FALSE)","v":{"$error":"#N/A"}}]
[{"$nulls":6},"",{"$f":"VLOOKUP(G1001,数据2!C:D,2,FALSE)","v":{"$error":"#N/A"}}]
[{"$nulls":6},"",{"$f":"VLOOKUP(G1002,数据2!C:D,2,FALSE)","v":{"$error":"#N/A"}}]
[{"$nulls":6},"",{"$f":"VLOOKUP(G1003,数据2!C:D,2,FALSE)","v":{"$error":"#N/A"}}]
[{"$nulls":6},"",{"$f":"VLOOKUP(G1004,数据2!C:D,2,FALSE)","v":{"$error":"#N/A"}}]
[{"$nulls":6},"",{"$f":"VLOOKUP(G1005,数据2!C:D,2,FALSE)","v":{"$error":"#N/A"}}]
[{"$nulls":6},"",{"$f":"VLOOKUP(G1006,数据2!C:D,2,FALSE)","v":{"$error":"#N/A"}}]
[{"$nulls":6},"",{"$f":"VLOOKUP(G1007,数据2!C:D,2,FALSE)","v":{"$error":"#N/A"}}]
[{"$nulls":6},"",{"$f":"VLOOKUP(G1008,数据2!C:D,2,FALSE)","v":{"$error":"#N/A"}}]
[{"$nulls":6},"",{"$f":"VLOOKUP(G1009,数据2!C:D,2,FALSE)","v":{"$error":"#N/A"}}]
[{"$nulls":6},"",{"$f":"VLOOKUP(G1010,数据2!C:D,2,FALSE)","v":{"$error":"#N/A"}}]
[{"$nulls":6},"",{"$f":"VLOOKUP(G1011,数据2!C:D,2,FALSE)","v":{"$error":"#N/A"}}]
[{"$nulls":6},"",{"$f":"VLOOKUP(G1012,数据2!C:D,2,FALSE)","v":{"$error":"#N/A"}}]
[{"$nulls":6},"",{"$f":"VLOOKUP(G1013,数据2!C:D,2,FALSE)","v":{"$error":"#N/A"}}]
[{"$nulls":6},"",{"$f":"VLOOKUP(G1014,数据2!C:D,2,FALSE)","v":{"$error":"#N/A"}}]
[{"$nulls":6},"",{"$f":"VLOOKUP(G1015,数据2!C:D,2,FALSE)","v":{"$error":"#N/A"}}]
[{"$nulls":6},"",{"$f":"VLOOKUP(G1016,数据2!C:D,2,FALSE)","v":{"$error":"#N/A"}}]
[{"$nulls":6},"",{"$f":"VLOOKUP(G1017,数据2!C:D,2,FALSE)","v":{"$error":"#N/A"}}]
[{"$nulls":6},"",{"$f":"VLOOKUP(G1018,数据2!C:D,2,FALSE)","v":{"$error":"#N/A"}}]
[{"$nulls":6},"",{"$f":"VLOOKUP(G1019,数据2!C:D,2,FALSE)","v":{"$error":"#N/A"}}]
[{"$nulls":6},"",{"$f":"VLOOKUP(G1020,数据2!C:D,2,FALSE)","v":{"$error":"#N/A"}}]
[{"$nulls":6},"",{"$f":"VLOOKUP(G1021,数据2!C:D,2,FALSE)","v":{"$error":"#N/A"}}]
[{"$nulls":6},"",{"$f":"VLOOKUP(G1022,数据2!C:D,2,FALSE)","v":{"$error":"#N/A"}}]
[{"$nulls":6},"",{"$f":"VLOOKUP(G1023,数据2!C:D,2,FALSE)","v":{"$error":"#N/A"}}]
[{"$nulls":6},"",{"$f":"VLOOKUP(G1024,数据2!C:D,2,FALSE)","v":{"$error":"#N/A"}}]
[{"$nulls":6},"",{"$f":"VLOOKUP(G1025,数据2!C:D,2,FALSE)","v":{"$error":"#N/A"}}]
[{"$nulls":6},"",{"$f":"VLOOKUP(G1026,数据2!C:D,2,FALSE)","v":{"$error":"#N/A"}}]
[{"$nulls":6},"",{"$f":"VLOOKUP(G1027,数据2!C:D,2,FALSE)","v":{"$error":"#N/A"}}]
[{"$nulls":6},"",{"$f":"VLOOKUP(G1028,数据2!C:D,2,FALSE)","v":{"$error":"#N/A"}}]
[{"$nulls":6},{"$f":"C1029&F1029","v":""},{"$f":"VLOOKUP(G1029,数据2!C:D,2,FALSE)","v":{"$error":"#N/A"}}]
[{"$nulls":6},"",{"$f":"VLOOKUP(G1030,数据2!C:D,2,FALSE)","v":{"$error":"#N/A"}}]
[{"$nulls":6},"",{"$f":"VLOOKUP(G1031,数据2!C:D,2,FALSE)","v":{"$error":"#N/A"}}]
[{"$nulls":6},"",{"$f":"VLOOKUP(G1032,数据2!C:D,2,FALSE)","v":{"$error":"#N/A"}}]
[{"$nulls":6},"",{"$f":"VLOOKUP(G1033,数据2!C:D,2,FALSE)","v":{"$error":"#N/A"}}]
[{"$nulls":6},"",{"$f":"VLOOKUP(G1034,数据2!C:D,2,FALSE)","v":{"$error":"#N/A"}}]
[{"$nulls":6},"",{"$f":"VLOOKUP(G1035,数据2!C:D,2,FALSE)","v":{"$error":"#N/A"}}]
[{"$nulls":6},"",{"$f":"VLOOKUP(G1036,数据2!C:D,2,FALSE)","v":{"$error":"#N/A"}}]
[{"$nulls":6},"",{"$f":"VLOOKUP(G1037,数据2!C:D,2,FALSE)","v":{"$error":"#N/A"}}]
[{"$nulls":6},"",{"$f":"VLOOKUP(G1038,数据2!C:D,2,FALSE)","v":{"$error":"#N/A"}}]
[{"$nulls":6},"",{"$f":"VLOOKUP(G1039,数据2!C:D,2,FALSE)","v":{"$error":"#N/A"}}]
[{"$nulls":6},"",{"$f":"VLOOKUP(G1040,数据2!C:D,2,FALSE)","v":{"$error":"#N/A"}}]
[{"$nulls":6},"",{"$f":"VLOOKUP(G1041,数据2!C:D,2,FALSE)","v":{"$error":"#N/A"}}]
[{"$nulls":6},"",{"$f":"VLOOKUP(G1042,数据2!C:D,2,FALSE)","v":{"$error":"#N/A"}}]
[{"$nulls":6},"",{"$f":"VLOOKUP(G1043,数据2!C:D,2,FALSE)","v":{"$error":"#N/A"}}]
[{"$nulls":6},"",{"$f":"VLOOKUP(G1044,数据2!C:D,2,FALSE)","v":{"$error":"#N/A"}}]
[{"$nulls":6},"",{"$f":"VLOOKUP(G1045,数据2!C:D,2,FALSE)","v":{"$error":"#N/A"}}]
[{"$nulls":6},"",{"$f":"VLOOKUP(G1046,数据2!C:D,2,FALSE)","v":{"$error":"#N/A"}}]
[{"$nulls":6},"",{"$f":"VLOOKUP(G1047,数据2!C:D,2,FALSE)","v":{"$error":"#N/A"}}]
[{"$nulls":6},"",{"$f":"VLOOKUP(G1048,数据2!C:D,2,FALSE)","v":{"$error":"#N/A"}}]
[{"$nulls":6},"",{"$f":"VLOOKUP(G1049,数据2!C:D,2,FALSE)","v":{"$error":"#N/A"}}]
[{"$nulls":6},"",{"$f":"VLOOKUP(G1050,数据2!C:D,2,FALSE)","v":{"$error":"#N/A"}}]
[{"$nulls":6},"",{"$f":"VLOOKUP(G1051,数据2!C:D,2,FALSE)","v":{"$error":"#N/A"}}]
[{"$nulls":6},"",{"$f":"VLOOKUP(G1052,数据2!C:D,2,FALSE)","v":{"$error":"#N/A"}}]
[{"$nulls":6},"",{"$f":"VLOOKUP(G1053,数据2!C:D,2,FALSE)","v":{"$error":"#N/A"}}]
[{"$nulls":6},"",{"$f":"VLOOKUP(G1054,数据2!C:D,2,FALSE)","v":{"$error":"#N/A"}}]
[{"$nulls":6},"",{"$f":"VLOOKUP(G1055,数据2!C:D,2,FALSE)","v":{"$error":"#N/A"}}]
[{"$nulls":6},"",{"$f":"VLOOKUP(G1056,数据2!C:D,2,FALSE)","v":{"$error":"#N/A"}}]
[{"$nulls":6},"",{"$f":"VLOOKUP(G1057,数据2!C:D,2,FALSE)","v":{"$error":"#N/A"}}]
[{"$nulls":6},"",{"$f":"VLOOKUP(G1058,数据2!C:D,2,FALSE)","v":{"$error":"#N/A"}}]
[{"$nulls":6},"",{"$f":"VLOOKUP(G1059,数据2!C:D,2,FALSE)","v":{"$error":"#N/A"}}]
[{"$nulls":6},"",{"$f":"VLOOKUP(G1060,数据2!C:D,2,FALSE)","v":{"$error":"#N/A"}}]
[{"$nulls":6},"",{"$f":"VLOOKUP(G1061,数据2!C:D,2,FALSE)","v":{"$error":"#N/A"}}]
[{"$nulls":6},"",{"$f":"VLOOKUP(G1062,数据2!C:D,2,FALSE)","v":{"$error":"#N/A"}}]
[{"$nulls":6},"",{"$f":"VLOOKUP(G1063,数据2!C:D,2,FALSE)","v":{"$error":"#N/A"}}]
[{"$nulls":6},"",{"$f":"VLOOKUP(G1064,数据2!C:D,2,FALSE)","v":{"$error":"#N/A"}}]
[{"$nulls":6},"",{"$f":"VLOOKUP(G1065,数据2!C:D,2,FALSE)","v":{"$error":"#N/A"}}]
[{"$nulls":6},"",{"$f":"VLOOKUP(G1066,数据2!C:D,2,FALSE)","v":{"$error":"#N/A"}}]
[{"$nulls":6},"",{"$f":"VLOOKUP(G1067,数据2!C:D,2,FALSE)","v":{"$error":"#N/A"}}]
[{"$nulls":6},"",{"$f":"VLOOKUP(G1068,数据2!C:D,2,FALSE)","v":{"$error":"#N/A"}}]
[{"$nulls":6},"",{"$f":"VLOOKUP(G1069,数据2!C:D,2,FALSE)","v":{"$error":"#N/A"}}]
[{"$nulls":6},"",{"$f":"VLOOKUP(G1070,数据2!C:D,2,FALSE)","v":{"$error":"#N/A"}}]
[{"$nulls":6},"",{"$f":"VLOOKUP(G1071,数据2!C:D,2,FALSE)","v":{"$error":"#N/A"}}]
[{"$nulls":6},"",{"$f":"VLOOKUP(G1072,数据2!C:D,2,FALSE)","v":{"$error":"#N/A"}}]
[{"$nulls":6},"",{"$f":"VLOOKUP(G1073,数据2!C:D,2,FALSE)","v":{"$error":"#N/A"}}]
[{"$nulls":6},"",{"$f":"VLOOKUP(G1074,数据2!C:D,2,FALSE)","v":{"$error":"#N/A"}}]
[{"$nulls":6},"",{"$f":"VLOOKUP(G1075,数据2!C:D,2,FALSE)","v":{"$error":"#N/A"}}]
[{"$nulls":6},"",{"$f":"VLOOKUP(G1076,数据2!C:D,2,FALSE)","v":{"$error":"#N/A"}}]
[{"$nulls":6},"",{"$f":"VLOOKUP(G1077,数据2!C:D,2,FALSE)","v":{"$error":"#N/A"}}]
[{"$nulls":6},"",{"$f":"VLOOKUP(G1078,数据2!C:D,2,FALSE)","v":{"$error":"#N/A"}}]
[{"$nulls":6},"",{"$f":"VLOOKUP(G1079,数据2!C:D,2,FALSE)","v":{"$error":"#N/A"}}]
[{"$nulls":6},"",{"$f":"VLOOKUP(G1080,数据2!C:D,2,FALSE)","v":{"$error":"#N/A"}}]
[{"$nulls":6},"",{"$f":"VLOOKUP(G1081,数据2!C:D,2,FALSE)","v":{"$error":"#N/A"}}]
[{"$nulls":6},"",{"$f":"VLOOKUP(G1082,数据2!C:D,2,FALSE)","v":{"$error":"#N/A"}}]
[{"$nulls":6},"",{"$f":"VLOOKUP(G1083,数据2!C:D,2,FALSE)","v":{"$error":"#N/A"}}]
[{"$nulls":6},"",{"$f":"VLOOKUP(G1084,数据2!C:D,2,FALSE)","v":{"$error":"#N/A"}}]
[{"$nulls":6},"",{"$f":"VLOOKUP(G1085,数据2!C:D,2,FALSE)","v":{"$error":"#N/A"}}]
[{"$nulls":6},"",{"$f":"VLOOKUP(G1086,数据2!C:D,2,FALSE)","v":{"$error":"#N/A"}}]
[{"$nulls":6},"",{"$f":"VLOOKUP(G1087,数据2!C:D,2,FALSE)","v":{"$error":"#N/A"}}]
[{"$nulls":6},"",{"$f":"VLOOKUP(G1088,数据2!C:D,2,FALSE)","v":{"$error":"#N/A"}}]
[{"$nulls":6},"",{"$f":"VLOOKUP(G1089,数据2!C:D,2,FALSE)","v":{"$error":"#N/A"}}]
[{"$nulls":6},"",{"$f":"VLOOKUP(G1090,数据2!C:D,2,FALSE)","v":{"$error":"#N/A"}}]
[{"$nulls":6},"",{"$f":"VLOOKUP(G1091,数据2!C:D,2,FALSE)","v":{"$error":"#N/A"}}]
[{"$nulls":6},"",{"$f":"VLOOKUP(G1092,数据2!C:D,2,FALSE)","v":{"$error":"#N/A"}}]
[{"$nulls":6},{"$f":"C1093&F1093","v":""},{"$f":"VLOOKUP(G1093,数据2!C:D,2,FALSE)","v":{"$error":"#N/A"}}]
[{"$nulls":6},"",{"$f":"VLOOKUP(G1094,数据2!C:D,2,FALSE)","v":{"$error":"#N/A"}}]
[{"$nulls":6},"",{"$f":"VLOOKUP(G1095,数据2!C:D,2,FALSE)","v":{"$error":"#N/A"}}]
[{"$nulls":6},"",{"$f":"VLOOKUP(G1096,数据2!C:D,2,FALSE)","v":{"$error":"#N/A"}}]
[{"$nulls":6},"",{"$f":"VLOOKUP(G1097,数据2!C:D,2,FALSE)","v":{"$error":"#N/A"}}]
[{"$nulls":6},"",{"$f":"VLOOKUP(G1098,数据2!C:D,2,FALSE)","v":{"$error":"#N/A"}}]
[{"$nulls":6},"",{"$f":"VLOOKUP(G1099,数据2!C:D,2,FALSE)","v":{"$error":"#N/A"}}]
[{"$nulls":6},"",{"$f":"VLOOKUP(G1100,数据2!C:D,2,FALSE)","v":{"$error":"#N/A"}}]
[{"$nulls":6},"",{"$f":"VLOOKUP(G1101,数据2!C:D,2,FALSE)","v":{"$error":"#N/A"}}]
[{"$nulls":6},"",{"$f":"VLOOKUP(G1102,数据2!C:D,2,FALSE)","v":{"$error":"#N/A"}}]
[{"$nulls":6},"",{"$f":"VLOOKUP(G1103,数据2!C:D,2,FALSE)","v":{"$error":"#N/A"}}]
[{"$nulls":6},"",{"$f":"VLOOKUP(G1104,数据2!C:D,2,FALSE)","v":{"$error":"#N/A"}}]
[{"$nulls":6},"",{"$f":"VLOOKUP(G1105,数据2!C:D,2,FALSE)","v":{"$error":"#N/A"}}]
[{"$nulls":6},"",{"$f":"VLOOKUP(G1106,数据2!C:D,2,FALSE)","v":{"$error":"#N/A"}}]
[{"$nulls":6},"",{"$f":"VLOOKUP(G1107,数据2!C:D,2,FALSE)","v":{"$error":"#N/A"}}]
[{"$nulls":6},"",{"$f":"VLOOKUP(G1108,数据2!C:D,2,FALSE)","v":{"$error":"#N/A"}}]
[{"$nulls":6},"",{"$f":"VLOOKUP(G1109,数据2!C:D,2,FALSE)","v":{"$error":"#N/A"}}]
[{"$nulls":6},"",{"$f":"VLOOKUP(G1110,数据2!C:D,2,FALSE)","v":{"$error":"#N/A"}}]
[{"$nulls":6},"",{"$f":"VLOOKUP(G1111,数据2!C:D,2,FALSE)","v":{"$error":"#N/A"}}]
[{"$nulls":6},"",{"$f":"VLOOKUP(G1112,数据2!C:D,2,FALSE)","v":{"$error":"#N/A"}}]
[{"$nulls":6},"",{"$f":"VLOOKUP(G1113,数据2!C:D,2,FALSE)","v":{"$error":"#N/A"}}]
[{"$nulls":6},"",{"$f":"VLOOKUP(G1114,数据2!C:D,2,FALSE)","v":{"$error":"#N/A"}}]
[{"$nulls":6},"",{"$f":"VLOOKUP(G1115,数据2!C:D,2,FALSE)","v":{"$error":"#N/A"}}]
[{"$nulls":6},"",{"$f":"VLOOKUP(G1116,数据2!C:D,2,FALSE)","v":{"$error":"#N/A"}}]
[{"$nulls":6},"",{"$f":"VLOOKUP(G1117,数据2!C:D,2,FALSE)","v":{"$error":"#N/A"}}]
[{"$nulls":6},"",{"$f":"VLOOKUP(G1118,数据2!C:D,2,FALSE)","v":{"$error":"#N/A"}}]
[{"$nulls":6},"",{"$f":"VLOOKUP(G1119,数据2!C:D,2,FALSE)","v":{"$error":"#N/A"}}]
[{"$nulls":6},"",{"$f":"VLOOKUP(G1120,数据2!C:D,2,FALSE)","v":{"$error":"#N/A"}}]
[{"$nulls":6},"",{"$f":"VLOOKUP(G1121,数据2!C:D,2,FALSE)","v":{"$error":"#N/A"}}]
[{"$nulls":6},"",{"$f":"VLOOKUP(G1122,数据2!C:D,2,FALSE)","v":{"$error":"#N/A"}}]
[{"$nulls":6},"",{"$f":"VLOOKUP(G1123,数据2!C:D,2,FALSE)","v":{"$error":"#N/A"}}]
[{"$nulls":6},"",{"$f":"VLOOKUP(G1124,数据2!C:D,2,FALSE)","v":{"$error":"#N/A"}}]
[{"$nulls":6},"",{"$f":"VLOOKUP(G1125,数据2!C:D,2,FALSE)","v":{"$error":"#N/A"}}]
[{"$nulls":6},"",{"$f":"VLOOKUP(G1126,数据2!C:D,2,FALSE)","v":{"$error":"#N/A"}}]
[{"$nulls":6},"",{"$f":"VLOOKUP(G1127,数据2!C:D,2,FALSE)","v":{"$error":"#N/A"}}]
[{"$nulls":6},"",{"$f":"VLOOKUP(G1128,数据2!C:D,2,FALSE)","v":{"$error":"#N/A"}}]
[{"$nulls":6},"",{"$f":"VLOOKUP(G1129,数据2!C:D,2,FALSE)","v":{"$error":"#N/A"}}]
[{"$nulls":6},"",{"$f":"VLOOKUP(G1130,数据2!C:D,2,FALSE)","v":{"$error":"#N/A"}}]
[{"$nulls":6},"",{"$f":"VLOOKUP(G1131,数据2!C:D,2,FALSE)","v":{"$error":"#N/A"}}]
[{"$nulls":6},"",{"$f":"VLOOKUP(G1132,数据2!C:D,2,FALSE)","v":{"$error":"#N/A"}}]
[{"$nulls":6},"",{"$f":"VLOOKUP(G1133,数据2!C:D,2,FALSE)","v":{"$error":"#N/A"}}]
[{"$nulls":6},"",{"$f":"VLOOKUP(G1134,数据2!C:D,2,FALSE)","v":{"$error":"#N/A"}}]
[{"$nulls":6},"",{"$f":"VLOOKUP(G1135,数据2!C:D,2,FALSE)","v":{"$error":"#N/A"}}]
[{"$nulls":6},"",{"$f":"VLOOKUP(G1136,数据2!C:D,2,FALSE)","v":{"$error":"#N/A"}}]
[{"$nulls":6},"",{"$f":"VLOOKUP(G1137,数据2!C:D,2,FALSE)","v":{"$error":"#N/A"}}]
[{"$nulls":6},"",{"$f":"VLOOKUP(G1138,数据2!C:D,2,FALSE)","v":{"$error":"#N/A"}}]
[{"$nulls":6},"",{"$f":"VLOOKUP(G1139,数据2!C:D,2,FALSE)","v":{"$error":"#N/A"}}]
[{"$nulls":6},"",{"$f":"VLOOKUP(G1140,数据2!C:D,2,FALSE)","v":{"$error":"#N/A"}}]
[{"$nulls":6},"",{"$f":"VLOOKUP(G1141,数据2!C:D,2,FALSE)","v":{"$error":"#N/A"}}]
[{"$nulls":6},"",{"$f":"VLOOKUP(G1142,数据2!C:D,2,FALSE)","v":{"$error":"#N/A"}}]
[{"$nulls":6},"",{"$f":"VLOOKUP(G1143,数据2!C:D,2,FALSE)","v":{"$error":"#N/A"}}]
[{"$nulls":6},"",{"$f":"VLOOKUP(G1144,数据2!C:D,2,FALSE)","v":{"$error":"#N/A"}}]
[{"$nulls":6},"",{"$f":"VLOOKUP(G1145,数据2!C:D,2,FALSE)","v":{"$error":"#N/A"}}]
[{"$nulls":6},"",{"$f":"VLOOKUP(G1146,数据2!C:D,2,FALSE)","v":{"$error":"#N/A"}}]
[{"$nulls":6},"",{"$f":"VLOOKUP(G1147,数据2!C:D,2,FALSE)","v":{"$error":"#N/A"}}]
[{"$nulls":6},"",{"$f":"VLOOKUP(G1148,数据2!C:D,2,FALSE)","v":{"$error":"#N/A"}}]
[{"$nulls":6},"",{"$f":"VLOOKUP(G1149,数据2!C:D,2,FALSE)","v":{"$error":"#N/A"}}]
[{"$nulls":6},"",{"$f":"VLOOKUP(G1150,数据2!C:D,2,FALSE)","v":{"$error":"#N/A"}}]
[{"$nulls":6},"",{"$f":"VLOOKUP(G1151,数据2!C:D,2,FALSE)","v":{"$error":"#N/A"}}]
[{"$nulls":6},"",{"$f":"VLOOKUP(G1152,数据2!C:D,2,FALSE)","v":{"$error":"#N/A"}}]
[{"$nulls":6},"",{"$f":"VLOOKUP(G1153,数据2!C:D,2,FALSE)","v":{"$error":"#N/A"}}]
[{"$nulls":6},"",{"$f":"VLOOKUP(G1154,数据2!C:D,2,FALSE)","v":{"$error":"#N/A"}}]
[{"$nulls":6},"",{"$f":"VLOOKUP(G1155,数据2!C:D,2,FALSE)","v":{"$error":"#N/A"}}]
[{"$nulls":6},"",{"$f":"VLOOKUP(G1156,数据2!C:D,2,FALSE)","v":{"$error":"#N/A"}}]
[{"$nulls":6},{"$f":"C1157&F1157","v":""},{"$f":"VLOOKUP(G1157,数据2!C:D,2,FALSE)","v":{"$error":"#N/A"}}]
[{"$nulls":6},"",{"$f":"VLOOKUP(G1158,数据2!C:D,2,FALSE)","v":{"$error":"#N/A"}}]
[{"$nulls":6},"",{"$f":"VLOOKUP(G1159,数据2!C:D,2,FALSE)","v":{"$error":"#N/A"}}]
[{"$nulls":6},"",{"$f":"VLOOKUP(G1160,数据2!C:D,2,FALSE)","v":{"$error":"#N/A"}}]
[{"$nulls":6},"",{"$f":"VLOOKUP(G1161,数据2!C:D,2,FALSE)","v":{"$error":"#N/A"}}]
[{"$nulls":6},"",{"$f":"VLOOKUP(G1162,数据2!C:D,2,FALSE)","v":{"$error":"#N/A"}}]
[{"$nulls":6},"",{"$f":"VLOOKUP(G1163,数据2!C:D,2,FALSE)","v":{"$error":"#N/A"}}]
[{"$nulls":6},"",{"$f":"VLOOKUP(G1164,数据2!C:D,2,FALSE)","v":{"$error":"#N/A"}}]
[{"$nulls":6},"",{"$f":"VLOOKUP(G1165,数据2!C:D,2,FALSE)","v":{"$error":"#N/A"}}]
[{"$nulls":6},"",{"$f":"VLOOKUP(G1166,数据2!C:D,2,FALSE)","v":{"$error":"#N/A"}}]
[{"$nulls":6},"",{"$f":"VLOOKUP(G1167,数据2!C:D,2,FALSE)","v":{"$error":"#N/A"}}]
[{"$nulls":6},"",{"$f":"VLOOKUP(G1168,数据2!C:D,2,FALSE)","v":{"$error":"#N/A"}}]
[{"$nulls":6},"",{"$f":"VLOOKUP(G1169,数据2!C:D,2,FALSE)","v":{"$error":"#N/A"}}]
[{"$nulls":6},"",{"$f":"VLOOKUP(G1170,数据2!C:D,2,FALSE)","v":{"$error":"#N/A"}}]
[{"$nulls":6},"",{"$f":"VLOOKUP(G1171,数据2!C:D,2,FALSE)","v":{"$error":"#N/A"}}]
[{"$nulls":6},"",{"$f":"VLOOKUP(G1172,数据2!C:D,2,FALSE)","v":{"$error":"#N/A"}}]
[{"$nulls":6},"",{"$f":"VLOOKUP(G1173,数据2!C:D,2,FALSE)","v":{"$error":"#N/A"}}]
[{"$nulls":6},"",{"$f":"VLOOKUP(G1174,数据2!C:D,2,FALSE)","v":{"$error":"#N/A"}}]
[{"$nulls":6},"",{"$f":"VLOOKUP(G1175,数据2!C:D,2,FALSE)","v":{"$error":"#N/A"}}]
[{"$nulls":6},"",{"$f":"VLOOKUP(G1176,数据2!C:D,2,FALSE)","v":{"$error":"#N/A"}}]
[{"$nulls":6},"",{"$f":"VLOOKUP(G1177,数据2!C:D,2,FALSE)","v":{"$error":"#N/A"}}]
[{"$nulls":6},"",{"$f":"VLOOKUP(G1178,数据2!C:D,2,FALSE)","v":{"$error":"#N/A"}}]
[{"$nulls":6},"",{"$f":"VLOOKUP(G1179,数据2!C:D,2,FALSE)","v":{"$error":"#N/A"}}]
[{"$nulls":6},"",{"$f":"VLOOKUP(G1180,数据2!C:D,2,FALSE)","v":{"$error":"#N/A"}}]
[{"$nulls":6},"",{"$f":"VLOOKUP(G1181,数据2!C:D,2,FALSE)","v":{"$error":"#N/A"}}]
[{"$nulls":6},"",{"$f":"VLOOKUP(G1182,数据2!C:D,2,FALSE)","v":{"$error":"#N/A"}}]
[{"$nulls":6},"",{"$f":"VLOOKUP(G1183,数据2!C:D,2,FALSE)","v":{"$error":"#N/A"}}]
[{"$nulls":6},"",{"$f":"VLOOKUP(G1184,数据2!C:D,2,FALSE)","v":{"$error":"#N/A"}}]
[{"$nulls":6},"",{"$f":"VLOOKUP(G1185,数据2!C:D,2,FALSE)","v":{"$error":"#N/A"}}]
[{"$nulls":6},"",{"$f":"VLOOKUP(G1186,数据2!C:D,2,FALSE)","v":{"$error":"#N/A"}}]
[{"$nulls":6},"",{"$f":"VLOOKUP(G1187,数据2!C:D,2,FALSE)","v":{"$error":"#N/A"}}]
[{"$nulls":6},"",{"$f":"VLOOKUP(G1188,数据2!C:D,2,FALSE)","v":{"$error":"#N/A"}}]
[{"$nulls":6},"",{"$f":"VLOOKUP(G1189,数据2!C:D,2,FALSE)","v":{"$error":"#N/A"}}]
[{"$nulls":6},"",{"$f":"VLOOKUP(G1190,数据2!C:D,2,FALSE)","v":{"$error":"#N/A"}}]
[{"$nulls":6},"",{"$f":"VLOOKUP(G1191,数据2!C:D,2,FALSE)","v":{"$error":"#N/A"}}]
[{"$nulls":6},"",{"$f":"VLOOKUP(G1192,数据2!C:D,2,FALSE)","v":{"$error":"#N/A"}}]
[{"$nulls":6},"",{"$f":"VLOOKUP(G1193,数据2!C:D,2,FALSE)","v":{"$error":"#N/A"}}]
[{"$nulls":6},"",{"$f":"VLOOKUP(G1194,数据2!C:D,2,FALSE)","v":{"$error":"#N/A"}}]
[{"$nulls":6},"",{"$f":"VLOOKUP(G1195,数据2!C:D,2,FALSE)","v":{"$error":"#N/A"}}]
[{"$nulls":6},"",{"$f":"VLOOKUP(G1196,数据2!C:D,2,FALSE)","v":{"$error":"#N/A"}}]
[{"$nulls":6},"",{"$f":"VLOOKUP(G1197,数据2!C:D,2,FALSE)","v":{"$error":"#N/A"}}]
[{"$nulls":6},"",{"$f":"VLOOKUP(G1198,数据2!C:D,2,FALSE)","v":{"$error":"#N/A"}}]
[{"$nulls":6},"",{"$f":"VLOOKUP(G1199,数据2!C:D,2,FALSE)","v":{"$error":"#N/A"}}]
[{"$nulls":6},"",{"$f":"VLOOKUP(G1200,数据2!C:D,2,FALSE)","v":{"$error":"#N/A"}}]
[{"$nulls":6},"",{"$f":"VLOOKUP(G1201,数据2!C:D,2,FALSE)","v":{"$error":"#N/A"}}]
[{"$nulls":6},"",{"$f":"VLOOKUP(G1202,数据2!C:D,2,FALSE)","v":{"$error":"#N/A"}}]
[{"$nulls":6},"",{"$f":"VLOOKUP(G1203,数据2!C:D,2,FALSE)","v":{"$error":"#N/A"}}]
[{"$nulls":6},"",{"$f":"VLOOKUP(G1204,数据2!C:D,2,FALSE)","v":{"$error":"#N/A"}}]
[{"$nulls":6},"",{"$f":"VLOOKUP(G1205,数据2!C:D,2,FALSE)","v":{"$error":"#N/A"}}]
[{"$nulls":6},"",{"$f":"VLOOKUP(G1206,数据2!C:D,2,FALSE)","v":{"$error":"#N/A"}}]
[{"$nulls":6},"",{"$f":"VLOOKUP(G1207,数据2!C:D,2,FALSE)","v":{"$error":"#N/A"}}]
[{"$nulls":6},"",{"$f":"VLOOKUP(G1208,数据2!C:D,2,FALSE)","v":{"$error":"#N/A"}}]
[{"$nulls":6},"",{"$f":"VLOOKUP(G1209,数据2!C:D,2,FALSE)","v":{"$error":"#N/A"}}]
[{"$nulls":6},"",{"$f":"VLOOKUP(G1210,数据2!C:D,2,FALSE)","v":{"$error":"#N/A"}}]
[{"$nulls":6},"",{"$f":"VLOOKUP(G1211,数据2!C:D,2,FALSE)","v":{"$error":"#N/A"}}]
[{"$nulls":6},"",{"$f":"VLOOKUP(G1212,数据2!C:D,2,FALSE)","v":{"$error":"#N/A"}}]
[{"$nulls":6},"",{"$f":"VLOOKUP(G1213,数据2!C:D,2,FALSE)","v":{"$error":"#N/A"}}]
[{"$nulls":6},"",{"$f":"VLOOKUP(G1214,数据2!C:D,2,FALSE)","v":{"$error":"#N/A"}}]
[{"$nulls":6},"",{"$f":"VLOOKUP(G1215,数据2!C:D,2,FALSE)","v":{"$error":"#N/A"}}]
[{"$nulls":6},"",{"$f":"VLOOKUP(G1216,数据2!C:D,2,FALSE)","v":{"$error":"#N/A"}}]
[{"$nulls":6},"",{"$f":"VLOOKUP(G1217,数据2!C:D,2,FALSE)","v":{"$error":"#N/A"}}]
[{"$nulls":6},"",{"$f":"VLOOKUP(G1218,数据2!C:D,2,FALSE)","v":{"$error":"#N/A"}}]
[{"$nulls":6},"",{"$f":"VLOOKUP(G1219,数据2!C:D,2,FALSE)","v":{"$error":"#N/A"}}]
[{"$nulls":6},"",{"$f":"VLOOKUP(G1220,数据2!C:D,2,FALSE)","v":{"$error":"#N/A"}}]
[{"$nulls":6},{"$f":"C1221&F1221","v":""},{"$f":"VLOOKUP(G1221,数据2!C:D,2,FALSE)","v":{"$error":"#N/A"}}]
[{"$nulls":6},"",{"$f":"VLOOKUP(G1222,数据2!C:D,2,FALSE)","v":{"$error":"#N/A"}}]
[{"$nulls":6},"",{"$f":"VLOOKUP(G1223,数据2!C:D,2,FALSE)","v":{"$error":"#N/A"}}]
[{"$nulls":6},"",{"$f":"VLOOKUP(G1224,数据2!C:D,2,FALSE)","v":{"$error":"#N/A"}}]
[{"$nulls":6},"",{"$f":"VLOOKUP(G1225,数据2!C:D,2,FALSE)","v":{"$error":"#N/A"}}]
[{"$nulls":6},"",{"$f":"VLOOKUP(G1226,数据2!C:D,2,FALSE)","v":{"$error":"#N/A"}}]
[{"$nulls":6},"",{"$f":"VLOOKUP(G1227,数据2!C:D,2,FALSE)","v":{"$error":"#N/A"}}]
[{"$nulls":6},"",{"$f":"VLOOKUP(G1228,数据2!C:D,2,FALSE)","v":{"$error":"#N/A"}}]
[{"$nulls":6},"",{"$f":"VLOOKUP(G1229,数据2!C:D,2,FALSE)","v":{"$error":"#N/A"}}]
[{"$nulls":6},"",{"$f":"VLOOKUP(G1230,数据2!C:D,2,FALSE)","v":{"$error":"#N/A"}}]
[{"$nulls":6},"",{"$f":"VLOOKUP(G1231,数据2!C:D,2,FALSE)","v":{"$error":"#N/A"}}]
[{"$nulls":6},"",{"$f":"VLOOKUP(G1232,数据2!C:D,2,FALSE)","v":{"$error":"#N/A"}}]
[{"$nulls":6},"",{"$f":"VLOOKUP(G1233,数据2!C:D,2,FALSE)","v":{"$error":"#N/A"}}]
[{"$nulls":6},"",{"$f":"VLOOKUP(G1234,数据2!C:D,2,FALSE)","v":{"$error":"#N/A"}}]
[{"$nulls":6},"",{"$f":"VLOOKUP(G1235,数据2!C:D,2,FALSE)","v":{"$error":"#N/A"}}]
[{"$nulls":6},"",{"$f":"VLOOKUP(G1236,数据2!C:D,2,FALSE)","v":{"$error":"#N/A"}}]
[{"$nulls":6},"",{"$f":"VLOOKUP(G1237,数据2!C:D,2,FALSE)","v":{"$error":"#N/A"}}]
[{"$nulls":6},"",{"$f":"VLOOKUP(G1238,数据2!C:D,2,FALSE)","v":{"$error":"#N/A"}}]
[{"$nulls":6},"",{"$f":"VLOOKUP(G1239,数据2!C:D,2,FALSE)","v":{"$error":"#N/A"}}]
[{"$nulls":6},"",{"$f":"VLOOKUP(G1240,数据2!C:D,2,FALSE)","v":{"$error":"#N/A"}}]
[{"$nulls":6},"",{"$f":"VLOOKUP(G1241,数据2!C:D,2,FALSE)","v":{"$error":"#N/A"}}]
[{"$nulls":6},"",{"$f":"VLOOKUP(G1242,数据2!C:D,2,FALSE)","v":{"$error":"#N/A"}}]
[{"$nulls":6},"",{"$f":"VLOOKUP(G1243,数据2!C:D,2,FALSE)","v":{"$error":"#N/A"}}]
[{"$nulls":6},"",{"$f":"VLOOKUP(G1244,数据2!C:D,2,FALSE)","v":{"$error":"#N/A"}}]
[{"$nulls":6},"",{"$f":"VLOOKUP(G1245,数据2!C:D,2,FALSE)","v":{"$error":"#N/A"}}]
[{"$nulls":6},"",{"$f":"VLOOKUP(G1246,数据2!C:D,2,FALSE)","v":{"$error":"#N/A"}}]
[{"$nulls":6},"",{"$f":"VLOOKUP(G1247,数据2!C:D,2,FALSE)","v":{"$error":"#N/A"}}]
[{"$nulls":6},"",{"$f":"VLOOKUP(G1248,数据2!C:D,2,FALSE)","v":{"$error":"#N/A"}}]
[{"$nulls":6},"",{"$f":"VLOOKUP(G1249,数据2!C:D,2,FALSE)","v":{"$error":"#N/A"}}]
[{"$nulls":6},"",{"$f":"VLOOKUP(G1250,数据2!C:D,2,FALSE)","v":{"$error":"#N/A"}}]
[{"$nulls":6},"",{"$f":"VLOOKUP(G1251,数据2!C:D,2,FALSE)","v":{"$error":"#N/A"}}]
[{"$nulls":6},"",{"$f":"VLOOKUP(G1252,数据2!C:D,2,FALSE)","v":{"$error":"#N/A"}}]
[{"$nulls":6},"",{"$f":"VLOOKUP(G1253,数据2!C:D,2,FALSE)","v":{"$error":"#N/A"}}]
[{"$nulls":6},"",{"$f":"VLOOKUP(G1254,数据2!C:D,2,FALSE)","v":{"$error":"#N/A"}}]
[{"$nulls":6},"",{"$f":"VLOOKUP(G1255,数据2!C:D,2,FALSE)","v":{"$error":"#N/A"}}]
[{"$nulls":6},"",{"$f":"VLOOKUP(G1256,数据2!C:D,2,FALSE)","v":{"$error":"#N/A"}}]
[{"$nulls":6},"",{"$f":"VLOOKUP(G1257,数据2!C:D,2,FALSE)","v":{"$error":"#N/A"}}]
[{"$nulls":6},"",{"$f":"VLOOKUP(G1258,数据2!C:D,2,FALSE)","v":{"$error":"#N/A"}}]
[{"$nulls":6},"",{"$f":"VLOOKUP(G1259,数据2!C:D,2,FALSE)","v":{"$error":"#N/A"}}]
[{"$nulls":6},"",{"$f":"VLOOKUP(G1260,数据2!C:D,2,FALSE)","v":{"$error":"#N/A"}}]
[{"$nulls":6},"",{"$f":"VLOOKUP(G1261,数据2!C:D,2,FALSE)","v":{"$error":"#N/A"}}]
[{"$nulls":6},"",{"$f":"VLOOKUP(G1262,数据2!C:D,2,FALSE)","v":{"$error":"#N/A"}}]
[{"$nulls":6},"",{"$f":"VLOOKUP(G1263,数据2!C:D,2,FALSE)","v":{"$error":"#N/A"}}]
[{"$nulls":6},"",{"$f":"VLOOKUP(G1264,数据2!C:D,2,FALSE)","v":{"$error":"#N/A"}}]
[{"$nulls":6},"",{"$f":"VLOOKUP(G1265,数据2!C:D,2,FALSE)","v":{"$error":"#N/A"}}]
[{"$nulls":6},"",{"$f":"VLOOKUP(G1266,数据2!C:D,2,FALSE)","v":{"$error":"#N/A"}}]
[{"$nulls":6},"",{"$f":"VLOOKUP(G1267,数据2!C:D,2,FALSE)","v":{"$error":"#N/A"}}]
[{"$nulls":6},"",{"$f":"VLOOKUP(G1268,数据2!C:D,2,FALSE)","v":{"$error":"#N/A"}}]
[{"$nulls":6},"",{"$f":"VLOOKUP(G1269,数据2!C:D,2,FALSE)","v":{"$error":"#N/A"}}]
[{"$nulls":6},"",{"$f":"VLOOKUP(G1270,数据2!C:D,2,FALSE)","v":{"$error":"#N/A"}}]
[{"$nulls":6},"",{"$f":"VLOOKUP(G1271,数据2!C:D,2,FALSE)","v":{"$error":"#N/A"}}]
[{"$nulls":6},"",{"$f":"VLOOKUP(G1272,数据2!C:D,2,FALSE)","v":{"$error":"#N/A"}}]
[{"$nulls":6},"",{"$f":"VLOOKUP(G1273,数据2!C:D,2,FALSE)","v":{"$error":"#N/A"}}]
[{"$nulls":6},"",{"$f":"VLOOKUP(G1274,数据2!C:D,2,FALSE)","v":{"$error":"#N/A"}}]
[{"$nulls":6},"",{"$f":"VLOOKUP(G1275,数据2!C:D,2,FALSE)","v":{"$error":"#N/A"}}]
[{"$nulls":6},"",{"$f":"VLOOKUP(G1276,数据2!C:D,2,FALSE)","v":{"$error":"#N/A"}}]
[{"$nulls":6},"",{"$f":"VLOOKUP(G1277,数据2!C:D,2,FALSE)","v":{"$error":"#N/A"}}]
[{"$nulls":6},"",{"$f":"VLOOKUP(G1278,数据2!C:D,2,FALSE)","v":{"$error":"#N/A"}}]
[{"$nulls":6},"",{"$f":"VLOOKUP(G1279,数据2!C:D,2,FALSE)","v":{"$error":"#N/A"}}]
[{"$nulls":6},"",{"$f":"VLOOKUP(G1280,数据2!C:D,2,FALSE)","v":{"$error":"#N/A"}}]
[{"$nulls":6},"",{"$f":"VLOOKUP(G1281,数据2!C:D,2,FALSE)","v":{"$error":"#N/A"}}]
[{"$nulls":6},"",{"$f":"VLOOKUP(G1282,数据2!C:D,2,FALSE)","v":{"$error":"#N/A"}}]
[{"$nulls":6},"",{"$f":"VLOOKUP(G1283,数据2!C:D,2,FALSE)","v":{"$error":"#N/A"}}]
[{"$nulls":6},"",{"$f":"VLOOKUP(G1284,数据2!C:D,2,FALSE)","v":{"$error":"#N/A"}}]
[{"$nulls":6},{"$f":"C1285&F1285","v":""},{"$f":"VLOOKUP(G1285,数据2!C:D,2,FALSE)","v":{"$error":"#N/A"}}]
[{"$nulls":6},"",{"$f":"VLOOKUP(G1286,数据2!C:D,2,FALSE)","v":{"$error":"#N/A"}}]
[{"$nulls":6},"",{"$f":"VLOOKUP(G1287,数据2!C:D,2,FALSE)","v":{"$error":"#N/A"}}]
[{"$nulls":6},"",{"$f":"VLOOKUP(G1288,数据2!C:D,2,FALSE)","v":{"$error":"#N/A"}}]
[{"$nulls":6},"",{"$f":"VLOOKUP(G1289,数据2!C:D,2,FALSE)","v":{"$error":"#N/A"}}]
[{"$nulls":6},"",{"$f":"VLOOKUP(G1290,数据2!C:D,2,FALSE)","v":{"$error":"#N/A"}}]
[{"$nulls":6},"",{"$f":"VLOOKUP(G1291,数据2!C:D,2,FALSE)","v":{"$error":"#N/A"}}]
[{"$nulls":6},"",{"$f":"VLOOKUP(G1292,数据2!C:D,2,FALSE)","v":{"$error":"#N/A"}}]
[{"$nulls":6},"",{"$f":"VLOOKUP(G1293,数据2!C:D,2,FALSE)","v":{"$error":"#N/A"}}]
[{"$nulls":6},"",{"$f":"VLOOKUP(G1294,数据2!C:D,2,FALSE)","v":{"$error":"#N/A"}}]
[{"$nulls":6},"",{"$f":"VLOOKUP(G1295,数据2!C:D,2,FALSE)","v":{"$error":"#N/A"}}]
[{"$nulls":6},"",{"$f":"VLOOKUP(G1296,数据2!C:D,2,FALSE)","v":{"$error":"#N/A"}}]
[{"$nulls":6},"",{"$f":"VLOOKUP(G1297,数据2!C:D,2,FALSE)","v":{"$error":"#N/A"}}]
[{"$nulls":6},"",{"$f":"VLOOKUP(G1298,数据2!C:D,2,FALSE)","v":{"$error":"#N/A"}}]
[{"$nulls":6},"",{"$f":"VLOOKUP(G1299,数据2!C:D,2,FALSE)","v":{"$error":"#N/A"}}]
[{"$nulls":6},"",{"$f":"VLOOKUP(G1300,数据2!C:D,2,FALSE)","v":{"$error":"#N/A"}}]
[{"$nulls":6},"",{"$f":"VLOOKUP(G1301,数据2!C:D,2,FALSE)","v":{"$error":"#N/A"}}]
[{"$nulls":6},"",{"$f":"VLOOKUP(G1302,数据2!C:D,2,FALSE)","v":{"$error":"#N/A"}}]
[{"$nulls":6},"",{"$f":"VLOOKUP(G1303,数据2!C:D,2,FALSE)","v":{"$error":"#N/A"}}]

{"sheet":"数据2","index":2,"n_rows":378,"n_cols":11,"rows_kept":378,"hidden":true,"merged":[[0,0,1,0],[0,1,1,1],[0,3,1,3],[0,4,1,4],[0,5,1,5],[0,6,1,6]]}
["开课学年学期","开课院系",null,"课程号","课程名称","课程性质","专业"]
[{"$nulls":10},"https://baijiahao.baidu.com/s?id=1798938104068382402&wfr=spider&for=pc"]
["25春","信息工程学院","信息工程学院计算机专业实习","CST318","计算机专业实习","实践环节","计算机科学与技术"]
["25春","信息工程学院","信息工程学院计算机专业实习","CST318","计算机专业实习","实践环节","智能计算类"]
["25春","信息工程学院","信息工程学院计算机专业实习","CST318","计算机专业实习","实践环节","计算机科学与技术（致远新工科实验班）"]
["25春","信息工程学院","信息工程学院岗位实习","CST406","岗位实习","实践环节","计算机科学与技术"]
["25春","人文社科学院","人文社科学院会展专业实习","EEM401","会展专业实习","实践环节","会展"]
["25春","人文社科学院","人文社科学院旅游认识实习","TRM210","旅游认识实习","实践环节","旅游管理"]
["25春","人文社科学院","人文社科学院旅游专业实习","TRM401","旅游专业实习","实践环节","旅游管理"]
["25春","信息工程学院","信息工程学院电子课程设计","EEE211","电子课程设计","实践环节","机器人工程"]
["25春","信息工程学院","信息工程学院电子课程设计","EEE211","电子课程设计","实践环节","机械工程"]
["25春","信息工程学院","信息工程学院电子课程设计","EEE211","电子课程设计","实践环节","智能制造类"]
["25春","信息工程学院","信息工程学院大数据专业实习","BDT311","大数据专业实习","实践环节","数据科学与大数据技术(中法班)"]
["25春","信息工程学院","信息工程学院大数据专业实习","BDT311","大数据专业实习","实践环节","数据科学与大数据技术"]
["25春","信息工程学院","信息工程学院岗位实习","BDT402","岗位实习","实践环节","数据科学与大数据技术"]
["25春","信息工程学院","信息工程学院岗位实习","BDT402","岗位实习","实践环节","数据科学与大数据技术(中法班)"]
["25春","工程师学院","工程师学院工程训练A（I）","EEC101","工程训练A（I）","实践环节","机械工程"]
["25春","工程师学院","工程师学院工程训练A（I）","EEC101","工程训练A（I）","实践环节","智能制造工程"]
["25春","工程师学院","工程师学院工程训练C","EEC103","工程训练C","实践环节","生物制药"]
["25春","工程师学院","工程师学院工程训练C","EEC103","工程训练C","实践环节","制药工程"]
["25春","工程师学院","工程师学院工程训练C","EEC103","工程训练C","实践环节","机器人工程"]
["25春","信息工程学院","信息工程学院计算机编程能力实训","FCE204","计算机编程能力实训","实践环节","物联网工程"]
["25春","信息工程学院","信息工程学院计算机编程能力实训","FCE204","计算机编程能力实训","实践环节","电气工程及其自动化"]
["25春","信息工程学院","信息工程学院计算机编程能力实训","FCE204","计算机编程能力实训","实践环节","自动化"]
["25春","信息工程学院","信息工程学院计算机编程能力实训","FCE204","计算机编程能力实训","实践环节","电气工程及其自动化"]
["25春","新材料与化工学院","新材料与化工学院科学研究方法训练","MSE323","科学研究方法训练","实践环节","材料科学与工程"]
["25春","信息工程学院","信息工程学院电子工程设计A","EEE209","电子工程设计A","实践环节","电气工程及其自动化"]
["25春","信息工程学院","信息工程学院电子工程设计A","EEE209","电子工程设计A","实践环节","自动化"]
["25春","机械工程学院","机械工程学院机械工程基础课程设计","MEE211","机械工程基础课程设计","实践环节","高分子材料与工程"]
["25春","机械工程学院","机械工程学院机械工程基础课程设计","MEE211","机械工程基础课程设计","实践环节","材料科学与工程"]
["25春","信息工程学院","信息工程学院C语言课程设计","FCE201","C语言课程设计","实践环节","计算机科学与技术"]
["25春","经济管理学院","经济管理学院程序设计综合训练","BDMA206","程序设计综合训练","实践环节","大数据管理与应用"]
["25春","经济管理学院","经济管理学院程序设计综合训练","BDMA206","程序设计综合训练","实践环节","大数据管理与应用"]
["25春","经济管理学院","经济管理学院专业认识实习","BDMA107","专业认识实习","实践环节","大数据管理与应用"]
["25春","经济管理学院","经济管理学院大数据存储实践","BDMA306","大数据存储实践","实践环节","大数据管理与应用"]
["25春","经济管理学院","经济管理学院大数据综合实践","BDMA308","大数据综合实践","实践环节","大数据管理与应用"]
["25春","经济管理学院","经济管理学院大数据综合实践","BDMA308","大数据综合实践","实践环节","大数据管理与应用"]
["25春","信息工程学院","信息工程学院物联网工程综合设计","IOT311","物联网工程综合设计","实践环节","物联网工程"]
["25春","新材料与化工学院","新材料与化工学院制药工程专业实验","PME311","制药工程专业实验","实践环节","制药工程"]
["25春","安全工程学院","安全工程学院安全原理与安全管理学课程设计","SAE205","安全原理与安全管理学课程设计","实践环节","安全工程"]
["25春","安全工程学院","安全工程学院安全原理与安全管理学课程设计","SAE205","安全原理与安全管理学课程设计","实践环节","安全工程"]
["25春","安全工程学院","安全工程学院认识实习","SAE206","认识实习","实践环节","安全工程"]
["25春","安全工程学院","安全工程学院安全与应急能力评价实践","SAE309","安全与应急能力评价实践","实践环节","安全工程"]
["25春","安全工程学院","安全工程学院生产实习","SAE311","生产实习","实践环节","安全工程"]
["25春","安全工程学院","安全工程学院生产实习","SAE311","生产实习","实践环节","安全工程"]
["25春","信息工程学院","信息工程学院网络爬虫设计","BDT107","网络爬虫设计","实践环节","数据科学与大数据技术"]
["25春","机械工程学院","机械工程学院机械设计与制造主题实践（I）","MEE217","机械设计与制造主题实践（I）","实践环节","机械工程"]
["25春","机械工程学院","机械工程学院机械设计与制造主题实践（I）","MEE217","机械设计与制造主题实践（I）","实践环节","智能制造类"]
["25春","机械工程学院","机械工程学院单片机原理与接口技术主题实践","MEE314","单片机原理与接口技术主题实践","实践环节","机械工程"]
["25春","机械工程学院","机械工程学院PLC控制系统主题实践","MEE316","PLC控制系统主题实践","实践环节","机械工程"]
["25春","机械工程学院","机械工程学院专业实习","MEE320","专业实习","实践环节","机械工程"]
["25春","人文社科学院","人文社科学院专业实习","HRM401","专业实习","实践环节","人力资源管理"]
["25春","机械工程学院","机械工程学院认识实习","EPE204","认识实习","实践环节","能源与动力工程"]
["25春","机械工程学院","机械工程学院热能装置拆装及模拟训练","EPE312","热能装置拆装及模拟训练","实践环节","能源与动力工程"]
["25春","机械工程学院","机械工程学院专业综合训练","EPE411","专业综合训练","实践环节","能源与动力工程"]
["25春","信息工程学院","信息工程学院网络爬虫设计(英）","BDT106","网络爬虫设计(英）","实践环节","数据科学与大数据技术(中法班)"]
["25春","马克思主义学院","马克思主义学院国情调研与实践","SSE039","国情调研与实践","实践环节","人力资源管理"]
["25春","马克思主义学院","马克思主义学院国情调研与实践","SSE039","国情调研与实践","实践环节","高分子材料与工程"]
["25春","马克思主义学院","马克思主义学院国情调研与实践","SSE039","国情调研与实践","实践环节","数据科学与大数据技术"]
["25春","马克思主义学院","马克思主义学院国情调研与实践","SSE039","国情调研与实践","实践环节","数据科学与大数据技术(中法班)"]
["25春","马克思主义学院","马克思主义学院国情调研与实践","SSE039","国情调研与实践","实践环节","物联网工程"]
["25春","马克思主义学院","马克思主义学院国情调研与实践","SSE039","国情调研与实践","实践环节","环境工程"]
["25春","马克思主义学院","马克思主义学院国情调研与实践","SSE039","国情调研与实践","实践环节","新能源科学与工程"]
["25春","马克思主义学院","马克思主义学院国情调研与实践","SSE039","国情调研与实践","实践环节","会展"]
["25春","马克思主义学院","马克思主义学院国情调研与实践","SSE039","国情调研与实践","实践环节","机器人工程"]
["25春","马克思主义学院","马克思主义学院国情调研与实践","SSE039","国情调研与实践","实践环节","机械工程"]
["25春","马克思主义学院","马克思主义学院国情调研与实践","SSE039","国情调研与实践","实践环节","智能计算类"]
["25春","马克思主义学院","马克思主义学院国情调研与实践","SSE039","国情调研与实践","实践环节","智能制造类"]
["25春","马克思主义学院","马克思主义学院国情调研与实践","SSE039","国情调研与实践","实践环节","材料科学与工程"]
["25春","马克思主义学院","马克思主义学院国情调研与实践","SSE039","国情调研与实践","实践环节","计算机科学与技术"]
["25春","马克思主义学院","马克思主义学院国情调研与实践","SSE039","国情调研与实践","实践环节","旅游管理"]
["25春","马克思主义学院","马克思主义学院国情调研与实践","SSE039","国情调研与实践","实践环节","自动化"]
["25春","马克思主义学院","马克思主义学院国情调研与实践","SSE039","国情调研与实践","实践环节","能源与动力工程"]
["25春","马克思主义学院","马克思主义学院国情调研与实践","SSE039","国情调研与实践","实践环节","人工智能"]
["25春","马克思主义学院","马克思主义学院国情调研与实践","SSE039","国情调研与实践","实践环节","高分子材料与工程实验班"]
["25春","马克思主义学院","马克思主义学院国情调研与实践","SSE039","国情调研与实践","实践环节","化学工程与工艺实验班"]
["25春","马克思主义学院","马克思主义学院国情调研与实践","SSE039","国情调研与实践","实践环节","制药工程实验班"]
["25春","信息工程学院","信息工程学院网络系统综合设计","CST320","网络系统综合设计","实践环节","计算机科学与技术"]
["25春","信息工程学院","信息工程学院单片机工程实训","AUTO319","单片机工程实训","实践环节","电气工程及其自动化"]
["25春","工程师学院","工程师学院工程项目训练(I)","EEC106","工程项目训练(I)","实践环节","智慧化工与新材料类"]
["25春","工程师学院","工程师学院工程项目训练(I)","EEC106","工程项目训练(I)","实践环节","智能计算类"]
["25春","工程师学院","工程师学院工程项目训练(I)","EEC106","工程项目训练(I)","实践环节","智能制造类"]
["25春","人文社科学院","人文社科学院专业实习G","HRM403","专业实习G","实践环节","人力资源管理"]
["25春","机械工程学院","机械工程学院认识实习","NESE201","认识实习","实践环节","新能源科学与工程"]
["25春","工程师学院","工程师学院电工电子实践B","EEC203","电工电子实践B","实践环节","新能源科学与工程"]
["25春","工程师学院","工程师学院电工电子实践B","EEC203","电工电子实践B","实践环节","安全工程"]
["25春","工程师学院","工程师学院电工电子实践B","EEC203","电工电子实践B","实践环节","能源与动力工程"]
["25春","信息工程学院","信息工程学院单片机工程实训","AUTO317","单片机工程实训","实践环节","自动化"]
["25春","人文社科学院","人文社科学院会展活动策划实训","EEM312","会展活动策划实训","实践环节","会展"]
["25春","人文社科学院","人文社科学院人力资源管理综合实训（Ⅰ）","HRM110","人力资源管理综合实训（Ⅰ）","实践环节","人力资源管理"]
["25春","经济管理学院","经济管理学院数据采集与预处理实践","BDMA222","数据采集与预处理实践","实践环节","大数据管理与应用"]
["25春","经济管理学院","经济管理学院数据采集与预处理实践","BDMA222","数据采集与预处理实践","实践环节","大数据管理与应用"]
["25春","人工智能研究院","人工智能研究院计算机系统综合设计","AAI210","计算机系统综合设计","实践环节","人工智能"]
["25春","新材料与化工学院","新材料与化工学院认识实习","PHA205","认识实习","实践环节","药物分析"]
["25春","信息工程学院","信息工程学院算法分析与设计（英）","BDT208","算法分析与设计（英）","实践环节","数据科学与大数据技术(中法班)"]
["25春","安全工程学院","安全工程学院科研方法训练","SAE320","科研方法训练","实践环节","安全工程"]
["25春","新材料与化工学院","新材料与化工学院专业实习","PSE325","专业实习","实践环节","高分子材料与工程"]
["25春","新材料与化工学院","新材料与化工学院专业实习","PSE325","专业实习","实践环节","高分子材料与工程实验班"]
["25春","新材料与化工学院","新材料与化工学院专业实习","PSE325","专业实习","实践环节","高分子材料与工程（致远新工科实验班）"]
["25春","机械工程学院","机械工程学院环保设备拆装与测绘造型实践","ENV326","环保设备拆装与测绘造型实践","实践环节","环境工程"]
["25春","机械工程学院","机械工程学院环保设备拆装与测绘造型实践","ENV326","环保设备拆装与测绘造型实践","实践环节","环境工程"]
["25春","机械工程学院","机械工程学院岗位实习（I）","MEE441","岗位实习（I）","实践环节","机械工程"]
["25春","机械工程学院","机械工程学院认识实习","ENV210","认识实习","实践环节","环境工程"]
["25春","机械工程学院","机械工程学院生产实习","ENV320","生产实习","实践环节","环境工程"]
["25春","机械工程学院","机械工程学院生产实习","ENV320","生产实习","实践环节","环境工程"]
["25春","机械工程学院","机械工程学院水污染控制工程课程设计","ENV323","水污染控制工程课程设计","实践环节","环境工程"]
["25春","机械工程学院","机械工程学院水污染控制工程课程设计","ENV323","水污染控制工程课程设计","实践环节","环境工程"]
["25春","机械工程学院","机械工程学院大气污染控制工程课程设计","ENV324","大气污染控制工程课程设计","实践环节","环境工程"]
["25春","机械工程学院","机械工程学院大气污染控制工程课程设计","ENV324","大气污染控制工程课程设计","实践环节","环境工程"]
["25春","机械工程学院","机械工程学院认识实习","RBE410","认识实习","实践环节","机器人工程"]
["25春","机械工程学院","机械工程学院岗位实习（I）","RBE412","岗位实习（I）","实践环节","机器人工程"]
["25春","机械工程学院","机械工程学院专业实习","RBE411","专业实习","实践环节","机器人工程"]
["25春","机械工程学院","机械工程学院SolidWorks设计训练","MEE247","SolidWorks设计训练","实践环节","新能源科学与工程"]
["25春","机械工程学院","机械工程学院SolidWorks设计训练","MEE247","SolidWorks设计训练","实践环节","能源与动力工程"]
["25春","机械工程学院","机械工程学院专业综合课程设计","NESE327","专业综合课程设计","实践环节","新能源科学与工程"]
["25春","经济管理学院","经济管理学院供应链业务实训","LOM216","供应链业务实训","实践环节","电子商务"]
["25春","经济管理学院","经济管理学院供应链业务实训","LOM216","供应链业务实训","实践环节","市场营销"]
["25春","经济管理学院","经济管理学院供应链业务实训","LOM216","供应链业务实训","实践环节","物流管理"]
["25春","经济管理学院","经济管理学院供应链业务实训","LOM216","供应链业务实训","实践环节","物流管理"]
["25春","人文社科学院","人文社科学院数字多媒体作品创作实践","EVE206","数字多媒体作品创作实践","实践环节","会展"]
["25春","人文社科学院","人文社科学院会展综合实训（Ⅲ）","EVE310","会展综合实训（Ⅲ）","实践环节","会展"]
["25春","人文社科学院","人文社科学院人力资源管理综合实训（Ⅱ）","HRM222","人力资源管理综合实训（Ⅱ）","实践环节","人力资源管理"]
["25春","人文社科学院","人文社科学院北京重点行业绩效和薪酬管理调研实践","HRM322","北京重点行业绩效和薪酬管理调研实践","实践环节","人力资源管理"]
["25春","人文社科学院","人文社科学院文创策划设计实训","TRM310","文创策划设计实训","实践环节","旅游管理"]
["25春","机械工程学院","机械工程学院认识实习","MEE221","认识实习","实践环节","机械工程"]
["25春","机械工程学院","机械工程学院认识实习","MEE221","认识实习","实践环节","智能制造类"]
["25春","机械工程学院","机械工程学院专业实习","MEE339","专业实习","实践环节","机械工程"]
["25春","机械工程学院","机械工程学院专业实习","MEE339","专业实习","实践环节","智能制造类"]
["25春","机械工程学院","机械工程学院专业实习","MEE339","专业实习","实践环节","机械工程（致远新工科实验班）"]
["25春","经济管理学院","经济管理学院电商项目策划实习","EBU322","电商项目策划实习","实践环节","电子商务"]
["25春","信息工程学院","信息工程学院算法分析与设计","CST218","算法分析与设计","实践环节","数据科学与大数据技术"]
["25春","信息工程学院","信息工程学院算法分析与设计","CST218","算法分析与设计","实践环节","计算机科学与技术"]
["25春","信息工程学院","信息工程学院算法分析与设计","CST218","算法分析与设计","实践环节","计算机科学与技术"]
["25春","经济管理学院","经济管理学院数智商业综合实训","EBU206","数智商业综合实训","实践环节","市场营销"]
["25春","经济管理学院","经济管理学院数智商业综合实训","EBU206","数智商业综合实训","实践环节","物流管理"]
["25春","经济管理学院","经济管理学院数智商业综合实训","EBU206","数智商业综合实训","实践环节","电子商务"]
["25春","经济管理学院","经济管理学院智能会计实训","ACC114","智能会计实训","实践环节","审计学"]
["25春","经济管理学院","经济管理学院智能会计实训","ACC114","智能会计实训","实践环节","会计学"]
["25春","经济管理学院","经济管理学院智能会计实训","ACC114","智能会计实训","实践环节","会计学(国际会计师方向)"]
["25春","经济管理学院","经济管理学院管理运营仿真与模拟","MAR206","管理运营仿真与模拟","实践环节","市场营销"]
["25春","经济管理学院","经济管理学院管理运营仿真与模拟","MAR206","管理运营仿真与模拟","实践环节","电子商务"]
["25春","经济管理学院","经济管理学院管理运营仿真与模拟","MAR206","管理运营仿真与模拟","实践环节","物流管理"]
["25春","经济管理学院","经济管理学院供应链系统建模与仿真","LOM316","供应链系统建模与仿真","实践环节","物流管理"]
["25春","经济管理学院","经济管理学院财税综合实训","ACC213","财税综合实训","实践环节","会计学"]
["25春","经济管理学院","经济管理学院财税综合实训","ACC213","财税综合实训","实践环节","会计学(国际会计师方向)"]
["25春","经济管理学院","经济管理学院财务决策实训","ACC318","财务决策实训","实践环节","会计学(国际会计师方向)"]
["25春","经济管理学院","经济管理学院财务决策实训","ACC318","财务决策实训","实践环节","会计学"]
["25春","经济管理学院","经济管理学院审计实训","ACC319","审计实训","实践环节","会计学(国际会计师方向)"]
["25春","经济管理学院","经济管理学院审计实训","ACC319","审计实训","实践环节","会计学"]
["25春","经济管理学院","经济管理学院专业综合实习","ACC406","专业综合实习","实践环节","会计学(国际会计师方向)"]
["25春","经济管理学院","经济管理学院专业综合实习","ACC406","专业综合实习","实践环节","会计学"]
["25春","新材料与化工学院","新材料与化工学院化工工艺设计","CHE323","化工工艺设计","实践环节","化学工程与工艺"]
["25春","新材料与化工学院","新材料与化工学院化工工艺设计","CHE323","化工工艺设计","实践环节","化学工程与工艺(双培)"]
["25春","新材料与化工学院","新材料与化工学院专业实习","MSE333","专业实习","实践环节","材料科学与工程"]
["25春","新材料与化工学院","新材料与化工学院生产实习","CHE325","生产实习","实践环节","化学工程与工艺"]
["25春","新材料与化工学院","新材料与化工学院生产实习","CHE325","生产实习","实践环节","化学工程与工艺实验班"]
["25春","新材料与化工学院","新材料与化工学院生产实习","CHE325","生产实习","实践环节","化学工程与工艺（致远新工科实验班）"]
["25春","新材料与化工学院","新材料与化工学院认识实习","CHE207","认识实习","实践环节","化学工程与工艺"]
["25春","新材料与化工学院","新材料与化工学院认识实习","CHE207","认识实习","实践环节","化学工程与工艺实验班"]
["25春","新材料与化工学院","新材料与化工学院认识实习","PME208","认识实习","实践环节","制药工程"]
["25春","新材料与化工学院","新材料与化工学院认识实习","PME208","认识实习","实践环节","制药工程实验班"]
["25春","新材料与化工学院","新材料与化工学院认识实习","BPM204","认识实习","实践环节","生物制药"]
["25春","安全工程学院","安全工程学院职业危害与防护课程设计","SAE425","职业危害与防护课程设计","实践环节","安全工程"]
["25春","新材料与化工学院","新材料与化工学院工程项目实践（Ⅰ）","CHE208","工程项目实践（Ⅰ）","实践环节","化学工程与工艺实验班"]
["25春","新材料与化工学院","新材料与化工学院工程项目实践（Ⅱ）","CHE334","工程项目实践（Ⅱ）","实践环节","化学工程与工艺实验班"]
["25春","新材料与化工学院","新材料与化工学院工程项目实践（Ⅱ）","CHE334","工程项目实践（Ⅱ）","实践环节","化学工程与工艺（致远新工科实验班）"]
["25春","信息工程学院","信息工程学院工程项目实践I（算法分析与设计）","CST230","工程项目实践I（算法分析与设计）","实践环节","智能计算类"]
["25春","新材料与化工学院","新材料与化工学院工程项目实践（Ⅱ）","PME328","工程项目实践（Ⅱ）","实践环节","制药工程实验班"]
["25春","新材料与化工学院","新材料与化工学院工程项目实践（Ⅱ）","PME328","工程项目实践（Ⅱ）","实践环节","制药工程（致远新工科实验班）"]
["25春","新材料与化工学院","新材料与化工学院工程项目实践（Ⅰ）","PSE201","工程项目实践（Ⅰ）","实践环节","高分子材料与工程实验班"]
["25春","新材料与化工学院","新材料与化工学院工程项目实践（Ⅱ）","PSE316","工程项目实践（Ⅱ）","实践环节","高分子材料与工程实验班"]
["25春","新材料与化工学院","新材料与化工学院工程项目实践（Ⅱ）","PSE316","工程项目实践（Ⅱ）","实践环节","高分子材料与工程（致远新工科实验班）"]
["25春","人文社科学院","人文社科学院会展专业实习G","EVE404","会展专业实习G","实践环节","会展"]
["25秋","经济管理学院","经济管理学院科学研究训练","ACC401","科学研究训练","实践环节","会计学(国际会计师方向)"]
["25秋","经济管理学院","经济管理学院科学研究训练","ACC401","科学研究训练","实践环节","会计学"]
["25秋","经济管理学院","经济管理学院科学研究训练","ACC401","科学研究训练","实践环节","会计学"]
["25秋","信息工程学院","信息工程学院计算机组成原理课程设计","CST304","计算机组成原理课程设计","实践环节","计算机科学与技术"]
["25秋","信息工程学院","信息工程学院计算机应用系统综合设计","CST405","计算机应用系统综合设计","实践环节","计算机科学与技术"]
["25秋","机械工程学院","机械工程学院计算机辅助设计与工程图学训练","CEG202","计算机辅助设计与工程图学训练","实践环节","机械工程"]
["25秋","机械工程学院","机械工程学院计算机辅助设计与工程图学训练","CEG202","计算机辅助设计与工程图学训练","实践环节","机器人工程"]
["25秋","机械工程学院","机械工程学院计算机辅助设计与工程图学训练","CEG202","计算机辅助设计与工程图学训练","实践环节","智能制造工程"]
["25秋","信息工程学院","信息工程学院电子工程设计B","EEE210","电子工程设计B","实践环节","数据科学与大数据技术"]
["25秋","信息工程学院","信息工程学院电子工程设计B","EEE210","电子工程设计B","实践环节","数据科学与大数据技术(中法班)"]
["25秋","信息工程学院","信息工程学院电子工程设计B","EEE210","电子工程设计B","实践环节","智能计算类"]
["25秋","信息工程学院","信息工程学院电子工程设计B","EEE210","电子工程设计B","实践环节","计算机科学与技术"]
["25秋","信息工程学院","信息工程学院电子工程设计B","EEE210","电子工程设计B","实践环节","物联网工程"]
["25秋","新材料与化工学院","新材料与化工学院化工原理课程设计","CHE312","化工原理课程设计","实践环节","化学工程与工艺"]
["25秋","信息工程学院","信息工程学院大数据处理与分析","BDT203","大数据处理与分析","实践环节","数据科学与大数据技术"]
["25秋","信息工程学院","信息工程学院大数据处理与分析","BDT203","大数据处理与分析","实践环节","数据科学与大数据技术(中法班)"]
["25秋","信息工程学院","信息工程学院大数据应用系统综合设计","BDT401","大数据应用系统综合设计","实践环节","数据科学与大数据技术(中法班)"]
["25秋","信息工程学院","信息工程学院大数据应用系统综合设计","BDT401","大数据应用系统综合设计","实践环节","数据科学与大数据技术"]
["25秋","工程师学院","工程师学院工程训练C","EEC103","工程训练C","实践环节","数据科学与大数据技术"]
["25秋","工程师学院","工程师学院工程训练C","EEC103","工程训练C","实践环节","数据科学与大数据技术(中法班)"]
["25秋","工程师学院","工程师学院工程训练C","EEC103","工程训练C","实践环节","物联网工程"]
["25秋","工程师学院","工程师学院工程训练C","EEC103","工程训练C","实践环节","安全工程"]
["25秋","工程师学院","工程师学院工程训练C","EEC103","工程训练C","实践环节","材料科学与工程"]
["25秋","工程师学院","工程师学院工程训练C","EEC103","工程训练C","实践环节","电气工程及其自动化"]
["25秋","工程师学院","工程师学院工程训练C","EEC103","工程训练C","实践环节","自动化"]
["25秋","工程师学院","工程师学院工程训练C","EEC103","工程训练C","实践环节","安全生产监管"]
["25秋","工程师学院","工程师学院工程训练C","EEC103","工程训练C","实践环节","高分子材料与工程"]
["25秋","工程师学院","工程师学院工程训练C","EEC103","工程训练C","实践环节","化学工程与工艺"]
["25秋","工程师学院","工程师学院工程训练C","EEC103","工程训练C","实践环节","环境工程"]
["25秋","工程师学院","工程师学院工程训练C","EEC103","工程训练C","实践环节","计算机科学与技术"]
["25秋","工程师学院","工程师学院工程训练C","EEC103","工程训练C","实践环节","人工智能"]
["25秋","新材料与化工学院","新材料与化工学院材料科学与工程专业实验","MSE421","材料科学与工程专业实验","实践环节","材料科学与工程"]
["25秋","经济管理学院","经济管理学院科学研究训练","MAR402","科学研究训练","实践环节","市场营销"]
["25秋","经济管理学院","经济管理学院科学研究训练","MAR402","科学研究训练","实践环节","市场营销"]
["25秋","机械工程学院","机械工程学院机械工程基础课程设计","MEE211","机械工程基础课程设计","实践环节","安全工程"]
["25秋","机械工程学院","机械工程学院机械工程基础课程设计","MEE211","机械工程基础课程设计","实践环节","安全生产监管"]
["25秋","信息工程学院","信息工程学院C语言课程设计","FCE201","C语言课程设计","实践环节","智能制造工程"]
["25秋","经济管理学院","经济管理学院大数据存储实践","BDMA306","大数据存储实践","实践环节","大数据管理与应用"]
["25秋","经济管理学院","经济管理学院数据分析实践","BDMA307","数据分析实践","实践环节","大数据管理与应用"]
["25秋","经济管理学院","经济管理学院数据分析实践","BDMA307","数据分析实践","实践环节","大数据管理与应用"]
["25秋","经济管理学院","经济管理学院科学研究训练","BDMA407","科学研究训练","实践环节","大数据管理与应用"]
["25秋","经济管理学院","经济管理学院科学研究训练","BDMA407","科学研究训练","实践环节","大数据管理与应用"]
["25秋","信息工程学院","信息工程学院物联网感知课程设计","IOT310","物联网感知课程设计","实践环节","物联网工程"]
["25秋","信息工程学院","信息工程学院智能家居综合项目实践","IOT411","智能家居综合项目实践","实践环节","物联网工程"]
["25秋","信息工程学院","信息工程学院专业实习","IOT412","专业实习","实践环节","物联网工程"]
["25秋","工程师学院","工程师学院工程训练A（Ⅱ）","EEC111","工程训练A（Ⅱ）","实践环节","机械工程"]
["25秋","工程师学院","工程师学院工程训练A（Ⅱ）","EEC111","工程训练A（Ⅱ）","实践环节","机器人工程"]
["25秋","工程师学院","工程师学院工程训练A（Ⅱ）","EEC111","工程训练A（Ⅱ）","实践环节","智能制造工程"]
["25秋","信息工程学院","信息工程学院运行维护与安全实训","AUTO402","运行维护与安全实训","实践环节","自动化"]
["25秋","信息工程学院","信息工程学院过程装置专业实习","AUTO405","过程装置专业实习","实践环节","自动化"]
["25秋","新材料与化工学院","新材料与化工学院化工原理课程设计B","CHE316","化工原理课程设计B","实践环节","高分子材料与工程"]
["25秋","新材料与化工学院","新材料与化工学院化工原理课程设计B","CHE316","化工原理课程设计B","实践环节","制药工程"]
["25秋","新材料与化工学院","新材料与化工学院化工原理课程设计B","CHE316","化工原理课程设计B","实践环节","制药工程实验班"]
["25秋","信息工程学院","信息工程学院电气控制综合实验","EEA401","电气控制综合实验","实践环节","电气工程及其自动化"]
["25秋","信息工程学院","信息工程学院电气控制综合实验","EEA401","电气控制综合实验","实践环节","电气工程及其自动化"]
["25秋","信息工程学院","信息工程学院检测技术专题实验","EEA402","检测技术专题实验","实践环节","电气工程及其自动化"]
["25秋","信息工程学院","信息工程学院专业实习","EEA403","专业实习","实践环节","电气工程及其自动化"]
["25秋","信息工程学院","信息工程学院专业实习","EEA403","专业实习","实践环节","电气工程及其自动化"]
["25秋","信息工程学院","信息工程学院计算机过程控制工程综合实践","AUTO400","计算机过程控制工程综合实践","实践环节","自动化"]
["25秋","新材料与化工学院","新材料与化工学院科研方法训练","PME402","科研方法训练","实践环节","制药工程"]
["25秋","新材料与化工学院","新材料与化工学院科研方法训练","PME402","科研方法训练","实践环节","制药工程"]
["25秋","经济管理学院","经济管理学院科学研究训练","LOM401","科学研究训练","实践环节","物流管理"]
["25秋","经济管理学院","经济管理学院科学研究训练","LOM401","科学研究训练","实践环节","物流管理"]
["25秋","新材料与化工学院","新材料与化工学院科学研究方法训练","PSE321","科学研究方法训练","实践环节","高分子材料与工程"]
["25秋","安全工程学院","安全工程学院职业卫生检测与评价实践","SAE308","职业卫生检测与评价实践","实践环节","安全工程"]
["25秋","安全工程学院","安全工程学院安全与应急能力评价实践","SAE309","安全与应急能力评价实践","实践环节","安全工程"]
["25秋","信息工程学院","信息工程学院控制系统综合设计","AUTO303","控制系统综合设计","实践环节","自动化"]
["25秋","信息工程学院","信息工程学院仪表技术专业实习","AUTO406","仪表技术专业实习","实践环节","自动化"]
["25秋","机械工程学院","机械工程学院固体废物处理与处置课程设计","ENV307","固体废物处理与处置课程设计","实践环节","环境工程"]
["25秋","机械工程学院","机械工程学院单片机原理与接口技术主题实践","MEE314","单片机原理与接口技术主题实践","实践环节","机器人工程"]
["25秋","机械工程学院","机械工程学院机械装备设计主题实践","MEE411","机械装备设计主题实践","实践环节","机械工程"]
["25秋","马克思主义学院","马克思主义学院国情调研与实践","SSE039","国情调研与实践","实践环节","物流管理"]
["25秋","马克思主义学院","马克思主义学院国情调研与实践","SSE039","国情调研与实践","实践环节","药物分析"]
["25秋","马克思主义学院","马克思主义学院国情调研与实践","SSE039","国情调研与实践","实践环节","安全工程"]
["25秋","马克思主义学院","马克思主义学院国情调研与实践","SSE039","国情调研与实践","实践环节","制药工程"]
["25秋","马克思主义学院","马克思主义学院国情调研与实践","SSE039","国情调研与实践","实践环节","大数据管理与应用"]
["25秋","马克思主义学院","马克思主义学院国情调研与实践","SSE039","国情调研与实践","实践环节","电气工程及其自动化"]
["25秋","马克思主义学院","马克思主义学院国情调研与实践","SSE039","国情调研与实践","实践环节","电子商务"]
["25秋","马克思主义学院","马克思主义学院国情调研与实践","SSE039","国情调研与实践","实践环节","安全生产监管"]
["25秋","马克思主义学院","马克思主义学院国情调研与实践","SSE039","国情调研与实践","实践环节","化学工程与工艺"]
["25秋","马克思主义学院","马克思主义学院国情调研与实践","SSE039","国情调研与实践","实践环节","审计学"]
["25秋","马克思主义学院","马克思主义学院国情调研与实践","SSE039","国情调研与实践","实践环节","会计学"]
["25秋","马克思主义学院","马克思主义学院国情调研与实践","SSE039","国情调研与实践","实践环节","生物制药"]
["25秋","马克思主义学院","马克思主义学院国情调研与实践","SSE039","国情调研与实践","实践环节","市场营销"]
["25秋","人文社科学院","人文社科学院会展综合实训（Ⅱ）","EVE308","会展综合实训（Ⅱ）","实践环节","会展"]
["25秋","人文社科学院","人文社科学院会展综合实训（Ⅰ）","EVE307","会展综合实训（Ⅰ）","实践环节","会展"]
["25秋","信息工程学院","信息工程学院计算机化工过程控制工程(Ⅱ)","AUTO408","计算机化工过程控制工程(Ⅱ)","实践环节","自动化"]
["25秋","机械工程学院","机械工程学院专业实验","EPE410","专业实验","实践环节","能源与动力工程"]
["25秋","信息工程学院","信息工程学院工业控制器原理与应用(Ⅱ)","AUTO409","工业控制器原理与应用(Ⅱ)","实践环节","自动化"]
["25秋","信息工程学院","信息工程学院岗位实习","AUTO412","岗位实习","实践环节","自动化"]
["25秋","信息工程学院","信息工程学院分布式系统应用设计(英）","BDT319","分布式系统应用设计(英）","实践环节","数据科学与大数据技术(中法班)"]
["25秋","信息工程学院","信息工程学院岗位实习","IOT414","岗位实习","实践环节","物联网工程"]
["25秋","工程师学院","工程师学院工程项目训练(Ⅱ)","EEC107","工程项目训练(Ⅱ)","实践环节","智慧化工与新材料类"]
["25秋","工程师学院","工程师学院工程项目训练(Ⅱ)","EEC107","工程项目训练(Ⅱ)","实践环节","智能计算类"]
["25秋","工程师学院","工程师学院工程项目训练(Ⅱ)","EEC107","工程项目训练(Ⅱ)","实践环节","智能制造类"]
["25秋","工程师学院","工程师学院电工电子实践B","EEC203","电工电子实践B","实践环节","环境工程"]
["25秋","工程师学院","工程师学院电工电子实践B","EEC203","电工电子实践B","实践环节","材料科学与工程"]
["25秋","信息工程学院","信息工程学院电气工程综合实践","EEA314","电气工程综合实践","实践环节","电气工程及其自动化"]
["25秋","信息工程学院","信息工程学院岗位实习","EEA409","岗位实习","实践环节","电气工程及其自动化"]
["25秋","信息工程学院","信息工程学院岗位实习","EEA409","岗位实习","实践环节","电气工程及其自动化"]
["25秋","信息工程学院","信息工程学院分布式系统应用设计","BDT320","分布式系统应用设计","实践环节","数据科学与大数据技术"]
["25秋","人工智能研究院","人工智能研究院数据结构课程设计","AAI204","数据结构课程设计","实践环节","人工智能"]
["25秋","人工智能研究院","人工智能研究院计算机视觉课程设计","AAI304","计算机视觉课程设计","实践环节","人工智能"]
["25秋","机械工程学院","机械工程学院环境工程综合实训","ENV439","环境工程综合实训","实践环节","环境工程"]
["25秋","人文社科学院","人文社科学院旅游专业综合实训A","TRM404","旅游专业综合实训A","实践环节","旅游管理"]
["25秋","新材料与化工学院","新材料与化工学院药物分析专业实验(I)","PHA307","药物分析专业实验(I)","实践环节","药物分析"]
["25秋","人文社科学院","人文社科学院旅游专业综合实训B","TRM405","旅游专业综合实训B","实践环节","旅游管理"]
["25秋","人文社科学院","人文社科学院旅游专业综合实训C","TRM406","旅游专业综合实训C","实践环节","旅游管理"]
["25秋","机械工程学院","机械工程学院毕业实习","ENV440","毕业实习","实践环节","环境工程"]
["25秋","机械工程学院","机械工程学院机械设计基础课程设计","MEE246","机械设计基础课程设计","实践环节","新能源科学与工程"]
["25秋","机械工程学院","机械工程学院机械设计基础课程设计","MEE246","机械设计基础课程设计","实践环节","机器人工程"]
["25秋","机械工程学院","机械工程学院机械设计基础课程设计","MEE246","机械设计基础课程设计","实践环节","能源与动力工程"]
["25秋","机械工程学院","机械工程学院科学研究训练","EPE420","科学研究训练","实践环节","能源与动力工程"]
["25秋","机械工程学院","机械工程学院专业实践","EPE421","专业实践","实践环节","能源与动力工程"]
["25秋","机械工程学院","机械工程学院机械基础综合实践","MME339","机械基础综合实践","实践环节","机械工程"]
["25秋","机械工程学院","机械工程学院岗位实习（II）","MEE442","岗位实习（II）","实践环节","机械工程"]
["25秋","机械工程学院","机械工程学院环保设备设计基础课程设计","MEE352","环保设备设计基础课程设计","实践环节","环境工程"]
["25秋","机械工程学院","机械工程学院毕业实习","ENV424","毕业实习","实践环节","环境工程"]
["25秋","人工智能研究院","人工智能研究院智能机器人实训","AAI103","智能机器人实训","实践环节","人工智能"]
["25秋","机械工程学院","机械工程学院机器人操作系统主题实践","RBE309","机器人操作系统主题实践","实践环节","机器人工程"]
["25秋","机械工程学院","机械工程学院岗位实习（II）","RBE413","岗位实习（II）","实践环节","机器人工程"]
["25秋","机械工程学院","机械工程学院SolidWorks设计训练","MEE247","SolidWorks设计训练","实践环节","新能源科学与工程"]
["25秋","机械工程学院","机械工程学院SolidWorks设计训练","MEE247","SolidWorks设计训练","实践环节","能源与动力工程"]
["25秋","机械工程学院","机械工程学院专业实习与企业实践","NESE404","专业实习与企业实践","实践环节","新能源科学与工程"]
["25秋","机械工程学院","机械工程学院科学研究训练","NESE405","科学研究训练","实践环节","新能源科学与工程"]
["25秋","经济管理学院","经济管理学院物流与供应链管理实践调研","LOM320","物流与供应链管理实践调研","实践环节","物流管理"]
["25秋","人文社科学院","人文社科学院会展专业实习","EEM403","会展专业实习","实践环节","会展"]
["25秋","人文社科学院","人文社科学院会展创新实践","EEM315","会展创新实践","实践环节","会展"]
["25秋","人文社科学院","人文社科学院面试与应聘场景模拟","HRM221","面试与应聘场景模拟","实践环节","人力资源管理"]
["25秋","人文社科学院","人文社科学院人力资源管理综合实训（Ⅲ）","HRM321","人力资源管理综合实训（Ⅲ）","实践环节","人力资源管理"]
["25秋","人文社科学院","人文社科学院专业实习","HRM404","专业实习","实践环节","人力资源管理"]
["25秋","人文社科学院","人文社科学院实习组织诊断报告和管理建议","HRM405","实习组织诊断报告和管理建议","实践环节","人力资源管理"]
["25秋","人文社科学院","人文社科学院导游实训","TRM214","导游实训","实践环节","旅游管理"]
["25秋","人文社科学院","人文社科学院旅游项目策划实训","TRM309","旅游项目策划实训","实践环节","旅游管理"]
["25秋","人文社科学院","人文社科学院旅游专业实习","TRM403","旅游专业实习","实践环节","旅游管理"]
["25秋","经济管理学院","经济管理学院工商企业实践调研","MAR321","工商企业实践调研","实践环节","市场营销"]
["25秋","机械工程学院","机械工程学院机械设计与制造主题实践（II）","MEE354","机械设计与制造主题实践（II）","实践环节","机械工程"]
["25秋","机械工程学院","机械工程学院机械设计与制造主题实践（II）","MEE354","机械设计与制造主题实践（II）","实践环节","智能制造类"]
["25秋","经济管理学院","经济管理学院电子商务实践调研","EBU320","电子商务实践调研","实践环节","电子商务"]
["25秋","经济管理学院","经济管理学院电商专业科学研究训练","EBU401","电商专业科学研究训练","实践环节","电子商务"]
["25秋","经济管理学院","经济管理学院电商专业综合实习","EBU403","电商专业综合实习","实践环节","电子商务"]
["25秋","经济管理学院","经济管理学院数智商业综合实训","EBU206","数智商业综合实训","实践环节","大数据管理与应用"]
["25秋","经济管理学院","经济管理学院数智商业综合实训","EBU206","数智商业综合实训","实践环节","审计学"]
["25秋","经济管理学院","经济管理学院数智商业综合实训","EBU206","数智商业综合实训","实践环节","会计学"]
["25秋","经济管理学院","经济管理学院数智商业综合实训","EBU206","数智商业综合实训","实践环节","会计学(国际会计师方向)"]
["25秋","经济管理学院","经济管理学院专业综合实习","MAR412","专业综合实习","实践环节","市场营销"]
["25秋","新材料与化工学院","新材料与化工学院高分子设计实训","PSE426","高分子设计实训","实践环节","高分子材料与工程"]
["25秋","经济管理学院","经济管理学院专业综合实习","BDMA410","专业综合实习","实践环节","大数据管理与应用"]
["25秋","经济管理学院","经济管理学院专业综合实习","ACC406","专业综合实习","实践环节","会计学"]
["25秋","经济管理学院","经济管理学院专业综合实习","ACC406","专业综合实习","实践环节","会计学(国际会计师方向)"]
["25秋","新材料与化工学院","新材料与化工学院企业实践","CHE102","企业实践","实践环节","化学工程与工艺"]
["25秋","新材料与化工学院","新材料与化工学院制药工程设计","PME412","制药工程设计","实践环节","制药工程"]
["25秋","新材料与化工学院","新材料与化工学院制药工程设计","PME412","制药工程设计","实践环节","制药工程"]
["25秋","新材料与化工学院","新材料与化工学院暑期工程实践(一)","PSE332","暑期工程实践(一)","实践环节","高分子材料与工程"]
["25秋","新材料与化工学院","新材料与化工学院暑期工程实践(一)","PSE332","暑期工程实践(一)","实践环节","高分子材料与工程实验班"]
["25秋","新材料与化工学院","新材料与化工学院暑期工程实践(一)","MSE334","暑期工程实践(一)","实践环节","材料科学与工程"]
["25秋","新材料与化工学院","新材料与化工学院暑期工程实践(二)","PSE432","暑期工程实践(二)","实践环节","高分子材料与工程"]
["25秋","新材料与化工学院","新材料与化工学院暑期工程实践(二)","PSE432","暑期工程实践(二)","实践环节","高分子材料与工程实验班"]
["25秋","新材料与化工学院","新材料与化工学院暑期工程实践(二)","PSE432","暑期工程实践(二)","实践环节","高分子材料与工程（致远新工科实验班）"]
["25秋","新材料与化工学院","新材料与化工学院暑期工程实践(二)","MSE448","暑期工程实践(二)","实践环节","材料科学与工程"]
["25秋","新材料与化工学院","新材料与化工学院生产实习","CHE325","生产实习","实践环节","化学工程与工艺"]
["25秋","新材料与化工学院","新材料与化工学院生产实习","CHE325","生产实习","实践环节","化学工程与工艺实验班"]
["25秋","新材料与化工学院","新材料与化工学院生产实习","CHE325","生产实习","实践环节","化学工程与工艺（致远新工科实验班）"]
["25秋","新材料与化工学院","新材料与化工学院生产实习","PME413","生产实习","实践环节","制药工程"]
["25秋","新材料与化工学院","新材料与化工学院生产实习","PME413","生产实习","实践环节","制药工程实验班"]
["25秋","新材料与化工学院","新材料与化工学院生产实习","PME413","生产实习","实践环节","制药工程"]
["25秋","新材料与化工学院","新材料与化工学院生产实习","PME413","生产实习","实践环节","制药工程（致远新工科实验班）"]
["25秋","新材料与化工学院","新材料与化工学院生产实习","BPM407","生产实习","实践环节","生物制药"]
["25秋","新材料与化工学院","新材料与化工学院认识实习","CHE207","认识实习","实践环节","化学工程与工艺实验班"]
["25秋","新材料与化工学院","新材料与化工学院认识实习","PSE324","认识实习","实践环节","高分子材料与工程"]
["25秋","新材料与化工学院","新材料与化工学院认识实习","PSE324","认识实习","实践环节","高分子材料与工程实验班"]
["25秋","新材料与化工学院","新材料与化工学院暑期工程实践（I）","BPM322","暑期工程实践（I）","实践环节","生物制药"]
["25秋","新材料与化工学院","新材料与化工学院暑期工程实践（II）","BPM412","暑期工程实践（II）","实践环节","生物制药"]
["25秋","新材料与化工学院","新材料与化工学院认识实习","MSE331","认识实习","实践环节","材料科学与工程"]
["25秋","新材料与化工学院","新材料与化工学院科研方法训练","BPM413","科研方法训练","实践环节","生物制药"]
["25秋","新材料与化工学院","新材料与化工学院岗位实践","PME414","岗位实践","实践环节","制药工程"]
["25秋","新材料与化工学院","新材料与化工学院岗位实践","PME414","岗位实践","实践环节","制药工程实验班"]
["25秋","新材料与化工学院","新材料与化工学院岗位实践","PME414","岗位实践","实践环节","制药工程"]
["25秋","新材料与化工学院","新材料与化工学院岗位实践","PME414","岗位实践","实践环节","制药工程（致远新工科实验班）"]
["25秋","新材料与化工学院","新材料与化工学院岗位实践","BPM405","岗位实践","实践环节","生物制药"]
["25秋","安全工程学院","安全工程学院城市安全风险评估实训","SAE423","城市安全风险评估实训","实践环节","安全工程"]
["25秋","安全工程学院","安全工程学院危险化学品隐患排查与治理实践","SAE424","危险化学品隐患排查与治理实践","实践环节","安全工程"]
["25秋","安全工程学院","安全工程学院安全工程计算机仿真实践","SAE426","安全工程计算机仿真实践","实践环节","安全工程"]
["25秋","安全工程学院","安全工程学院应急救援预案体系设计与应急演练","SAE427","应急救援预案体系设计与应急演练","实践环节","安全工程"]
["25秋","安全工程学院","安全工程学院专业实习","SAE434","专业实习","实践环节","安全工程"]
["25秋","安全工程学院","安全工程学院专业实习","SAE434","专业实习","实践环节","安全工程"]
["25秋","新材料与化工学院","新材料与化工学院工程项目实践（Ⅱ）","CHE334","工程项目实践（Ⅱ）","实践环节","化学工程与工艺实验班"]
["25秋","新材料与化工学院","新材料与化工学院工程项目实践（Ⅲ）","CHE420","工程项目实践（Ⅲ）","实践环节","化学工程与工艺实验班"]
["25秋","新材料与化工学院","新材料与化工学院工程项目实践（Ⅲ）","CHE420","工程项目实践（Ⅲ）","实践环节","化学工程与工艺（致远新工科实验班）"]
["25秋","新材料与化工学院","新材料与化工学院工程项目实践（I）","PME327","工程项目实践（I）","实践环节","制药工程实验班"]
["25秋","新材料与化工学院","新材料与化工学院工程项目实践（Ⅲ）","PME416","工程项目实践（Ⅲ）","实践环节","制药工程实验班"]
["25秋","新材料与化工学院","新材料与化工学院工程项目实践（Ⅲ）","PME416","工程项目实践（Ⅲ）","实践环节","制药工程（致远新工科实验班）"]
["25秋","信息工程学院","信息工程学院工程项目实践II（网络计算系统设计）","CST330","工程项目实践II（网络计算系统设计）","实践环节","智能计算类"]
["25秋","信息工程学院","信息工程学院工程项目实践III（智能应用系统综合设计）","CST430","工程项目实践III（智能应用系统综合设计）","实践环节","智能计算类"]
["25秋","信息工程学院","信息工程学院工程项目实践III（智能应用系统综合设计）","CST430","工程项目实践III（智能应用系统综合设计）","实践环节","计算机科学与技术（致远新工科实验班）"]
["25秋","机械工程学院","机械工程学院工程项目实践（I）","MEE261","工程项目实践（I）","实践环节","智能制造类"]
["25秋","机械工程学院","机械工程学院工程项目实践（Ⅱ）","MEE361","工程项目实践（Ⅱ）","实践环节","智能制造类"]
["25秋","机械工程学院","机械工程学院工程项目实践（Ⅲ）","MEE461","工程项目实践（Ⅲ）","实践环节","智能制造类"]
["25秋","机械工程学院","机械工程学院工程项目实践（Ⅲ）","MEE461","工程项目实践（Ⅲ）","实践环节","机械工程（致远新工科实验班）"]
["25秋","机械工程学院","机械工程学院机械工程基础主题实践","MEE362","机械工程基础主题实践","实践环节","智能制造类"]
["25秋","新材料与化工学院","新材料与化工学院工程项目实践（Ⅲ）","PSE404","工程项目实践（Ⅲ）","实践环节","高分子材料与工程实验班"]
["25秋","新材料与化工学院","新材料与化工学院工程项目实践（Ⅲ）","PSE404","工程项目实践（Ⅲ）","实践环节","高分子材料与工程（致远新工科实验班）"]
["25秋","经济管理学院","经济管理学院专业综合实习","LOM410","专业综合实习","实践环节","物流管理"]
["25秋","机械工程学院","机械工程学院校企产教融合实践训练","ENV327","校企产教融合实践训练","实践环节","环境工程"]
["25秋","人文社科学院","人文社科学院就业指导和职业发展训练营","HRM323","就业指导和职业发展训练营","实践环节","人力资源管理"]

{"sheet":"基础数据1","index":3,"n_rows":26,"n_cols":14,"rows_kept":26,"hidden":true}
["安全工程学院","新材料与化工学院","机械工程学院","经济管理学院","人文社科学院","信息工程学院","人工智能学院",null,null,"2025春","校内",null,"教培实训课程","燕化实习装置"]
["安全工程","化学工程与工艺","环境工程","大数据管理与应用","会展","电气工程及其自动化","人工智能",null,null,"2025秋","校外",null,"炼油化工装置基本操作技能","炼油厂"]
[null,"材料科学与工程","机器人工程","电子商务","会展经济与管理","计算机科学与技术",{"$nulls":6},"石油化工单元仿真操作","烯烃厂"]
[null,"高分子材料与工程","机械电子工程","国际经济与贸易","旅游管理","数据科学与大数据技术",{"$nulls":6},"炼油系统仿真操作","合成树脂厂"]
[null,"制药工程","机械工程","会计学","人力资源管理","数据科学与大数据技术(中法班)",{"$nulls":6},"化工系统仿真操作","化学品厂"]
[null,"化学工程与工艺(双培)","能源与动力工程","会计学(国际会计师方向)",null,"通信工程",{"$nulls":6},"热工（CFB炉）仿真操作","合成橡胶厂"]
[null,"生物制药","新能源科学与工程","市场营销",null,"物联网工程",{"$nulls":6},"高分子专业工程教育认证（聚丙烯）","检验计量中心"]
[null,"药物分析","油气储运工程","物流管理",null,"自动化",{"$nulls":6},"高分子专业工程教育认证（SBS）","热电部"]
[null,"应用化学","智能制造工程","审计学",{"$nulls":8},"常规仪表应用培训","职业病防治所"]
[{"$nulls":12},"西门子PLC（S7-300）应用培训","威立雅水务公司"]
[{"$nulls":12},"横河DCS（CS3000）应用培训","北京燕华工程建设有限公司"]
[{"$nulls":12},"ECS700应用培训","北京燕化东方工贸有限公司"]
[{"$nulls":12},"6kV变电站运行及相关技术","北京中燕建设工程有限公司"]
[{"$nulls":12},"高压异步电动机二次回路故障查找"]
[{"$nulls":12},"欧姆龙PLC技术"]
[{"$nulls":12},"人体触电的相关知识、配电系统设备参观"]
[{"$nulls":12},"电气法律法规、安全用电"]
[{"$nulls":12},"电气安全工作规程"]
[{"$nulls":12},"特种作业低压电工\n取证班"]
[{"$nulls":12},"危化品工艺单元事故处理及应急处置"]
[{"$nulls":12},"直接作业仿真操作培训"]
[{"$nulls":12},"加氢裂化装置（炼油）认识实习"]
[{"$nulls":12},"初起火灾救援及灭火器的选择与使用"]
[{"$nulls":12},"空气呼吸器选择与佩戴"]
[{"$nulls":12},"现场创伤救护技术"]
[{"$nulls":12},"心肺复苏术"]

{"sheet":"燕化公司接待高等院校实习装置分布情况（2025）","index":4,"n_rows":17,"n_cols":6,"rows_kept":17,"merged":[[0,1,0,5],[2,0,4,0],[2,1,4,1],[2,5,4,5],[6,0,7,0],[6,1,7,1],[6,3,7,3],[6,5,7,5],[13,0,16,0]]}
[null,"燕化公司接待高等院校实习装置分布情况（2025）"]
["序号","单位","装置、操作单元","实习专业","接待容量","联系人"]
[1,"炼油厂","常减压蒸馏、延迟焦化、高压加氢裂化、制氢、三废处理","炼油、化学、化工、防腐、环境工程","一个班共35人","吴丽楠69334430 15117969453"]
[null,null,"重整加氢、中压加氢裂化","炼油、化学、化工、防腐、环境工程","一个班共35人"]
[null,null,"气体分馏、制氢、催化重整","炼油、化学、化工、防腐、环境工程","一个班共35人"]
[2,"烯烃厂","裂解、乙二醇、制苯、苯乙烯、聚苯乙烯","化工、化学、防腐","一个班共35人","梁靖华 69346465 3521770376"]
[3,"合成树脂厂","聚丙烯","化工、化学、高分子、防腐","一个班共35人","刘文凡 69366601 13693307811"]
[null,null,"聚烯烃（高压、低压聚乙烯）",null,"一个班共35人"]
[4,"化学品厂","苯酚丙酮（两套）","化工、化学、高分子、防腐","一个班共35人","张建宏13621005776"]
[5,"合成橡胶厂","顺丁车间、烯烃车间","高分子、化工","一个班共35人","张玉环69343450 13691530957"]
[6,"检验计量中心","各分析站","化学、分析","同时两个班共70人（分炼油、化工区域）","魏杰69344135 13641266095"]
[7,"热电部","第一热力车间（一电站）\n第三热力车间（三电站）","动力工程、电气专业、环境工程","同时两个班共70人（分炼油、化工区域）","乌兰克69342601 13810201453"]
[8,"职业病防治所",null,null,"一个班共35人"]
["改\n制\n单\n位\n学\n校\n联\n系","威立雅水务公司","东区水处理、牛口峪水库","环境工程（参观实习）","一个班"]
[null,"北京燕华工程建设有限公司","机加工车间","机械加工与制造","一个班","赵忠霞18010132198"]
[null,"北京燕化东方工贸有限公司","机械、环保、机电","机电、机械、环境、安全工程等","一个班","黎海芳13436560188"]
[null,"北京中燕建设工程有限公司","安全实训基地分为“安全专业”和“专业安全”两大培训区域。可开展用火作业、高处作业、临时用电等16种施工作业环境模拟培训；设立有设备、电气、仪表等专业的实操培训室和安全创新工作室。通过实景还原类设备和实操实训类设备，模拟机、电、仪等专业的检维修作业场景，对施工作业人员进行技能操作培训和实操能力验证。","机、电、仪、安全工程等","同时两个班共70人"]

{"sheet":"燕山石化教育培训中心学生实训课程明细（2025）","index":5,"n_rows":27,"n_cols":11,"rows_kept":27,"merged":[[0,0,0,10],[2,9,8,9],[2,10,8,10],[9,9,19,9],[9,10,19,10],[20,9,26,9],[20,10,26,10]]}
["燕山石化教育培训中心学生实训课程明细（2025）"]
["序号","部门名称","实训室名称","实训课程名称","实训目的","主要内容","课时","人数","实习场所","联系人","联系方式"]
[1,"炼化仿真","石油化工训练装置","炼油化工装置基本操作技能","1.通过训练装置实习,熟悉对二甲苯装置的生产工艺流程，掌握化工基本操作技能和化工单元操作，学会装置开停工操作，增强工程实践能力；\n⒉培养学生良好职业素养和职业道德，成为具有一定工程实践能力、良好的沟通能力和团队合作精神的化工技术人才。","1.安全帽、安全带的使用方法\n2. 训练装置工艺流程图的识读；\n3. 离心泵的工作原理、操作及日常维护；\n4. DCS的基本功能；\n5.加热炉、精馏塔等典型设备的控制方案；\n6.训练装置的开停车；\n7. 正常巡检及工艺台帐记录；\n8. 常见故障的处理方法",40,30,"教育培训中心西校区石油化工训练装置","杨扬","69334955\n1326405682\nyangy01.yssh@sinopec.com"]
[2,"炼化仿真","仿真培训室","石油化工单元仿真操作","1.以仿真模型为载体，学会离心泵的启动、停止和切换；\n2.以仿真模型为载体，学会精馏塔的开停工操作；\n3.以仿真模型为载体，学会精馏塔的工艺参数调整；\n4.学习现场操作事故案例，树立安全规范操作意识，培养规范操作习惯。","1.离心泵的启动、停止和切换；\n2.DCS功能应用；\n3.精馏塔的开停工操作；\n4.精馏塔的工艺参数调整；\n5.现场操作事故案例学习",40,30,"教育培训中心西校区仿真培训室"]
[3,"炼化仿真","仿真培训室","炼油系统仿真操作","以炼油系统常减压装置为例：\n1.熟悉常减压装置的各项工艺参数；\n2.学会常减压工艺的开车步骤、DCS操作方法、生产操作的调节手段；\n3.熟悉设备的正常使用、仪表控制等的操作方法；\n4.熟悉常减压整个生产流程。","1. 原油的评价及由来\n2.换热器的原理、结构和日常操作\n3. 电脱盐的原理、结构和日常注意问题\n4. 塔的操作和基本生产原理\n5. 加热炉的原理、结构及操作\n6.产品质量的调节\n7. 炼油厂安全事例分析\n8.环保、腐蚀对装置的影响\n9.常减压开停车方案及事故处理原则\n10.仪表的基本知识\n11. DCS基础知识和操作\n12.各类常用设备的原理和结构及操作方法。",40,30,"教育培训中心西校区仿真培训室"]
[4,"炼化仿真","仿真培训室","化工系统仿真操作","以化工系统聚乙烯装置为例：\n1.熟悉聚乙烯装置的各项工艺参数；\n2.了解聚乙烯装置的工艺特点、开车步骤、DCS操作方法、生产操作的调节手段；\n3.熟悉设备的正常使用、仪表控制等的操作方法；\n4.了解聚乙烯生产操作的生产过程。","1.介绍生产工艺流程、工艺控制；\n2.仿真操作画面讲解及开车操作演练；\n3.聚乙烯仿真开车训练。",40,30,"教育培训中心西校区仿真培训室"]
[5,"炼化仿真","仿真培训室","热工（CFB炉）仿真操作","1.通过对CFB锅炉的工艺过程、操作原理、设备知识等方面的培训， 使参训人员了解CFB锅炉的生产过程、工艺原理，掌握设备及仪表控制等基本理论知识；\n2.通过进行CFB锅炉仿真操作培训，使参训人员熟悉CFB锅炉的各项工艺参数，熟练掌握CFB锅炉的开停车步骤、DCS操作方法、生产操作的调节手段，以及熟悉设备的正常使用、仪表控制等的操作方法，以提高参训人员的生产操作能力；\n3.掌握CFB锅炉操作的基本操作方法和基本控制方案。","1.介绍生产工艺流程、工艺控制；\n2.仿真操作画面讲解及开车操作演练；\n3.CFB锅炉仿真开车训练。",40,30,"教育培训中心西校区仿真培训室"]
[6,"炼化仿真","仿真培训室","高分子专业工程教育认证（聚丙烯）","1.熟悉聚丙烯装置的各项工艺参数；\n了解聚丙烯工艺的开车步骤、DCS操作方法、生产操作的调节手段；\n2.熟悉设备的正常使用、仪表控制等的操作方法；\n3.了解聚丙烯生产操作的生产过程；\n4.依据中国工程教育专业认证标准, 通过仿真实习达到能解决复杂工艺问题的毕业要求，提高学生的知识与技能素养。","1.介绍生产工艺流程、工艺控制；\n2.仿真操作画面讲解及开车操作演练；\n3. 聚丙烯仿真开车训练；\n4.分组研讨－复杂工艺问题解决方案。会运用深入的工程原理分析解决部分复杂工艺问题。",120,30,"教育培训中心西校区仿真培训室"]
[7,"炼化仿真","仿真培训室","高分子专业工程教育认证（SBS）","1.熟悉SBS装置的各项工艺参数；了解SBS工艺的开车步骤、DCS操作方法、生产操作的调节手段；\n2.熟悉设备的正常使用、仪表控制等的操作方法；\n3.了解SBS生产操作的生产过程；\n4.依据中国工程教育专业认证标准, 通过仿真实习达到能解决复杂工艺问题的毕业要求，提高学生的知识与技能素养。","1.介绍生产工艺流程、工艺控制；\n2.仿真操作画面讲解及开车操作演练；\n3. SBS仿真开车训练；\n4.分组研讨－复杂工艺问题解决方案。会运用深入的工程原理分析解决部分复杂工艺问题。",120,30,"教育培训中心西校区仿真培训室"]
[8,"电仪","常规表实训室","常规仪表应用培训","1.认识各类仪表；\n2.认识控制系统的构成；\n3.培养学生对仪表自控的工程应用能力。","1.回路调试；\n2.仪表校验；\n3.简单故障分析处理",40,20,"教育培训中心西校区常规表实训室","祝子强","69338654\n13691137372\nzhuzq.yssh@sinopec.com"]
[9,"电仪","PLC（S7-300）实训室","西门子PLC（S7-300）应用培训","1.认识S7-300软硬件；\n2.学会组态；\n3.了解西门子PLC的工程应用","1.S7-300软硬件；\n2.组态；\n3.以任务为中心学习西门子PLC的工程应用",40,20,"教育培训中心西校区PLC（S7-300）实训室"]
[10,"电仪","横河DCS（CS3000）实训室","横河DCS（CS3000）应用培训","1.认识CS3000系统软硬件；\n2.学会组态；\n3.了解CS3000的工程应用内容","1.CS3000软硬件；\n2.组态基础；\n3.系统应用与维护",40,20,"教育培训中心西校区横河DCS（CS3000）实训室"]
[11,"电仪","浙江中控DCS（ECS700）","ECS700应用培训","1.认识ECS700系统软硬件；\n2.学会组态；\n3.了解ECS700的工程应用内容","1.ECS700软硬件；\n2.组态基础；\n3.系统应用与维护。",40,20,"教育培训中心西校区浙江中控DCS（ECS700）实训室"]
[12,"电仪","6kV综合自动化变电站实训室","6kV变电站运行及相关技术","1.了解6kV变电站的系统组成；\n2.了解变电站运行的相关规程；\n3.了解基本的倒闸操作方法。","1.电力系统简介；\n2.倒闸操作规范；\n3.倒闸操作实操。",20,20,"教育培训中心西校区6kV综合自动化变电站实训室"]
[13,"电仪","二次回路实训室","高压异步电动机二次回路故障查找","1.掌握基本的识图方法；\n2.了解二次回路的工作原理；\n3.掌握基本的故障排查方法。","1.二次回路原理及组成；\n2.故障排查实操。",20,20,"教育培训中心西校区二次回路实训室"]
[14,"电仪","欧姆龙PLC实训室","欧姆龙PLC技术","1.了解PLC的原理；\n2.会使用编程软件编写简单的控制程序；\n3.外部接线和程序调试。","1.PLC简介；\n2.编程软件；\n3.编程方法及调试。",20,20,"教育培训中心西校区欧姆龙PLC实训室"]
[15,"电仪","电气实训室","人体触电的相关知识、配电系统设备参观","1.了解人体触电的相关知识；\n2.了解常用电气设备。","1.人体触电的相关知识；\n2.常用电气设备介绍。",4,20,"教育培训中心西校区电气实训室"]
[16,"电仪","电气实训室","电气法律法规、安全用电","1.了解安全生产法、北京市安全生产条例；                                                        2.了解电工特种作业管理标准；\n3.掌握安全用电的常识。","1.安全生产法、北京市安全生产条例；                                                         2.电工特种作业管理标准；                                  3.安全用电的常识。",4,20,"教育培训中心西校区电气实训室"]
[17,"电仪","电气实训室","电气安全工作规程","1.了解电气安全工作的组织措施和技术措施\n2.了解防雷和防静电技术\n3.了解电气防火技术","1.电气安全工作的组织措施和技术措施；                                                           2.防雷和防静电技术；\n3.电气防火技术。",4,20,"教育培训中心西校区电气实训室"]
[18,"电仪","电气实训室","特种作业低压电工\n取证班","1.掌握北京市“低压电工作业人员安全技术培训大纲和考核标准”所要求的培训内容,为通过北京市低压电工作业人员的考试奠定基础。\n2.根据培训对象的实际需求，增加工程实践的课时，提升学生电气工程认知能力，全面、系统认识、理解配电系统的结构、主要设备、运行方式；提高实践能力，掌握电气专业基本的操作技能。","1.安全基础知识\n2.安全技术基础知识\n3.安全技术专业知识\n4.实际操作技能","148(96培训+52自习）",30,"教育培训中心西校区电气实训室"]
[19,"安全环保","危化品实训基地","危化品工艺单元事故处理及应急处置","了解不同工艺单元在发生异常状况或事故时的处理过程及处置要求","工艺过程介绍、发现问题并及时处理",16,"≤45","教育培训中心危化品实训基地","李悦","69342755\n15010631213\nliy01.yssh@sinopec.com"]
[20,"安全环保","危化品实训基地","直接作业仿真操作培训","了解并掌握直接作业过程的特点、隐患排查及安全监护的相关要求","作业任务介绍、危害识别与隐患排除、安全措施检查与落实、开始作业。",16,"≤45","教育培训中心危化品实训基地"]
[21,"安全环保","危化品实训基地","加氢裂化装置（炼油）认识实习","该学习系统的三维模型是按燕山石化加氢裂化装置真实场景开发的。学生通过学习装置的知识点、回答思考题、完成任务，可掌握生产的HSE、工艺生产、设备、应急处理等方面知识。系统可自动评分。","加氢裂化装置仿真操作训练",16,"≤45","教育培训中心危化品实训基地"]
[22,"安全环保","危化品实训基地","初起火灾救援及灭火器的选择与使用","1.会判断不同类型的初起火灾；\n2.会选择使用灭火器材。","1.初起火灾扑救（理论）；\n2.灭火器的使用。",4,"≤25","教育培训中心危化品实训基地"]
[23,"安全环保","危化品实训基地","空气呼吸器选择与佩戴","会针对不同危险环境选择和正确佩戴空气呼吸器，能发现空气呼吸器存在的安全隐患，会进行判断其安全性。","空气呼吸器的选择、检查与佩戴",4,"≤25","教育培训中心危化品实训基地"]
[24,"安全环保","“红十字会”应急救援基地","现场创伤救护技术","能够掌握事故现场的止血包扎及伤员搬运操作技能，并会自救互救。","止血包扎操作技能和伤员搬运方式",4,30,"教育培训中心“红十字会”应急救援基地"]
[25,"安全环保","“红十字会”应急救援基地","心肺复苏术","能够掌握事故现场的心肺复苏、人工呼吸等自救互救的基本技能，并会操作。","心肺复苏、人工呼吸操作技能",4,30,"教育培训中心“红十字会”应急救援基地"]

{"sheet":"2024-2025学年春季学期教学进程表","index":6,"n_rows":164,"n_cols":32,"rows_kept":164,"merged":[[0,0,0,31],[1,0,2,0],[1,1,2,1],[1,2,2,2],[1,3,2,3],[1,4,2,4],[1,5,2,5],[1,7,2,7],[1,8,2,8],[1,9,1,30],[1,31,2,31],[160,27,161,31]]}
["2024-2025学年春季学期教学进程表"]
["院系名称","年级","专业班级","班级","专业","年级",null,"年级专业","人数","教学周",{"$nulls":21},"实践环节安排"]
[{"$nulls":6},"学历",null,null,0,1,2,3,4,5,6,7,8,9,10,11,12,13,14,15,16,17,18,19,20,21]
["安全工程学院","21级","安21-12","安212；安211","安全工程",2021,"本科",{"$f":"F4&G4&E4","v":"2021本科安全工程"},47,null,"×","×","×","×","×","×","×","×","×","×","×","×","×","×","×","×","×","×",{"$nulls":3},"1-18周毕业设计(论文)"]
["新材料与化工学院","21级","生物21-12","生物211；生物212","生物制药",2021,"本科","2021本科生物制药",59,null,"×","×","×","×","×","×","×","×","×","×","×","×","×","×","×","×","×","×",{"$nulls":3},"1-18周毕业设计(论文)"]
["新材料与化工学院","21级","化21-123","化211；化212；化213","化学工程与工艺",2021,"本科","2021本科化学工程与工艺",87,null,"×","×","×","×","×","×","×","×","×","×","×","×","×","×","×","×","×","×",{"$nulls":3},"1-18周毕业设计(论文)"]
["新材料与化工学院","21级","药21-123","药211；药212；药213","制药工程",2021,"本科","2021本科制药工程",89,null,"×","×","×","×","×","×","×","×","×","×","×","×","×","×","×","×","×","×",{"$nulls":3},"1-18周毕业设计(论文)"]
["新材料与化工学院","21级","高21-123","高212；高213；高211","高分子材料与工程",2021,"本科","2021本科高分子材料与工程",89,null,"×","×","×","×","×","×","×","×","×","×","×","×","×","×","×","×","×","×",{"$nulls":3},"1-18周毕业设计(论文)"]
["新材料与化工学院","21级","材211","材211","材料科学与工程",2021,"本科","2021本科材料科学与工程",24,null,"×","×","×","×","×","×","×","×","×","×","×","×","×","×","×","×","×","×",{"$nulls":3},"1-18周毕业设计(论文)"]
["新材料与化工学院","21级","化S211","化S211","化学工程与工艺(双培)",2021,"本科","2021本科化学工程与工艺(双培)",2,null,"×","×","×","×","×","×","×","×","×","×","×","×","×","×","×","×","×","×",{"$nulls":3},"1-18周毕业设计(论文)；\n化工工艺设计一周分散"]
["机械工程学院","21级","机21-12","机211；机212","机械工程",2021,"本科","2021本科机械工程",55,null,"×","×","×","×","×","×","×","×","×","×","×","×","×","×","×","×","×","×",{"$nulls":3},"1-18周毕业设计(论文)"]
["机械工程学院","21级","机电21-12","机电211；机电212","机械电子工程",2021,"本科","2021本科机械电子工程",53,null,"×","×","×","×","×","×","×","×","×","×","×","×","×","×","×","×","×","×",{"$nulls":3},"1-18周毕业设计(论文)"]
["机械工程学院","21级","能动21-123","能动211；能动212；能动213","能源与动力工程",2021,"本科","2021本科能源与动力工程",78,null,"×","×","×","×","×","×","×","×","×","×","×","×","×","×","×","×","×","×",{"$nulls":3},"1-18周毕业设计(论文)"]
["机械工程学院","21级","环21-123","环211；环212；环213","环境工程",2021,"本科","2021本科环境工程",84,null,"×","×","×","×","×","×","×","×","×","×","×","×","×","×","×","×","×","×",{"$nulls":3},"1-18周毕业设计(论文)"]
["机械工程学院","21级","新能源211","新能源211","新能源科学与工程",2021,"本科","2021本科新能源科学与工程",24,null,"×","×","×","×","×","×","×","×","×","×","×","×","×","×","×","×","×","×",{"$nulls":3},"1-18周毕业设计(论文)"]
["机械工程学院","21级","机器人211","机器人211","机器人工程",2021,"本科","2021本科机器人工程",33,null,"×","×","×","×","×","×","×","×","×","×","×","×","×","×","×","×","×","×",{"$nulls":3},"1-18周毕业设计(论文)"]
["经济管理学院","21级","营211","营211","市场营销",2021,"本科","2021本科市场营销",30,null,"×","×","×","×","×","×","×","×","×","×","×","×","×","×","×","×","×","×",{"$nulls":3},"1-18周毕业设计(论文)"]
["经济管理学院","21级","物21-12","物211；物212","物流管理",2021,"本科","2021本科物流管理",55,null,"×","×","×","×","×","×","×","×","×","×","×","×","×","×","×","×","×","×",{"$nulls":3},"1-18周毕业设计(论文)"]
["经济管理学院","21级","数管21-12","数管211；数管212","大数据管理与应用",2021,"本科","2021本科大数据管理与应用",60,null,"×","×","×","×","×","×","×","×","×","×","×","×","×","×","×","×","×","×",{"$nulls":3},"1-18周毕业设计(论文)"]
["经济管理学院","21级","会21-123","会211；会212；会213","会计学",2021,"本科","2021本科会计学",89,null,"×","×","×","×","×","×","×","×","×","×","×","×","×","×","×","×","×","×",{"$nulls":3},"1-18周毕业设计(论文)"]
["经济管理学院","21级","会214","会214","会计学(国际会计师方向)",2021,"本科","2021本科会计学(国际会计师方向)",25,null,"×","×","×","×","×","×","×","×","×","×","×","×","×","×","×","×","×","×",{"$nulls":3},"1-18周毕业设计(论文)"]
["经济管理学院","21级","国21-12","国212；国211","国际经济与贸易",2021,"本科","2021本科国际经济与贸易",56,null,"×","×","×","×","×","×","×","×","×","×","×","×","×","×","×","×","×","×",{"$nulls":3},"1-18周毕业设计(论文)"]
["经济管理学院","21级","电商211","电商211","电子商务",2021,"本科","2021本科电子商务",28,null,"×","×","×","×","×","×","×","×","×","×","×","×","×","×","×","×","×","×",{"$nulls":3},"1-18周毕业设计(论文)"]
["人文社科学院","21级","旅21-12","旅211；旅212","旅游管理",2021,"本科","2021本科旅游管理",72,null,"☆","☆","☆","☆","☆","☆","☆","☆","☆","☆","☆","☆","☆","☆","☆","☆","☆","☆",{"$nulls":3},"1-18周毕业设计(论文)\n旅游专业实习（18周分散）"]
["人文社科学院","21级","人资21-12","人资211；人资212","人力资源管理",2021,"本科","2021本科人力资源管理",47,null,"☆","☆","☆","☆","☆","☆","☆","☆","☆","☆","☆","☆","☆","☆","☆","☆","☆","☆",{"$nulls":3},"1-18周毕业设计(论文)\n专业实习（18周分散）"]
["人文社科学院","21级","会展21-12","新会展211；新会展212","会展",2021,"本科","2021本科会展",53,null,"☆","☆","☆","☆","☆","☆","☆","☆","☆","☆","☆","☆","☆","☆","☆","☆","☆","☆",{"$nulls":3},"1-18周毕业设计(论文)\n会展专业实习18周（分散）"]
["信息工程学院","21级","自21-123","自211；自212；自213","自动化",2021,"本科","2021本科自动化",90,null,"×","×","×","×","×","×","×","×","×","×","×","×","×","×","×","×","×","×",{"$nulls":3},"1-18周毕业设计(论文)\n岗位实习4周  分散"]
["信息工程学院","21级","电21-12","电212；电211","电气工程及其自动化",2021,"本科","2021本科电气工程及其自动化",60,null,"×","×","×","×","×","×","×","×","×","×","×","×","×","×","×","×","×","×",{"$nulls":3},"1-18周毕业设计(论文)\n"]
["信息工程学院","21级","计21-12","计211；计212","计算机科学与技术",2021,"本科","2021本科计算机科学与技术",68,null,"×","×","×","×","×","×","×","×","×","×","×","×","×","×","×","×","×","×",{"$nulls":3},"1-18周毕业设计(论文)；岗位实习6周（分散）"]
["信息工程学院","21级","大数据211","大数据211","数据科学与大数据技术",2021,"本科","2021本科数据科学与大数据技术",39,null,"×","×","×","×","×","×","×","×","×","×","×","×","×","×","×","×","×","×",{"$nulls":3},"1-18周毕业设计(论文)；岗位实习6周（分散）"]
["信息工程学院","21级","物联网211","物联网211","物联网工程",2021,"本科","2021本科物联网工程",26,null,"×","×","×","×","×","×","×","×","×","×","×","×","×","×","×","×","×","×",{"$nulls":3},"1-18周毕业设计(论文)\n"]
["信息工程学院","21级","大数据212","大数据212","数据科学与大数据技术(中法班)",2021,"本科","2021本科数据科学与大数据技术(中法班)",22,null,"×","×","×","×","×","×","×","×","×","×","×","×","×","×","×","×","×","×",{"$nulls":3},"1-18周毕业设计(论文)\n岗位实习6周（分散）"]
["安全工程学院","22级","安22-12","安221；安222","安全工程",2022,"本科","2022本科安全工程",48,null,"—","—","—","—","—","—","—","—","—","—","—","—","—","—","—","—","—","—","★","☆","☆","19周     职业危害与防护课程设计\n20-21周  生产实习\n         科研方法训练（1周分散）"]
["新材料与化工学院","22级","生物22-12","生物221；生物222","生物制药",2022,"本科","2022本科生物制药",60,null,"—","—","—","—","—","—","—","—","—","—","—","—","—","—","—","—","：","："]
["新材料与化工学院","22级","药22-123","药221；药222；药223","制药工程",2022,"本科","2022本科制药工程",86,null,"—","—","—","—","—","—","—","—","—","—","—","—","—","—","—","—","：","："]
["新材料与化工学院","22级","高22-123","高221；高222；高223","高分子材料与工程",2022,"本科","2022本科高分子材料与工程",69,null,"—","—","—","—","—","—","—","—","—","—","—","—","—","—","—","—","：","☆","☆","☆","☆","18-21周  专业实习"]
["新材料与化工学院","22级","材221","材221","材料科学与工程",2022,"本科","2022本科材料科学与工程",29,null,"—","—","—","—","—","—","—","—","—","—","—","—","—","—","—","—","：","☆","☆","☆","☆","18-21周  专业实习\n         科学研究方法训练（1周分散）"]
["新材料与化工学院","22级","致远221-药","致远221-药","制药工程（致远新工科实验班）",2022,"本科","2022本科制药工程（致远新工科实验班）",12,null,"—","—","—","—","—","—","—","—","—","—","—","—","—","—","—","—","：","：",{"$nulls":3},"         工程项目实践（Ⅱ）4周分散"]
["新材料与化工学院","22级","致远221-化","致远221-化","化学工程与工艺（致远新工科实验班）",2022,"本科","2022本科化学工程与工艺（致远新工科实验班）",7,null,"—","—","—","—","—","—","—","—","—","—","—","—","—","—","—","—","☆","☆","☆","☆","☆","17-21周  生产实习\n         工程项目实践（Ⅱ）3周分散"]
["新材料与化工学院","22级","致远221-高","致远221-高","高分子材料与工程（致远新工科实验班）",2022,"本科","2022本科高分子材料与工程（致远新工科实验班）",9,null,"—","—","—","—","—","—","—","—","—","—","—","—","—","—","—","—","：","☆","☆","☆","☆","18-21周  专业实习\n         工程项目实践（Ⅱ）3周分散\n"]
["新材料与化工学院","22级","化22-123","化221；化222；化223","化学工程与工艺",2022,"本科","2022本科化学工程与工艺",80,null,"—","—","—","—","—","—","—","—","—","—","—","—","—","—","—","—","☆","☆","☆","☆","☆","17-21周  生产实习\n化工工艺设计（1周分散）\n"]
["机械工程学院","22级","能动22-123","能动221；能动222；能动223","能源与动力工程",2022,"本科","2022本科能源与动力工程",70,null,"—","—","—","—","—","—","—","—","—","—","—","—","—","—","—","—","☆","☆","☆","★","★","17-19周  专业综合训练\n20-21周  热能装置拆装及模拟训练"]
["机械工程学院","22级","新能源22-12","新能源221；新能源222","新能源科学与工程",2022,"本科","2022本科新能源科学与工程",{"$f":"VLOOKUP(H43,[1]Sheet1!A$1:B$65536,2,FALSE)","v":52},null,"—","—","—","—","—","—","—","—","—","—","—","—","—","—","—","★","★","★","★","★","★","16-21周  专业综合课程设计"]
["机械工程学院","22级","机22-12","机221；机222","机械工程",2022,"本科","2022本科机械工程",51,null,"—","—","—","—","—","—","—","—","—","—","—","—","—","—","—","☆","☆","☆","★","★","★","16-18周  专业实习\n19-21周  岗位实习（I）\n"]
["机械工程学院","22级","机器人22-12","机器人221；机器人222","机器人工程",2022,"本科","2022本科机器人工程",{"$f":"VLOOKUP(H45,[1]Sheet1!A$1:B$65536,2,FALSE)","v":54},null,"—","—","—","—","—","—","—","—","—","—","—","—","—","—","—","☆","☆","☆","★","★","★","16-18周  专业实习\n19-21周  岗位实习（I）"]
["机械工程学院","22级","致远222","致远222","机械工程（致远新工科实验班）",2022,"本科","2022本科机械工程（致远新工科实验班）",25,null,"—","—","—","—","—","—","—","—","—","—","—","—","—","—","—","☆","☆","☆",{"$nulls":3},"16-17周  专业实习"]
["机械工程学院","22级","环22-123","环221；环222；环223","环境工程",2022,"本科","2022本科环境工程",81,null,"—","—","—","—","—","—","—","—","—","—","—","—","—","—","—","—","：","★","★","★","★","         生产实习  3周分散\n18周     水污染控制工程课程设计\n19周     大气污染控制工程课程设计\n20-21周  环保设备拆装与测绘造型实践"]
["经济管理学院","22级","营22-12","营221；营222","市场营销",2022,"本科","2022本科市场营销",51,null,"—","—","—","—","—","—","—","—","—","—","—","—","—","—","—","—","：","★","★",null,null,"18-19周  管理运营仿真与模拟"]
["经济管理学院","22级","电商22-12","电商221；电商222","电子商务",2022,"本科","2022本科电子商务",54,null,"—","—","—","—","—","—","—","—","—","—","—","—","—","—","—","—","：","★","★","★","★","18-19周  管理运营仿真与模拟\n20-21周  电商项目策划实习"]
["经济管理学院","22级","数管22-12","数管221；数管222","大数据管理与应用",2022,"本科","2022本科大数据管理与应用",50,null,"—","—","—","—","—","—","—","—","—","—","—","—","—","—","—","—","：","★","★",null,null,"大数据存储实践 两周分散\n18-19周  大数据综合实践"]
["经济管理学院","22级","物22-12","物221；物222","物流管理",2022,"本科","2022本科物流管理",{"$f":"VLOOKUP(H51,[1]Sheet1!A$1:B$65536,2,FALSE)","v":52},null,"—","—","—","—","—","—","—","—","—","—","—","—","—","—","—","—","：","★","★","★","★","18-19周  管理运营仿真与模拟\n20-21周  供应链系统建模与仿真"]
["经济管理学院","22级","会224","会224","会计学(国际会计师方向)",2022,"本科","2022本科会计学(国际会计师方向)",26,null,"★","★","—","—","—","—","—","—","—","—","—","—","—","—","—","—","：","★","★","★","★","18-19周  财务决策实训\n20-21周  审计实训\n1-2周    专业综合实习（6周分散）"]
["经济管理学院","22级","会22-123","会221；会222；会223","会计学",2022,"本科","2022本科会计学",{"$f":"VLOOKUP(H53,[1]Sheet1!A$1:B$65536,2,FALSE)","v":95},null,"★","★","—","—","—","—","—","—","—","—","—","—","—","—","—","—","：","★","★","★","★","18-19周  财务决策实训\n20-21周  审计实训\n1-2周  专业综合实习 （6周分散）"]
["人文社科学院","22级","新会展22-12","新会展221；新会展222","会展",2022,"本科","2022本科会展",64,null,"—","—","—","—","—","—","—","—","—","—","—","—","—","—","—","—","：",{"$nulls":4},"会展综合实训（Ⅲ）三周分散"]
["人文社科学院","22级","人资22-12","人资221；人资222","人力资源管理",2022,"本科","2022本科人力资源管理",{"$f":"VLOOKUP(H55,[1]Sheet1!A$1:B$65536,2,FALSE)","v":71},null,"—","—","—","—","—","—","—","—","—","—","—","—","—","—","—","—","：",{"$nulls":4},"北京重点行业绩效和薪酬管理调研实践 2周分散"]
["人文社科学院","22级","旅22-12","旅221；旅222","旅游管理",2022,"本科","2022本科旅游管理",51,null,"—","—","—","—","—","—","—","—","—","—","—","—","—","—","—","—","：","★",{"$nulls":3},"18周     文创策划设计实训"]
["信息工程学院","22级","大数据221","大数据221","数据科学与大数据技术",2022,"本科","2022本科数据科学与大数据技术",{"$f":"VLOOKUP(H57,[1]Sheet1!A$1:B$65536,2,FALSE)","v":41},null,"—","—","—","—","—","—","—","—","—","—","—","—","—","—","—","—","：","☆","☆","☆","☆","18-21周  大数据专业实习"]
["信息工程学院","22级","大数据222","大数据222","数据科学与大数据技术(中法班)",2022,"本科","2022本科数据科学与大数据技术(中法班)",33,null,"—","—","—","—","—","—","—","—","—","—","—","—","—","—","—","—","：","☆","☆","☆","☆","18-21周  大数据专业实习"]
["信息工程学院","22级","计22-12","计221；计222","计算机科学与技术",2022,"本科","2022本科计算机科学与技术",{"$f":"VLOOKUP(H59,[1]Sheet1!A$1:B$65536,2,FALSE)","v":69},null,"★","★","—","—","—","—","—","—","—","—","—","—","—","—","—","—","：","☆","☆","☆","☆","1-2周  网络系统综合设计\n18-21周  计算机专业实习"]
["信息工程学院","22级","物联网221","物联网221","物联网工程",2022,"本科","2022本科物联网工程",33,null,"—","—","—","—","—","—","—","—","—","—","—","—","—","—","—","—","：","：","★","★",null,"19-20周  物联网工程综合设计\n"]
["信息工程学院","22级","致远223","致远223","计算机科学与技术（致远新工科实验班）",2022,"本科","2022本科计算机科学与技术（致远新工科实验班）",32,null,"—","—","—","—","—","—","—","—","—","—","—","—","—","—","—","—","：","☆","☆","☆","☆","18-21周  计算机专业实习"]
["信息工程学院","22级","自22-123","自221；自222；自223","自动化",2022,"本科","2022本科自动化",85,null,"★","★","★","—","—","—","—","—","—","—","—","—","—","—","—","—","：","：",{"$nulls":3},"1-3周   单片机工程实训"]
["信息工程学院","22级","电22-12","电221；电222","电气工程及其自动化",2022,"本科","2022本科电气工程及其自动化",{"$f":"VLOOKUP(H63,[1]Sheet1!A$1:B$65536,2,FALSE)","v":64},null,"—","—","—","—","—","—","—","—","—","—","—","—","—","—","★","★","：","：",{"$nulls":3},"15-16周   单片机工程实训"]
["致远学院","23第二学位","英E22-12","英E231；英E232","英语",2023,"二学位","2023二学位英语",24,null,"×","×","×","×","×","×","×","×","×","×","×","×","×","×","×","×","×","×",{"$nulls":3},"1-18周毕业设计(论文)"]
["机械工程学院","23级","环G231","环G231","环境工程",2023,"专升本","2023专升本环境工程",2,null,"×","×","×","×","×","×","×","×","×","×","×","×","×","×","×","×","×","×",{"$nulls":3},"1-18周毕业设计(论文)"]
["机械工程学院","23级","机G231","机G231","机械工程",2023,"专升本","2023专升本机械工程",41,null,"×","×","×","×","×","×","×","×","×","×","×","×","×","×","×","×","×","×",{"$nulls":3},"1-18周毕业设计(论文)"]
["安全工程学院","23级","安E231","安E231","安全工程",2023,"第二学士学位","2023第二学士学位安全工程",16,null,"×","×","×","×","×","×","×","×","×","×","×","×","×","×","×","×","×","×",{"$nulls":3},"1-18周毕业设计(论文)"]
["安全工程学院","23级","安G231","安G231","安全工程",2023,"专升本",{"$f":"F68&G68&E68","v":"2023专升本安全工程"},52,null,"×","×","×","×","×","×","×","×","×","×","×","×","×","×","×","×","×","×",{"$nulls":3},"1-18周毕业设计(论文)"]
["安全工程学院","23级","安23-123","安231；安232；安233","安全工程",2023,"本科","2023本科安全工程",84,null,"—","—","—","—","—","—","—","—","—","—","—","—","—","—","—","—","：","★","☆",null,null,"18周   安全原理与安全管理学课程设计\n19周   认识实习\n"]
["新材料与化工学院","23级","药G231","药G231","制药工程",2023,"专升本","2023专升本制药工程",29,null,"×","×","×","×","×","×","×","×","×","×","×","×","×","×","×","×","×","×",{"$nulls":3},"1-18周毕业设计(论文)\n"]
["新材料与化工学院","23级","高23-1234","高234；高231；高232；高233","高分子材料与工程",2023,"本科","2023本科高分子材料与工程",104,null,"—","—","—","—","—","—","—","—","—","—","—","—","—","—","—","—","：","★",{"$nulls":3},"18周    机械工程基础课程设计\n        国情调研与实践（一周分散）"]
["新材料与化工学院","23级","材231","材231","材料科学与工程",2023,"本科","2023本科材料科学与工程",36,null,"—","—","—","—","—","—","—","—","—","—","—","—","—","—","—","—","：","★",{"$nulls":3},"18周    机械工程基础课程设计\n        国情调研与实践（一周分散）"]
["新材料与化工学院","23级","药分23-12","药分232；药分231","药物分析",2023,"本科","2023本科药物分析",61,null,"—","—","—","—","—","—","—","—","—","—","—","—","—","—","—","—","：","☆","☆",null,null,"18-19周  认识实习"]
["新材料与化工学院","23级","药23-12","药231；药232","制药工程",2023,"本科","2023本科制药工程",63,null,"—","—","—","—","—","—","—","—","—","—","—","—","—","—","—","—","：","☆","☆",null,null,"18-19周  认识实习\n         工程训练C 2周  见工程训练安排表"]
["新材料与化工学院","23级","生物23-12","生物231；生物232","生物制药",2023,"本科","2023本科生物制药",63,null,"—","—","—","—","—","—","—","—","—","—","—","—","—","—","—","—","：","☆","☆",null,null,"18周    认识实习\n        工程训练C 2周  见工程训练安排表"]
["新材料与化工学院","23级","化23-1234","化234；化231；化232；化233","化学工程与工艺",2023,"本科","2023本科化学工程与工艺",105,null,"—","—","—","—","—","—","—","—","—","—","—","—","—","—","—","—","：","☆","☆","☆","☆","18-21周  认识实习"]
["机械工程学院","23级","能动23-123","能动231；能动232；能动233","能源与动力工程",2023,"本科","2023本科能源与动力工程",89,null,"—","—","—","—","—","—","—","—","—","—","—","—","—","—","—","—","：","☆","★",null,null,"18周     认识实习\n         电工电子实践B  见工程训练安排表\n19周     SolidWorks设计训练\n         国情调研与实践（一周分散）"]
["机械工程学院","23级","机23-123","机231；机232；机233","机械工程",2023,"本科","2023本科机械工程",78,null,"—","—","—","—","—","—","—","—","—","—","—","—","—","—","—","—","：","☆","★","★","★","18周     认识实习，另一周分散\n         国情调研与实践（一周分散）\n19周     电子课程设计\n20-21周  机械设计与制造主题实践（I）"]
["机械工程学院","23级","机器人23-123","机器人231；机器人232；机器人233","机器人工程",2023,"本科","2023本科机器人工程",83,null,"—","—","—","—","—","—","—","—","—","—","—","—","—","—","—","—","：","☆","★",null,null,"18周     认识实习，另一周分散\n19周     电子课程设计\n         国情调研与实践（一周分散）"]
["机械工程学院","23级","新能源23-123","新能源233；新能源231；新能源232","新能源科学与工程",2023,"本科","2023本科新能源科学与工程",81,null,"—","—","—","—","—","—","—","—","—","—","—","—","—","—","—","—","：","☆","★",null,null,"18周     认识实习\n         电工电子实践B  见工程训练安排表\n19周     SolidWorks设计训练\n         国情调研与实践（一周分散）"]
["机械工程学院","23级","环23-123","环234；环231；环232；环233","环境工程",2023,"本科","2023本科环境工程",104,null,"—","—","—","—","—","—","—","—","—","—","—","—","—","—","—","—","：","☆",{"$nulls":3},"18周     认识实习\n         国情调研与实践（一周分散）"]
["经济管理学院","23级","营23-12","营231；营232","市场营销",2023,"本科","2023本科市场营销",44,null,"—","—","—","—","—","—","—","—","—","—","—","—","—","—","—","—","：","★","★","★","★","20-21周  数智商业综合实训\n18-19周  供应链业务实训"]
["经济管理学院","23级","物23-12","物231；物232","物流管理",2023,"本科","2023本科物流管理",52,null,"—","—","—","—","—","—","—","—","—","—","—","—","—","—","—","—","：","★","★","★","★","18-19周  数智商业综合实训\n20-21周 供应链管理实习"]
["经济管理学院","23级","电商23-123","电商231；电商232；电商233","电子商务",2023,"本科","2023本科电子商务",69,null,"—","—","—","—","—","—","—","—","—","—","—","—","—","—","—","—","：","★","★","★","★","20-21周  数智商业综合实训\n18-19周  供应链业务实训"]
["经济管理学院","23级","会23-1234","会231；会232；会233；会234","会计学",2023,"本科","2023本科会计学",125,null,"—","—","—","—","—","—","—","—","—","—","—","—","—","—","—","—","：","★","★",null,null,"18-19周  财税综合实训"]
["经济管理学院","23级","会235","会235","会计学(国际会计师方向)",2023,"本科","2023本科会计学(国际会计师方向)",{"$f":"VLOOKUP(H86,[1]Sheet1!A$1:B$65536,2,FALSE)","v":45},null,"—","—","—","—","—","—","—","—","—","—","—","—","—","—","—","—","：","★","★",null,null,"18-19周  财税综合实训"]
["经济管理学院","23级","数管23-123","数管231；数管232；数管233","大数据管理与应用",2023,"本科","2023本科大数据管理与应用",83,null,"—","—","—","—","—","—","—","—","—","—","—","—","—","—","—","—","：","★","★","★",null,"18-19周  程序设计综合训练\n20周     数据采集与预处理实践"]
["人文社科学院","23级","人资23-123","人资233；人资231；人资232","人力资源管理",2023,"本科","2023本科人力资源管理",80,null,"—","—","—","—","—","—","—","—","—","—","—","—","—","—","—","—","：","★",{"$nulls":3},"         国情调研与实践（一周分散）\n18周     人力资源管理综合实训（Ⅱ）"]
["人文社科学院","23级","旅23-12","旅231；旅232","旅游管理",2023,"本科","2023本科旅游管理",55,null,"—","—","—","—","—","—","—","—","—","—","—","—","—","—","—","—","：","☆",{"$nulls":3}," \n          国情调研与实践（一周分散）\n18周      旅游认识实习\n"]
["人文社科学院","23级","新会展23-123","新会展231；新会展232","会展",2023,"本科","2023本科会展",67,null,"—","—","—","—","—","—","—","—","—","—","—","—","—","—","—","—","：",{"$nulls":4},"          国情调研与实践（一周分散）\n数字多媒体作品创作实践  两周分散"]
["信息工程学院","23级","计23-123","计233；计231；计232","计算机科学与技术",2023,"本科","2023本科计算机科学与技术",96,null,"—","—","—","—","—","—","—","—","—","—","—","—","—","—","—","—","：","★","★",null,null,"18-19周  算法分析与设计\n         国情调研与实践（一周分散）"]
["信息工程学院","23级","电23-123","电231；电232；电233","电气工程及其自动化",2023,"本科","2023本科电气工程及其自动化",101,null,"—","—","—","—","—","—","—","—","—","—","—","—","—","—","—","—","：","★","★","★",null,"18-20周  电子工程设计A"]
["信息工程学院","23级","大数据231","大数据231","数据科学与大数据技术",2023,"本科","2023本科数据科学与大数据技术",38,null,"—","—","—","—","—","—","—","—","—","—","—","—","—","—","—","—","：","★","★",null,null,"18-19周  算法分析与设计\n         国情调研与实践（一周分散）"]
["信息工程学院","23级","大数据232","大数据232","数据科学与大数据技术(中法班)",2023,"本科","2023本科数据科学与大数据技术(中法班)",32,null,"—","—","—","—","—","—","—","—","—","—","—","—","—","—","—","—","：","★","★",null,null,"18-19周  算法分析与设计（英）\n         国情调研与实践（一周分散）"]
["信息工程学院","23级","物联网23-12","物联网231；物联网232","物联网工程",2023,"本科","2023本科物联网工程",58,null,"—","—","—","—","—","—","—","—","—","—","—","—","—","—","—","—","：",{"$nulls":4},"         国情调研与实践（一周分散）"]
["信息工程学院","23级","自23-1234","自234；自231；自232；自233","自动化",2023,"本科","2023本科自动化",120,null,"—","—","—","—","—","—","—","—","—","—","—","—","—","—","★","★","★",{"$nulls":4},"15-17周  电子工程设计A\n         国情调研与实践（一周分散）"]
["人工智能研究院","23级","智23-12","智232；智231","人工智能",2023,"本科","2023本科人工智能",64,null,"—","—","—","—","—","—","—","—","—","—","—","—","—","—","—","—","：","★","★",null,null,"18-19周  计算机系统综合设计\n         国情调研与实践  1周分散"]
["致远学院","23级","致远231-高","致远231-高","高分子材料与工程实验班",2023,"本科 ","2023本科 高分子材料与工程实验班",6,null,"—","—","—","—","—","—","—","—","—","—","—","—","—","—","—","—","：","★","★","★",null,"         国情调研与实践  （一周分散）\n18-20周  工程项目实践（Ⅰ）"]
["致远学院","23级","致远231-药","致远231-药","制药工程实验班",2023,"本科 ","2023本科 制药工程实验班",13,null,"—","—","—","—","—","—","—","—","—","—","—","—","—","—","—","—","：","☆","☆",null,null,"         国情调研与实践  （一周分散）\n18-19周  认识实习 "]
["致远学院","23级","致远231-化","致远231-化","化学工程与工艺实验班",2023,"本科 ","2023本科 化学工程与工艺实验班",8,null,"—","—","—","—","—","—","—","—","—","—","—","—","—","—","—","—","：","★","★","★",null,"         国情调研与实践 （一周分散）\n18-20周  工程项目实践（Ⅰ）  \n         认识实习 （四周分散）"]
["致远学院","23级","致远232","致远232","智能制造类",2023,"本科 ","2023本科 智能制造类",28,null,"—","—","—","—","—","—","—","—","—","—","—","—","—","—","—","—","：","☆","★","★","★","         国情调研与实践  （一周分散）\n19周  电子课程设计  \n18周  认识实习   另一周分散\n20-21周  机械设计与制造主题实践（I）"]
["致远学院","23级","致远233","致远233","智能计算类",2023,"本科 ","2023本科 智能计算类",31,null,"—","—","—","—","—","—","—","—","—","—","—","—","—","—","—","—","：","★","★",null,null,"         国情调研与实践  （一周分散）\n18-19周  工程项目实践I（算法分析与设计）"]
["人工智能研究院","24级","智24-12","智241；智242","人工智能",2024,"本科","2024本科人工智能",56,null,"—","—","—","—","—","—","—","—","—","—","—","—","—","—","—","—","—","：","："]
["机械工程学院","24级","机G24-12","机G241；机G242","机械工程",2024,"专升本","2024专升本机械工程",59,null,"—","—","—","—","—","—","—","—","—","—","—","—","—","—","—","—","—","：","☆","☆",null,"19-20周  专业实习\n         单片机原理与接口技术主题实践（2周分散）\n         PLC控制系统主题实践（1周分散）"]
["机械工程学院","24级","环G241","环G241","环境工程",2024,"专升本","2024专升本环境工程",7,null,"—","—","—","—","—","—","—","—","—","—","—","—","—","—","—","—","：","★","★","★","★","         生产实习  3周分散\n18周     水污染控制工程课程设计\n19周     大气污染控制工程课程设计\n20-21周  环保设备拆装与测绘造型实践"]
["经济管理学院","24级","会G241","会G241","会计学",2024,"专升本","2024专升本会计学",13,null,"—","—","—","—","—","—","—","—","—","—","—","—","—","—","—","—","：","："]
["经济管理学院","24级","营G241","营G241","市场营销",2024,"专升本","2024专升本市场营销",3,null,"—","—","—","—","—","—","—","—","—","—","—","—","—","—","—","—","：","★","★",null,null,"18-19周     供应链业务实训"]
["经济管理学院","24级","物G241","物G241","物流管理",2024,"专升本","2024专升本物流管理",18,null,"—","—","—","—","—","—","—","—","—","—","—","—","—","—","—","—","：","★","★",null,null,"18-19周     供应链业务实训"]
["安全工程学院","24级","安G241","安G241","安全工程",2024,"专升本","2024专升本安全工程",35,null,"—","—","—","—","—","—","—","—","—","—","—","—","—","—","—","—","：","★","★","★",null,"19-20周  安全与应急能力评价实践\n18周     安全原理与安全管理学课程设计"]
["新材料与化工学院","24级","材24-12","材241；材242","材料科学与工程",2024,"本科","2024本科材料科学与工程",59,null,"—","—","—","—","—","—","—","—","—","—","—","—","—","—","—","—","—","：","："]
["新材料与化工学院","24级","高24-123","高241；高242；高243","高分子材料与工程",2024,"本科","2024本科高分子材料与工程",82,null,"—","—","—","—","—","—","—","—","—","—","—","—","—","—","—","—","—","：","："]
["新材料与化工学院","24级","药24-12","药241；药242","制药工程",2024,"本科","2024本科制药工程",49,null,"—","—","—","—","—","—","—","—","—","—","—","—","—","—","—","—","—","：","："]
["新材料与化工学院","24级","生物24-12","生物241；生物242","生物制药",2024,"本科","2024本科生物制药",58,null,"—","—","—","—","—","—","—","—","—","—","—","—","—","—","—","—","—","：","："]
["新材料与化工学院","24级","药分24-12","药分241；药分242","药物分析",2024,"本科","2024本科药物分析",60,null,"—","—","—","—","—","—","—","—","—","—","—","—","—","—","—","—","—","：","："]
["新材料与化工学院","24级","化24-1234","化241；化242；化243；化244","化学工程与工艺",2024,"本科","2024本科化学工程与工艺",110,null,"—","—","—","—","—","—","—","—","—","—","—","—","—","—","—","—","—","：","：",null,null,"\n"]
["机械工程学院","24级","新能源24-12","新能源241；新能源242","新能源科学与工程",2024,"本科","2024本科新能源科学与工程",57,null,"—","—","—","—","—","—","—","—","—","—","—","—","—","—","—","—","—","：","："]
["机械工程学院","24级","能动24-123","能动241；能动242；能动243","能源与动力工程",2024,"本科","2024本科能源与动力工程",87,null,"—","—","—","—","—","—","—","—","—","—","—","—","—","—","—","—","—","：","："]
["机械工程学院","24级","环24-1234","环241；环242；环243；环244","环境工程",2024,"本科","2024本科环境工程",105,null,"—","—","—","—","—","—","—","—","—","—","—","—","—","—","—","—","—","：","："]
["机械工程学院","24级","机24-1234","机241；机242；机243；机244","机械工程",2024,"本科","2024本科机械工程",98,null,"—","—","—","—","—","—","—","—","—","—","—","—","—","—","—","—","—","：","★",null,null,"         工程训练A（I） 见工程训练安排表"]
["机械工程学院","24级","智能制造24-12","智能制造241；智能制造242","智能制造工程",2024,"本科","2024本科智能制造工程",52,null,"—","—","—","—","—","—","—","—","—","—","—","—","—","—","—","—","—","：","★",null,null,"         工程训练A（I）3周  见工程训练安排表"]
["机械工程学院","24级","机器人24-12","机器人241；机器人242","机器人工程",2024,"本科","2024本科机器人工程",55,null,"—","—","—","—","—","—","—","—","—","—","—","—","—","—","—","—","—","：","：",null,null,"         工程训练C 2周  见工程训练安排表\n"]
["经济管理学院","24级","数管E241","数管E241","大数据管理与应用",2024,"第二学士学位","2024第二学士学位大数据管理与应用",50,null,"—","—","—","—","—","—","—","—","—","—","—","—","—","—","—","—","：","★","★","★","★","18-19周  程序设计综合训练\n         数据采集与预处理实践 一周分散\n20-21周   大数据综合实践"]
["经济管理学院","24级","电商24-123","电商241；电商242；电商243","电子商务",2024,"本科","2024本科电子商务",84,null,"—","—","—","—","—","—","—","—","—","—","—","—","—","—","—","—","—","：","："]
["经济管理学院","24级","营24-12","营241；营242","市场营销",2024,"本科","2024本科市场营销",57,null,"—","—","—","—","—","—","—","—","—","—","—","—","—","—","—","—","—","：","："]
["经济管理学院","24级","物24-12","物241；物242","物流管理",2024,"本科","2024本科物流管理",59,null,"—","—","—","—","—","—","—","—","—","—","—","—","—","—","—","—","—","：","："]
["经济管理学院","24级","数管24-123","数管241；数管242；数管243","大数据管理与应用",2024,"本科","2024本科大数据管理与应用",86,null,"—","—","—","—","—","—","—","—","—","—","—","—","—","—","—","—","—","：","★",null,null,"专业认识实习  一周分散"]
["经济管理学院","24级","审计24-12","审计242；审计241","审计学",2024,"本科","2024本科审计学",56,null,"—","—","—","—","—","—","—","—","—","—","—","—","—","—","—","—","★","：","★",null,null,"17和19周  智能会计核算实训 \n"]
["经济管理学院","24级","会24-12","会241；会242","会计学",2024,"本科","2024本科会计学",57,null,"—","—","—","—","—","—","—","—","—","—","—","—","—","—","—","—","★","：","★",null,null,"17和19周  智能会计核算实训 \n"]
["经济管理学院","24级","会243","会243","会计学(国际会计师方向)",2024,"本科","2024本科会计学(国际会计师方向)",45,null,"—","—","—","—","—","—","—","—","—","—","—","—","—","—","—","—","★","：","★",null,null,"17和19周  智能会计核算实训 \n"]
["人文社科学院","24级","旅24-12","旅241；旅242","旅游管理",2024,"本科","2024本科旅游管理",58,null,"—","—","—","—","—","—","—","—","—","—","—","—","—","—","—","—","—","：","："]
["人文社科学院","24级","人资E241","人资E241","人力资源管理",2024,"二学位","2024二学位人力资源管理",50,null,"—","—","—","—","—","—","—","—","—","—","—","—","—","—","—","—","—","：","："]
["人文社科学院","24级","新会展G241","新会展G241","会展",2024,"专升本",{"$f":"F132&G132&E132","v":"2024专升本会展"},24,null,"—","—","—","—","—","—","—","—","—","—","—","—","—","—","—","—","：","："]
["人文社科学院","24级","旅G241","旅G241","旅游管理",2024,"专升本","2024专升本旅游管理",13,null,"—","—","—","—","—","—","—","—","—","—","—","—","—","—","—","—","：","："]
["人文社科学院","24级","人资G24-123","人资G241；人资G242；人资G243","人力资源管理",2024,"专升本","2024专升本人力资源管理",91,null,"—","—","—","—","—","—","—","—","—","—","—","—","—","—","—","—","：","："]
["人文社科学院","24级","人资23-12","人资241；人资242；人资243","人力资源管理",2024,"本科","2024本科人力资源管理",86,null,"—","—","—","—","—","—","—","—","—","—","—","—","—","—","—","—","—","：","★",null,null,"19周     人力资源管理综合实训（Ⅰ）"]
["人文社科学院","24级","新会展24-12","新会展241；新会展242","会展",2024,"本科","2024本科会展",58,null,"—","—","—","—","—","—","—","—","—","—","—","—","—","—","—","—","—","：",{"$nulls":3},"会展活动策划实训  一周分散"]
["信息工程学院","24级","物联网24-12","物联网241；物联网242","物联网工程",2024,"本科","2024本科物联网工程",58,null,"—","—","—","—","—","—","—","—","—","—","—","—","—","—","—","—","—","：","★",null,null,"19周  计算机编程能力实训 另一周分散\n"]
["信息工程学院","24级","计24-123","计241；计242；计243","计算机科学与技术",2024,"本科","2024本科计算机科学与技术",80,null,"—","—","—","—","—","—","—","—","—","—","—","—","—","—","—","—","—","：","★",null,null,"19周  C语言课程设计  另一周分散  \n"]
["信息工程学院","24级","电24-123","电241；电242；电243","电气工程及其自动化",2024,"本科","2024本科电气工程及其自动化",88,null,"—","—","—","—","—","—","—","—","—","—","—","—","—","—","—","—","—","：","★",null,null,"19周  计算机编程能力实训  另一周分散\n"]
["信息工程学院","24级","大数据241","大数据241","数据科学与大数据技术",2024,"本科","2024本科数据科学与大数据技术",36,null,"—","—","—","—","—","—","—","—","—","—","—","—","—","—","—","—","—","：","★",null,null,"19周  网络爬虫设计  另一周分散\n"]
["信息工程学院","24级","大数据242","大数据242","数据科学与大数据技术(中法班)",2024,"本科","2024本科数据科学与大数据技术(中法班)",28,null,"—","—","—","—","—","—","—","—","—","—","—","—","—","—","—","—","—","：","★",null,null,"19周  网络爬虫设计(英） 另一周分散\n"]
["信息工程学院","24级","自24-1234","自241；自242；自243；自244","自动化",2024,"本科","2024本科自动化",115,null,"—","—","—","—","—","—","—","—","—","—","—","—","—","—","—","—","—","：","★",null,null,"19周  计算机编程能力实训 另一周分散\n"]
["致远学院","24级","致远241","致远241","智慧化工与新材料类",2024,"本科","2024本科智慧化工与新材料类",30,null,"—","—","—","—","—","—","—","—","—","—","—","—","—","—","—","—","—","：","：",null,null,"         工程项目训练(I)  2周 见工程训练安排表"]
["致远学院","24级","致远242","致远242","智能制造类",2024,"本科","2024本科智能制造类",30,null,"—","—","—","—","—","—","—","—","—","—","—","—","—","—","—","—","—","：","：",null,null,"         工程项目训练(I)  2周 见工程训练安排表"]
["致远学院","24级","致远243","致远243","智能计算类",2024,"本科","2024本科智能计算类",30,null,"—","—","—","—","—","—","—","—","—","—","—","—","—","—","—","—","—","：","：",null,null,"         工程项目训练(I) 2周 见工程训练安排表"]
["教务处","24级","2024预科班","2024预科班","预科班",2024,"预科","2024预科预科班",27,null,"—","—","—","—","—","—","—","—","—","—","—","—","—","—","—","—","—","：","："]
["安全工程学院","24级","安监241","安监241","安全生产监管",2024,"本科","2024本科安全生产监管",27,null,"—","—","—","—","—","—","—","—","—","—","—","—","—","—","—","—","—","：","："]
["安全工程学院","24级","安24-12","安241；安242","安全工程",2024,"本科","2024本科安全工程",55,null,"—","—","—","—","—","—","—","—","—","—","—","—","—","—","—","—","—","：","："]
["安全工程学院","24级","安E241","安E241","安全工程",2024,"二学位","2024二学位安全工程",35,null,"—","—","—","—","—","—","—","—","—","—","—","—","—","—","—","—","—","：","：",null,null,"20-21周   生产实习"]
["经济管理学院","专升本23","会G231","会G231","会计学",2023,"专升本","2023专升本会计学",12,null,"×","×","×","×","×","×","×","×","×","×","×","×","×","×","×","×","×","×",{"$nulls":3},"1-18周毕业设计(论文)"]
["经济管理学院","专升本23","物G231","物G231","物流管理",2023,"专升本","2023专升本物流管理",13,null,"×","×","×","×","×","×","×","×","×","×","×","×","×","×","×","×","×","×",{"$nulls":3},"1-18周毕业设计(论文)"]
["经济管理学院","专升本23","营G231","营G231","市场营销",2023,"专升本","2023专升本市场营销",3,null,"×","×","×","×","×","×","×","×","×","×","×","×","×","×","×","×","×","×",{"$nulls":3},"1-18周毕业设计(论文)"]
["人文社科学院","专升本23","人资G23-123","人资G231；人资G232；人资G233","人力资源管理",2023,"专升本","2023专升本人力资源管理",85,null,"×","×","×","×","×","×","×","×","×","×","×","×","×","×","×","×","×","×",{"$nulls":3},"1-18周毕业设计(论文)\n专业实习G   10周（分散）"]
["人文社科学院","专升本23","旅G231","旅G231","旅游管理",2023,"专升本","2023专升本旅游管理",6,null,"×","×","×","×","×","×","×","×","×","×","×","×","×","×","×","×","×","×",{"$nulls":3},"1-18周毕业设计(论文)\n旅游专业实习  14周分散\n"]
["人文社科学院","专升本23","新会展G231","新会展G231","会展",2023,"专升本","2023专升本会展",27,null,"×","×","×","×","×","×","×","×","×","×","×","×","×","×","×","×","×","×",{"$nulls":3},"1-18周毕业设计(论文)\n会展专业实习G   12周（分散）"]
["信息工程学院","专升本23","计G23-123","计G231；计G232；计G233","计算机科学与技术",2023,"专升本","2023专升本计算机科学与技术",99,null,"×","×","×","×","×","×","×","×","×","×","×","×","×","×","×","×","×","×",{"$nulls":3},"1-18周毕业设计(论文)"]
["信息工程学院","专升本23","电G231","电G231","电气工程及其自动化",2023,"专升本","2023专升本电气工程及其自动化",34,null,"×","×","×","×","×","×","×","×","×","×","×","×","×","×","×","×","×","×",{"$nulls":3},"1-18周毕业设计(论文)"]
["信息工程学院","专升本24","计G24-123","计G241；计G242；计G243","计算机科学与技术",2024,"专升本","2024专升本计算机科学与技术",116,null,"—","—","—","—","—","—","—","—","—","—","—","—","—","—","—","—","：","★","★",null,null,"18-19周  算法分析与设计"]
["信息工程学院","专升本24","电G241","电G241","电气工程及其自动化",2024,"专升本","2024专升本电气工程及其自动化",22,null,"—","—","—","—","—","—","—","—","—","—","—","—","—","—","—","—","：","★","★",null,null,"18-19周  计算机编程能力实训"]
["新材料与化工学院","专升本24","药G241","药G241","制药工程",2024,"专升本","2024专升本制药工程",29,null,"—","—","—","—","—","—","—","—","—","—","—","—","—","—","—","—","：","：","★","★",null,"19-20周  制药工程专业实验（另2周分散）"]
[{"$nulls":27},"教务处\n2024年10月21日"]
[]
[{"$nulls":9},"★","——",null,"校内实习",{"$nulls":3},"☆","——",null,"校外实习"]
[{"$nulls":9},"-","——",null,"理论课",{"$nulls":3},"：","——",null,"考试周",{"$nulls":3},"▽","——",null,"入学教育"]